{"text_format":"1","workbook":"xlsx","n_sheets":5,"sheets":["Liste_pièces","Guide utilisation liste pièces","Mentions légales","Détails évolutions","Edition_papier"],"not_rendered":{"charts":0,"images":2,"macros":1,"external_links":0,"defined_names":3,"comments":1,"pivot_tables":0},"unopened":[],"bounds":{"document_bytes":16777216,"sheet_cells":100000,"rows_first":2000,"rows_last":500,"rows_between":2000,"halvings":0,"cell_chars":16384,"cell_head_chars":4096},"cells_cut":0,"cells_raw":0,"read":"whole","date_system":"1900"}

{"sheet":"Liste_pièces","index":0,"n_rows":256,"n_cols":29,"rows_kept":256,"cut":false,"hidden":false,"merged":[[1,9,1,12],[1,13,1,16],[1,17,1,20]]}
[1,2,3,4,5,6,7,8,null,9,10,11,12,13,14,15,16,17,18,19,20,21,22,23,24,25,26,27]
["Voir le « Guide utilisation liste pièces »\n en deuxième feuille",null,null,null,null,null,"Besoin d'aide?",null,null,"Quantité",null,null,null,"Fournisseur 1",null,null,null,"Fournisseur 2"]
["Réf Vhélio","Famille","Ensemble","Nom article","Description","Spécification particulière","Commentaire\n(montage)","Approvisionnement",null,"Basique","Motorisée","Solaire","Intégrale","Fournisseur","Particularité fournisseur","lien/contact","Réf. fournisseur","Fournisseur","Particularité fournisseur","lien/contact","Réf. fournisseur","Fabricant","Réf fabricant","localisation fabricant","Lien présentation produit","Fiche technique","Notice utilisation","Autre information","Autre fournisseur"]
["CHO95","CHO",null,"ensemble pièces chaudronnées et tubes config. intégrale",null,null,null,"achat",null,0,0,0,1,"MFE","Loire (42)","contact@mfe-chaudronnerie.com",null,"SOFEVAL","Indre (36)","sofeval@sofeval.com"]
["CHO94","CHO",null,"ensemble pièces chaudronnées et tubes config. solaire",null,null,null,"achat",null,0,0,1,0,"MFE","Loire (42)","contact@mfe-chaudronnerie.com",null,"SOFEVAL","Indre (36)","sofeval@sofeval.com"]
["CHO93","CHO",null,"ensemble pièces chaudronnées et tubes config. motorisée",null,null,null,"achat",null,0,1,0,0,"MFE","Loire (42)","contact@mfe-chaudronnerie.com",null,"SOFEVAL","Indre (36)","sofeval@sofeval.com"]
["CHO92","CHO",null,"ensemble pièces chaudronnées et tubes config. basique",null,null,null,"achat",null,1,0,0,0,"MFE","Loire (42)","contact@mfe-chaudronnerie.com",null,"SOFEVAL","Indre (36)","sofeval@sofeval.com"]
["CHO99","CHO","SIÈGE ADULTE","ensemble siège adulte","inclus tubes CHO55/56, 2 cales siège CHO02, 2 équerres avec angles CHO5 et quincaillerie","sans l’embase, sans les toiles assise et dossier",null,"achat",null,1,2,2,2,"MFE","Loire (42)","contact@mfe-chaudronnerie.com",null,"SOFEVAL","Indre (36)","sofeval@sofeval.com"]
["ROU98","ROU","ROUE AVANT","ensemble roue avant","paire de roues","diamètre intérieur 14,8 mm",null,"achat",null,1,1,1,1,"centaurbike","Lyon (69) - https://www.centaurbike.com/","contact@centaurbike.com","parlonscycle","Trelins (42) - https://www.parlonscycles.com/ - 06 01 76 25 39",null,"parlonscycles@gmail.com"]
["ROU01","ROU",null,"fond de Jante","Fond de Jante EXCESS 20x1,5/1,7",null,null,"achat",null,2,2,2,2,"lecyclo",null,"https://www.lecyclo.com/products/fond-de-jante-zefal-en-tissu-cotton-tape-pour-jante-de-velo?variant=42921243377883","X1 unité","alltricks",null,"https://www.alltricks.fr/F-41493-pieces-roues/P-562681-fond_de_jantes_zefal?gclid=Cj0KCQiArsefBhCbARIsAP98hXT6DX3bwhr9AhrYkMVlGTG3ak5clMFAdkriYJIgTwqvx-lRk2lg_kkaArZUEALw_wcB","X2 unités"]
["ROU02","ROU",null,"chambre à air",null,"20 pouces, diamètre 2,35",null,"achat",null,3,3,3,3,"probikeshop",null,"https://www.probikeshop.fr/hutchinson-chambre-a-air-2-xaa-7-2-35-schrader/79117.html","X1 unité","alltricks",null,"https://www.alltricks.fr/F-32738-chambres-a-air/P-262823-lot_de_2_chambres_a_air_hutchinson_20_____schrader_40_mm","X2 unités"]
["ROU18","ROU",null,"chambre à air linéaire",null,"20 pouces, diamètre 2,35","pour la roue arrière (sans besoin de démonter la roue)","option",null,0,0,0,0,"lecyclo",null,"https://www.lecyclo.com/products/chambre-a-air-lineaire-20-29-pouces-2-10-a-3-00-schrader"]
["ROU03","ROU",null,"pneu","Pneu rigide 20\" x 2,35\", avec amorti","Charge maximum 125kg",null,"achat",null,3,3,3,3,"1001 pneus",null,"https://www.1001pneus.fr/schwalbe-pick-up-hs609-20-235-27823182-pn",null,"lecyclo",null,"https://www.lecyclo.com/products/pneu-schwalbe-pick-up-pour-velo-cargo-20-pouces?variant=43103887425755",null,"SCHWALBE","Pick-up ETRTO 60-406",null,null,null,null,null,"https://www.bike24.fr/produits/402251?searchTerm=pick&source=SBP&indexName=production_SEARCH_INDEX_FR&objectId=SWA500879&queryId=0ccbd3bd1c4696db6dbe989f095cd752&userToken=081ebd24-0a0e-4edb-b209-4fcb2928170e"]
["ROU04","ROU",null,"bande anti-crevaison","évite les crevaisons","non obligatoire","ancienne chambre à air à adapter (voir guide de montage)","achat/récupération",null,1,1,1,1,"récupération"]
["ROU05","ROU",null,"roues stabilisatrices latérales"," ","Paire, diamètre 100mm, roulements inclus",null,"achat",null,0,0,1,1,"amazon",null,"https://www.amazon.fr/Sharplace-Roues-Trottinettes-Pièce-Replacement/dp/B07DRKC563/ref=psdc_3740299031_t2_B07VW9YYLK"," "," ",null," "," "," "," "," "," "," "," "]
["TSM99","TSM","MOTEUR","ensemble moteur",null,null,null,"achat",null,0,1,1,1,"DECLIC ECO","spécialiste motorisation et vélo solaire, (13) - https://www.declic-eco.fr/","https://www.declic-eco.fr/moteurs-pedalier/169-moteur-bafang-m400-vhelio","ATTENTION : délai environ 3 mois","MONSPAD",null,"contact@monspad.fr"]
["TSM00","TSM",null,"plateau avant",null,"48 dents, BCD 104, 4 trous",null,"achat",null,0,1,1,1,"rosebikes",null,"https://www.rosebikes.fr/shimano-deore-fc-t6010-plateau-3x10-48-dents-pour-carter-de-chaine-2689667?product_shape=noir&article_size=48+d",null,"alltricks",null,"https://www.alltricks.fr/F-11935-plateaux-_-bashs/P-2266186-plateau_vtt_triple_diam_104_exter_48dts_4_branches_origine_alivio_acera_9v",null,null,null,null,null,null,null,null,"https://www.probikeshop.fr/shimano-plateau-exterieur-slx-4-branches-m66/65433.html"]
["TSM15","TSM",null,"pédalier : 2 manivelles + plateau",null,"48 dents",null,"achat",null,1,0,0,0,"amazon",null,"https://www.amazon.fr/Fransande-Pédalier-pliable-dents-carré/dp/B08TBM7WKX/ref=sr_1_6?__mk_fr_FR=ÅMÅŽÕÑ&crid=25K2QSTXJPGV9&keywords=pedalier+48&qid=1644729504&s=sports&sprefix=pedalier+48%2Csports%2C77&sr=1-6",null,"alltricks",null,"https://www.alltricks.fr/F-11932-pedaliers/P-210238-pedalier_shimano_tourney_fc_ty501_6_7_8v_noir_48_38_28_170mm"]
["TSM01","TSM",null,"pignon (tendeur de chaine)","avec roulement à bille",null,null,"achat",null,1,1,1,1,"probikeshop",null,"https://www.probikeshop.fr/galets-de-derailleur-arriere-aa-aaaav-sram-x-aa-x-aadh-xaa-cxaa-x-sync-aaaa-75aa8-32/166457.html",null,"alltricks",null,"https://www.alltricks.fr/F-46290-pieces-transmission/P-140980-galets_de_derailleur_sram_force_1_force_cx1_rival_1_xx1_x01_x0_dh_x1_gx1"]
["TSM02","TSM",null,"chaine","1 vitesse, vélo électrique","assembler la chaine avec le bon nombre de mailles pour une longueur totale de 378cm",null,"achat",null,3,3,3,3,"probikeshop",null,"https://www.probikeshop.fr/chaine-e-bike-kmc-zaaehx-wide-argent/161865.html",null,"alltricks",null,"https://www.alltricks.fr/F-32737-chaines/P-1173958-chaine_kmc_z1ehx_wide_nickelee_112_maillons_e_bike",null,"KMC","Z1eHX XIDE Argent"]
["TSM12","TSM",null,"pédales (paire)",null,"paire",null,"achat",null,1,1,1,1,"lecyclo",null,"https://www.lecyclo.com/velo/confort/pedales-et-cale-pieds/pedales/pedales-velo-chromees-look-vintage.html",null,"alltricks",null,"https://www.alltricks.fr/F-11931-pedales-plates/P-1060624-paire_de_pedales_plates_neatt_aluminium_argent"]
["TSM13","TSM",null,"boitier de pédalier (version sans moteur)","Boitier de pédalier (sans moteur)","68 x 127mm",null,"achat",null,1,0,0,0,"lecyclo",null,"https://www.lecyclo.com/velo/pieces-detachees/transmission/boitier-de-pedalier/boitier-de-pedalier-sans-filetage-a-double-roulement-pour-velo.html?gclid=CjwKCAiA_omPBhBBEiwAcg7smYjM9Af-c_lm2iWGPsTgTCZCYHS97oP4noVAYVAzNZsbukE-pgraQRoCQzUQAvD_BwE"]
["FRN01","FRN",null,"levier de frein avant","double câble","avec blocage (frein de parking)",null,"achat",null,1,1,1,1,"amsterdamair",null,"https://www.amsterdamair.fr/36936-levier-de-frein-gauche-double-sortie-babboe-curvee-curve-9257198014246.html",null,"letricycle adulte",null,"https://www.letricycle-adulte.fr/fr/accessoires-equipements/8-levier-de-frein-a-double-cable.html"]
["FRN02","FRN",null,"gaine de câble de frein"," ","diamètre extérieur 5mm, avec butées",null,"achat",null,2,2,2,2,"lecyclo",null,"https://www.lecyclo.com/velo/pieces-detachees/frein/cable-gaine/gaine-de-frein-2-metres-avec-butee.html"," "," ",null," "," "," "," "," "," "," "," "]
["FRN03","FRN",null,"disque de frein"," ","diamètre 203mm, paire","attention : bien sélectionner diamètre 203mm à la commande","achat",null,3,3,3,3,"probikeshop",null,"https://www.probikeshop.fr/alligator-disque-pizza-6-trous/23061.html"," ","alltricks",null,"https://www.alltricks.fr/F-11916-disques-de-frein/P-2439087-disque_de_frein_xlc_br_x79_6_trous_argent"," "," "," "," "," "," "," "]
["FRN04","FRN",null,"etrier de frein","à câble","Plaquettes métalliques",null,"achat",null,3,3,3,3,"alltricks",null,"https://www.alltricks.fr/F-32743-etriers-de-frein/P-336371-etrier_de_frein_mecanique_avid_bb7_moutain",null,"probikeshop",null,"https://www.probikeshop.fr/frein-a-disque-a-cable-avid-bb7-noir/103893.html",null,"AVID","BB7",null,null,null,null,"https://www.alltricks.fr/F-11934-plaquettes-de-frein/P-82352-avid_paire_de_plaquettes_juicy_et_bb7_organic_acier?suggestion=1&search_term=avid"]
["FRN05","FRN",null,"câble de frein",null,"Inox, longueur 2 m",null,"achat",null,3,3,3,3,"probikeshop",null,"https://www.probikeshop.fr/cable-de-frein-jagwire-slick-shimano-sram/151463.html",null,"lecyclo",null,"https://www.lecyclo.com/products/cable-pour-frein-velo-shimano-pour-vtt-velo-de-route-et-tandem?variant=43821958627547"]
["DIV01","DIV",null,"chambre à air (amorti siège)"," ","Environ 10 chambres à air","à récupérer auprès de magasins cycles, associations…","achat/récupération",null,1,1,1,1,"récupération",null,null," "," ",null," "," "," "," "," "," "," "," "]
["DIV02","DIV",null,"joint bord de tôle",null,"pour les gardes-boues avant et l’avant du panneau solaire",null,"achat",null,0,0,1,1,"amazon",null,"https://www.amazon.fr/Protecteur-bords-eutras-2129-ks1001-Rango/dp/B01ENU0O12/ref=sr_1_6?keywords=joint%2Bbord%2Bde%2Btole&qid=1644130506&sr=8-6&th=1"]
["DIV02","DIV",null,"ruban de guidon",null,null,null,"achat",null,1,1,1,1,"amazon",null,"https://www.amazon.fr/VELOX-Guidoline-Micro-Perforée-Marron/dp/B01N0QTXLM/ref=sr_1_2?__mk_fr_FR=ÅMÅŽÕÑ&crid=1KVIFXR2TTKD0&keywords=guidoline%2Bvelox%2Bmarron&qid=1644129320&s=sports&sprefix=guidoline%2Bvelo%2Bmarron%2Csports%2C68&sr=1-2&th=1",null,"alltricks",null,"https://www.alltricks.fr/F-11943-rubans-de-cintre/P-2381719-__guidoline___soft_caramel___couleur_caramel"]
["QIN96","QIN",null,"ensemble coffret quincaillerie config. intégrale",null,null,null,"option",null,0,0,0,0]
["QIN97","QIN",null,"ensemble coffret quincaillerie config. solaire",null,null,null,"option",null,0,0,0,0]
["QIN98","QIN",null,"ensemble coffret quincaillerie config. motorisée",null,null,null,"option",null,0,0,0,0]
["QIN99","QIN",null,"ensemble coffret quincaillerie config. de base",null,null,null,"option",null,0,0,0,0]
["CHO08","CHO",null,"tôle_moteur_droite"," ","inox 2mm",null,"assemblage fournisseur",null,0,1,1,1,"MFE","Loire (42)","contact@mfe-chaudronnerie.com",null,"SOFEVAL","Indre (36)","sofeval@sofeval.com",null," "," "]
["CHO09","CHO",null,"tôle_moteur_gauche"," ","inox 2mm",null,"assemblage fournisseur",null,0,1,1,1,"MFE","Loire (42)","contact@mfe-chaudronnerie.com",null,"SOFEVAL","Indre (36)","sofeval@sofeval.com",null," "," "]
["CHO24","CHO",null,"support batteries"," ","inox 2mm",null,"assemblage fournisseur",null,0,1,1,1,"MFE","Loire (42)","contact@mfe-chaudronnerie.com",null,"SOFEVAL","Indre (36)","sofeval@sofeval.com",null," "," "]
["CHO54","CHO",null,"embase universelle glissière",null,"inox 3mm",null,"achat",null,0,2,2,2,"MFE","Loire (42)","contact@mfe-chaudronnerie.com",null,"SOFEVAL","Indre (36)","sofeval@sofeval.com"]
["CHO38","CHO",null,"tube boitier de pédalier","Permet de fixer le boitier de pédalier TSM13 (sans moteur) au cadre","inox 2mm",null,"assemblage fournisseur",null,1,0,0,0,"MFE","Loire (42)","contact@mfe-chaudronnerie.com",null,"SOFEVAL","Indre (36)","sofeval@sofeval.com"]
["TXT01","TXT","textiles","toiles vide poche (2 exemplaires par vhélio)",null,"Tissu imperméable SAC, 375 g/m², 100% polyester doublé PVC","Gris souris","assemblage fournisseur",null,0,0,1,1,"la pépinière à histoires",null,"https://www.etsy.com/fr/listing/1187605793/txt01-vheliotech-toiles-vide-poche-2?click_key=1a92dd2d8a1fe07e93485f7f6c45abf3df56f0fa%3A1187605793&click_sum=358e175f&ref=shop_home_active_7&frs=1",null,null,null,null,null,null,null,null,"https://www.mondialtissus.fr/tissu-impermeable-uni-sac-gris-souris-233855.html#product-description"]
["TXT02","TXT","textiles","toiles latérales gauche (jupe gauche)",null,"Toile grille textilène 440g/m², PV polyester, résistant UV","Anthracite","assemblage fournisseur",null,0,1,1,1,"la pépinière à histoires",null,"https://www.etsy.com/fr/listing/1187606785/txt02-vheliotech-toile-laterale-gauche?click_key=b5ca379717e68e5dc65b9b3d54b28c6955af1526%3A1187606785&click_sum=1c0bc10b&ref=shop_home_active_6&frs=1",null,null,null,null,null,null,null,null,"https://www.artapisserie.fr/textilene-au-metre/30400-toile-grille-textilene-anthracite-pour-mobilier-exterieur-le-metre.html#?utm_campaign=google-merchant&utm_source=merchant-dpd"]
["TXT03","TXT","textiles","toiles latérales droite (jupe droite)",null,"Toile grille textilène 440g/m², PV polyester, résistant UV","Anthracite","assemblage fournisseur",null,0,1,1,1,"la pépinière à histoires",null,"https://www.etsy.com/fr/listing/1187610135/txt03-vheliotech-toile-laterale-droite?click_key=ce8c26d9eda494b93e4e105ceb90e0e14ac2b324%3A1187610135&click_sum=d21f1a43&ref=shop_home_active_5&frs=1",null,null,null,null,null,null,null,null,"https://www.artapisserie.fr/textilene-au-metre/30400-toile-grille-textilene-anthracite-pour-mobilier-exterieur-le-metre.html#?utm_campaign=google-merchant&utm_source=merchant-dpd"]
["TXT04","TXT","textiles","toiles siège - assise (1 exemplaire par siège)",null,"Toile grille textilène 440g/m², PV polyester, résistant UV, tresser de la chambre à air sous la toile pour constituer l'amorti","Anthracite","assemblage fournisseur",null,1,2,2,2,"la pépinière à histoires",null,"https://www.etsy.com/fr/listing/1187610735/txt04-vheliotech-toiles-siege-assise?click_key=d096f96421725c6f6113d9290529d5460a2b2fba%3A1187610735&click_sum=7129fd59&ref=shop_home_active_9&frs=1&sca=1",null,null,null,null,null,null,null,null,"https://www.artapisserie.fr/textilene-au-metre/30400-toile-grille-textilene-anthracite-pour-mobilier-exterieur-le-metre.html#?utm_campaign=google-merchant&utm_source=merchant-dpd"]
["TXT05","TXT","textiles","toiles siège - dossier (1 exemplaire par siège)",null,"Toile grille textilène 440g/m², PV polyester, résistant UV","Anthracite","assemblage fournisseur",null,1,2,2,2,"la pépinière à histoires",null,"https://www.etsy.com/fr/listing/1486170199/txt05-vheliotech-toiles-siege-dossier?click_key=592dfd6e72e672cb249d4b4e5407c4bab8008f8b%3A1486170199&click_sum=34ca682f&ref=shop_home_active_1&frs=1",null,null,null,null,null,null,null,null,"https://www.artapisserie.fr/textilene-au-metre/30400-toile-grille-textilene-anthracite-pour-mobilier-exterieur-le-metre.html#?utm_campaign=google-merchant&utm_source=merchant-dpd"]
["TXT06","TXT","textiles","œillets pour toiles",null,"œillets 12mm, couleur argent","prévoir 34 œillets pour le kit complet TXT99","assemblage fournisseur",null,1,1,1,1,null,null,null,null,null,null,null,null,null,null,null,"https://www.amazon.fr/dp/B0819YGW1N?ref_=cm_sw_r_apan_dp_FTS994AWG75XCEXRWDHG"]
["TXT99","TXT","TEXTILES","ensemble de toile complet","intègre jupe gauche, jupe droite, 2 toiles de sièges (assise et dossier), 2 vides poches",null,null,"achat",null,"voir détail ensemble textile","voir détail ensemble textile",1,1,"la pépinière à histoires",null,"https://www.etsy.com/fr/listing/1173652168/txt99-","toile gris clair, sans logo, Loiret"]
["ELE03","ELE",null,"panneau solaire","220W 1360x796mm, 3.4kg, 6x10 cellules, rendement 24%",null,null,"achat",null,0,0,1,1,"H2R-equipement",null,"https://www.h2r-equipements.com/panneau-solaire-12v-pour-bateau/16248-em-kit-solaire-cc220-hp-black-mppt.html",null,null,null,null,null,"SUNPOWER","HP FLEX 220 BLACK"]
["ELE04","ELE",null,"batterie lithium ion 36V","14.5Ah 522Wh, 39 x 8 x 11 cm, 3,4 kg, connecteur solaire XLR 3 pin","inclus chargeur secteur 2A",null,"achat",null,0,1,1,1,"batteryempire",null,"https://batteryempire.fr/for-e-bike/3284-green-cell-batterie-velo-electrique-36v-15ah-li-ion-e-bike-silverfish-avec-chargeur.html",null,"amazon",null,"https://www.amazon.fr/SEASON-Batterie-%C3%A9lectrique-Chargeur-Compatible/dp/B07RLR6KYZ",null,"GREENCELL","EBIKE03STD"]
["ACC01","ACC",null,"rétroviseur","large avec bras","90mm x 108mm",null,"achat",null,0,0,1,1,"probikeshop",null,"https://www.probikeshop.fr/retroviseur-zefal-zl-tower-8/281011.html",null,"alltricks",null,"https://www.alltricks.fr/F-32730-accessoires-divers/P-2373458-retroviseur_zefal_zl_tower_80?gclid=Cj0KCQiApb2bBhDYARIsAChHC9th9J9AJ5AKXjrdngwrUTdYS5XGTicbSNAdRDEVJyf7w_pJ5NwG5mkaAvGkEALw_wcB"]
["ACC02","ACC",null,"porte bidon",null,null,null,"achat",null,0,0,1,1,"probikeshop",null,"https://www.probikeshop.fr/zefal-porte-bidon-alu-plast-124/68597.html",null,"alltricks",null,"https://www.alltricks.fr/F-11906-bidons/P-663105-porte_bidon_zefal_aluplast_noir___1240a",null,"ZEFAL","ALU PLAST 124","France (Jargeau)"]
["ACC03","ACC",null,"sièges enfant","adaptation à réaliser (prévoir 2 tubes aluminium longueur 545mm – tube en réserve T17 prévu pour cela notamment)","dossier rabattable à plat, 20 à 35 Kg, ceinture ventrale, anneaux en haut du dossier rabattable",null,"option",null,0,0,0,0,"amsterdamair",null,"https://www.amsterdamair.fr/6549-siege-de-velo-bobike-junior-pour-velo-avec-ou-sans-porte-bagage-8483394475326.html",null,"alltricks",null,"https://www.alltricks.fr/F-41481-accessoires-de-transport/P-2364080-porte_bebe_classic_plus_au_cadre_enfant_bobike"]
["ACC04","ACC",null,"balise GPS antivol",null,"sans carte sim, sans abonnement, autonomie vérifiée = plusieurs mois",null,"option",null,0,0,0,0,"lecyclo",null,"https://www.lecyclo.com/products/traceur-gps-multi-usage-pour-sacoches-et-remorques-velo-invoxia?_pos=7&_sid=b7ece00cb&_ss=r",null,"amazon",null,"https://www.amazon.fr/Tracker-GPS-abonnement-Inclus-Localiser/dp/B075V8FTWH"]
["ACC05","ACC",null,"boule attelage","diamètre 50mm, M16",null,null,"option",null,0,0,0,0,"amazon",null,"https://www.amazon.fr/APT-dattelage-remorque-boulons-sphérique/dp/B07JMBF62S/ref=pd_vtp_1/260-2821069-1273512?pd_rd_w=mkKWY&pf_rd_p=ae9723b3-1b9c-43b5-84ad -70af60d95378&pf_rd_r=4QYQDPCGK55RWS44RN3K&pd_rd_r=2e79fd78-aafd-49c4-8055-be1aec8b7add&pd_rd_wg=kFbJ1&pd_rd_i=B07JMBF62S&psc=1"]
["ACC06","ACC",null,"sonnette classique",null,null,null,"achat",null,1,1,1,1,"lecyclo",null,"https://www.lecyclo.com/velo/securite/klaxon-sonnette/sonnette-de-velo-au-look-ancien-couleur-argent-57-mm.html",null,"alltricks",null,"https://www.alltricks.fr/F-32730-accessoires-divers/P-1665134-sonnette_basil_ding_dong_portland"]
["ACC07","ACC",null,"bac empilable 60 x 40 x 32 cm, 70 litres",null,"polypropylène",null,"option",null,0,0,0,0,"amazon",null,"https://www.amazon.fr/Bac-gerbable-normes-Europe-polypropylène/dp/B00XWCVNJ0/ref=pd_sbs_6/262-9155066-9335407?pd_rd_w=YnnLm&pf_rd_p=8f6bedf0-41b7-480e-afe0-310ce0bb46fc&pf_rd_r=FE27G8A47ZF9MC87SARW&pd_rd_r=582161d6-2593-4b7a-90aa-ad0098365259&pd_rd_wg=ZzSFP&pd_rd_i=B00XWCVNJ0&psc=1"]
["ACC08","ACC",null,"bac empilable 40 x 30 x 32 cm, 70 litres",null,"polypropylène",null,"option",null,0,0,0,0,"amazon",null,"https://www.amazon.fr/Bac-gerbable-normes-Europe-polypropylène/dp/B00XWCVNJ0/ref=pd_sbs_6/262-9155066-9335407?pd_rd_w=YnnLm&pf_rd_p=8f6bedf0-41b7-480e-afe0-310ce0bb46fc&pf_rd_r=FE27G8A47ZF9MC87SARW&pd_rd_r=582161d6-2593-4b7a-90aa-ad0098365259&pd_rd_wg=ZzSFP&pd_rd_i=B00XWCVNJ0&psc=1"]
["ACC09","ACC",null,"convertisseur 12V/230V",null,"pure sinus, 300W","intégré au boitier électrique ELE99","option",null,0,0,0,0,"amazon",null,"https://www.amazon.fr/gp/product/B0744LR2DZ/ref=ppx_od_dt_b_asin_title_s00?ie=UTF8&psc=1",null,null,null,null,null,"GREENCELL"]
["ACC10","ACC",null,"éclairage autonome sur batterie USB","lampe frontale éclairant en blanc ou rouge","Lampe facile à fixer sur un tube avec 2 élastiques solides, cellule 18650 remplaçable",null,"achat",null,2,2,2,0,"amazon",null,"https://www.amazon.fr/WUBEN-H1-Rechargeable-Puissante-Luminosit%C3%A9/dp/B08N4PMZTV?ref_=ast_sto_dp"]
["ELE34","ELE",null,"régulateur de charge solaire type MPPT",null,"36V",null,"achat",null,0,0,1,0,"DECLIC ECO",null,"https://www.declic-eco.fr/le-solaire/102-chargeur-solaire-lithium-mppt-300w",null,"ozo electrique",null,"https://ozo-electric.com/fr/chargeurs-solaires-pour-batteries-lithium-ou-plomb/171738-chargeur-solaire-300w-mppt-boost.html",null,null,"CTKEV300"]
["ELE37","ELE","boîtier électrique","convertisseur DC/DC 36-12V",null,"300W - 25A",null,"assemblage fournisseur",null,0,0,0,0,"amazon",null,"https://www.amazon.fr/lmoikesz-Tension-R%C3%A9ducteur-Convertisseur-Converter/dp/B09G9RFBYS/ref=sr_1_1?__mk_fr_FR=%C3%85M%C3%85%C5%BD%C3%95%C3%91&crid=OCZIBXVLJHNG&keywords=convertisseur%2Bdc%2B36%2F12%2B25a&qid=1676800509&sprefix=convertisseur%2Bdc%2B36%2F12%2B25a%2Caps%2C74&sr=8-1&th=1"]
["ELE05","ELE",null,"connecteur coudé batterie",null,"XLR 3 broches, pour le connecteur de charge batterie","ATTENTION : soudure à l’étain à réaliser","achat",null,0,0,1,1,"amazon",null,"https://www.amazon.fr/Nedis-Connecteur-Broches-mâle-Angle/dp/B07HFDRYQ9/ref=sr_1_4?__mk_fr_FR=ÅMÅŽÕÑ&crid=KV2V3U5XR9BA&keywords=connecteur+xlr+coudé&qid=1646454681&sprefix=connecteur+xlr+coudé%2Caps%2C104&sr=8-4"]
["ELE36","ELE",null,"câble électrique 2 fils","souple (multibrin), section 2mm²",null,"raccordements électriques divers","achat",null,0,0,1,1,"amazon",null,"https://www.amazon.fr/Câble-électrique-conducteurs-parallèles-silicone/dp/B07TT3KP8S/ref=sr_1_3_sspa?__mk_fr_FR=ÅMÅŽÕÑ&crid=17LHRGESPF58E&keywords=cable+2+fils&qid=1645945708&sprefix=cable+2+fils%2Caps%2C123&sr=8-3-spons&psc=1&spLa=ZW5jcnlwdGVkUXVhbGlmaWVyPUEzTjEwT0hOU0RJR0pNJmVuY3J5cHRlZElkPUEwMzc2MDY3UjBNRVY5NEs3TzNNJmVuY3J5cHRlZEFkSWQ9QTEwNDEwODExV1gzSzBOODA3TlhCJndpZGdldE5hbWU9c3BfYXRmJmFjdGlvbj1jbGlja1JlZGlyZWN0JmRvTm90TG9nQ2xpY2s9dHJ1ZQ=="]
["ELE35","ELE","quincaillerie","connecteurs WAGO","pas besoin d’outil",null,"raccordement du régulateur de charge au panneau solaire et au connecteur batterie","achat",null,0,2,6,0,"manoamano",null,"https://www.manomano.fr/p/borne-de-connexion-electrique-2-fils-type-wago-222-5572925"]
["ELE99","ELE","BOÎTIER ÉLECTRIQUE","ensemble boitier électrique",null,"inclus MPPT solaire CTKEV300 36V et pattes de fixation",null,"achat",null,0,0,0,1,"ATENA","Dourdan (91)","atena.gen@wanadoo.fr"]
["ELE01","ELE",null,"comodo","commande éclairage, clignotants, avertisseur sonore",null,null,"achat",null,0,0,0,1,"amazon",null,"https://www.amazon.fr/Qiilu-Commutateur-Clignotant-Lumière-Bouton-poussoir/dp/B07CPMQKKP"]
["ELE02","ELE",null,"klaxon 12v",null,null,null,"achat",null,0,0,0,1,"amazon",null,"https://www.amazon.fr/avertisseur-motocycle-Universel-tricycles-pocketbikes/dp/B07DWVX98L",null,"amazon",null,"https://www.amazon.fr/dp/B09QKXJTWD/ref=sspa_dk_detail_0?psc=1&pd_rd_i=B09QKXJTWD&pd_rd_w=KnrNm&content-id=amzn1.sym.a30983a5-b2e2-49b6-b674-0e622b88d06d&pf_rd_p=a30983a5-b2e2-49b6-b674-0e622b88d06d&pf_rd_r=E1S581YAX96JRRCDQKE4&pd_rd_wg=FTCuU&pd_rd_r=32f95eb7-6e23-4a9b-bb9e-3372d5d58a9d&s=automotive&sp_csd=d2lkZ2V0TmFtZT1zcF9kZXRhaWw"]
["ELE94","ELE","RALLONGE LUMINAIRE ARRIÈRE","ensemble rallonge luminaire arrière",null,null,null,"achat",null,0,0,0,1,"association objectif ","Indre et Loire (37)","objectif@objectif-asso.fr",null,null,null,"voir le détail des articles contenus dans les ensembles"]
["ELE93","ELE","RALLONGE LUMINAIRE AVANT","ensemble rallonge luminaire avant",null,null,null,"achat",null,0,0,0,1,"association objectif ","Indre et Loire (37)","objectif@objectif-asso.fr",null,null,null,"voir le détail des articles contenus dans les ensembles"]
["ELE92","ELE","RALLONGE LUMINAIRE AVANT","ensemble rallonge 12V avant",null,null,null,"achat",null,0,0,0,1,"association objectif ","Indre et Loire (37)","objectif@objectif-asso.fr",null,null,null,"voir le détail des articles contenus dans les ensembles"]
["ELE91","ELE","RALLONGE 12V ARRIÈRE","ensemble rallonge 12V arrière",null,null,null,"achat",null,0,0,0,1,"association objectif ","Indre et Loire (37)","objectif@objectif-asso.fr",null,null,null,"voir le détail des articles contenus dans les ensembles"]
["ELE98","ELE","BLOC LUMINAIRE AVANT GAUCHE","ensemble bloc luminaire avant gauche",null,null,null,"achat",null,0,0,0,1,"association objectif ","Indre et Loire (37)","objectif@objectif-asso.fr",null,null,null,"voir le détail des articles contenus dans les ensembles"]
["ELE97","ELE","BLOC LUMINAIRE AVANT DROIT","ensemble bloc luminaire avant droit",null,null,null,"achat",null,0,0,0,1,"association objectif ","Indre et Loire (37)","objectif@objectif-asso.fr",null,null,null,"voir le détail des articles contenus dans les ensembles"]
["ELE96","ELE","BLOC LUMINAIRE ARRIÈRE GAUCHE","ensemble bloc luminaire arrière gauche",null,null,null,"achat",null,0,0,0,1,"association objectif ","Indre et Loire (37)","objectif@objectif-asso.fr",null,null,null,"voir le détail des articles contenus dans les ensembles"]
["ELE95","ELE","BLOC LUMINAIRE ARRIÈRE DROIT","ensemble bloc luminaire arrière droit",null,null,null,"achat",null,0,0,0,1,"association objectif ","Indre et Loire (37)","objectif@objectif-asso.fr",null,null,null,"voir le détail des articles contenus dans les ensembles"]
["ROU16","ROU",null,"roue arrière 20 pouces avec moyeu nexus 8 vitesses","moyeu Shimano Nexus Inter-8 SG-C6001-8D","pour frein à disque (center lock), 22 dents, moyeu, largeur 135mm, 36 rayons 2mm, bagues 7R noir et grise 7L fournies, ETRTO 406x19c","Ajuster la bague à 101mm (axe de la bague) au bord de la gaine en étant sur la vitesse 1","achat",null,1,1,1,1,"Taylor-wheels",null,"https://www.taylor-wheels.fr/velo-de-20-pouces-roue-arriere-shimano-nexus-8-gear-hub-discoratif-disc-silver",77146354,"Centaur Bike",null,null,null,null,null,null,null,null,"https://si.shimano.com/fr/pdfs/sm/IHG-INTER8/SM-IHG-INTER8-002_FRE.pdf"]
["ROU17","ROU",null,"adaptateur center lock",null,"center lock, 6 trous","pour le montage du disque sur le moyeu nexus 8 de la roue arrière","achat",null,1,1,1,1,"probikeshop",null,"https://www.probikeshop.fr/shimano-adaptateur-center-lock-6-trous-is/93732.html",null,"alltricks",null,"https://www.alltricks.fr/F-32731-adaptateurs-freins/P-47901-adaptateur_disque_shimano_sm_rtad05_centerlock___disque_6_trous_axe_15_20mm_noir",null,"SHIMANO","SM-RTAD05"]
["CHO34","CHO",null,"support frein à disque"," ","alu. 10mm",null,"assemblage fournisseur",null,3,3,3,3,"MFE","Loire (42)","contact@mfe-chaudronnerie.com",null,"SOFEVAL","Indre (36)","sofeval@sofeval.com",null," "," "]
["CHO39","CHO",null,"support boitier électrique",null,"alu. 1.5mm",null,"assemblage fournisseur",null,0,0,0,2,"MFE","Loire (42)","contact@mfe-chaudronnerie.com",null,"SOFEVAL","Indre (36)","sofeval@sofeval.com"]
["ELE32","ELE",null,"embouts de câblage",null,null,"nécessaire pour ceux qui veulent faire leur propre assemblage électrique","assemblage fournisseur",null,0,0,0,0,"manoamano",null,"https://www.manomano.fr/p/embouts-de-cablage-assortiment-de-05-a-1000-mm-1224898"]
["ELE33","ELE",null,"gaine thermo rétractable",null,null,"nécessaire pour ceux qui veulent faire leur propre assemblage électrique","assemblage fournisseur",null,0,0,0,0,"manoamano",null,"https://www.manomano.fr/catalogue/p/gaine-thermortractable-127pcs-tube-thermortractable-noir-7-tailles-ratio-21-betterlife-gaine-thermo-retractable-kit-noire-51112362"]
["QIN01","QIN",null,"bande auto-agrippante (type « velcro »)","adhésif recto/verso, largeur 12mm, longueur 150mm, x100",null,null,"achat",null,0,0,1,1,"amazon",null,"https://www.amazon.fr/100PCS-Attache-C%C3%A2ble-HASA-zone/dp/B095N5QTMD/ref=sr_1_3_sspa?__mk_fr_FR=%C3%85M%C3%85%C5%BD%C3%95%C3%91&crid=1UYW6YIF7BG4T&keywords=hasa%2Battache%2Bcable&qid=1680873566&sprefix=hasa%2Battache%2Bcable%2Caps%2C119&sr=8-3-spons&sp_csd=d2lkZ2V0TmFtZT1zcF9hdGY&th=1"]
["ROU12","ROU","roue avant","jante","ETRTO 406x19c, 32 trous","Double paroi",null,"assemblage fournisseur",null,2,2,2,2,null,null,null,"ER10",null,null,null,null,"Mach 1",null,"France"]
["ROU13","ROU","roue avant","rayons","inox","Longueur 182 mm",null,"assemblage fournisseur",null,64,64,64,64,null,null,null,null,null,null,null,null,"SAPIM"]
["ROU14","ROU","roue avant","moyeu","32 trous","avec frein à disque, creux (thru-axle) 14,8mm, largeur 100mm",null,"assemblage fournisseur",null,2,2,2,2,null,null,null,"D041SB-15",null,null,null,null,"NOVATEC"]
["TSM03","TSM","moteur","moteur 36V 250W 80NM","Attention : protocole UART, capteur de couple","puissance crête environ 700W",null,"assemblage fournisseur",null,0,1,1,1,null,null,null,null,null,null,null,null,"BAFANG","M400 - G330.250.C"]
["TSM04","TSM","moteur","manivelle droite et gauche",null,"raccordement pédalier carré",null,"assemblage fournisseur",null,0,1,1,1,null,null,null,null,null,null,null,null,"BAFANG","CK A01.170"]
["TSM06","TSM","moteur","adaptateur moteur plateau",null,null,null,"assemblage fournisseur",null,0,1,1,1,null,null,null,null,null,null,null,null,"BAFANG","CW B1.A1"]
["TSM07","TSM","moteur","levier frein arrière",null,"à câble",null,"assemblage fournisseur",null,0,1,1,1,null,null,null,null,null,null,null,null,"BAFANG"]
["TSM08","TSM","moteur","ecran LCD 500C","Attention : protocole UART","couleur, 80mm x 40mm",null,"assemblage fournisseur",null,0,1,1,1,null,null,null,null,null,null,null,null,"BAFANG","500C",null,null,null,"https://bafangusadirect.com/blogs/installation/500c-display-manual-and-video",null,"https://ozo-electric.com/fr/displays-led-et-lcd/918957-display-pour-moteur-roue-ozo-250w-a-750w.html?search_query=display&results=133#/918807-ecran_de_controle_au_guidon-compact_couleur"]
["TSM09","TSM","moteur","capteur de vitesse",null,null,"longueur nécessaire du câble 170cm, à prolonger selon le cas","assemblage fournisseur",null,0,1,1,1,null,null,null,null,null,null,null,null,"BAFANG","EB-BUS 1T3"]
["TSM10","TSM","moteur","câble multiconnecteurs","connection moteur, écran, capteur de vitesse","femelle vert 5 broches, femelle jaune 3 broches, femelle jaune 3 broches, femelle 8 broches",null,"assemblage fournisseur",null,0,1,1,1,null,null,null,null,null,null,null,null,"BAFANG"]
["TSM11","TSM","moteur","câble alimentation","connection moteur au 36V +-",null,null,"assemblage fournisseur",null,0,1,1,1,null,null,null,null,null,null,null,null,"BAFANG","EB 2T0.AX"]
["CHO06","CHO","bloc luminaire avant droit","platine luminaire",null,"inox 1mm",null,"assemblage fournisseur",null,0,0,0,4]
["ELE06","ELE","bloc luminaire avant droit","connecteur 4 fils femelle",null,"4 contacts, 1 rang pas 6mm, série AMP Superseal 1.5",null,"assemblage fournisseur",null,0,0,0,0.125,null,null,null,null,"RS",null,"https://fr.rs-online.com/web/p/connecteurs-automobiles/3141277",null,"TE Connectivity"]
["ELE07","ELE","bloc luminaire avant droit","luminaire orange",null,"12V, pack de 8 luminaires","Prévoir 1 luminaire orange par bloc luminaire avant","assemblage fournisseur",null,0,0,0,0.125,null,null,null,null,"amazon",null,"https://www.amazon.fr/gp/product/B07H1XKHY4/ref=ox_sc_act_title_3?smid=A20E4869XCOTFN&th=1"]
["ELE08","ELE","bloc luminaire avant droit","phare avant",null,"éclairage avant pour vélo électrique 6-12 v, 35 lux, portée environ 55m",null,"assemblage fournisseur",null,0,0,0,0.5,null,null,null,null,"rosebikes",null,"https://www.rosebikes.fr/axa-compactline-35-eclairage-avant-pour-velo-electrique-6-12-v-2673684",null,"AXA","compactline 35","france"]
["ELE09","ELE","bloc luminaire avant gauche","connecteur 4 fils femelle",null,"4 contacts, 1 rang pas 6mm, série AMP Superseal 1.5",null,"assemblage fournisseur",null,0,0,0,0.125,null,null,null,null,"RS",null,"https://fr.rs-online.com/web/p/connecteurs-automobiles/3141277",null,"TE Connectivity"]
["ELE10","ELE","bloc luminaire avant gauche","luminaire orange",null,"12V, pack de 8 luminaires","Prévoir 1 luminaire orange par bloc luminaire avant","assemblage fournisseur",null,0,0,0,0.125,null,null,null,null,"amazon",null,"https://www.amazon.fr/gp/product/B07H1XKHY4/ref=ox_sc_act_title_3?smid=A20E4869XCOTFN&th=1"]
["ELE11","ELE","bloc luminaire avant gauche","phare avant",null,"éclairage avant pour vélo électrique 6-12 v, 35 lux, portée environ 55m",null,"assemblage fournisseur",null,0,0,0,0.5,null,null,null,null,"rosebikes",null,"https://www.rosebikes.fr/axa-compactline-35-eclairage-avant-pour-velo-electrique-6-12-v-2673684",null,"AXA","compactline 35","france"]
["ELE12","ELE","bloc luminaire avant gauche","2 prises USB","double prise USB, 2 x 2,1A, marine","à encastrer dans trou D29mm",null,"assemblage fournisseur",null,0,0,0,0.6,null,null,null,null,"manoamano",null,"https://www.manomano.fr/p/soekavia-4-en-1-marine-switch-panel-12v-42a-dual-usb-socket-chargeur-prise-de-courant-et-led-voltmetre-et-allume-cigares-35322101?model_id=28073986"]
["ELE13","ELE","bloc luminaire arrière gauche","connecteur 4 fils femelle",null,"4 contacts, 1 rang pas 6mm, série AMP Superseal 1.5",null,"assemblage fournisseur",null,0,0,0,0.125,null,null,null,null,"RS",null,"https://fr.rs-online.com/web/p/connecteurs-automobiles/3141277",null,"TE Connectivity"]
["ELE14","ELE","bloc luminaire arrière gauche","luminaire orange",null,"12V, pack de 8 luminaires","Prévoir 2 luminaires oranges par bloc luminaire arrière","assemblage fournisseur",null,0,0,0,0.25,null,null,null,null,"amazon",null,"https://www.amazon.fr/gp/product/B07H1XKHY4/ref=ox_sc_act_title_3?smid=A20E4869XCOTFN&th=1"]
["ELE15","ELE","bloc luminaire arrière gauche","luminaire rouge",null,"12V, pack de 8 luminaires","Prévoir 1 luminaire rouge par bloc luminaire arrière","assemblage fournisseur",null,0,0,0,0.125,null,null,null,null,"amazon",null,"https://www.amazon.fr/gp/product/B07H1WQJ49/ref=ox_sc_act_title_3?smid=A20E4869XCOTFN&th=1"]
["ELE16","ELE","bloc luminaire arrière droit","connecteur 4 fils femelle",null,"4 contacts, 1 rang pas 6mm, série AMP Superseal 1.5",null,"assemblage fournisseur",null,0,0,0,0.125,null,null,null,null,"RS",null,"https://fr.rs-online.com/web/p/connecteurs-automobiles/3141277",null,"TE Connectivity"]
["ELE17","ELE","bloc luminaire arrière droit","luminaire orange",null,"12V, pack de 8 luminaires","Prévoir 2 luminaires oranges par bloc luminaire arrière","assemblage fournisseur",null,0,0,0,0.25,null,null,null,null,"amazon",null,"https://www.amazon.fr/gp/product/B07H1XKHY4/ref=ox_sc_act_title_3?smid=A20E4869XCOTFN&th=1"]
["ELE18","ELE","bloc luminaire arrière droit","luminaire rouge",null,"12V, pack de 8 luminaires","Prévoir 1 luminaire rouge par bloc luminaire arrière","assemblage fournisseur",null,0,0,0,0.125,null,null,null,null,"amazon",null,"https://www.amazon.fr/gp/product/B07H1WQJ49/ref=ox_sc_act_title_3?smid=A20E4869XCOTFN&th=1"]
["ELE19","ELE","bloc luminaire arrière droit","prise allume cigare","prise 12V, 15A, marine","à encastrer dans trou D29mm",null,"assemblage fournisseur",null,0,0,0,0.4,null,null,null,null,"manoamano",null,"https://www.manomano.fr/p/soekavia-4-en-1-marine-switch-panel-12v-42a-dual-usb-socket-chargeur-prise-de-courant-et-led-voltmetre-et-allume-cigares-35322101?model_id=28073986"]
["ELE20","ELE","rallonge luminaire arrière","câble","4 fils x 0,75 mm²","souple, pack longueur 15m",null,"assemblage fournisseur",null,0,0,0,1,null,null,null,null,"amazon",null,"https://www.amazon.fr/Appareil-plastique-H03VV-F-75-mm²-Couleur/dp/B07BDMQYBC/ref=sr_1_5?crid=19XBU7INP4YP4&keywords=cable%2B4%2Bfils%2B0.75&qid=1640859670&sprefix=cable%2B4%2B%2Caps%2C86&sr=8-5&th=1"]
["ELE21","ELE","rallonge luminaire arrière","connecteur 4 fils mâle",null,"4 contacts, 1 rang pas 6mm, série AMP Superseal 1.5",null,"assemblage fournisseur",null,0,0,0,0.4,null,null,null,null,"RS",null,"https://fr.rs-online.com/web/p/connecteurs-automobiles/3141211",null,"TE Connectivity"]
["ELE22","ELE","RALLONGE LUMINAIRE AVANT","câble","4 fils x 0,75 mm²","souple, pack longueur 15m",null,"assemblage fournisseur",null,0,0,0,0.4,null,null,null,null,"amazon",null,"https://www.amazon.fr/Appareil-plastique-H03VV-F-75-mm²-Couleur/dp/B07BDMQYBC/ref=sr_1_5?crid=19XBU7INP4YP4&keywords=cable%2B4%2Bfils%2B0.75&qid=1640859670&sprefix=cable%2B4%2B%2Caps%2C86&sr=8-5&th=1"]
["ELE23","ELE","rallonge luminaire avant","connecteur 4 fils mâle",null,"4 contacts, 1 rang pas 6mm, série AMP Superseal 1.5",null,"assemblage fournisseur",null,0,0,0,0.4,null,null,null,null,"RS",null,"https://fr.rs-online.com/web/p/connecteurs-automobiles/3141211",null,"TE Connectivity"]
["ELE24","ELE","rallonge 12V avant","câble rouge","2 fils x 4 mm²","souple, pack longueur 10m",null,"assemblage fournisseur",null,0,0,0,0.5,null,null,null,null,"amazon",null,"https://www.amazon.fr/DCSk-Électrique-Unipolaire-Application-Asymétrique/dp/B07ZC61H1R/ref=sr_1_8?__mk_fr_FR=ÅMÅŽÕÑ&crid=3JPF6G1E2O5KA&keywords=cable%2B4mm²&qid=1640860496&sprefix=cable%2B4mm%2B%2Caps%2C74&sr=8-8&th=1"]
["ELE25","ELE","rallonge 12V avant","câble noir","2 fils x 4 mm²","souple, pack longueur 10m",null,"assemblage fournisseur",null,0,0,0,0.4,null,null,null,null,"amazon",null,"https://www.amazon.fr/DCSk-Électrique-Unipolaire-Application-Asymétrique/dp/B07ZC79X3Z/ref=sr_1_8?__mk_fr_FR=ÅMÅŽÕÑ&crid=3JPF6G1E2O5KA&keywords=cable%2B4mm²&qid=1640860496&sprefix=cable%2B4mm%2B%2Caps%2C74&sr=8-8&th=1"]
["ELE26","ELE","rallonge 12V avant","gaine de câble électrique","gaine tressée 10mm pour les rallonges câble 4mm² 12V",null,null,"assemblage fournisseur",null,0,0,0,0.6,null,null,null,null,"RS",null,"https://fr.rs-online.com/web/p/gaines-electriques/0408277"]
["ELE27","ELE","rallonge 12V avant","connecteur à sertir","pour câble 4mm², jaune",null,null,"assemblage fournisseur",null,0,0,0,0.6,null,null,null,null,"manoamano",null,"https://www.manomano.fr/p/cosse-de-cable-femelle-63x08-jaune-isole-1131038"]
["ELE28","ELE","rallonge 12V arrière","câble rouge","2 fils x 4 mm²","souple, pack longueur 10m",null,"assemblage fournisseur",null,0,0,0,0.5,null,null,null,null,"amazon",null,"https://www.amazon.fr/DCSk-Électrique-Unipolaire-Application-Asymétrique/dp/B07ZC61H1R/ref=sr_1_8?__mk_fr_FR=ÅMÅŽÕÑ&crid=3JPF6G1E2O5KA&keywords=cable%2B4mm²&qid=1640860496&sprefix=cable%2B4mm%2B%2Caps%2C74&sr=8-8&th=1"]
["ELE29","ELE","rallonge 12V arrière","câble noir","2 fils x 4 mm²","souple, pack longueur 10m",null,"assemblage fournisseur",null,0,0,0,0.6,null,null,null,null,"amazon",null,"https://www.amazon.fr/DCSk-Électrique-Unipolaire-Application-Asymétrique/dp/B07ZC79X3Z/ref=sr_1_8?__mk_fr_FR=ÅMÅŽÕÑ&crid=3JPF6G1E2O5KA&keywords=cable%2B4mm²&qid=1640860496&sprefix=cable%2B4mm%2B%2Caps%2C74&sr=8-8&th=1"]
["ELE30","ELE","rallonge 12V arrière","gaine de câble électrique","gaine tressée 10mm pour les rallonges câble 4mm² 12V",null,null,"assemblage fournisseur",null,0,0,0,0.6,null,null,null,null,"RS",null,"https://fr.rs-online.com/web/p/gaines-electriques/0408277"]
["ELE31","ELE","rallonge 12V arrière","connecteur à sertir","pour câble 4mm², jaune",null,null,"assemblage fournisseur",null,0,0,0,0.5,null,null,null,null,"manoamano",null,"https://www.manomano.fr/p/cosse-de-cable-femelle-63x08-jaune-isole-1131038"]
["QIN02","QIN","quincaillerie","capuchon trou platine feux",null,"diamètre 32mm",null,"achat",null,0,0,0,10,"manoamano",null,"https://www.manomano.fr/p/embout-a-ailettes-tube-rond-2639386?model_id=2639394"]
["QIN03","QIN","quincaillerie","embout tube D22",null,"diamètre 22mm","x2 pour le guidon, x6 pour le siège conducteur, x6 pour le siège passager","achat",null,6,10,10,10,"manoamano",null,"https://www.manomano.fr/p/embout-a-ailettes-tube-rond-2639386?model_id=2639390"]
["QIN07","QIN","quincaillerie","embout tube 25x25",null,"environ 40 unités par vhélio","pack de 100","achat",null,1,1,1,1,"RS",null,"https://fr.rs-online.com/web/p/embouts-et-bouchons/6290142",null,"manoamano",null,"https://www.manomano.fr/p/20-pcs-25-x-25-mm-bouchons--lamelles-pour-tube-carr-embout-de-bouchon-en-plastique-noir-carr-pour-tube-de-tuyau-bouchons-dextrmit-63648164"]
["QIN05","QIN","quincaillerie","bandes réfléchissantes","orange, rouge, blanche – 5cm x 3m",null,null,"achat",null,1,1,1,1,"manoamano",null,"https://www.manomano.fr/catalogue/p/3-rouleaux-de-ruban-rflchissant-ruban-adhsif-pour-scurit-ruban-davertissement-ruban-de-marquage-de-scurit-5cm-x-3m-34358987?model_id=34339868"]
["QIN46","QIN","quincaillerie","vis M4 20mm","Inox A2, tête hexagonale, Filetage Total, DIN 933","fixation des feux sur les platines, et peut-être les tôles avec écrous sertis",null,"achat",null,0,0,0,12,"bricovis",null,"https://www.bricovis.fr/produit-vis-a-tete-hexagonale-inox-a2-filetage-total-din-933-tha2ef/#TH04/020A2EF "]
["QIN90","QIN","quincaillerie","vis M6 90mm","Inox A2, tête hexagonale, Filetage Total, DIN 933","assemblage 3 tubes",null,"achat",null,14,14,25,25,"bricovis",null,"https://www.bricovis.fr/produit-vis-a-tete-hexagonale-inox-a2-filetage-total-din-933-tha2ef/#TH06/090A2EF"]
["QIN60","QIN","quincaillerie","vis M6 60mm","Inox A2, tête hexagonale, Filetage Total, DIN 933","assemplage 2 tubes",null,"achat",null,81,81,103,112,"bricovis",null,"https://www.bricovis.fr/produit-vis-a-tete-hexagonale-inox-a2-filetage-total-din-933-tha2ef/#TH06/060A2EF"]
["QIN65","QIN","quincaillerie","vis M6 65mm","Inox A2, tête hexagonale, Filetage Total, DIN 933",null,null,"achat",null,8,8,8,10,"bricovis",null,"https://www.bricovis.fr/produit-vis-a-tete-hexagonale-inox-a2-filetage-total-din-933-tha2ef/#TH06/065A2EF"]
["QIN40","QIN","quincaillerie","vis M6 40mm","Inox A2, tête hexagonale, Filetage Total, DIN 933","assemblage 1 tube + 1 tôle",null,"achat",null,30,32,50,51,"bricovis",null,"https://www.bricovis.fr/produit-vis-a-tete-hexagonale-inox-a2-filetage-total-din-933-tha2ef/#TH06/040A2EF"]
["QIN14","QIN","quincaillerie","vis M6 12mm","Inox A2, tête hexagonale, Filetage Total, DIN 933","Assemblage 2 tôles",null,"achat",null,15,24,24,24,"bricovis",null,"https://www.bricovis.fr/produit-vis-a-tete-hexagonale-inox-a2-filetage-total-din-933-tha2ef/#TH06/012A2EF"]
["QIN35","QIN","quincaillerie","vis M6 35mm","Inox A2, tête hexagonale, Filetage Total, DIN 933","assemblage 1 tube + 1 tôle",null,"achat",null,78,91,195,208,"bricovis",null,"https://www.bricovis.fr/produit-vis-a-tete-hexagonale-inox-a2-filetage-total-din-933-tha2ef/#TH06/035A2EF"]
["QIN45","QIN","quincaillerie","vis TFHC M6 45mm","Inox A2, tête fraisée, Filetage Total, DIN 933","fixation pattes support freins arrière",null,"achat",null,2,2,2,2,"bricovis",null,"https://www.bricovis.fr/produit-vis-a-tete-fraisee-hexagonale-creuse-filetage-total-inox-a2-din-7991-tfhca2/#TFHC06/045A2EF"]
["QIN50","QIN","quincaillerie","vis TFHC M6 50mm","Inox A2, tête fraisée, Filetage Total, DIN 933","fixation pattes support freins avant","M6 45mm était trop court","achat",null,4,4,4,4,"bricovis",null,"https://www.bricovis.fr/produit-vis-a-tete-fraisee-hexagonale-creuse-filetage-total-inox-a2-din-7991-tfhca2/#TFHC06/050A2EF"]
["QIN25","QIN","quincaillerie","vis M8 100mm","Inox A2, tête hexagonale, Filetage Total, DIN 933","roues stabilisatrices",null,"achat",null,0,0,2,2,"bricovis",null,"https://www.bricovis.fr/produit-vis-a-tete-hexagonale-inox-a2-filetage-total-din-933-tha2ef/#TH08/100A2EF"]
["QIN20","QIN","quincaillerie","vis M6 20mm","Inox A2, tête hexagonale, Filetage Total, DIN 933",null,"pour le tendeur de chaîne, ne doit pas toucher le boîtier électrique","achat",null,3,3,3,3,"bricovis",null,"https://www.bricovis.fr/produit-vis-a-tete-hexagonale-inox-a2-filetage-total-din-933-tha2ef/#TH06/020A2EF"]
["QIN39","QIN","quincaillerie","vis M8 65mm","Inox A2, tête hexagonale, Filetage Partiel, DIN 931"," Axe rotation biellette (côté CHO47)",null,"achat",null,2,2,2,2,"bricovis",null,"https://www.bricovis.fr/produit-vis-a-tete-hexagonale-inox-a2-filetage-total-din-933-tha2ef/#TH08/065A2EF"]
["QIN28","QIN","quincaillerie","vis M8 140mm","Inox A2, tête hexagonale, Filetage Total, DIN 933","fixation bloc moteur aux tubes",null,"achat",null,0,4,4,4,"bricovis",null,"https://www.bricovis.fr/produit-vis-a-tete-hexagonale-inox-a2-filetage-total-din-933-tha2ef/#TH08/140A2EF"]
["QIN43","QIN","quincaillerie","vis M8 50mm","Inox A2, tête hexagonale, Filetage Partiel, DIN 931","Axe rotation biellette (au niveau des triangles)",null,"achat",null,2,2,2,2,"bricovis",null,"https://www.bricovis.fr/produit-vis-a-tete-hexagonale-inox-a2-filetage-total-din-933-tha2ef/#TH08/050A2EF"]
["QIN32","QIN",null,"vis TRCC M12 300mm",null,"axe potence",null,"assemblage fournisseur",null,1,1,1,1]
["QIN33","QIN",null,"vis TRCC M12 150mm",null,"axe des bras de roues avant",null,"assemblage fournisseur",null,2,2,2,2]
["QIN29","QIN","quincaillerie","écrou frein M8","Inox A2 DIN 985",null,null,"achat",null,12,12,14,14,"bricovis",null,"https://www.bricovis.fr/produit-ecrou-nylstop-inox-a2-din-985-ecrnyla2/#ECRNYL08A2"]
["QIN06","QIN","quincaillerie","écrou frein M6","Inox A2 DIN 985",null,null,"achat",null,229,271,409,441,"bricovis",null,"https://www.bricovis.fr/produit-ecrou-nylstop-inox-a2-din-985-ecrnyla2/#ECRNYL06A2"]
["QIN04","QIN","quincaillerie","écrou frein M4","Inox A2 DIN 985",null,null,"achat",null,0,0,13,13,"bricovis",null,"https://www.bricovis.fr/produit-ecrou-nylstop-inox-a2-din-985-ecrnyla2/#ECRNYL04A2"]
["QIN23","QIN","quincaillerie","écrou papillon M6","Inox A2 BN 644",null,null,"achat",null,4,8,8,12,"bricovis",null,"https://www.bricovis.fr/produit-ecrou-a-ailette-inox-a2-ecraila2/#ECRAIL06A2"]
["QIN36","QIN","quincaillerie","rondelle M12","diamètre extérieur 32mm, inox A2","NFE 25-513",null,"achat",null,4,4,4,4,"bricovis",null,"https://www.bricovis.fr/produit-rondelle-l-inox-a2-nfe-25513-ronla2/#RONL12A2 "]
["QIN12","QIN","quincaillerie","rondelle M6","diamètre extérieur 18mm, inox A2","NFE 25-513",null,"achat",null,309,350,499,536,"bricovis",null,"https://www.bricovis.fr/produit-rondelle-l-inox-a2-nfe-25513-ronla2/#RONL06A2"]
["QIN44","QIN","quincaillerie","écrou M8",null,null,"utilisé en contre écrou","achat",null,4,4,4,4,"bricovis",null,"https://www.bricovis.fr/produit-ecrou-hu-inox-a2-din-934-ecrhua2/#ECRHU08A2 "]
["QIN34","QIN","quincaillerie","écrou M12",null,null,null,"achat",null,7,7,7,7,"bricovis",null,"https://www.bricovis.fr/produit-ecrou-hu-inox-a2-din-934-ecrhua2/#ECRHU12A2 "]
["QIN49","QIN","quincaillerie","écrou M14",null,"fixation des moyeux de roues avant",null,"achat",null,4,4,4,4,"bricovis",null,"https://www.bricovis.fr/produit-ecrou-hu-inox-a2-din-934-ecrhua2/#ECRHU14A2 "]
["QIN13","QIN","quincaillerie","rondelle M8 nox",null,null,null,"achat",null,9,9,18,18,"bricovis",null,"https://www.bricovis.fr/produit-rondelle-l-inox-a2-nfe-25513-ronla2/#RONL08A2 "]
["QIN41","QIN","quincaillerie","rondelle M8 nylon",null,null,null,"achat",null,9,9,9,9,"bricovis",null,"https://www.bricovis.fr/produit-rondelle-nylon-naturel-ronm003bl/#RONM08NYL "]
["QIN10","QIN","quincaillerie","boulon à anneau","M6 longueur totale 71mm, inox","pack de 10",null,"achat",null,0,0,1,1,"manoamano",null,"https://www.manomano.fr/catalogue/p/lot-de-10-m6-vis-a-oeil-boulons-a-anneau-soudes-anneaux-a-vis-crochet-a-oeil-boulon-pour-balancoire-machine-exterieure-37716233?model_id=37697018"]
["QIN15","QIN","quincaillerie","vis M10x50 TCHC","Inox A2, tête cylindrique 6 pans creux, filetage total, DIN 912",null,null,"achat",null,0,3,3,3,"bricovis",null,"https://www.bricovis.fr/produit-vis-a-tete-cylindrique-hexagonale-creuse-inox-a2-filetage-total-din-912-tchca2ef/#TCHC10/050A2EF"]
["QIN16","QIN","quincaillerie","écrou frein M10","Inox A2, DIN 985",null,null,"achat",null,0,3,3,3,"bricovis",null,"https://www.bricovis.fr/produit-ecrou-nylstop-inox-a2-din-985-ecrnyla2/#ECRNYL10A2"]
["QIN18","QIN","quincaillerie","ressort"," ","Section 1,8mm, longueur 60mm, diamètre 12mm, charge utile 19kg",null,"achat",null,1,1,1,1,"manoamano",null,"https://www.manomano.fr/p/ressort-traction-18-x-12x-60-9548393"," ",null,null,null," "," "," "," "," "," "," "]
["QIN22","QIN","quincaillerie","50 boites en carton",null,"8,5 x 8,5 x 3,5 cm","Pour le rangement des petites pièces","achat",null,0,0,1,1,"amazon",null,"https://www.amazon.fr/Freahap-Pi%C3%A8ces-Bo%C3%AEte-Savon-Emballage/dp/B074295Z37/ref=pd_sbs_3/262-9155066-9335407?pd_rd_w=vDc8n&pf_rd_p=8f6bedf0-41b7-480e-afe0-310ce0bb46fc&pf_rd_r=XXZFVQKD4ZJBHFNDFFKJ&pd_rd_r=d458f3aa-9dc5-4da6-b37a-aed5c4640bf2&pd_rd_wg=NnM60&pd_rd_i=B07429YFKT&th=1"]
["QIN24","QIN","quincaillerie","tendeur à œil réglable",null,"galva, M5",null,"achat",null,1,1,1,1,"manoamano",null,"https://www.manomano.fr/p/tendeur-din--il-et-oeil---diamtre--12mm-45220136?model_id=46641382"]
["QIN26","QIN",null,"tige filetée 8mm","étriers pour fixer le guidon","à plier en U","le filetage permet d'accrocher au guidon et d'éviter qu'il ne glisse, à la différence des étriers classiques","assemblage fournisseur",null,2,2,2,2]
["QIN48","QIN","quincaillerie","butée de porte D=30/H=25","butées de direction","lot de 2","à placer sur le triangle ou sur CHO47 ?","option",null,0,0,0,0,"manoamano",null,"https://www.manomano.fr/catalogue/p/butee-de-sol-elastom-25-18601584 "]
["QIN51","QIN","siège adulte","étrier M8 D=26 40mm","ISO304",null,null,"assemblage fournisseur",null,0,4,4,4]
["QIN52","QIN","siège adulte","étrier M8 D=26 65mm","ISO304",null,null,"assemblage fournisseur",null,4,4,4,4]
["QIN53","QIN",null,"butée à billes",null,null,null,"assemblage fournisseur",null,6,6,6,6,"123roulement",null,"https://www.123roulement.com/roulements-51101 "]
["QIN54","QIN","siège adulte","galet embase glissière","6 par embase",null,null,"assemblage fournisseur",null,0,12,12,12,"MFE","Loire (42)","contact@mfe-chaudronnerie.com",null,"SOFEVAL","Indre (36)","sofeval@sofeval.com"]
["CHO55","CHO","siège adulte","Tubes siège adulte - assise","Assise","inox 1mm (tubes ø22mm)",null,"assemblage fournisseur",null,1,1,2,2]
["CHO56","CHO","siège adulte","Tubes siège adulte - dossier","Dossier","inox 1mm (tubes ø22mm)",null,"assemblage fournisseur",null,1,1,2,2]
["CHO02","CHO","siège adulte","Cale siège adulte 24mm",null,"inox 3mm",null,"assemblage fournisseur",null,0,2,4,4]
["CHO05","CHO","siège adulte","Equerre avec angle"," ","inox 2mm",null,"assemblage fournisseur",null,2,2,4,4,null,null,null,null,null,null,null,null," "," "]
["QIN55","QIN","siège adulte","ficelle pour tension des toiles sièges (dossier et assise)","diamètre au moins 2,5mm, 9 mètres par siège, noir","des ficelles ou lacets convienent",null,"achat/récupération",null,1,1,2,2,"récupération"]
["QIN56","QIN","quincaillerie","Vis pour capteur de vitesse","Inox A2 DIN912",null,null,"achat",null,0,1,1,1,"bricovis",null,"https://www.bricovis.fr/produit-vis-a-tete-cylindrique-hexagonale-creuse-inox-a2-filetage-total-din-912-tchca2ef/#TCHC06/080A2EF"]
["CHO03","CHO",null,"Équerre_simple"," ","inox 2mm",null,"assemblage fournisseur",null,0,0,6,6,null,null,null,null,null,null,null,null," "," "]
["CHO04","CHO",null,"Guidon"," ","inox 1mm (tube ø22mm)",null,"assemblage fournisseur",null,1,1,1,1,null,null,null,null,null,null,null,null," "," "]
["CHO44","CHO",null,"Potence","Inclus 2 roulement à billes M12 et axe M12","inox 2.5mm (profilé 50x25mm)",null,"assemblage fournisseur",null,1,1,1,1,null,null,null,null,null,null,null,null," "," "]
["CHO45","CHO",null,"Tôle_traverse_potence"," ","inox 2mm",null,"assemblage fournisseur",null,1,1,1,1,null,null,null,null,null,null,null,null," "," "]
["CHO46","CHO",null,"Triangle_potence"," ","inox 2mm",null,"assemblage fournisseur",null,2,2,2,2,null,null,null,null,null,null,null,null," "," "]
["CHO10","CHO",null,"Tôle_finition_avant","inclus rosace vhélio","inox 2mm",null,"assemblage fournisseur",null,1,1,1,1,null,null,null,null,null,null,null,null," "," "]
["CHO11","CHO",null,"Tôle_finition_arrière"," ","alu. 1mm",null,"assemblage fournisseur",null,0,0,1,1,null,null,null,null,null,null,null,null," "," "]
["CHO13","CHO",null,"Equerre_fixation_roue_arrière",null,"inox 3mm","commune gauche/droite","assemblage fournisseur",null,2,2,2,2,null,null,null,null,null,null,null,null," "," "]
["CHO15","CHO",null,"Equerre_fixation_roue_arr_haute"," ","inox 2mm",null,"assemblage fournisseur",null,2,2,2,2,null,null,null,null,null,null,null,null," "," "]
["CHO16","CHO",null,"Equerre_fixation_roue_arr_renfort"," ","inox 2mm",null,"assemblage fournisseur",null,2,2,2,2,null,null,null,null,null,null,null,null," "," "]
["CHO18","CHO",null,"Equerre_nez_haute_droite"," ","inox 2mm",null,"assemblage fournisseur",null,0,0,1,1,null,null,null,null,null,null,null,null," "," "]
["CHO19","CHO",null,"Equerre_nez_haute_gauche"," ","inox 2mm",null,"assemblage fournisseur",null,0,0,1,1,null,null,null,null,null,null,null,null," "," "]
["CHO17","CHO",null,"Equerre_plate"," ","inox 2mm",null,"assemblage fournisseur",null,12,12,26,26,null,null,null,null,null,null,null,null," "," "]
["CHO20","CHO",null,"Tôles plateformes latérales"," ","alu. larmé 1.5mm",null,"assemblage fournisseur",null,0,0,4,4,null,null,null,null,null,null,null,null," "," "]
["CHO21","CHO",null,"Tôle supérieure nez"," ","alu. larmé 1.5mm",null,"assemblage fournisseur",null,0,0,1,1,null,null,null,null,null,null,null,null," "," "]
["CHO23","CHO",null,"Tôle supérieure coffre central"," ","alu. 1mm",null,"assemblage fournisseur",null,0,0,1,1,null,null,null,null,null,null,null,null," "," "]
["CHO25","CHO",null,"Tôle supérieure porte bagage"," ","alu. 1mm",null,"assemblage fournisseur",null,1,1,1,1,null,null,null,null,null,null,null,null," "," "]
["CHO26","CHO",null,"Garde boue arrière"," ","alu. 1mm",null,"assemblage fournisseur",null,1,1,1,1,null,null,null,null,null,null,null,null," "," "]
["CHO30","CHO",null,"Glissière avant","longueur 1,160m","inox 1.5mm","commune gauche/droite","assemblage fournisseur",null,0,2,2,2,null,null,null,null,null,null,null,null," "," "]
["CHO32","CHO",null,"Glissière arrière","longueur 0,362m","inox 1.5mm","commune gauche/droite","assemblage fournisseur",null,0,0,2,2,null,null,null,null,null,null,null,null," "," "]
["CHO35","CHO",null,"Arceau avant","Tube cintré rayon 750mm, longueur environ 1135m","alu. 2mm (profilé 25x25)",null,"assemblage fournisseur",null,0,0,2,2]
["CHO40","CHO",null,"Garde boue avant droit",null,"alu. larmé 1.5mm (à cintrer au montage)",null,"assemblage fournisseur",null,0,0,1,1]
["CHO41","CHO",null,"Garde boue avant gauche",null,"alu. larmé 1.5mm (à cintrer au montage)",null,"assemblage fournisseur",null,0,0,1,1]
["CHO42","CHO",null,"Tôle pare boue avant droite",null,"alu. larmé 1.5mm",null,"assemblage fournisseur",null,0,0,1,1]
["CHO43","CHO",null,"Tôle pare boue avant gauche",null,"alu. larmé 1.5mm",null,"assemblage fournisseur",null,0,0,1,1]
["CHO47","CHO",null,"Bras roue avant","Inclus 2 roulement à billes M12 et axe M12, trou pour axe de roue 14,8mm","inox 2mm (profilé 30x30mm)",null,"assemblage fournisseur",null,2,2,2,2]
["CHO57","CHO",null,"Protège plateau","plat alu 25mm, ep 2mm, lg 300mm","alu. 2mm",null,"assemblage fournisseur",null,1,1,1,1]
["CHO58","CHO",null,"Garde boue arrière vertical","aluminium 1mm","alu. 1mm",null,"assemblage fournisseur",null,1,1,1,1]
["CHO49","CHO",null,"Rondelle ép. 3mm, Dint. 6,5mm, Dext. 25mm",null,"inox 3mm",null,"assemblage fournisseur",null,3,3,3,3]
["CHO50","CHO",null,"Cale ovale ép. 3mm","Rondelle double, entraxe 25mm","inox 3mm",null,"assemblage fournisseur",null,4,4,4,4]
["CHO52","CHO",null,"Plats de supports vides-poches avant","Plat alu 25x2","alu. 2mm",null,"assemblage fournisseur",null,0,0,2,2]
["CHO53","CHO",null,"Vis axes roues avant","vis spéciale pour fixer les moyeux avant thru-axle 15mm","inox ø15mm",null,"assemblage fournisseur",null,2,2,2,2]
["TB_L00","TB_",null,"Longeron chassis bas avant droit","25x25x2mm",1425,null,"assemblage fournisseur",null,1,1,1,1]
["TB_L01","TB_",null,"Longeron chassis bas avant gauche","25x25x2mm",1425,null,"assemblage fournisseur",null,1,1,1,1]
["TB_L02","TB_",null,"Longeron chassis bas arrière","25x25x2mm",1255,null,"assemblage fournisseur",null,2,2,2,2]
["TB_L03","TB_",null,"Longeron extérieur marche pied","25x25x2mm",1255,null,"assemblage fournisseur",null,0,0,2,2]
["TB_L04","TB_",null,"Longeron rigidification arriere chassis","25x25x2mm",525,null,"assemblage fournisseur",null,2,2,2,2]
["TB_L05","TB_",null,"Longeron chassis haut","25x25x2mm",2060,null,"assemblage fournisseur",null,1,1,1,1]
["TB_L06","TB_",null,"Longeron chassis haut","25x25x2mm",2060,null,"assemblage fournisseur",null,1,1,1,1]
["TB_L07","TB_",null,"Longeron assise arriere chassis","25x25x2mm",420,null,"assemblage fournisseur",null,2,2,2,2]
["TB_L08","TB_",null,"Longeron galerie","25x25x2mm",1400,null,"assemblage fournisseur",null,0,0,2,2]
["TB_L09","TB_",null,"Longeron nez","25x25x2mm",485,null,"assemblage fournisseur",null,0,0,2,2]
["TB_L10","TB_",null,"Longeron stabilisateur bas","25x25x2mm",215,null,"assemblage fournisseur",null,0,0,4,4]
["TB_L11","TB_",null,"Longeron stabilisateur haut","25x25x2mm",240,null,"assemblage fournisseur",null,0,0,4,4]
["TB_L12","TB_",null,"Longeron support d'attache remorque","25x25x2mm",190,null,"option",null,0,0,0,0]
["TB_M00","TB_",null,"Montant arriere","25x25x2mm",1441,null,"assemblage fournisseur",null,0,0,2,2]
["TB_M01","TB_",null,"Montant arriere chassis","25x25x2mm",425,null,"assemblage fournisseur",null,2,2,2,2]
["TB_M02","TB_",null,"Montant sous assise arriere","25x25x2mm",325,null,"assemblage fournisseur",null,2,2,2,2]
["TB_M03","TB_",null,"Montant sous assise avant gauche","25x25x2mm",325,null,"assemblage fournisseur",null,1,1,1,1]
["TB_M04","TB_",null,"Montant sous assise avant droit","25x25x2mm",325,null,"assemblage fournisseur",null,1,2,1,1]
["TB_M05","TB_",null,"Montant direction","25x25x2mm",300,null,"assemblage fournisseur",null,2,2,2,2]
["TB_M06","TB_",null,"Montant direction avant","25x25x2mm",300,null,"assemblage fournisseur",null,2,2,2,2]
["TB_M07","TB_",null,"Montant avant","25x25x2mm",1111,null,"assemblage fournisseur",null,0,0,2,2]
["TB_R00","TB_",null,"Renfort direction","25x25x2mm",336,null,"assemblage fournisseur",null,2,2,2,2]
["TB_R01","TB_",null,"Renfort train avant","25x25x2mm",193,null,"assemblage fournisseur",null,2,2,2,2]
["TB_R02","TB_",null,"Renfort nez","25x25x2mm",399,null,"assemblage fournisseur",null,0,0,2,2]
["TB_R03","TB_",null,"Renfort chassis","25x25x2mm",648,null,"assemblage fournisseur",null,0,0,1,1]
["TB_R04","TB_",null,"Renfort nez court","25x25x2mm",139,null,"assemblage fournisseur",null,2,2,0,0]
["TB_T00","TB_",null,"Traverse arriere marche pied","25x25x2mm",800,null,"assemblage fournisseur",null,0,0,1,1]
["TB_T01","TB_",null,"Traverse intermediaire marche pied","25x25x2mm",800,null,"assemblage fournisseur",null,0,0,1,1]
["TB_T02","TB_",null,"Traverse avant marche pied","25x25x2mm",800,null,"assemblage fournisseur",null,0,0,1,1]
["TB_T03","TB_",null,"Demi traverse avant marche pied","25x25x2mm",307,null,"assemblage fournisseur",null,0,0,2,2]
["TB_T04","TB_",null,"Traverse renfort avant marche pied",null,250,null,"assemblage fournisseur",null,1,1,1,1]
["TB_T05","TB_",null,"Traverse long","Remarque : pour les config. Basique et motorisée, T05 remplace T07 quand il n’y a pas la galerie et les plateformes",186,null,"assemblage fournisseur",null,3,3,2,2]
["TB_T06","TB_",null,"Traverse arriere assise","25x25x2mm",700,null,"assemblage fournisseur",null,0,0,1,1]
["TB_T07","TB_",null,"Traverse avant assise","25x25x2mm",800,null,"assemblage fournisseur",null,0,0,1,1]
["TB_T08","TB_",null,"Traverse arriere galerie","25x25x2mm",700,null,"assemblage fournisseur",null,0,0,1,1]
["TB_T09","TB_",null,"Traverse intermédiaire galerie","25x25x2mm",750,null,"assemblage fournisseur",null,0,0,2,2]
["TB_T10","TB_",null,"Traverse avant galerie","25x25x2mm",750,null,"assemblage fournisseur",null,0,0,1,1]
["TB_T11","TB_",null,"Traverse support direction bas","25x25x2mm",659,null,"assemblage fournisseur",null,1,1,1,1]
["TB_T12","TB_",null,"Traverse support direction haut","25x25x2mm",659,null,"assemblage fournisseur",null,1,1,1,1]
["TB_T13","TB_",null,"Traverse demi support direction haut","25x25x2mm",265,null,"assemblage fournisseur",null,2,2,2,2]
["TB_T14","TB_",null,"Traverse long 180","25x25x2mm",180,null,"assemblage fournisseur",null,1,1,1,1]
["TB_T15","TB_",null,"Traverse sous nez","25x25x2mm",110,null,"assemblage fournisseur",null,0,0,4,4]
["TB_T16","TB_",null,"Traverse direction bas","25x25x2mm",130,null,"assemblage fournisseur",null,1,1,1,1]
["TB_T17","TB_",null,"Tube supplémentaire","non percé, pour remplacement de tube non conforme ou adaptations personnalisées",2060,null,"assemblage fournisseur",null,1,1,1,1]
["TB_T18","TB_",null,"Biellette de direction","25x25x2mm",295,null,"assemblage fournisseur",null,2,2,2,2]
["TB_T19","TB_",null,"Traverse stabilisateurs","25x25x2mm",307,null,"assemblage fournisseur",null,0,0,4,4]
["TB_T20","TB_",null,"Support pour sièges enfants","25x25x2mm",530,null,"option",null,0,0,0,0]
["TB_T21","TB_",null,"Traverse support attache remorque","25x25x2mm",130,null,"option",null,0,0,0,0]
["TB_T22","TB_",null,"Fixation panneau solaire","25x25x2mm",650,null,"assemblage fournisseur",null,0,0,1,1]
["TB_T23","TB_","siège adulte","Loquet pour embase sièges","25x25x2mm",100,null,"assemblage fournisseur",null,0,2,2,2]
["TB_T24","TB_",null,null,"Remarque : pour les config. Basique et motorisée, T24 remplace T00, T01 et T02 quand il n’y a pas la galerie et les plateformes",null,null,null,null,3,3,0,0]
["TB_T25","TB_",null,null,"Remarque : pour les config. Basique et motorisée, T25 remplace T06 quand il n’y a pas la galerie et les plateformes",null,null,null,null,1,1,0,0]
["TB_E21","TB_",null,"Entretoise","20x20x2",20.7,"à mettre dans des tubes 25x25x2","assemblage fournisseur",null,6,14,14,14]
["TB_E20","TB_",null,"Entretoise moteur","20x20x2",20,null,"assemblage fournisseur",null,0,8,8,8]
["TB_E36","TB_",null,"Entretoise moteur","20x20x2",36,null,"assemblage fournisseur",null,0,4,4,4]
["TB_E16","TB_",null,"Axe potence (haut)","20x20x2",14,null,"assemblage fournisseur",null,1,1,1,1]

{"sheet":"Guide utilisation liste pièces","index":1,"n_rows":158,"n_cols":4,"rows_kept":158,"cut":false,"hidden":false,"merged":[[46,0,46,12]]}
["Guide simplifié d’utilisation du fichier « 3 - Liste des pièces et fournisseurs »"]
[]
[]
[]
[]
[]
[]
[]
[]
[]
[]
[]
[]
[]
[]
[]
[]
[]
[]
[]
[]
[]
[]
[]
[]
[]
[]
[]
[]
[]
[]
[]
[]
["Si vous avez des questions particulières, demandez à la communauté :",null,null,"Besoin d'aide? : https://communaute.vhelio.org/"]
[]
[]
[]
["Guide détaillé d’utilisation du fichier « 3 - Liste des pièces et fournisseurs »"]
[]
["Objectifs du fichier :"]
["Retrouver un article selon code ou texte"]
["Voir la composition détaillée de chaque version de vhéliotech"]
["Avoir les caractéristiques de l’article"]
["Trouver le ou les fournisseurs de chaque article ou ensemble d’articles"]
[]
["Format"]
["La nomenclature contient une quantité importante d’informations. Le tableur permet de récapituler précisément ces informations et effectuer de multiples recherches. Bien que très dense, avec quelque fonctions particulières, il est facile de trouver les informations recherchées."]
[]
["Légende"]
["texte en noir",null,"articles à acheter auprès des fournisseurs identifiés"]
["fond jaune",null,"évolution par raport à la version de la documentation précédente"]
["texte gris clair",null,"articles composant les ensembles – Pas besoins d’acheter ces articles directement (sauf pour ceux qui veulent fabriquer leur Vhélio complet)"]
["LIGNE AVEC TEXTE EN MAJUSCULE DANS LA COLONNE ENSEMBLE",null,"ligne d'ensemble à commander"]
["chiffre en italique",null,"La quantité de pièces a été majorée de 10% (principalement pour la quincaillerie) afin d’éviter de manquer lors de l’assemblage"]
[]
["Détail des colonnes"]
[1,"Référence Vhélio"]
[2,"Famille"]
[3,"Ensemble"]
[4,"Nom article"]
[5,"Description article"]
[6,"Spécification particulière"]
[7,"Commentaire"]
[8,"Approvisionnement : Achat ou assemblage fournisseur"]
[9,"Quantité d’article version Basique"]
[10,"Quantité d’article version Motorisée"]
[11,"Quantité d’article version Solaire"]
[12,"Quantité d’article version Intégrale"]
[13,"Fournisseur 1"]
[14,"Particularité fournisseur 1"]
[15,"lien/contact fournisseur 1"]
[16,"Réf. Fournisseur 1"]
[17,"Fournisseur 2"]
[18,"Particularité fournisseur 2"]
[19,"lien/contact fournisseur 2"]
[20,"Référence Fournisseur 2"]
[21,"Fabricant"]
[22,"Référence fabricant"]
[23,"localisation fabricant"]
[24,"Lien présentation produit"]
[25,"Fiche technique"]
[26,"Notice utilisation"]
[27,"Autre information"]
[]
["Plusieurs méthodes pour effectuer des recherches"]
["1) Appliquer un filtre selon la colonne qui nous intéresse (la famille est un paramètre intéressant) et dérouler les lignes"]
["2) Recherche par mot clé (control + F) avec le code de la pièce détachée recherchée"]
["3) Dérouler les lignes méticuleusement (plus fastidieux)"]
["4) Rechercher tous les articles d’un ensemble : filtrer la colonne « ensemble » numéro 3"]
[]
[]
[]
["Présentation simplifiée de la codification"]
[]
[]
[]
[]
[]
[]
[]
[]
[]
[]
[]
[]
[]
[]
[]
[]
[]
[]
[]
[]
[]
[]
[]
[]
[]
[]
[]
[]
[]
[]
[]
["Présentation détaillée de la codification"]
["Pour faciliter les échanges (entre utilsateurs, fabricants, fournisseurs, autoconstructeurs), chaque article porte un code unique"]
[]
["Exemple de code : ROU03"]
[null,"les trois premiers caratères indiquent la famille. Dans ce cas, « ROU » indique la famille « Roue »"]
[null,"Les deux caractères suivants déterminent un nombre compris entre 0 et 99"]
[null,null,"Proche de 0, le nombre indique un code unique d’article dans la famille précitée"]
[null,null,"Proche de 100, le nombre indique un code unique d’ensemble d’arciles dans la famille précitée"]
[]
["Familles d’articles"]
["CHO","pièces ChaudrOnnées"]
["ACC","ACCessoires"]
["ELE","ELEctricité"]
["QIN","QuINcaillerie"]
["DIV","DIVers"]
["TSM","TranSMission"]
["ROU","ROUes"]
["FRN","FReiNage"]
["TXT","TeXTiles"]
["TB_ L","TuBe Longeron"]
["TB_ M","TuBe Montant"]
["TB_ T","TuBe Traverse"]
["TB_E","TuBe Entretoise"]
[]
["Cas particuliers de la codification"]
[null,"Codification spéciales des tubes :"]
[null,null,"Après les trois premiers caractères de la famille, une lettre est intercalée avant le nombre pour avoir une indication sur la position de chaque tube"]
[null,null,"TB_ L","TuBe Longeron"]
[null,null,"TB_ M","TuBe Montant"]
[null,null,"TB_ T","TuBe Traverse"]
[null,null,"TB_E","TuBe Entretoise"]
[null,null,"Ce qui fait par exemple le tube « TB_L03 » qui se situe dans l’axe avant/arrière (car il appartient à la famille des longerons)"]
[]
["Copyright Vélo Solaire Pour Tous, mars 2022, sous licence CERN-OHL-S version 2"]

{"sheet":"Mentions légales","index":2,"n_rows":4,"n_cols":1,"rows_kept":4,"cut":false,"hidden":false,"merged":[]}
["Le projet vhélio est collaboratif (amélioration continue grâce aux contributions de tous). Vous êtes invités à faire part de vos retours/expériences/propositions d'améliorations sur le forum https://communaute.vhelio.org/."]
["IMPORTANT : Ce document est indicatif et non contractuel. L'association décline toute responsabilité quant à l'usage de ces documents et/ou du vhéliotech par son ou ses utilisateur(s). L'usage de ces documents ne dispense pas de la connaissance et du respect de la réglementation et des normes en vigueur. Le vhéliotech est un produit non certifié/non homologué et ne peut à cet effet ni être vendu, loué, utilisé à titre professionnel, mis à disposition dans le cadre d'une prestation de services. Dans le cas d'un usage personnel, le vhéliotech est sous l'entière responsabilité de son utilisateur. Compte tenu de sa catégorie (cycle à assistance électrique) et de sa puissance électrique (vitesse inférieure à 25 km/h, puissance limitée à 250W), le vhéliotech n'est pas soumis à l'obligation d'assurance, néanmoins la souscription de celle-ci est recommandée."]
["Le nom de marque vhélio ne peut être utilisé sans autorisation de l’association vélo solaire pour tous. Déposé à l’INPI (21 4 733 066 le 15 février 2021)"]
["Copyright Vélo Solaire Pour Tous, Mai 2023, sous licence CERN-OHL-S version 2"]

{"sheet":"Détails évolutions","index":3,"n_rows":75,"n_cols":3,"rows_kept":75,"cut":false,"hidden":false,"merged":[]}
["Evolutions entre la version V0.01 (mars 2022) et la version V1.0.0 (mai 2023) :"]
[null,"Suppression ROU99 (roue avec moyeu nuvinci)","Désormais remplacé par roue avec moyeu nexus 8 ROU16"]
[null,"Suppression CHO22 (tôle latérale pédalier)","on ne met finalement pas de tôle à cet endroit"]
[null,"Ajout CHO49","rondelle 3mm"]
[null,"Ajout CHO50","Rondelle double, entraxe 25mm"]
[null,"Ajout CHO51","Rondelle M6x25x1"]
[null,"Ajout CHO52","fixation des vides-poches avant plat alu 25x2"]
[null,"Ajout CHO53","Vis fixation roues avant, spéciale pour fixer les moyeux avant thru-axle 15mm"]
[null,"Ajout ELE37","convertisseur DC/DC 36-12V, n'était pas référencé jusqu'à présent"]
[null,"Suppression QIN11","remplacé par TB_E21"]
[null,"Ajout famille TB_E","Entretoises en tubes"]
[null,"Ajout TB_E21"," entretoise de 20,9mm fabriquée à partir de tube 20x20x2 ; longueur initiale modifiée pour mettre à l'intérieur des tubes 25x25x2"]
[null,"Ajout QIN13","rondelle M8 moteur et roulettes"]
[null,"Modification QIN 14","vis M6 12mm à la place de M6 14mm"]
[null,"Modification QIN 20","suppression des vis tôles qui n'existent plus, récupération de la réf par les nouveaux M6x20 utiles au tendeur de chaîne (20mm max pour éviter de toucher le boîtier élec)"]
[null,"Modification QIN 25","100mm au lieu de 90mm"]
[null,"Ajout QIN26","tiges filetées pliées en U pour tenir le guidon"]
[null,"Modification QIN35","auparavant 10 vis M4x35 mais c'est pas logique et on peut mettre des M6x35 partout"]
[null,"Ajout QIN65","M6 65mm"]
[null,"Ajout QIN28","M8 140mm fixation bloc moteur aux tubes"]
[null,"Ajout QIN29","écrou frein M8"]
[null,"Ajout TB_E20","entretoise moteur"]
[null,"Ajout TB_E36","entretoise moteur"]
[null,"Ajout QIN32","Vis TRCC M12x300"]
[null,"Ajout QIN33","Vis TRCC M12x150"]
[null,"Ajout QIN34","écrou M12"]
[null,"Ajout QIN36","rondelle M12"]
[null,"Ajout TB_E16","Entretoise axe potence (haut)"]
[null,"Ajout QIN39","vis M8 65mm à filetage partiel (axe rotation biellette côté CHO47)"]
[null,"Ajout QIN41","rondelle nylon M8"]
[null,"Ajout QIN50","vis FHC M6 50mm pour fixer le frein avant (QIN45 trop court)"]
[null,"Ajout QIN43","vis M8 50mm filetage partiel (axe rotation biellette au niveau des triangles)"]
[null,"Ajout QIN44","écrou M8 utilisé en contre écrou"]
[null,"Ajout QIN46","vis M4 20mm pour fixer les feux aux platines et peut-être les tôles avec écrous sertis"]
[null,"Ajout QIN48","butée de direction"]
[null,"Ajout QIN49","écrou fixation moyeu avant"]
[null,"Ajout QIN51","Etrier M6 D=22 ISO304 (siège adulte)"]
[null,"Ajout QIN52","Etrier M6 D=22 L>=57 (<=65) (siège adulte)"]
[null,"Ajout TB_L12","longeron support d'attache remorque"]
[null,"Ajout TB_T20","Support pour sièges enfants"]
[null,"Ajout TB_T21","Travers support attache remorque"]
[null,"Suppression CHO29","Se décompose désormais en 2 réf CHO et QIN53"]
[null,"Ajout CHO54","Embase siège adulte"]
[null,"Ajout QIN54","Galet pour l'embase de siège adulte"]
[null,"Modification QIN99","Devient un ensemble spécifique à la version de base"]
[null,"Modification QIN98","Devient un ensemble spécifique de supplément pour la version motorisée"]
[null,"Ajout QIN97","Ensemble spécifique de supplément pour la version solaire"]
[null,"Ajout QIN96","Ensemble spécifique de supplément pour la version intégrale"]
[null,"Ajout QIN95","Ensemble de toute la quincaillerie pour la version intégrale (QIN99 + QUIN98 + QIN97 + QIN96)"]
[null,"Suppression CHO01","Ancienne réf des tubes de siège adulte qui comprenaient ceux de l'assise + du dossier"]
[null,"Ajout CHO55","Nouvelle réf tubes de sièges adulte : assise"]
[null,"Ajout CHO56","Nouvelle réf tubes de sièges adulte : dossier"]
[null,"Ajout CHO57","Protège plateau"]
[null,"Ajout QIN53","Butée à billes"]
[null,"Ajout TB_T22","Fixation panneau solaire"]
[null,"Ajout TB_T23","Loquet pour embase sièges"]
[null,"Changement de cotations tubes","TB_L09, TB_R00, TB_R01, TB_R02, TB_R03, TB_T11, TB_T12, TB_T13, TB_T15, TB_T18"]
[null,"Création de l'onglet \"Edition\" pour imprimer la nomenclature (seulement les informations utiles, triées par famille)"]
[null,"Suppression QIN08"]
[null,"Suppression QIN09"]
[null,"ELE37 devient un sous ensemble","le convertisseur DC-DC est founi avec le boîtier ELE99"]
[null,"TXT01, TXT02, TXT03 et TXT04 = sous ensembles","Fournis dans l'ensemble TXT99"]
[null,"CHO08, CHO09, CHO24, CHO54, CHO96, CHO38 = sous ensembles","fournis dans les ensembles CHO97+CHO98"]
[null,"CHO34, CHO39 = sous ensembles","fournis dans les ensembles CHO97+CHO98"]
[null,"QIN26","précision ensemble structure de base CHO"]
[null,"CHO40","passage en tôle larmée 1,5mm"]
[null,"CHO41","passage en tôle larmée 1,5mm"]
[null,"CHO42","passage en tôle larmée 1,5mm"]
[null,"CHO43","passage en tôle larmée 1,5mm"]
[null,"Suppression CHO31","la glissière avant CHO30 est désormais commune droite/gauche"]
[null,"Suppression CHO51, remplacé par QIN12 (rondelle M6)"]
[null,"CHO13 mofifiée","Fente désormais verticale"]
[null,"CHO14 supprimée (car identique à CHO13 désormais)"]
[null,"Ajout QIN55 (ficelel pour textiles sièges"]
[null,"Suppression QIN17 (maille rapide)"]

{"sheet":"Edition_papier","index":4,"n_rows":1744,"n_cols":16,"rows_kept":1744,"cut":false,"hidden":false,"merged":[[1,9,1,12],[1,13,1,14]]}
[1,2,3,4,5,6,7,8,null,9,10,11,12]
["Voir le « Guide d’utilisation nomenclature » en deuxième feuille",null,null,null,null,null,null,null,null,"Quantité"]
["Réf Vhélio","Famille","Ensemble","Nom article","Description","Spécification particulière","Commentaire (montage)","Approvisionnement","Colonne1","Basique","Motorisée","Solaire","Intégrale",null,null,{"$f":"MAX(P4:P1000)","v":14}]
[{"$f":"IF(Liste_pièces!A49=\"\",\"ZZZ\",Liste_pièces!A49)","v":"ACC01"},{"$f":"IF(Liste_pièces!B49=\"\",\"ZZZ\",Liste_pièces!B49)","v":"ACC"},{"$f":"IF(Liste_pièces!C49=\"\",\"\",Liste_pièces!C49)","v":""},{"$f":"IF(Liste_pièces!D49=\"\",\"\",Liste_pièces!D49)","v":"rétroviseur"},{"$f":"IF(Liste_pièces!E49=\"\",\"\",Liste_pièces!E49)","v":"large avec bras"},{"$f":"IF(Liste_pièces!F49=\"\",\"\",Liste_pièces!F49)","v":"90mm x 108mm"},{"$f":"IF(Liste_pièces!G49=\"\",\"\",Liste_pièces!G49)","v":""},{"$f":"IF(Liste_pièces!H49=\"\",\"\",Liste_pièces!H49)","v":"achat"},{"$f":"IF(Liste_pièces!I49=\"\",\"\",Liste_pièces!I49)","v":""},{"$f":"IF(Liste_pièces!J49=\"\",\"\",Liste_pièces!J49)","v":0},{"$f":"IF(Liste_pièces!K49=\"\",\"\",Liste_pièces!K49)","v":0},{"$f":"IF(Liste_pièces!L49=\"\",\"\",Liste_pièces!L49)","v":1},{"$f":"IF(Liste_pièces!M49=\"\",\"\",Liste_pièces!M49)","v":1},{"$f":"IF(B4=\"ZZZ\",0,1)","v":1},null,1]
[{"$f":"IF(Liste_pièces!A50=\"\",\"ZZZ\",Liste_pièces!A50)","v":"ACC02"},{"$f":"IF(Liste_pièces!B50=\"\",\"ZZZ\",Liste_pièces!B50)","v":"ACC"},{"$f":"IF(Liste_pièces!C50=\"\",\"\",Liste_pièces!C50)","v":""},{"$f":"IF(Liste_pièces!D50=\"\",\"\",Liste_pièces!D50)","v":"porte bidon"},{"$f":"IF(Liste_pièces!E50=\"\",\"\",Liste_pièces!E50)","v":""},{"$f":"IF(Liste_pièces!F50=\"\",\"\",Liste_pièces!F50)","v":""},{"$f":"IF(Liste_pièces!G50=\"\",\"\",Liste_pièces!G50)","v":""},{"$f":"IF(Liste_pièces!H50=\"\",\"\",Liste_pièces!H50)","v":"achat"},{"$f":"IF(Liste_pièces!I50=\"\",\"\",Liste_pièces!I50)","v":""},{"$f":"IF(Liste_pièces!J50=\"\",\"\",Liste_pièces!J50)","v":0},{"$f":"IF(Liste_pièces!K50=\"\",\"\",Liste_pièces!K50)","v":0},{"$f":"IF(Liste_pièces!L50=\"\",\"\",Liste_pièces!L50)","v":1},{"$f":"IF(Liste_pièces!M50=\"\",\"\",Liste_pièces!M50)","v":1},{"$f":"IF(B5=\"ZZZ\",0,IF(B5=B4,N4,1+N4))","v":1},null,{"$f":"IF(N5=0,0,IF(N5<>N4,MAX(N5+O4,P4+1),IF(O4=O5,P4,P4+O5)))","v":1}]
[{"$f":"IF(Liste_pièces!A51=\"\",\"ZZZ\",Liste_pièces!A51)","v":"ACC03"},{"$f":"IF(Liste_pièces!B51=\"\",\"ZZZ\",Liste_pièces!B51)","v":"ACC"},{"$f":"IF(Liste_pièces!C51=\"\",\"\",Liste_pièces!C51)","v":""},{"$f":"IF(Liste_pièces!D51=\"\",\"\",Liste_pièces!D51)","v":"sièges enfant"},{"$f":"IF(Liste_pièces!E51=\"\",\"\",Liste_pièces!E51)","v":"adaptation à réaliser (prévoir 2 tubes aluminium longueur 545mm – tube en réserve T17 prévu pour cela notamment)"},{"$f":"IF(Liste_pièces!F51=\"\",\"\",Liste_pièces!F51)","v":"dossier rabattable à plat, 20 à 35 Kg, ceinture ventrale, anneaux en haut du dossier rabattable"},{"$f":"IF(Liste_pièces!G51=\"\",\"\",Liste_pièces!G51)","v":""},{"$f":"IF(Liste_pièces!H51=\"\",\"\",Liste_pièces!H51)","v":"option"},{"$f":"IF(Liste_pièces!I51=\"\",\"\",Liste_pièces!I51)","v":""},{"$f":"IF(Liste_pièces!J51=\"\",\"\",Liste_pièces!J51)","v":0},{"$f":"IF(Liste_pièces!K51=\"\",\"\",Liste_pièces!K51)","v":0},{"$f":"IF(Liste_pièces!L51=\"\",\"\",Liste_pièces!L51)","v":0},{"$f":"IF(Liste_pièces!M51=\"\",\"\",Liste_pièces!M51)","v":0},{"$f":"IF(B6=\"ZZZ\",0,IF(B6=B5,N5,1+N5))","v":1},null,1]
[{"$f":"IF(Liste_pièces!A52=\"\",\"ZZZ\",Liste_pièces!A52)","v":"ACC04"},{"$f":"IF(Liste_pièces!B52=\"\",\"ZZZ\",Liste_pièces!B52)","v":"ACC"},{"$f":"IF(Liste_pièces!C52=\"\",\"\",Liste_pièces!C52)","v":""},{"$f":"IF(Liste_pièces!D52=\"\",\"\",Liste_pièces!D52)","v":"balise GPS antivol"},{"$f":"IF(Liste_pièces!E52=\"\",\"\",Liste_pièces!E52)","v":""},{"$f":"IF(Liste_pièces!F52=\"\",\"\",Liste_pièces!F52)","v":"sans carte sim, sans abonnement, autonomie vérifiée = plusieurs mois"},{"$f":"IF(Liste_pièces!G52=\"\",\"\",Liste_pièces!G52)","v":""},{"$f":"IF(Liste_pièces!H52=\"\",\"\",Liste_pièces!H52)","v":"option"},{"$f":"IF(Liste_pièces!I52=\"\",\"\",Liste_pièces!I52)","v":""},{"$f":"IF(Liste_pièces!J52=\"\",\"\",Liste_pièces!J52)","v":0},{"$f":"IF(Liste_pièces!K52=\"\",\"\",Liste_pièces!K52)","v":0},{"$f":"IF(Liste_pièces!L52=\"\",\"\",Liste_pièces!L52)","v":0},{"$f":"IF(Liste_pièces!M52=\"\",\"\",Liste_pièces!M52)","v":0},1,null,1]
[{"$f":"IF(Liste_pièces!A53=\"\",\"ZZZ\",Liste_pièces!A53)","v":"ACC05"},{"$f":"IF(Liste_pièces!B53=\"\",\"ZZZ\",Liste_pièces!B53)","v":"ACC"},{"$f":"IF(Liste_pièces!C53=\"\",\"\",Liste_pièces!C53)","v":""},{"$f":"IF(Liste_pièces!D53=\"\",\"\",Liste_pièces!D53)","v":"boule attelage"},{"$f":"IF(Liste_pièces!E53=\"\",\"\",Liste_pièces!E53)","v":"diamètre 50mm, M16"},{"$f":"IF(Liste_pièces!F53=\"\",\"\",Liste_pièces!F53)","v":""},{"$f":"IF(Liste_pièces!G53=\"\",\"\",Liste_pièces!G53)","v":""},{"$f":"IF(Liste_pièces!H53=\"\",\"\",Liste_pièces!H53)","v":"option"},{"$f":"IF(Liste_pièces!I53=\"\",\"\",Liste_pièces!I53)","v":""},{"$f":"IF(Liste_pièces!J53=\"\",\"\",Liste_pièces!J53)","v":0},{"$f":"IF(Liste_pièces!K53=\"\",\"\",Liste_pièces!K53)","v":0},{"$f":"IF(Liste_pièces!L53=\"\",\"\",Liste_pièces!L53)","v":0},{"$f":"IF(Liste_pièces!M53=\"\",\"\",Liste_pièces!M53)","v":0},1,null,1]
[{"$f":"IF(Liste_pièces!A54=\"\",\"ZZZ\",Liste_pièces!A54)","v":"ACC06"},{"$f":"IF(Liste_pièces!B54=\"\",\"ZZZ\",Liste_pièces!B54)","v":"ACC"},{"$f":"IF(Liste_pièces!C54=\"\",\"\",Liste_pièces!C54)","v":""},{"$f":"IF(Liste_pièces!D54=\"\",\"\",Liste_pièces!D54)","v":"sonnette classique"},{"$f":"IF(Liste_pièces!E54=\"\",\"\",Liste_pièces!E54)","v":""},{"$f":"IF(Liste_pièces!F54=\"\",\"\",Liste_pièces!F54)","v":""},{"$f":"IF(Liste_pièces!G54=\"\",\"\",Liste_pièces!G54)","v":""},{"$f":"IF(Liste_pièces!H54=\"\",\"\",Liste_pièces!H54)","v":"achat"},{"$f":"IF(Liste_pièces!I54=\"\",\"\",Liste_pièces!I54)","v":""},{"$f":"IF(Liste_pièces!J54=\"\",\"\",Liste_pièces!J54)","v":1},{"$f":"IF(Liste_pièces!K54=\"\",\"\",Liste_pièces!K54)","v":1},{"$f":"IF(Liste_pièces!L54=\"\",\"\",Liste_pièces!L54)","v":1},{"$f":"IF(Liste_pièces!M54=\"\",\"\",Liste_pièces!M54)","v":1},1,null,1]
[{"$f":"IF(Liste_pièces!A55=\"\",\"ZZZ\",Liste_pièces!A55)","v":"ACC07"},{"$f":"IF(Liste_pièces!B55=\"\",\"ZZZ\",Liste_pièces!B55)","v":"ACC"},{"$f":"IF(Liste_pièces!C55=\"\",\"\",Liste_pièces!C55)","v":""},{"$f":"IF(Liste_pièces!D55=\"\",\"\",Liste_pièces!D55)","v":"bac empilable 60 x 40 x 32 cm, 70 litres"},{"$f":"IF(Liste_pièces!E55=\"\",\"\",Liste_pièces!E55)","v":""},{"$f":"IF(Liste_pièces!F55=\"\",\"\",Liste_pièces!F55)","v":"polypropylène"},{"$f":"IF(Liste_pièces!G55=\"\",\"\",Liste_pièces!G55)","v":""},{"$f":"IF(Liste_pièces!H55=\"\",\"\",Liste_pièces!H55)","v":"option"},{"$f":"IF(Liste_pièces!I55=\"\",\"\",Liste_pièces!I55)","v":""},{"$f":"IF(Liste_pièces!J55=\"\",\"\",Liste_pièces!J55)","v":0},{"$f":"IF(Liste_pièces!K55=\"\",\"\",Liste_pièces!K55)","v":0},{"$f":"IF(Liste_pièces!L55=\"\",\"\",Liste_pièces!L55)","v":0},{"$f":"IF(Liste_pièces!M55=\"\",\"\",Liste_pièces!M55)","v":0},1,null,1]
[{"$f":"IF(Liste_pièces!A56=\"\",\"ZZZ\",Liste_pièces!A56)","v":"ACC08"},{"$f":"IF(Liste_pièces!B56=\"\",\"ZZZ\",Liste_pièces!B56)","v":"ACC"},{"$f":"IF(Liste_pièces!C56=\"\",\"\",Liste_pièces!C56)","v":""},{"$f":"IF(Liste_pièces!D56=\"\",\"\",Liste_pièces!D56)","v":"bac empilable 40 x 30 x 32 cm, 70 litres"},{"$f":"IF(Liste_pièces!E56=\"\",\"\",Liste_pièces!E56)","v":""},{"$f":"IF(Liste_pièces!F56=\"\",\"\",Liste_pièces!F56)","v":"polypropylène"},{"$f":"IF(Liste_pièces!G56=\"\",\"\",Liste_pièces!G56)","v":""},{"$f":"IF(Liste_pièces!H56=\"\",\"\",Liste_pièces!H56)","v":"option"},{"$f":"IF(Liste_pièces!I56=\"\",\"\",Liste_pièces!I56)","v":""},{"$f":"IF(Liste_pièces!J56=\"\",\"\",Liste_pièces!J56)","v":0},{"$f":"IF(Liste_pièces!K56=\"\",\"\",Liste_pièces!K56)","v":0},{"$f":"IF(Liste_pièces!L56=\"\",\"\",Liste_pièces!L56)","v":0},{"$f":"IF(Liste_pièces!M56=\"\",\"\",Liste_pièces!M56)","v":0},1,null,1]
[{"$f":"IF(Liste_pièces!A57=\"\",\"ZZZ\",Liste_pièces!A57)","v":"ACC09"},{"$f":"IF(Liste_pièces!B57=\"\",\"ZZZ\",Liste_pièces!B57)","v":"ACC"},{"$f":"IF(Liste_pièces!C57=\"\",\"\",Liste_pièces!C57)","v":""},{"$f":"IF(Liste_pièces!D57=\"\",\"\",Liste_pièces!D57)","v":"convertisseur 12V/230V"},{"$f":"IF(Liste_pièces!E57=\"\",\"\",Liste_pièces!E57)","v":""},{"$f":"IF(Liste_pièces!F57=\"\",\"\",Liste_pièces!F57)","v":"pure sinus, 300W"},{"$f":"IF(Liste_pièces!G57=\"\",\"\",Liste_pièces!G57)","v":"intégré au boitier électrique ELE99"},{"$f":"IF(Liste_pièces!H57=\"\",\"\",Liste_pièces!H57)","v":"option"},{"$f":"IF(Liste_pièces!I57=\"\",\"\",Liste_pièces!I57)","v":""},{"$f":"IF(Liste_pièces!J57=\"\",\"\",Liste_pièces!J57)","v":0},{"$f":"IF(Liste_pièces!K57=\"\",\"\",Liste_pièces!K57)","v":0},{"$f":"IF(Liste_pièces!L57=\"\",\"\",Liste_pièces!L57)","v":0},{"$f":"IF(Liste_pièces!M57=\"\",\"\",Liste_pièces!M57)","v":0},1,null,1]
[{"$f":"IF(Liste_pièces!A58=\"\",\"ZZZ\",Liste_pièces!A58)","v":"ACC10"},{"$f":"IF(Liste_pièces!B58=\"\",\"ZZZ\",Liste_pièces!B58)","v":"ACC"},{"$f":"IF(Liste_pièces!C58=\"\",\"\",Liste_pièces!C58)","v":""},{"$f":"IF(Liste_pièces!D58=\"\",\"\",Liste_pièces!D58)","v":"éclairage autonome sur batterie USB"},{"$f":"IF(Liste_pièces!E58=\"\",\"\",Liste_pièces!E58)","v":"lampe frontale éclairant en blanc ou rouge"},{"$f":"IF(Liste_pièces!F58=\"\",\"\",Liste_pièces!F58)","v":"Lampe facile à fixer sur un tube avec 2 élastiques solides, cellule 18650 remplaçable"},{"$f":"IF(Liste_pièces!G58=\"\",\"\",Liste_pièces!G58)","v":""},{"$f":"IF(Liste_pièces!H58=\"\",\"\",Liste_pièces!H58)","v":"achat"},{"$f":"IF(Liste_pièces!I58=\"\",\"\",Liste_pièces!I58)","v":""},{"$f":"IF(Liste_pièces!J58=\"\",\"\",Liste_pièces!J58)","v":2},{"$f":"IF(Liste_pièces!K58=\"\",\"\",Liste_pièces!K58)","v":2},{"$f":"IF(Liste_pièces!L58=\"\",\"\",Liste_pièces!L58)","v":2},{"$f":"IF(Liste_pièces!M58=\"\",\"\",Liste_pièces!M58)","v":0},1,null,1]
[{"$f":"IF(Liste_pièces!A165=\"\",\"ZZZ\",Liste_pièces!A165)","v":"CHO02"},{"$f":"IF(Liste_pièces!B165=\"\",\"ZZZ\",Liste_pièces!B165)","v":"CHO"},{"$f":"IF(Liste_pièces!C165=\"\",\"\",Liste_pièces!C165)","v":"siège adulte"},{"$f":"IF(Liste_pièces!D165=\"\",\"\",Liste_pièces!D165)","v":"Cale siège adulte 24mm"},{"$f":"IF(Liste_pièces!E165=\"\",\"\",Liste_pièces!E165)","v":""},{"$f":"IF(Liste_pièces!F165=\"\",\"\",Liste_pièces!F165)","v":"inox 3mm"},{"$f":"IF(Liste_pièces!G165=\"\",\"\",Liste_pièces!G165)","v":""},{"$f":"IF(Liste_pièces!H165=\"\",\"\",Liste_pièces!H165)","v":"assemblage fournisseur"},{"$f":"IF(Liste_pièces!I165=\"\",\"\",Liste_pièces!I165)","v":""},{"$f":"IF(Liste_pièces!J165=\"\",\"\",Liste_pièces!J165)","v":0},{"$f":"IF(Liste_pièces!K165=\"\",\"\",Liste_pièces!K165)","v":2},{"$f":"IF(Liste_pièces!L165=\"\",\"\",Liste_pièces!L165)","v":4},{"$f":"IF(Liste_pièces!M165=\"\",\"\",Liste_pièces!M165)","v":4},2,null,2]
[{"$f":"IF(Liste_pièces!A169=\"\",\"ZZZ\",Liste_pièces!A169)","v":"CHO03"},{"$f":"IF(Liste_pièces!B169=\"\",\"ZZZ\",Liste_pièces!B169)","v":"CHO"},{"$f":"IF(Liste_pièces!C169=\"\",\"\",Liste_pièces!C169)","v":""},{"$f":"IF(Liste_pièces!D169=\"\",\"\",Liste_pièces!D169)","v":"Équerre_simple"},{"$f":"IF(Liste_pièces!E169=\"\",\"\",Liste_pièces!E169)","v":" "},{"$f":"IF(Liste_pièces!F169=\"\",\"\",Liste_pièces!F169)","v":"inox 2mm"},{"$f":"IF(Liste_pièces!G169=\"\",\"\",Liste_pièces!G169)","v":""},{"$f":"IF(Liste_pièces!H169=\"\",\"\",Liste_pièces!H169)","v":"assemblage fournisseur"},{"$f":"IF(Liste_pièces!I169=\"\",\"\",Liste_pièces!I169)","v":""},{"$f":"IF(Liste_pièces!J169=\"\",\"\",Liste_pièces!J169)","v":0},{"$f":"IF(Liste_pièces!K169=\"\",\"\",Liste_pièces!K169)","v":0},{"$f":"IF(Liste_pièces!L169=\"\",\"\",Liste_pièces!L169)","v":6},{"$f":"IF(Liste_pièces!M169=\"\",\"\",Liste_pièces!M169)","v":6},2,null,2]
[{"$f":"IF(Liste_pièces!A170=\"\",\"ZZZ\",Liste_pièces!A170)","v":"CHO04"},{"$f":"IF(Liste_pièces!B170=\"\",\"ZZZ\",Liste_pièces!B170)","v":"CHO"},{"$f":"IF(Liste_pièces!C170=\"\",\"\",Liste_pièces!C170)","v":""},{"$f":"IF(Liste_pièces!D170=\"\",\"\",Liste_pièces!D170)","v":"Guidon"},{"$f":"IF(Liste_pièces!E170=\"\",\"\",Liste_pièces!E170)","v":" "},{"$f":"IF(Liste_pièces!F170=\"\",\"\",Liste_pièces!F170)","v":"inox 1mm (tube ø22mm)"},{"$f":"IF(Liste_pièces!G170=\"\",\"\",Liste_pièces!G170)","v":""},{"$f":"IF(Liste_pièces!H170=\"\",\"\",Liste_pièces!H170)","v":"assemblage fournisseur"},{"$f":"IF(Liste_pièces!I170=\"\",\"\",Liste_pièces!I170)","v":""},{"$f":"IF(Liste_pièces!J170=\"\",\"\",Liste_pièces!J170)","v":1},{"$f":"IF(Liste_pièces!K170=\"\",\"\",Liste_pièces!K170)","v":1},{"$f":"IF(Liste_pièces!L170=\"\",\"\",Liste_pièces!L170)","v":1},{"$f":"IF(Liste_pièces!M170=\"\",\"\",Liste_pièces!M170)","v":1},2,null,2]
[{"$f":"IF(Liste_pièces!A166=\"\",\"ZZZ\",Liste_pièces!A166)","v":"CHO05"},{"$f":"IF(Liste_pièces!B166=\"\",\"ZZZ\",Liste_pièces!B166)","v":"CHO"},{"$f":"IF(Liste_pièces!C166=\"\",\"\",Liste_pièces!C166)","v":"siège adulte"},{"$f":"IF(Liste_pièces!D166=\"\",\"\",Liste_pièces!D166)","v":"Equerre avec angle"},{"$f":"IF(Liste_pièces!E166=\"\",\"\",Liste_pièces!E166)","v":" "},{"$f":"IF(Liste_pièces!F166=\"\",\"\",Liste_pièces!F166)","v":"inox 2mm"},{"$f":"IF(Liste_pièces!G166=\"\",\"\",Liste_pièces!G166)","v":""},{"$f":"IF(Liste_pièces!H166=\"\",\"\",Liste_pièces!H166)","v":"assemblage fournisseur"},{"$f":"IF(Liste_pièces!I166=\"\",\"\",Liste_pièces!I166)","v":""},{"$f":"IF(Liste_pièces!J166=\"\",\"\",Liste_pièces!J166)","v":2},{"$f":"IF(Liste_pièces!K166=\"\",\"\",Liste_pièces!K166)","v":2},{"$f":"IF(Liste_pièces!L166=\"\",\"\",Liste_pièces!L166)","v":4},{"$f":"IF(Liste_pièces!M166=\"\",\"\",Liste_pièces!M166)","v":4},2,null,2]
[{"$f":"IF(Liste_pièces!A93=\"\",\"ZZZ\",Liste_pièces!A93)","v":"CHO06"},{"$f":"IF(Liste_pièces!B93=\"\",\"ZZZ\",Liste_pièces!B93)","v":"CHO"},{"$f":"IF(Liste_pièces!C93=\"\",\"\",Liste_pièces!C93)","v":"bloc luminaire avant droit"},{"$f":"IF(Liste_pièces!D93=\"\",\"\",Liste_pièces!D93)","v":"platine luminaire"},{"$f":"IF(Liste_pièces!E93=\"\",\"\",Liste_pièces!E93)","v":""},{"$f":"IF(Liste_pièces!F93=\"\",\"\",Liste_pièces!F93)","v":"inox 1mm"},{"$f":"IF(Liste_pièces!G93=\"\",\"\",Liste_pièces!G93)","v":""},{"$f":"IF(Liste_pièces!H93=\"\",\"\",Liste_pièces!H93)","v":"assemblage fournisseur"},{"$f":"IF(Liste_pièces!I93=\"\",\"\",Liste_pièces!I93)","v":""},{"$f":"IF(Liste_pièces!J93=\"\",\"\",Liste_pièces!J93)","v":0},{"$f":"IF(Liste_pièces!K93=\"\",\"\",Liste_pièces!K93)","v":0},{"$f":"IF(Liste_pièces!L93=\"\",\"\",Liste_pièces!L93)","v":0},{"$f":"IF(Liste_pièces!M93=\"\",\"\",Liste_pièces!M93)","v":4},2,null,2]
[{"$f":"IF(Liste_pièces!A35=\"\",\"ZZZ\",Liste_pièces!A35)","v":"CHO08"},{"$f":"IF(Liste_pièces!B35=\"\",\"ZZZ\",Liste_pièces!B35)","v":"CHO"},{"$f":"IF(Liste_pièces!C35=\"\",\"\",Liste_pièces!C35)","v":""},{"$f":"IF(Liste_pièces!D35=\"\",\"\",Liste_pièces!D35)","v":"tôle_moteur_droite"},{"$f":"IF(Liste_pièces!E35=\"\",\"\",Liste_pièces!E35)","v":" "},{"$f":"IF(Liste_pièces!F35=\"\",\"\",Liste_pièces!F35)","v":"inox 2mm"},{"$f":"IF(Liste_pièces!G35=\"\",\"\",Liste_pièces!G35)","v":""},{"$f":"IF(Liste_pièces!H35=\"\",\"\",Liste_pièces!H35)","v":"assemblage fournisseur"},{"$f":"IF(Liste_pièces!I35=\"\",\"\",Liste_pièces!I35)","v":""},{"$f":"IF(Liste_pièces!J35=\"\",\"\",Liste_pièces!J35)","v":0},{"$f":"IF(Liste_pièces!K35=\"\",\"\",Liste_pièces!K35)","v":1},{"$f":"IF(Liste_pièces!L35=\"\",\"\",Liste_pièces!L35)","v":1},{"$f":"IF(Liste_pièces!M35=\"\",\"\",Liste_pièces!M35)","v":1},2,null,2]
[{"$f":"IF(Liste_pièces!A36=\"\",\"ZZZ\",Liste_pièces!A36)","v":"CHO09"},{"$f":"IF(Liste_pièces!B36=\"\",\"ZZZ\",Liste_pièces!B36)","v":"CHO"},{"$f":"IF(Liste_pièces!C36=\"\",\"\",Liste_pièces!C36)","v":""},{"$f":"IF(Liste_pièces!D36=\"\",\"\",Liste_pièces!D36)","v":"tôle_moteur_gauche"},{"$f":"IF(Liste_pièces!E36=\"\",\"\",Liste_pièces!E36)","v":" "},{"$f":"IF(Liste_pièces!F36=\"\",\"\",Liste_pièces!F36)","v":"inox 2mm"},{"$f":"IF(Liste_pièces!G36=\"\",\"\",Liste_pièces!G36)","v":""},{"$f":"IF(Liste_pièces!H36=\"\",\"\",Liste_pièces!H36)","v":"assemblage fournisseur"},{"$f":"IF(Liste_pièces!I36=\"\",\"\",Liste_pièces!I36)","v":""},{"$f":"IF(Liste_pièces!J36=\"\",\"\",Liste_pièces!J36)","v":0},{"$f":"IF(Liste_pièces!K36=\"\",\"\",Liste_pièces!K36)","v":1},{"$f":"IF(Liste_pièces!L36=\"\",\"\",Liste_pièces!L36)","v":1},{"$f":"IF(Liste_pièces!M36=\"\",\"\",Liste_pièces!M36)","v":1},2,null,2]
[{"$f":"IF(Liste_pièces!A174=\"\",\"ZZZ\",Liste_pièces!A174)","v":"CHO10"},{"$f":"IF(Liste_pièces!B174=\"\",\"ZZZ\",Liste_pièces!B174)","v":"CHO"},{"$f":"IF(Liste_pièces!C174=\"\",\"\",Liste_pièces!C174)","v":""},{"$f":"IF(Liste_pièces!D174=\"\",\"\",Liste_pièces!D174)","v":"Tôle_finition_avant"},{"$f":"IF(Liste_pièces!E174=\"\",\"\",Liste_pièces!E174)","v":"inclus rosace vhélio"},{"$f":"IF(Liste_pièces!F174=\"\",\"\",Liste_pièces!F174)","v":"inox 2mm"},{"$f":"IF(Liste_pièces!G174=\"\",\"\",Liste_pièces!G174)","v":""},{"$f":"IF(Liste_pièces!H174=\"\",\"\",Liste_pièces!H174)","v":"assemblage fournisseur"},{"$f":"IF(Liste_pièces!I174=\"\",\"\",Liste_pièces!I174)","v":""},{"$f":"IF(Liste_pièces!J174=\"\",\"\",Liste_pièces!J174)","v":1},{"$f":"IF(Liste_pièces!K174=\"\",\"\",Liste_pièces!K174)","v":1},{"$f":"IF(Liste_pièces!L174=\"\",\"\",Liste_pièces!L174)","v":1},{"$f":"IF(Liste_pièces!M174=\"\",\"\",Liste_pièces!M174)","v":1},2,null,2]
[{"$f":"IF(Liste_pièces!A175=\"\",\"ZZZ\",Liste_pièces!A175)","v":"CHO11"},{"$f":"IF(Liste_pièces!B175=\"\",\"ZZZ\",Liste_pièces!B175)","v":"CHO"},{"$f":"IF(Liste_pièces!C175=\"\",\"\",Liste_pièces!C175)","v":""},{"$f":"IF(Liste_pièces!D175=\"\",\"\",Liste_pièces!D175)","v":"Tôle_finition_arrière"},{"$f":"IF(Liste_pièces!E175=\"\",\"\",Liste_pièces!E175)","v":" "},{"$f":"IF(Liste_pièces!F175=\"\",\"\",Liste_pièces!F175)","v":"alu. 1mm"},{"$f":"IF(Liste_pièces!G175=\"\",\"\",Liste_pièces!G175)","v":""},{"$f":"IF(Liste_pièces!H175=\"\",\"\",Liste_pièces!H175)","v":"assemblage fournisseur"},{"$f":"IF(Liste_pièces!I175=\"\",\"\",Liste_pièces!I175)","v":""},{"$f":"IF(Liste_pièces!J175=\"\",\"\",Liste_pièces!J175)","v":0},{"$f":"IF(Liste_pièces!K175=\"\",\"\",Liste_pièces!K175)","v":0},{"$f":"IF(Liste_pièces!L175=\"\",\"\",Liste_pièces!L175)","v":1},{"$f":"IF(Liste_pièces!M175=\"\",\"\",Liste_pièces!M175)","v":1},2,null,2]
[{"$f":"IF(Liste_pièces!A176=\"\",\"ZZZ\",Liste_pièces!A176)","v":"CHO13"},{"$f":"IF(Liste_pièces!B176=\"\",\"ZZZ\",Liste_pièces!B176)","v":"CHO"},{"$f":"IF(Liste_pièces!C176=\"\",\"\",Liste_pièces!C176)","v":""},{"$f":"IF(Liste_pièces!D176=\"\",\"\",Liste_pièces!D176)","v":"Equerre_fixation_roue_arrière"},{"$f":"IF(Liste_pièces!E176=\"\",\"\",Liste_pièces!E176)","v":""},{"$f":"IF(Liste_pièces!F176=\"\",\"\",Liste_pièces!F176)","v":"inox 3mm"},{"$f":"IF(Liste_pièces!G176=\"\",\"\",Liste_pièces!G176)","v":"commune gauche/droite"},{"$f":"IF(Liste_pièces!H176=\"\",\"\",Liste_pièces!H176)","v":"assemblage fournisseur"},{"$f":"IF(Liste_pièces!I176=\"\",\"\",Liste_pièces!I176)","v":""},{"$f":"IF(Liste_pièces!J176=\"\",\"\",Liste_pièces!J176)","v":2},{"$f":"IF(Liste_pièces!K176=\"\",\"\",Liste_pièces!K176)","v":2},{"$f":"IF(Liste_pièces!L176=\"\",\"\",Liste_pièces!L176)","v":2},{"$f":"IF(Liste_pièces!M176=\"\",\"\",Liste_pièces!M176)","v":2},2,null,2]
[{"$f":"IF(Liste_pièces!A177=\"\",\"ZZZ\",Liste_pièces!A177)","v":"CHO15"},{"$f":"IF(Liste_pièces!B177=\"\",\"ZZZ\",Liste_pièces!B177)","v":"CHO"},{"$f":"IF(Liste_pièces!C177=\"\",\"\",Liste_pièces!C177)","v":""},{"$f":"IF(Liste_pièces!D177=\"\",\"\",Liste_pièces!D177)","v":"Equerre_fixation_roue_arr_haute"},{"$f":"IF(Liste_pièces!E177=\"\",\"\",Liste_pièces!E177)","v":" "},{"$f":"IF(Liste_pièces!F177=\"\",\"\",Liste_pièces!F177)","v":"inox 2mm"},{"$f":"IF(Liste_pièces!G177=\"\",\"\",Liste_pièces!G177)","v":""},{"$f":"IF(Liste_pièces!H177=\"\",\"\",Liste_pièces!H177)","v":"assemblage fournisseur"},{"$f":"IF(Liste_pièces!I177=\"\",\"\",Liste_pièces!I177)","v":""},{"$f":"IF(Liste_pièces!J177=\"\",\"\",Liste_pièces!J177)","v":2},{"$f":"IF(Liste_pièces!K177=\"\",\"\",Liste_pièces!K177)","v":2},{"$f":"IF(Liste_pièces!L177=\"\",\"\",Liste_pièces!L177)","v":2},{"$f":"IF(Liste_pièces!M177=\"\",\"\",Liste_pièces!M177)","v":2},2,null,2]
[{"$f":"IF(Liste_pièces!A178=\"\",\"ZZZ\",Liste_pièces!A178)","v":"CHO16"},{"$f":"IF(Liste_pièces!B178=\"\",\"ZZZ\",Liste_pièces!B178)","v":"CHO"},{"$f":"IF(Liste_pièces!C178=\"\",\"\",Liste_pièces!C178)","v":""},{"$f":"IF(Liste_pièces!D178=\"\",\"\",Liste_pièces!D178)","v":"Equerre_fixation_roue_arr_renfort"},{"$f":"IF(Liste_pièces!E178=\"\",\"\",Liste_pièces!E178)","v":" "},{"$f":"IF(Liste_pièces!F178=\"\",\"\",Liste_pièces!F178)","v":"inox 2mm"},{"$f":"IF(Liste_pièces!G178=\"\",\"\",Liste_pièces!G178)","v":""},{"$f":"IF(Liste_pièces!H178=\"\",\"\",Liste_pièces!H178)","v":"assemblage fournisseur"},{"$f":"IF(Liste_pièces!I178=\"\",\"\",Liste_pièces!I178)","v":""},{"$f":"IF(Liste_pièces!J178=\"\",\"\",Liste_pièces!J178)","v":2},{"$f":"IF(Liste_pièces!K178=\"\",\"\",Liste_pièces!K178)","v":2},{"$f":"IF(Liste_pièces!L178=\"\",\"\",Liste_pièces!L178)","v":2},{"$f":"IF(Liste_pièces!M178=\"\",\"\",Liste_pièces!M178)","v":2},2,null,2]
[{"$f":"IF(Liste_pièces!A181=\"\",\"ZZZ\",Liste_pièces!A181)","v":"CHO17"},{"$f":"IF(Liste_pièces!B181=\"\",\"ZZZ\",Liste_pièces!B181)","v":"CHO"},{"$f":"IF(Liste_pièces!C181=\"\",\"\",Liste_pièces!C181)","v":""},{"$f":"IF(Liste_pièces!D181=\"\",\"\",Liste_pièces!D181)","v":"Equerre_plate"},{"$f":"IF(Liste_pièces!E181=\"\",\"\",Liste_pièces!E181)","v":" "},{"$f":"IF(Liste_pièces!F181=\"\",\"\",Liste_pièces!F181)","v":"inox 2mm"},{"$f":"IF(Liste_pièces!G181=\"\",\"\",Liste_pièces!G181)","v":""},{"$f":"IF(Liste_pièces!H181=\"\",\"\",Liste_pièces!H181)","v":"assemblage fournisseur"},{"$f":"IF(Liste_pièces!I181=\"\",\"\",Liste_pièces!I181)","v":""},{"$f":"IF(Liste_pièces!J181=\"\",\"\",Liste_pièces!J181)","v":12},{"$f":"IF(Liste_pièces!K181=\"\",\"\",Liste_pièces!K181)","v":12},{"$f":"IF(Liste_pièces!L181=\"\",\"\",Liste_pièces!L181)","v":26},{"$f":"IF(Liste_pièces!M181=\"\",\"\",Liste_pièces!M181)","v":26},2,null,2]
[{"$f":"IF(Liste_pièces!A179=\"\",\"ZZZ\",Liste_pièces!A179)","v":"CHO18"},{"$f":"IF(Liste_pièces!B179=\"\",\"ZZZ\",Liste_pièces!B179)","v":"CHO"},{"$f":"IF(Liste_pièces!C179=\"\",\"\",Liste_pièces!C179)","v":""},{"$f":"IF(Liste_pièces!D179=\"\",\"\",Liste_pièces!D179)","v":"Equerre_nez_haute_droite"},{"$f":"IF(Liste_pièces!E179=\"\",\"\",Liste_pièces!E179)","v":" "},{"$f":"IF(Liste_pièces!F179=\"\",\"\",Liste_pièces!F179)","v":"inox 2mm"},{"$f":"IF(Liste_pièces!G179=\"\",\"\",Liste_pièces!G179)","v":""},{"$f":"IF(Liste_pièces!H179=\"\",\"\",Liste_pièces!H179)","v":"assemblage fournisseur"},{"$f":"IF(Liste_pièces!I179=\"\",\"\",Liste_pièces!I179)","v":""},{"$f":"IF(Liste_pièces!J179=\"\",\"\",Liste_pièces!J179)","v":0},{"$f":"IF(Liste_pièces!K179=\"\",\"\",Liste_pièces!K179)","v":0},{"$f":"IF(Liste_pièces!L179=\"\",\"\",Liste_pièces!L179)","v":1},{"$f":"IF(Liste_pièces!M179=\"\",\"\",Liste_pièces!M179)","v":1},2,null,2]
[{"$f":"IF(Liste_pièces!A180=\"\",\"ZZZ\",Liste_pièces!A180)","v":"CHO19"},{"$f":"IF(Liste_pièces!B180=\"\",\"ZZZ\",Liste_pièces!B180)","v":"CHO"},{"$f":"IF(Liste_pièces!C180=\"\",\"\",Liste_pièces!C180)","v":""},{"$f":"IF(Liste_pièces!D180=\"\",\"\",Liste_pièces!D180)","v":"Equerre_nez_haute_gauche"},{"$f":"IF(Liste_pièces!E180=\"\",\"\",Liste_pièces!E180)","v":" "},{"$f":"IF(Liste_pièces!F180=\"\",\"\",Liste_pièces!F180)","v":"inox 2mm"},{"$f":"IF(Liste_pièces!G180=\"\",\"\",Liste_pièces!G180)","v":""},{"$f":"IF(Liste_pièces!H180=\"\",\"\",Liste_pièces!H180)","v":"assemblage fournisseur"},{"$f":"IF(Liste_pièces!I180=\"\",\"\",Liste_pièces!I180)","v":""},{"$f":"IF(Liste_pièces!J180=\"\",\"\",Liste_pièces!J180)","v":0},{"$f":"IF(Liste_pièces!K180=\"\",\"\",Liste_pièces!K180)","v":0},{"$f":"IF(Liste_pièces!L180=\"\",\"\",Liste_pièces!L180)","v":1},{"$f":"IF(Liste_pièces!M180=\"\",\"\",Liste_pièces!M180)","v":1},2,null,2]
[{"$f":"IF(Liste_pièces!A182=\"\",\"ZZZ\",Liste_pièces!A182)","v":"CHO20"},{"$f":"IF(Liste_pièces!B182=\"\",\"ZZZ\",Liste_pièces!B182)","v":"CHO"},{"$f":"IF(Liste_pièces!C182=\"\",\"\",Liste_pièces!C182)","v":""},{"$f":"IF(Liste_pièces!D182=\"\",\"\",Liste_pièces!D182)","v":"Tôles plateformes latérales"},{"$f":"IF(Liste_pièces!E182=\"\",\"\",Liste_pièces!E182)","v":" "},{"$f":"IF(Liste_pièces!F182=\"\",\"\",Liste_pièces!F182)","v":"alu. larmé 1.5mm"},{"$f":"IF(Liste_pièces!G182=\"\",\"\",Liste_pièces!G182)","v":""},{"$f":"IF(Liste_pièces!H182=\"\",\"\",Liste_pièces!H182)","v":"assemblage fournisseur"},{"$f":"IF(Liste_pièces!I182=\"\",\"\",Liste_pièces!I182)","v":""},{"$f":"IF(Liste_pièces!J182=\"\",\"\",Liste_pièces!J182)","v":0},{"$f":"IF(Liste_pièces!K182=\"\",\"\",Liste_pièces!K182)","v":0},{"$f":"IF(Liste_pièces!L182=\"\",\"\",Liste_pièces!L182)","v":4},{"$f":"IF(Liste_pièces!M182=\"\",\"\",Liste_pièces!M182)","v":4},2,null,2]
[{"$f":"IF(Liste_pièces!A183=\"\",\"ZZZ\",Liste_pièces!A183)","v":"CHO21"},{"$f":"IF(Liste_pièces!B183=\"\",\"ZZZ\",Liste_pièces!B183)","v":"CHO"},{"$f":"IF(Liste_pièces!C183=\"\",\"\",Liste_pièces!C183)","v":""},{"$f":"IF(Liste_pièces!D183=\"\",\"\",Liste_pièces!D183)","v":"Tôle supérieure nez"},{"$f":"IF(Liste_pièces!E183=\"\",\"\",Liste_pièces!E183)","v":" "},{"$f":"IF(Liste_pièces!F183=\"\",\"\",Liste_pièces!F183)","v":"alu. larmé 1.5mm"},{"$f":"IF(Liste_pièces!G183=\"\",\"\",Liste_pièces!G183)","v":""},{"$f":"IF(Liste_pièces!H183=\"\",\"\",Liste_pièces!H183)","v":"assemblage fournisseur"},{"$f":"IF(Liste_pièces!I183=\"\",\"\",Liste_pièces!I183)","v":""},{"$f":"IF(Liste_pièces!J183=\"\",\"\",Liste_pièces!J183)","v":0},{"$f":"IF(Liste_pièces!K183=\"\",\"\",Liste_pièces!K183)","v":0},{"$f":"IF(Liste_pièces!L183=\"\",\"\",Liste_pièces!L183)","v":1},{"$f":"IF(Liste_pièces!M183=\"\",\"\",Liste_pièces!M183)","v":1},2,null,2]
[{"$f":"IF(Liste_pièces!A184=\"\",\"ZZZ\",Liste_pièces!A184)","v":"CHO23"},{"$f":"IF(Liste_pièces!B184=\"\",\"ZZZ\",Liste_pièces!B184)","v":"CHO"},{"$f":"IF(Liste_pièces!C184=\"\",\"\",Liste_pièces!C184)","v":""},{"$f":"IF(Liste_pièces!D184=\"\",\"\",Liste_pièces!D184)","v":"Tôle supérieure coffre central"},{"$f":"IF(Liste_pièces!E184=\"\",\"\",Liste_pièces!E184)","v":" "},{"$f":"IF(Liste_pièces!F184=\"\",\"\",Liste_pièces!F184)","v":"alu. 1mm"},{"$f":"IF(Liste_pièces!G184=\"\",\"\",Liste_pièces!G184)","v":""},{"$f":"IF(Liste_pièces!H184=\"\",\"\",Liste_pièces!H184)","v":"assemblage fournisseur"},{"$f":"IF(Liste_pièces!I184=\"\",\"\",Liste_pièces!I184)","v":""},{"$f":"IF(Liste_pièces!J184=\"\",\"\",Liste_pièces!J184)","v":0},{"$f":"IF(Liste_pièces!K184=\"\",\"\",Liste_pièces!K184)","v":0},{"$f":"IF(Liste_pièces!L184=\"\",\"\",Liste_pièces!L184)","v":1},{"$f":"IF(Liste_pièces!M184=\"\",\"\",Liste_pièces!M184)","v":1},2,null,2]
[{"$f":"IF(Liste_pièces!A37=\"\",\"ZZZ\",Liste_pièces!A37)","v":"CHO24"},{"$f":"IF(Liste_pièces!B37=\"\",\"ZZZ\",Liste_pièces!B37)","v":"CHO"},{"$f":"IF(Liste_pièces!C37=\"\",\"\",Liste_pièces!C37)","v":""},{"$f":"IF(Liste_pièces!D37=\"\",\"\",Liste_pièces!D37)","v":"support batteries"},{"$f":"IF(Liste_pièces!E37=\"\",\"\",Liste_pièces!E37)","v":" "},{"$f":"IF(Liste_pièces!F37=\"\",\"\",Liste_pièces!F37)","v":"inox 2mm"},{"$f":"IF(Liste_pièces!G37=\"\",\"\",Liste_pièces!G37)","v":""},{"$f":"IF(Liste_pièces!H37=\"\",\"\",Liste_pièces!H37)","v":"assemblage fournisseur"},{"$f":"IF(Liste_pièces!I37=\"\",\"\",Liste_pièces!I37)","v":""},{"$f":"IF(Liste_pièces!J37=\"\",\"\",Liste_pièces!J37)","v":0},{"$f":"IF(Liste_pièces!K37=\"\",\"\",Liste_pièces!K37)","v":1},{"$f":"IF(Liste_pièces!L37=\"\",\"\",Liste_pièces!L37)","v":1},{"$f":"IF(Liste_pièces!M37=\"\",\"\",Liste_pièces!M37)","v":1},2,null,2]
[{"$f":"IF(Liste_pièces!A185=\"\",\"ZZZ\",Liste_pièces!A185)","v":"CHO25"},{"$f":"IF(Liste_pièces!B185=\"\",\"ZZZ\",Liste_pièces!B185)","v":"CHO"},{"$f":"IF(Liste_pièces!C185=\"\",\"\",Liste_pièces!C185)","v":""},{"$f":"IF(Liste_pièces!D185=\"\",\"\",Liste_pièces!D185)","v":"Tôle supérieure porte bagage"},{"$f":"IF(Liste_pièces!E185=\"\",\"\",Liste_pièces!E185)","v":" "},{"$f":"IF(Liste_pièces!F185=\"\",\"\",Liste_pièces!F185)","v":"alu. 1mm"},{"$f":"IF(Liste_pièces!G185=\"\",\"\",Liste_pièces!G185)","v":""},{"$f":"IF(Liste_pièces!H185=\"\",\"\",Liste_pièces!H185)","v":"assemblage fournisseur"},{"$f":"IF(Liste_pièces!I185=\"\",\"\",Liste_pièces!I185)","v":""},{"$f":"IF(Liste_pièces!J185=\"\",\"\",Liste_pièces!J185)","v":1},{"$f":"IF(Liste_pièces!K185=\"\",\"\",Liste_pièces!K185)","v":1},{"$f":"IF(Liste_pièces!L185=\"\",\"\",Liste_pièces!L185)","v":1},{"$f":"IF(Liste_pièces!M185=\"\",\"\",Liste_pièces!M185)","v":1},2,null,2]
[{"$f":"IF(Liste_pièces!A186=\"\",\"ZZZ\",Liste_pièces!A186)","v":"CHO26"},{"$f":"IF(Liste_pièces!B186=\"\",\"ZZZ\",Liste_pièces!B186)","v":"CHO"},{"$f":"IF(Liste_pièces!C186=\"\",\"\",Liste_pièces!C186)","v":""},{"$f":"IF(Liste_pièces!D186=\"\",\"\",Liste_pièces!D186)","v":"Garde boue arrière"},{"$f":"IF(Liste_pièces!E186=\"\",\"\",Liste_pièces!E186)","v":" "},{"$f":"IF(Liste_pièces!F186=\"\",\"\",Liste_pièces!F186)","v":"alu. 1mm"},{"$f":"IF(Liste_pièces!G186=\"\",\"\",Liste_pièces!G186)","v":""},{"$f":"IF(Liste_pièces!H186=\"\",\"\",Liste_pièces!H186)","v":"assemblage fournisseur"},{"$f":"IF(Liste_pièces!I186=\"\",\"\",Liste_pièces!I186)","v":""},{"$f":"IF(Liste_pièces!J186=\"\",\"\",Liste_pièces!J186)","v":1},{"$f":"IF(Liste_pièces!K186=\"\",\"\",Liste_pièces!K186)","v":1},{"$f":"IF(Liste_pièces!L186=\"\",\"\",Liste_pièces!L186)","v":1},{"$f":"IF(Liste_pièces!M186=\"\",\"\",Liste_pièces!M186)","v":1},2,null,2]
[{"$f":"IF(Liste_pièces!A187=\"\",\"ZZZ\",Liste_pièces!A187)","v":"CHO30"},{"$f":"IF(Liste_pièces!B187=\"\",\"ZZZ\",Liste_pièces!B187)","v":"CHO"},{"$f":"IF(Liste_pièces!C187=\"\",\"\",Liste_pièces!C187)","v":""},{"$f":"IF(Liste_pièces!D187=\"\",\"\",Liste_pièces!D187)","v":"Glissière avant"},{"$f":"IF(Liste_pièces!E187=\"\",\"\",Liste_pièces!E187)","v":"longueur 1,160m"},{"$f":"IF(Liste_pièces!F187=\"\",\"\",Liste_pièces!F187)","v":"inox 1.5mm"},{"$f":"IF(Liste_pièces!G187=\"\",\"\",Liste_pièces!G187)","v":"commune gauche/droite"},{"$f":"IF(Liste_pièces!H187=\"\",\"\",Liste_pièces!H187)","v":"assemblage fournisseur"},{"$f":"IF(Liste_pièces!I187=\"\",\"\",Liste_pièces!I187)","v":""},{"$f":"IF(Liste_pièces!J187=\"\",\"\",Liste_pièces!J187)","v":0},{"$f":"IF(Liste_pièces!K187=\"\",\"\",Liste_pièces!K187)","v":2},{"$f":"IF(Liste_pièces!L187=\"\",\"\",Liste_pièces!L187)","v":2},{"$f":"IF(Liste_pièces!M187=\"\",\"\",Liste_pièces!M187)","v":2},2,null,2]
[{"$f":"IF(Liste_pièces!A188=\"\",\"ZZZ\",Liste_pièces!A188)","v":"CHO32"},{"$f":"IF(Liste_pièces!B188=\"\",\"ZZZ\",Liste_pièces!B188)","v":"CHO"},{"$f":"IF(Liste_pièces!C188=\"\",\"\",Liste_pièces!C188)","v":""},{"$f":"IF(Liste_pièces!D188=\"\",\"\",Liste_pièces!D188)","v":"Glissière arrière"},{"$f":"IF(Liste_pièces!E188=\"\",\"\",Liste_pièces!E188)","v":"longueur 0,362m"},{"$f":"IF(Liste_pièces!F188=\"\",\"\",Liste_pièces!F188)","v":"inox 1.5mm"},{"$f":"IF(Liste_pièces!G188=\"\",\"\",Liste_pièces!G188)","v":"commune gauche/droite"},{"$f":"IF(Liste_pièces!H188=\"\",\"\",Liste_pièces!H188)","v":"assemblage fournisseur"},{"$f":"IF(Liste_pièces!I188=\"\",\"\",Liste_pièces!I188)","v":""},{"$f":"IF(Liste_pièces!J188=\"\",\"\",Liste_pièces!J188)","v":0},{"$f":"IF(Liste_pièces!K188=\"\",\"\",Liste_pièces!K188)","v":0},{"$f":"IF(Liste_pièces!L188=\"\",\"\",Liste_pièces!L188)","v":2},{"$f":"IF(Liste_pièces!M188=\"\",\"\",Liste_pièces!M188)","v":2},2,null,2]
[{"$f":"IF(Liste_pièces!A77=\"\",\"ZZZ\",Liste_pièces!A77)","v":"CHO34"},{"$f":"IF(Liste_pièces!B77=\"\",\"ZZZ\",Liste_pièces!B77)","v":"CHO"},{"$f":"IF(Liste_pièces!C77=\"\",\"\",Liste_pièces!C77)","v":""},{"$f":"IF(Liste_pièces!D77=\"\",\"\",Liste_pièces!D77)","v":"support frein à disque"},{"$f":"IF(Liste_pièces!E77=\"\",\"\",Liste_pièces!E77)","v":" "},{"$f":"IF(Liste_pièces!F77=\"\",\"\",Liste_pièces!F77)","v":"alu. 10mm"},{"$f":"IF(Liste_pièces!G77=\"\",\"\",Liste_pièces!G77)","v":""},{"$f":"IF(Liste_pièces!H77=\"\",\"\",Liste_pièces!H77)","v":"assemblage fournisseur"},{"$f":"IF(Liste_pièces!I77=\"\",\"\",Liste_pièces!I77)","v":""},{"$f":"IF(Liste_pièces!J77=\"\",\"\",Liste_pièces!J77)","v":3},{"$f":"IF(Liste_pièces!K77=\"\",\"\",Liste_pièces!K77)","v":3},{"$f":"IF(Liste_pièces!L77=\"\",\"\",Liste_pièces!L77)","v":3},{"$f":"IF(Liste_pièces!M77=\"\",\"\",Liste_pièces!M77)","v":3},2,null,2]
[{"$f":"IF(Liste_pièces!A189=\"\",\"ZZZ\",Liste_pièces!A189)","v":"CHO35"},{"$f":"IF(Liste_pièces!B189=\"\",\"ZZZ\",Liste_pièces!B189)","v":"CHO"},{"$f":"IF(Liste_pièces!C189=\"\",\"\",Liste_pièces!C189)","v":""},{"$f":"IF(Liste_pièces!D189=\"\",\"\",Liste_pièces!D189)","v":"Arceau avant"},{"$f":"IF(Liste_pièces!E189=\"\",\"\",Liste_pièces!E189)","v":"Tube cintré rayon 750mm, longueur environ 1135m"},{"$f":"IF(Liste_pièces!F189=\"\",\"\",Liste_pièces!F189)","v":"alu. 2mm (profilé 25x25)"},{"$f":"IF(Liste_pièces!G189=\"\",\"\",Liste_pièces!G189)","v":""},{"$f":"IF(Liste_pièces!H189=\"\",\"\",Liste_pièces!H189)","v":"assemblage fournisseur"},{"$f":"IF(Liste_pièces!I189=\"\",\"\",Liste_pièces!I189)","v":""},{"$f":"IF(Liste_pièces!J189=\"\",\"\",Liste_pièces!J189)","v":0},{"$f":"IF(Liste_pièces!K189=\"\",\"\",Liste_pièces!K189)","v":0},{"$f":"IF(Liste_pièces!L189=\"\",\"\",Liste_pièces!L189)","v":2},{"$f":"IF(Liste_pièces!M189=\"\",\"\",Liste_pièces!M189)","v":2},2,null,2]
[{"$f":"IF(Liste_pièces!A39=\"\",\"ZZZ\",Liste_pièces!A39)","v":"CHO38"},{"$f":"IF(Liste_pièces!B39=\"\",\"ZZZ\",Liste_pièces!B39)","v":"CHO"},{"$f":"IF(Liste_pièces!C39=\"\",\"\",Liste_pièces!C39)","v":""},{"$f":"IF(Liste_pièces!D39=\"\",\"\",Liste_pièces!D39)","v":"tube boitier de pédalier"},{"$f":"IF(Liste_pièces!E39=\"\",\"\",Liste_pièces!E39)","v":"Permet de fixer le boitier de pédalier TSM13 (sans moteur) au cadre"},{"$f":"IF(Liste_pièces!F39=\"\",\"\",Liste_pièces!F39)","v":"inox 2mm"},{"$f":"IF(Liste_pièces!G39=\"\",\"\",Liste_pièces!G39)","v":""},{"$f":"IF(Liste_pièces!H39=\"\",\"\",Liste_pièces!H39)","v":"assemblage fournisseur"},{"$f":"IF(Liste_pièces!I39=\"\",\"\",Liste_pièces!I39)","v":""},{"$f":"IF(Liste_pièces!J39=\"\",\"\",Liste_pièces!J39)","v":1},{"$f":"IF(Liste_pièces!K39=\"\",\"\",Liste_pièces!K39)","v":0},{"$f":"IF(Liste_pièces!L39=\"\",\"\",Liste_pièces!L39)","v":0},{"$f":"IF(Liste_pièces!M39=\"\",\"\",Liste_pièces!M39)","v":0},2,null,2]
[{"$f":"IF(Liste_pièces!A78=\"\",\"ZZZ\",Liste_pièces!A78)","v":"CHO39"},{"$f":"IF(Liste_pièces!B78=\"\",\"ZZZ\",Liste_pièces!B78)","v":"CHO"},{"$f":"IF(Liste_pièces!C78=\"\",\"\",Liste_pièces!C78)","v":""},{"$f":"IF(Liste_pièces!D78=\"\",\"\",Liste_pièces!D78)","v":"support boitier électrique"},{"$f":"IF(Liste_pièces!E78=\"\",\"\",Liste_pièces!E78)","v":""},{"$f":"IF(Liste_pièces!F78=\"\",\"\",Liste_pièces!F78)","v":"alu. 1.5mm"},{"$f":"IF(Liste_pièces!G78=\"\",\"\",Liste_pièces!G78)","v":""},{"$f":"IF(Liste_pièces!H78=\"\",\"\",Liste_pièces!H78)","v":"assemblage fournisseur"},{"$f":"IF(Liste_pièces!I78=\"\",\"\",Liste_pièces!I78)","v":""},{"$f":"IF(Liste_pièces!J78=\"\",\"\",Liste_pièces!J78)","v":0},{"$f":"IF(Liste_pièces!K78=\"\",\"\",Liste_pièces!K78)","v":0},{"$f":"IF(Liste_pièces!L78=\"\",\"\",Liste_pièces!L78)","v":0},{"$f":"IF(Liste_pièces!M78=\"\",\"\",Liste_pièces!M78)","v":2},2,null,2]
[{"$f":"IF(Liste_pièces!A190=\"\",\"ZZZ\",Liste_pièces!A190)","v":"CHO40"},{"$f":"IF(Liste_pièces!B190=\"\",\"ZZZ\",Liste_pièces!B190)","v":"CHO"},{"$f":"IF(Liste_pièces!C190=\"\",\"\",Liste_pièces!C190)","v":""},{"$f":"IF(Liste_pièces!D190=\"\",\"\",Liste_pièces!D190)","v":"Garde boue avant droit"},{"$f":"IF(Liste_pièces!E190=\"\",\"\",Liste_pièces!E190)","v":""},{"$f":"IF(Liste_pièces!F190=\"\",\"\",Liste_pièces!F190)","v":"alu. larmé 1.5mm (à cintrer au montage)"},{"$f":"IF(Liste_pièces!G190=\"\",\"\",Liste_pièces!G190)","v":""},{"$f":"IF(Liste_pièces!H190=\"\",\"\",Liste_pièces!H190)","v":"assemblage fournisseur"},{"$f":"IF(Liste_pièces!I190=\"\",\"\",Liste_pièces!I190)","v":""},{"$f":"IF(Liste_pièces!J190=\"\",\"\",Liste_pièces!J190)","v":0},{"$f":"IF(Liste_pièces!K190=\"\",\"\",Liste_pièces!K190)","v":0},{"$f":"IF(Liste_pièces!L190=\"\",\"\",Liste_pièces!L190)","v":1},{"$f":"IF(Liste_pièces!M190=\"\",\"\",Liste_pièces!M190)","v":1},2,{"$f":"IF(N41*37=SUM(N4:N40),1+MAX($O$4:O40),0)","v":0},2]
[{"$f":"IF(Liste_pièces!A191=\"\",\"ZZZ\",Liste_pièces!A191)","v":"CHO41"},{"$f":"IF(Liste_pièces!B191=\"\",\"ZZZ\",Liste_pièces!B191)","v":"CHO"},{"$f":"IF(Liste_pièces!C191=\"\",\"\",Liste_pièces!C191)","v":""},{"$f":"IF(Liste_pièces!D191=\"\",\"\",Liste_pièces!D191)","v":"Garde boue avant gauche"},{"$f":"IF(Liste_pièces!E191=\"\",\"\",Liste_pièces!E191)","v":""},{"$f":"IF(Liste_pièces!F191=\"\",\"\",Liste_pièces!F191)","v":"alu. larmé 1.5mm (à cintrer au montage)"},{"$f":"IF(Liste_pièces!G191=\"\",\"\",Liste_pièces!G191)","v":""},{"$f":"IF(Liste_pièces!H191=\"\",\"\",Liste_pièces!H191)","v":"assemblage fournisseur"},{"$f":"IF(Liste_pièces!I191=\"\",\"\",Liste_pièces!I191)","v":""},{"$f":"IF(Liste_pièces!J191=\"\",\"\",Liste_pièces!J191)","v":0},{"$f":"IF(Liste_pièces!K191=\"\",\"\",Liste_pièces!K191)","v":0},{"$f":"IF(Liste_pièces!L191=\"\",\"\",Liste_pièces!L191)","v":1},{"$f":"IF(Liste_pièces!M191=\"\",\"\",Liste_pièces!M191)","v":1},2,{"$f":"IF(N42*37=SUM(N5:N41),1,0)","v":0},2]
[{"$f":"IF(Liste_pièces!A192=\"\",\"ZZZ\",Liste_pièces!A192)","v":"CHO42"},{"$f":"IF(Liste_pièces!B192=\"\",\"ZZZ\",Liste_pièces!B192)","v":"CHO"},{"$f":"IF(Liste_pièces!C192=\"\",\"\",Liste_pièces!C192)","v":""},{"$f":"IF(Liste_pièces!D192=\"\",\"\",Liste_pièces!D192)","v":"Tôle pare boue avant droite"},{"$f":"IF(Liste_pièces!E192=\"\",\"\",Liste_pièces!E192)","v":""},{"$f":"IF(Liste_pièces!F192=\"\",\"\",Liste_pièces!F192)","v":"alu. larmé 1.5mm"},{"$f":"IF(Liste_pièces!G192=\"\",\"\",Liste_pièces!G192)","v":""},{"$f":"IF(Liste_pièces!H192=\"\",\"\",Liste_pièces!H192)","v":"assemblage fournisseur"},{"$f":"IF(Liste_pièces!I192=\"\",\"\",Liste_pièces!I192)","v":""},{"$f":"IF(Liste_pièces!J192=\"\",\"\",Liste_pièces!J192)","v":0},{"$f":"IF(Liste_pièces!K192=\"\",\"\",Liste_pièces!K192)","v":0},{"$f":"IF(Liste_pièces!L192=\"\",\"\",Liste_pièces!L192)","v":1},{"$f":"IF(Liste_pièces!M192=\"\",\"\",Liste_pièces!M192)","v":1},2,0,2]
[{"$f":"IF(Liste_pièces!A193=\"\",\"ZZZ\",Liste_pièces!A193)","v":"CHO43"},{"$f":"IF(Liste_pièces!B193=\"\",\"ZZZ\",Liste_pièces!B193)","v":"CHO"},{"$f":"IF(Liste_pièces!C193=\"\",\"\",Liste_pièces!C193)","v":""},{"$f":"IF(Liste_pièces!D193=\"\",\"\",Liste_pièces!D193)","v":"Tôle pare boue avant gauche"},{"$f":"IF(Liste_pièces!E193=\"\",\"\",Liste_pièces!E193)","v":""},{"$f":"IF(Liste_pièces!F193=\"\",\"\",Liste_pièces!F193)","v":"alu. larmé 1.5mm"},{"$f":"IF(Liste_pièces!G193=\"\",\"\",Liste_pièces!G193)","v":""},{"$f":"IF(Liste_pièces!H193=\"\",\"\",Liste_pièces!H193)","v":"assemblage fournisseur"},{"$f":"IF(Liste_pièces!I193=\"\",\"\",Liste_pièces!I193)","v":""},{"$f":"IF(Liste_pièces!J193=\"\",\"\",Liste_pièces!J193)","v":0},{"$f":"IF(Liste_pièces!K193=\"\",\"\",Liste_pièces!K193)","v":0},{"$f":"IF(Liste_pièces!L193=\"\",\"\",Liste_pièces!L193)","v":1},{"$f":"IF(Liste_pièces!M193=\"\",\"\",Liste_pièces!M193)","v":1},2,0,2]
[{"$f":"IF(Liste_pièces!A171=\"\",\"ZZZ\",Liste_pièces!A171)","v":"CHO44"},{"$f":"IF(Liste_pièces!B171=\"\",\"ZZZ\",Liste_pièces!B171)","v":"CHO"},{"$f":"IF(Liste_pièces!C171=\"\",\"\",Liste_pièces!C171)","v":""},{"$f":"IF(Liste_pièces!D171=\"\",\"\",Liste_pièces!D171)","v":"Potence"},{"$f":"IF(Liste_pièces!E171=\"\",\"\",Liste_pièces!E171)","v":"Inclus 2 roulement à billes M12 et axe M12"},{"$f":"IF(Liste_pièces!F171=\"\",\"\",Liste_pièces!F171)","v":"inox 2.5mm (profilé 50x25mm)"},{"$f":"IF(Liste_pièces!G171=\"\",\"\",Liste_pièces!G171)","v":""},{"$f":"IF(Liste_pièces!H171=\"\",\"\",Liste_pièces!H171)","v":"assemblage fournisseur"},{"$f":"IF(Liste_pièces!I171=\"\",\"\",Liste_pièces!I171)","v":""},{"$f":"IF(Liste_pièces!J171=\"\",\"\",Liste_pièces!J171)","v":1},{"$f":"IF(Liste_pièces!K171=\"\",\"\",Liste_pièces!K171)","v":1},{"$f":"IF(Liste_pièces!L171=\"\",\"\",Liste_pièces!L171)","v":1},{"$f":"IF(Liste_pièces!M171=\"\",\"\",Liste_pièces!M171)","v":1},2,0,2]
[{"$f":"IF(Liste_pièces!A172=\"\",\"ZZZ\",Liste_pièces!A172)","v":"CHO45"},{"$f":"IF(Liste_pièces!B172=\"\",\"ZZZ\",Liste_pièces!B172)","v":"CHO"},{"$f":"IF(Liste_pièces!C172=\"\",\"\",Liste_pièces!C172)","v":""},{"$f":"IF(Liste_pièces!D172=\"\",\"\",Liste_pièces!D172)","v":"Tôle_traverse_potence"},{"$f":"IF(Liste_pièces!E172=\"\",\"\",Liste_pièces!E172)","v":" "},{"$f":"IF(Liste_pièces!F172=\"\",\"\",Liste_pièces!F172)","v":"inox 2mm"},{"$f":"IF(Liste_pièces!G172=\"\",\"\",Liste_pièces!G172)","v":""},{"$f":"IF(Liste_pièces!H172=\"\",\"\",Liste_pièces!H172)","v":"assemblage fournisseur"},{"$f":"IF(Liste_pièces!I172=\"\",\"\",Liste_pièces!I172)","v":""},{"$f":"IF(Liste_pièces!J172=\"\",\"\",Liste_pièces!J172)","v":1},{"$f":"IF(Liste_pièces!K172=\"\",\"\",Liste_pièces!K172)","v":1},{"$f":"IF(Liste_pièces!L172=\"\",\"\",Liste_pièces!L172)","v":1},{"$f":"IF(Liste_pièces!M172=\"\",\"\",Liste_pièces!M172)","v":1},2,0,2]
[{"$f":"IF(Liste_pièces!A173=\"\",\"ZZZ\",Liste_pièces!A173)","v":"CHO46"},{"$f":"IF(Liste_pièces!B173=\"\",\"ZZZ\",Liste_pièces!B173)","v":"CHO"},{"$f":"IF(Liste_pièces!C173=\"\",\"\",Liste_pièces!C173)","v":""},{"$f":"IF(Liste_pièces!D173=\"\",\"\",Liste_pièces!D173)","v":"Triangle_potence"},{"$f":"IF(Liste_pièces!E173=\"\",\"\",Liste_pièces!E173)","v":" "},{"$f":"IF(Liste_pièces!F173=\"\",\"\",Liste_pièces!F173)","v":"inox 2mm"},{"$f":"IF(Liste_pièces!G173=\"\",\"\",Liste_pièces!G173)","v":""},{"$f":"IF(Liste_pièces!H173=\"\",\"\",Liste_pièces!H173)","v":"assemblage fournisseur"},{"$f":"IF(Liste_pièces!I173=\"\",\"\",Liste_pièces!I173)","v":""},{"$f":"IF(Liste_pièces!J173=\"\",\"\",Liste_pièces!J173)","v":2},{"$f":"IF(Liste_pièces!K173=\"\",\"\",Liste_pièces!K173)","v":2},{"$f":"IF(Liste_pièces!L173=\"\",\"\",Liste_pièces!L173)","v":2},{"$f":"IF(Liste_pièces!M173=\"\",\"\",Liste_pièces!M173)","v":2},2,0,2]
[{"$f":"IF(Liste_pièces!A194=\"\",\"ZZZ\",Liste_pièces!A194)","v":"CHO47"},{"$f":"IF(Liste_pièces!B194=\"\",\"ZZZ\",Liste_pièces!B194)","v":"CHO"},{"$f":"IF(Liste_pièces!C194=\"\",\"\",Liste_pièces!C194)","v":""},{"$f":"IF(Liste_pièces!D194=\"\",\"\",Liste_pièces!D194)","v":"Bras roue avant"},{"$f":"IF(Liste_pièces!E194=\"\",\"\",Liste_pièces!E194)","v":"Inclus 2 roulement à billes M12 et axe M12, trou pour axe de roue 14,8mm"},{"$f":"IF(Liste_pièces!F194=\"\",\"\",Liste_pièces!F194)","v":"inox 2mm (profilé 30x30mm)"},{"$f":"IF(Liste_pièces!G194=\"\",\"\",Liste_pièces!G194)","v":""},{"$f":"IF(Liste_pièces!H194=\"\",\"\",Liste_pièces!H194)","v":"assemblage fournisseur"},{"$f":"IF(Liste_pièces!I194=\"\",\"\",Liste_pièces!I194)","v":""},{"$f":"IF(Liste_pièces!J194=\"\",\"\",Liste_pièces!J194)","v":2},{"$f":"IF(Liste_pièces!K194=\"\",\"\",Liste_pièces!K194)","v":2},{"$f":"IF(Liste_pièces!L194=\"\",\"\",Liste_pièces!L194)","v":2},{"$f":"IF(Liste_pièces!M194=\"\",\"\",Liste_pièces!M194)","v":2},2,0,2]
[{"$f":"IF(Liste_pièces!A197=\"\",\"ZZZ\",Liste_pièces!A197)","v":"CHO49"},{"$f":"IF(Liste_pièces!B197=\"\",\"ZZZ\",Liste_pièces!B197)","v":"CHO"},{"$f":"IF(Liste_pièces!C197=\"\",\"\",Liste_pièces!C197)","v":""},{"$f":"IF(Liste_pièces!D197=\"\",\"\",Liste_pièces!D197)","v":"Rondelle ép. 3mm, Dint. 6,5mm, Dext. 25mm"},{"$f":"IF(Liste_pièces!E197=\"\",\"\",Liste_pièces!E197)","v":""},{"$f":"IF(Liste_pièces!F197=\"\",\"\",Liste_pièces!F197)","v":"inox 3mm"},{"$f":"IF(Liste_pièces!G197=\"\",\"\",Liste_pièces!G197)","v":""},{"$f":"IF(Liste_pièces!H197=\"\",\"\",Liste_pièces!H197)","v":"assemblage fournisseur"},{"$f":"IF(Liste_pièces!I197=\"\",\"\",Liste_pièces!I197)","v":""},{"$f":"IF(Liste_pièces!J197=\"\",\"\",Liste_pièces!J197)","v":3},{"$f":"IF(Liste_pièces!K197=\"\",\"\",Liste_pièces!K197)","v":3},{"$f":"IF(Liste_pièces!L197=\"\",\"\",Liste_pièces!L197)","v":3},{"$f":"IF(Liste_pièces!M197=\"\",\"\",Liste_pièces!M197)","v":3},2,0,2]
[{"$f":"IF(Liste_pièces!A198=\"\",\"ZZZ\",Liste_pièces!A198)","v":"CHO50"},{"$f":"IF(Liste_pièces!B198=\"\",\"ZZZ\",Liste_pièces!B198)","v":"CHO"},{"$f":"IF(Liste_pièces!C198=\"\",\"\",Liste_pièces!C198)","v":""},{"$f":"IF(Liste_pièces!D198=\"\",\"\",Liste_pièces!D198)","v":"Cale ovale ép. 3mm"},{"$f":"IF(Liste_pièces!E198=\"\",\"\",Liste_pièces!E198)","v":"Rondelle double, entraxe 25mm"},{"$f":"IF(Liste_pièces!F198=\"\",\"\",Liste_pièces!F198)","v":"inox 3mm"},{"$f":"IF(Liste_pièces!G198=\"\",\"\",Liste_pièces!G198)","v":""},{"$f":"IF(Liste_pièces!H198=\"\",\"\",Liste_pièces!H198)","v":"assemblage fournisseur"},{"$f":"IF(Liste_pièces!I198=\"\",\"\",Liste_pièces!I198)","v":""},{"$f":"IF(Liste_pièces!J198=\"\",\"\",Liste_pièces!J198)","v":4},{"$f":"IF(Liste_pièces!K198=\"\",\"\",Liste_pièces!K198)","v":4},{"$f":"IF(Liste_pièces!L198=\"\",\"\",Liste_pièces!L198)","v":4},{"$f":"IF(Liste_pièces!M198=\"\",\"\",Liste_pièces!M198)","v":4},2,0,2]
[{"$f":"IF(Liste_pièces!A199=\"\",\"ZZZ\",Liste_pièces!A199)","v":"CHO52"},{"$f":"IF(Liste_pièces!B199=\"\",\"ZZZ\",Liste_pièces!B199)","v":"CHO"},{"$f":"IF(Liste_pièces!C199=\"\",\"\",Liste_pièces!C199)","v":""},{"$f":"IF(Liste_pièces!D199=\"\",\"\",Liste_pièces!D199)","v":"Plats de supports vides-poches avant"},{"$f":"IF(Liste_pièces!E199=\"\",\"\",Liste_pièces!E199)","v":"Plat alu 25x2"},{"$f":"IF(Liste_pièces!F199=\"\",\"\",Liste_pièces!F199)","v":"alu. 2mm"},{"$f":"IF(Liste_pièces!G199=\"\",\"\",Liste_pièces!G199)","v":""},{"$f":"IF(Liste_pièces!H199=\"\",\"\",Liste_pièces!H199)","v":"assemblage fournisseur"},{"$f":"IF(Liste_pièces!I199=\"\",\"\",Liste_pièces!I199)","v":""},{"$f":"IF(Liste_pièces!J199=\"\",\"\",Liste_pièces!J199)","v":0},{"$f":"IF(Liste_pièces!K199=\"\",\"\",Liste_pièces!K199)","v":0},{"$f":"IF(Liste_pièces!L199=\"\",\"\",Liste_pièces!L199)","v":2},{"$f":"IF(Liste_pièces!M199=\"\",\"\",Liste_pièces!M199)","v":2},2,1,3]
[{"$f":"IF(Liste_pièces!A200=\"\",\"ZZZ\",Liste_pièces!A200)","v":"CHO53"},{"$f":"IF(Liste_pièces!B200=\"\",\"ZZZ\",Liste_pièces!B200)","v":"CHO"},{"$f":"IF(Liste_pièces!C200=\"\",\"\",Liste_pièces!C200)","v":""},{"$f":"IF(Liste_pièces!D200=\"\",\"\",Liste_pièces!D200)","v":"Vis axes roues avant"},{"$f":"IF(Liste_pièces!E200=\"\",\"\",Liste_pièces!E200)","v":"vis spéciale pour fixer les moyeux avant thru-axle 15mm"},{"$f":"IF(Liste_pièces!F200=\"\",\"\",Liste_pièces!F200)","v":"inox ø15mm"},{"$f":"IF(Liste_pièces!G200=\"\",\"\",Liste_pièces!G200)","v":""},{"$f":"IF(Liste_pièces!H200=\"\",\"\",Liste_pièces!H200)","v":"assemblage fournisseur"},{"$f":"IF(Liste_pièces!I200=\"\",\"\",Liste_pièces!I200)","v":""},{"$f":"IF(Liste_pièces!J200=\"\",\"\",Liste_pièces!J200)","v":2},{"$f":"IF(Liste_pièces!K200=\"\",\"\",Liste_pièces!K200)","v":2},{"$f":"IF(Liste_pièces!L200=\"\",\"\",Liste_pièces!L200)","v":2},{"$f":"IF(Liste_pièces!M200=\"\",\"\",Liste_pièces!M200)","v":2},2,1,3]
[{"$f":"IF(Liste_pièces!A38=\"\",\"ZZZ\",Liste_pièces!A38)","v":"CHO54"},{"$f":"IF(Liste_pièces!B38=\"\",\"ZZZ\",Liste_pièces!B38)","v":"CHO"},{"$f":"IF(Liste_pièces!C38=\"\",\"\",Liste_pièces!C38)","v":""},{"$f":"IF(Liste_pièces!D38=\"\",\"\",Liste_pièces!D38)","v":"embase universelle glissière"},{"$f":"IF(Liste_pièces!E38=\"\",\"\",Liste_pièces!E38)","v":""},{"$f":"IF(Liste_pièces!F38=\"\",\"\",Liste_pièces!F38)","v":"inox 3mm"},{"$f":"IF(Liste_pièces!G38=\"\",\"\",Liste_pièces!G38)","v":""},{"$f":"IF(Liste_pièces!H38=\"\",\"\",Liste_pièces!H38)","v":"achat"},{"$f":"IF(Liste_pièces!I38=\"\",\"\",Liste_pièces!I38)","v":""},{"$f":"IF(Liste_pièces!J38=\"\",\"\",Liste_pièces!J38)","v":0},{"$f":"IF(Liste_pièces!K38=\"\",\"\",Liste_pièces!K38)","v":2},{"$f":"IF(Liste_pièces!L38=\"\",\"\",Liste_pièces!L38)","v":2},{"$f":"IF(Liste_pièces!M38=\"\",\"\",Liste_pièces!M38)","v":2},2,1,3]
[{"$f":"IF(Liste_pièces!A163=\"\",\"ZZZ\",Liste_pièces!A163)","v":"CHO55"},{"$f":"IF(Liste_pièces!B163=\"\",\"ZZZ\",Liste_pièces!B163)","v":"CHO"},{"$f":"IF(Liste_pièces!C163=\"\",\"\",Liste_pièces!C163)","v":"siège adulte"},{"$f":"IF(Liste_pièces!D163=\"\",\"\",Liste_pièces!D163)","v":"Tubes siège adulte - assise"},{"$f":"IF(Liste_pièces!E163=\"\",\"\",Liste_pièces!E163)","v":"Assise"},{"$f":"IF(Liste_pièces!F163=\"\",\"\",Liste_pièces!F163)","v":"inox 1mm (tubes ø22mm)"},{"$f":"IF(Liste_pièces!G163=\"\",\"\",Liste_pièces!G163)","v":""},{"$f":"IF(Liste_pièces!H163=\"\",\"\",Liste_pièces!H163)","v":"assemblage fournisseur"},{"$f":"IF(Liste_pièces!I163=\"\",\"\",Liste_pièces!I163)","v":""},{"$f":"IF(Liste_pièces!J163=\"\",\"\",Liste_pièces!J163)","v":1},{"$f":"IF(Liste_pièces!K163=\"\",\"\",Liste_pièces!K163)","v":1},{"$f":"IF(Liste_pièces!L163=\"\",\"\",Liste_pièces!L163)","v":2},{"$f":"IF(Liste_pièces!M163=\"\",\"\",Liste_pièces!M163)","v":2},2,1,3]
[{"$f":"IF(Liste_pièces!A164=\"\",\"ZZZ\",Liste_pièces!A164)","v":"CHO56"},{"$f":"IF(Liste_pièces!B164=\"\",\"ZZZ\",Liste_pièces!B164)","v":"CHO"},{"$f":"IF(Liste_pièces!C164=\"\",\"\",Liste_pièces!C164)","v":"siège adulte"},{"$f":"IF(Liste_pièces!D164=\"\",\"\",Liste_pièces!D164)","v":"Tubes siège adulte - dossier"},{"$f":"IF(Liste_pièces!E164=\"\",\"\",Liste_pièces!E164)","v":"Dossier"},{"$f":"IF(Liste_pièces!F164=\"\",\"\",Liste_pièces!F164)","v":"inox 1mm (tubes ø22mm)"},{"$f":"IF(Liste_pièces!G164=\"\",\"\",Liste_pièces!G164)","v":""},{"$f":"IF(Liste_pièces!H164=\"\",\"\",Liste_pièces!H164)","v":"assemblage fournisseur"},{"$f":"IF(Liste_pièces!I164=\"\",\"\",Liste_pièces!I164)","v":""},{"$f":"IF(Liste_pièces!J164=\"\",\"\",Liste_pièces!J164)","v":1},{"$f":"IF(Liste_pièces!K164=\"\",\"\",Liste_pièces!K164)","v":1},{"$f":"IF(Liste_pièces!L164=\"\",\"\",Liste_pièces!L164)","v":2},{"$f":"IF(Liste_pièces!M164=\"\",\"\",Liste_pièces!M164)","v":2},2,1,3]
[{"$f":"IF(Liste_pièces!A195=\"\",\"ZZZ\",Liste_pièces!A195)","v":"CHO57"},{"$f":"IF(Liste_pièces!B195=\"\",\"ZZZ\",Liste_pièces!B195)","v":"CHO"},{"$f":"IF(Liste_pièces!C195=\"\",\"\",Liste_pièces!C195)","v":""},{"$f":"IF(Liste_pièces!D195=\"\",\"\",Liste_pièces!D195)","v":"Protège plateau"},{"$f":"IF(Liste_pièces!E195=\"\",\"\",Liste_pièces!E195)","v":"plat alu 25mm, ep 2mm, lg 300mm"},{"$f":"IF(Liste_pièces!F195=\"\",\"\",Liste_pièces!F195)","v":"alu. 2mm"},{"$f":"IF(Liste_pièces!G195=\"\",\"\",Liste_pièces!G195)","v":""},{"$f":"IF(Liste_pièces!H195=\"\",\"\",Liste_pièces!H195)","v":"assemblage fournisseur"},{"$f":"IF(Liste_pièces!I195=\"\",\"\",Liste_pièces!I195)","v":""},{"$f":"IF(Liste_pièces!J195=\"\",\"\",Liste_pièces!J195)","v":1},{"$f":"IF(Liste_pièces!K195=\"\",\"\",Liste_pièces!K195)","v":1},{"$f":"IF(Liste_pièces!L195=\"\",\"\",Liste_pièces!L195)","v":1},{"$f":"IF(Liste_pièces!M195=\"\",\"\",Liste_pièces!M195)","v":1},2,1,3]
[{"$f":"IF(Liste_pièces!A196=\"\",\"ZZZ\",Liste_pièces!A196)","v":"CHO58"},{"$f":"IF(Liste_pièces!B196=\"\",\"ZZZ\",Liste_pièces!B196)","v":"CHO"},{"$f":"IF(Liste_pièces!C196=\"\",\"\",Liste_pièces!C196)","v":""},{"$f":"IF(Liste_pièces!D196=\"\",\"\",Liste_pièces!D196)","v":"Garde boue arrière vertical"},{"$f":"IF(Liste_pièces!E196=\"\",\"\",Liste_pièces!E196)","v":"aluminium 1mm"},{"$f":"IF(Liste_pièces!F196=\"\",\"\",Liste_pièces!F196)","v":"alu. 1mm"},{"$f":"IF(Liste_pièces!G196=\"\",\"\",Liste_pièces!G196)","v":""},{"$f":"IF(Liste_pièces!H196=\"\",\"\",Liste_pièces!H196)","v":"assemblage fournisseur"},{"$f":"IF(Liste_pièces!I196=\"\",\"\",Liste_pièces!I196)","v":""},{"$f":"IF(Liste_pièces!J196=\"\",\"\",Liste_pièces!J196)","v":1},{"$f":"IF(Liste_pièces!K196=\"\",\"\",Liste_pièces!K196)","v":1},{"$f":"IF(Liste_pièces!L196=\"\",\"\",Liste_pièces!L196)","v":1},{"$f":"IF(Liste_pièces!M196=\"\",\"\",Liste_pièces!M196)","v":1},2,1,3]
[{"$f":"IF(Liste_pièces!A7=\"\",\"ZZZ\",Liste_pièces!A7)","v":"CHO92"},{"$f":"IF(Liste_pièces!B7=\"\",\"ZZZ\",Liste_pièces!B7)","v":"CHO"},{"$f":"IF(Liste_pièces!C7=\"\",\"\",Liste_pièces!C7)","v":""},{"$f":"IF(Liste_pièces!D7=\"\",\"\",Liste_pièces!D7)","v":"ensemble pièces chaudronnées et tubes config. basique"},{"$f":"IF(Liste_pièces!E7=\"\",\"\",Liste_pièces!E7)","v":""},{"$f":"IF(Liste_pièces!F7=\"\",\"\",Liste_pièces!F7)","v":""},{"$f":"IF(Liste_pièces!G7=\"\",\"\",Liste_pièces!G7)","v":""},{"$f":"IF(Liste_pièces!H7=\"\",\"\",Liste_pièces!H7)","v":"achat"},{"$f":"IF(Liste_pièces!I7=\"\",\"\",Liste_pièces!I7)","v":""},{"$f":"IF(Liste_pièces!J7=\"\",\"\",Liste_pièces!J7)","v":1},{"$f":"IF(Liste_pièces!K7=\"\",\"\",Liste_pièces!K7)","v":0},{"$f":"IF(Liste_pièces!L7=\"\",\"\",Liste_pièces!L7)","v":0},{"$f":"IF(Liste_pièces!M7=\"\",\"\",Liste_pièces!M7)","v":0},2,1,3]
[{"$f":"IF(Liste_pièces!A6=\"\",\"ZZZ\",Liste_pièces!A6)","v":"CHO93"},{"$f":"IF(Liste_pièces!B6=\"\",\"ZZZ\",Liste_pièces!B6)","v":"CHO"},{"$f":"IF(Liste_pièces!C6=\"\",\"\",Liste_pièces!C6)","v":""},{"$f":"IF(Liste_pièces!D6=\"\",\"\",Liste_pièces!D6)","v":"ensemble pièces chaudronnées et tubes config. motorisée"},{"$f":"IF(Liste_pièces!E6=\"\",\"\",Liste_pièces!E6)","v":""},{"$f":"IF(Liste_pièces!F6=\"\",\"\",Liste_pièces!F6)","v":""},{"$f":"IF(Liste_pièces!G6=\"\",\"\",Liste_pièces!G6)","v":""},{"$f":"IF(Liste_pièces!H6=\"\",\"\",Liste_pièces!H6)","v":"achat"},{"$f":"IF(Liste_pièces!I6=\"\",\"\",Liste_pièces!I6)","v":""},{"$f":"IF(Liste_pièces!J6=\"\",\"\",Liste_pièces!J6)","v":0},{"$f":"IF(Liste_pièces!K6=\"\",\"\",Liste_pièces!K6)","v":1},{"$f":"IF(Liste_pièces!L6=\"\",\"\",Liste_pièces!L6)","v":0},{"$f":"IF(Liste_pièces!M6=\"\",\"\",Liste_pièces!M6)","v":0},2,1,3]
[{"$f":"IF(Liste_pièces!A5=\"\",\"ZZZ\",Liste_pièces!A5)","v":"CHO94"},{"$f":"IF(Liste_pièces!B5=\"\",\"ZZZ\",Liste_pièces!B5)","v":"CHO"},{"$f":"IF(Liste_pièces!C5=\"\",\"\",Liste_pièces!C5)","v":""},{"$f":"IF(Liste_pièces!D5=\"\",\"\",Liste_pièces!D5)","v":"ensemble pièces chaudronnées et tubes config. solaire"},{"$f":"IF(Liste_pièces!E5=\"\",\"\",Liste_pièces!E5)","v":""},{"$f":"IF(Liste_pièces!F5=\"\",\"\",Liste_pièces!F5)","v":""},{"$f":"IF(Liste_pièces!G5=\"\",\"\",Liste_pièces!G5)","v":""},{"$f":"IF(Liste_pièces!H5=\"\",\"\",Liste_pièces!H5)","v":"achat"},{"$f":"IF(Liste_pièces!I5=\"\",\"\",Liste_pièces!I5)","v":""},{"$f":"IF(Liste_pièces!J5=\"\",\"\",Liste_pièces!J5)","v":0},{"$f":"IF(Liste_pièces!K5=\"\",\"\",Liste_pièces!K5)","v":0},{"$f":"IF(Liste_pièces!L5=\"\",\"\",Liste_pièces!L5)","v":1},{"$f":"IF(Liste_pièces!M5=\"\",\"\",Liste_pièces!M5)","v":0},2,1,3]
[{"$f":"IF(Liste_pièces!A4=\"\",\"ZZZ\",Liste_pièces!A4)","v":"CHO95"},{"$f":"IF(Liste_pièces!B4=\"\",\"ZZZ\",Liste_pièces!B4)","v":"CHO"},{"$f":"IF(Liste_pièces!C4=\"\",\"\",Liste_pièces!C4)","v":""},{"$f":"IF(Liste_pièces!D4=\"\",\"\",Liste_pièces!D4)","v":"ensemble pièces chaudronnées et tubes config. intégrale"},{"$f":"IF(Liste_pièces!E4=\"\",\"\",Liste_pièces!E4)","v":""},{"$f":"IF(Liste_pièces!F4=\"\",\"\",Liste_pièces!F4)","v":""},{"$f":"IF(Liste_pièces!G4=\"\",\"\",Liste_pièces!G4)","v":""},{"$f":"IF(Liste_pièces!H4=\"\",\"\",Liste_pièces!H4)","v":"achat"},{"$f":"IF(Liste_pièces!I4=\"\",\"\",Liste_pièces!I4)","v":""},{"$f":"IF(Liste_pièces!J4=\"\",\"\",Liste_pièces!J4)","v":0},{"$f":"IF(Liste_pièces!K4=\"\",\"\",Liste_pièces!K4)","v":0},{"$f":"IF(Liste_pièces!L4=\"\",\"\",Liste_pièces!L4)","v":0},{"$f":"IF(Liste_pièces!M4=\"\",\"\",Liste_pièces!M4)","v":1},2,1,3]
[{"$f":"IF(Liste_pièces!A8=\"\",\"ZZZ\",Liste_pièces!A8)","v":"CHO99"},{"$f":"IF(Liste_pièces!B8=\"\",\"ZZZ\",Liste_pièces!B8)","v":"CHO"},{"$f":"IF(Liste_pièces!C8=\"\",\"\",Liste_pièces!C8)","v":"SIÈGE ADULTE"},{"$f":"IF(Liste_pièces!D8=\"\",\"\",Liste_pièces!D8)","v":"ensemble siège adulte"},{"$f":"IF(Liste_pièces!E8=\"\",\"\",Liste_pièces!E8)","v":"inclus tubes CHO55/56, 2 cales siège CHO02, 2 équerres avec angles CHO5 et quincaillerie"},{"$f":"IF(Liste_pièces!F8=\"\",\"\",Liste_pièces!F8)","v":"sans l’embase, sans les toiles assise et dossier"},{"$f":"IF(Liste_pièces!G8=\"\",\"\",Liste_pièces!G8)","v":""},{"$f":"IF(Liste_pièces!H8=\"\",\"\",Liste_pièces!H8)","v":"achat"},{"$f":"IF(Liste_pièces!I8=\"\",\"\",Liste_pièces!I8)","v":""},{"$f":"IF(Liste_pièces!J8=\"\",\"\",Liste_pièces!J8)","v":1},{"$f":"IF(Liste_pièces!K8=\"\",\"\",Liste_pièces!K8)","v":2},{"$f":"IF(Liste_pièces!L8=\"\",\"\",Liste_pièces!L8)","v":2},{"$f":"IF(Liste_pièces!M8=\"\",\"\",Liste_pièces!M8)","v":2},2,1,3]
[{"$f":"IF(Liste_pièces!A28=\"\",\"ZZZ\",Liste_pièces!A28)","v":"DIV01"},{"$f":"IF(Liste_pièces!B28=\"\",\"ZZZ\",Liste_pièces!B28)","v":"DIV"},{"$f":"IF(Liste_pièces!C28=\"\",\"\",Liste_pièces!C28)","v":""},{"$f":"IF(Liste_pièces!D28=\"\",\"\",Liste_pièces!D28)","v":"chambre à air (amorti siège)"},{"$f":"IF(Liste_pièces!E28=\"\",\"\",Liste_pièces!E28)","v":" "},{"$f":"IF(Liste_pièces!F28=\"\",\"\",Liste_pièces!F28)","v":"Environ 10 chambres à air"},{"$f":"IF(Liste_pièces!G28=\"\",\"\",Liste_pièces!G28)","v":"à récupérer auprès de magasins cycles, associations…"},{"$f":"IF(Liste_pièces!H28=\"\",\"\",Liste_pièces!H28)","v":"achat/récupération"},{"$f":"IF(Liste_pièces!I28=\"\",\"\",Liste_pièces!I28)","v":""},{"$f":"IF(Liste_pièces!J28=\"\",\"\",Liste_pièces!J28)","v":1},{"$f":"IF(Liste_pièces!K28=\"\",\"\",Liste_pièces!K28)","v":1},{"$f":"IF(Liste_pièces!L28=\"\",\"\",Liste_pièces!L28)","v":1},{"$f":"IF(Liste_pièces!M28=\"\",\"\",Liste_pièces!M28)","v":1},3,0,4]
[{"$f":"IF(Liste_pièces!A29=\"\",\"ZZZ\",Liste_pièces!A29)","v":"DIV02"},{"$f":"IF(Liste_pièces!B29=\"\",\"ZZZ\",Liste_pièces!B29)","v":"DIV"},{"$f":"IF(Liste_pièces!C29=\"\",\"\",Liste_pièces!C29)","v":""},{"$f":"IF(Liste_pièces!D29=\"\",\"\",Liste_pièces!D29)","v":"joint bord de tôle"},{"$f":"IF(Liste_pièces!E29=\"\",\"\",Liste_pièces!E29)","v":""},{"$f":"IF(Liste_pièces!F29=\"\",\"\",Liste_pièces!F29)","v":"pour les gardes-boues avant et l’avant du panneau solaire"},{"$f":"IF(Liste_pièces!G29=\"\",\"\",Liste_pièces!G29)","v":""},{"$f":"IF(Liste_pièces!H29=\"\",\"\",Liste_pièces!H29)","v":"achat"},{"$f":"IF(Liste_pièces!I29=\"\",\"\",Liste_pièces!I29)","v":""},{"$f":"IF(Liste_pièces!J29=\"\",\"\",Liste_pièces!J29)","v":0},{"$f":"IF(Liste_pièces!K29=\"\",\"\",Liste_pièces!K29)","v":0},{"$f":"IF(Liste_pièces!L29=\"\",\"\",Liste_pièces!L29)","v":1},{"$f":"IF(Liste_pièces!M29=\"\",\"\",Liste_pièces!M29)","v":1},3,0,4]
[{"$f":"IF(Liste_pièces!A30=\"\",\"ZZZ\",Liste_pièces!A30)","v":"DIV02"},{"$f":"IF(Liste_pièces!B30=\"\",\"ZZZ\",Liste_pièces!B30)","v":"DIV"},{"$f":"IF(Liste_pièces!C30=\"\",\"\",Liste_pièces!C30)","v":""},{"$f":"IF(Liste_pièces!D30=\"\",\"\",Liste_pièces!D30)","v":"ruban de guidon"},{"$f":"IF(Liste_pièces!E30=\"\",\"\",Liste_pièces!E30)","v":""},{"$f":"IF(Liste_pièces!F30=\"\",\"\",Liste_pièces!F30)","v":""},{"$f":"IF(Liste_pièces!G30=\"\",\"\",Liste_pièces!G30)","v":""},{"$f":"IF(Liste_pièces!H30=\"\",\"\",Liste_pièces!H30)","v":"achat"},{"$f":"IF(Liste_pièces!I30=\"\",\"\",Liste_pièces!I30)","v":""},{"$f":"IF(Liste_pièces!J30=\"\",\"\",Liste_pièces!J30)","v":1},{"$f":"IF(Liste_pièces!K30=\"\",\"\",Liste_pièces!K30)","v":1},{"$f":"IF(Liste_pièces!L30=\"\",\"\",Liste_pièces!L30)","v":1},{"$f":"IF(Liste_pièces!M30=\"\",\"\",Liste_pièces!M30)","v":1},3,0,4]
[{"$f":"IF(Liste_pièces!A65=\"\",\"ZZZ\",Liste_pièces!A65)","v":"ELE01"},{"$f":"IF(Liste_pièces!B65=\"\",\"ZZZ\",Liste_pièces!B65)","v":"ELE"},{"$f":"IF(Liste_pièces!C65=\"\",\"\",Liste_pièces!C65)","v":""},{"$f":"IF(Liste_pièces!D65=\"\",\"\",Liste_pièces!D65)","v":"comodo"},{"$f":"IF(Liste_pièces!E65=\"\",\"\",Liste_pièces!E65)","v":"commande éclairage, clignotants, avertisseur sonore"},{"$f":"IF(Liste_pièces!F65=\"\",\"\",Liste_pièces!F65)","v":""},{"$f":"IF(Liste_pièces!G65=\"\",\"\",Liste_pièces!G65)","v":""},{"$f":"IF(Liste_pièces!H65=\"\",\"\",Liste_pièces!H65)","v":"achat"},{"$f":"IF(Liste_pièces!I65=\"\",\"\",Liste_pièces!I65)","v":""},{"$f":"IF(Liste_pièces!J65=\"\",\"\",Liste_pièces!J65)","v":0},{"$f":"IF(Liste_pièces!K65=\"\",\"\",Liste_pièces!K65)","v":0},{"$f":"IF(Liste_pièces!L65=\"\",\"\",Liste_pièces!L65)","v":0},{"$f":"IF(Liste_pièces!M65=\"\",\"\",Liste_pièces!M65)","v":1},4,0,5]
[{"$f":"IF(Liste_pièces!A66=\"\",\"ZZZ\",Liste_pièces!A66)","v":"ELE02"},{"$f":"IF(Liste_pièces!B66=\"\",\"ZZZ\",Liste_pièces!B66)","v":"ELE"},{"$f":"IF(Liste_pièces!C66=\"\",\"\",Liste_pièces!C66)","v":""},{"$f":"IF(Liste_pièces!D66=\"\",\"\",Liste_pièces!D66)","v":"klaxon 12v"},{"$f":"IF(Liste_pièces!E66=\"\",\"\",Liste_pièces!E66)","v":""},{"$f":"IF(Liste_pièces!F66=\"\",\"\",Liste_pièces!F66)","v":""},{"$f":"IF(Liste_pièces!G66=\"\",\"\",Liste_pièces!G66)","v":""},{"$f":"IF(Liste_pièces!H66=\"\",\"\",Liste_pièces!H66)","v":"achat"},{"$f":"IF(Liste_pièces!I66=\"\",\"\",Liste_pièces!I66)","v":""},{"$f":"IF(Liste_pièces!J66=\"\",\"\",Liste_pièces!J66)","v":0},{"$f":"IF(Liste_pièces!K66=\"\",\"\",Liste_pièces!K66)","v":0},{"$f":"IF(Liste_pièces!L66=\"\",\"\",Liste_pièces!L66)","v":0},{"$f":"IF(Liste_pièces!M66=\"\",\"\",Liste_pièces!M66)","v":1},4,0,5]
[{"$f":"IF(Liste_pièces!A47=\"\",\"ZZZ\",Liste_pièces!A47)","v":"ELE03"},{"$f":"IF(Liste_pièces!B47=\"\",\"ZZZ\",Liste_pièces!B47)","v":"ELE"},{"$f":"IF(Liste_pièces!C47=\"\",\"\",Liste_pièces!C47)","v":""},{"$f":"IF(Liste_pièces!D47=\"\",\"\",Liste_pièces!D47)","v":"panneau solaire"},{"$f":"IF(Liste_pièces!E47=\"\",\"\",Liste_pièces!E47)","v":"220W 1360x796mm, 3.4kg, 6x10 cellules, rendement 24%"},{"$f":"IF(Liste_pièces!F47=\"\",\"\",Liste_pièces!F47)","v":""},{"$f":"IF(Liste_pièces!G47=\"\",\"\",Liste_pièces!G47)","v":""},{"$f":"IF(Liste_pièces!H47=\"\",\"\",Liste_pièces!H47)","v":"achat"},{"$f":"IF(Liste_pièces!I47=\"\",\"\",Liste_pièces!I47)","v":""},{"$f":"IF(Liste_pièces!J47=\"\",\"\",Liste_pièces!J47)","v":0},{"$f":"IF(Liste_pièces!K47=\"\",\"\",Liste_pièces!K47)","v":0},{"$f":"IF(Liste_pièces!L47=\"\",\"\",Liste_pièces!L47)","v":1},{"$f":"IF(Liste_pièces!M47=\"\",\"\",Liste_pièces!M47)","v":1},4,0,5]
[{"$f":"IF(Liste_pièces!A48=\"\",\"ZZZ\",Liste_pièces!A48)","v":"ELE04"},{"$f":"IF(Liste_pièces!B48=\"\",\"ZZZ\",Liste_pièces!B48)","v":"ELE"},{"$f":"IF(Liste_pièces!C48=\"\",\"\",Liste_pièces!C48)","v":""},{"$f":"IF(Liste_pièces!D48=\"\",\"\",Liste_pièces!D48)","v":"batterie lithium ion 36V"},{"$f":"IF(Liste_pièces!E48=\"\",\"\",Liste_pièces!E48)","v":"14.5Ah 522Wh, 39 x 8 x 11 cm, 3,4 kg, connecteur solaire XLR 3 pin"},{"$f":"IF(Liste_pièces!F48=\"\",\"\",Liste_pièces!F48)","v":"inclus chargeur secteur 2A"},{"$f":"IF(Liste_pièces!G48=\"\",\"\",Liste_pièces!G48)","v":""},{"$f":"IF(Liste_pièces!H48=\"\",\"\",Liste_pièces!H48)","v":"achat"},{"$f":"IF(Liste_pièces!I48=\"\",\"\",Liste_pièces!I48)","v":""},{"$f":"IF(Liste_pièces!J48=\"\",\"\",Liste_pièces!J48)","v":0},{"$f":"IF(Liste_pièces!K48=\"\",\"\",Liste_pièces!K48)","v":1},{"$f":"IF(Liste_pièces!L48=\"\",\"\",Liste_pièces!L48)","v":1},{"$f":"IF(Liste_pièces!M48=\"\",\"\",Liste_pièces!M48)","v":1},4,0,{"$f":"IF(N69=0,0,IF(N69<>N68,MAX(N69+O68,P68+1),IF(O68=O69,P68,P68+O69)))","v":5}]
[{"$f":"IF(Liste_pièces!A61=\"\",\"ZZZ\",Liste_pièces!A61)","v":"ELE05"},{"$f":"IF(Liste_pièces!B61=\"\",\"ZZZ\",Liste_pièces!B61)","v":"ELE"},{"$f":"IF(Liste_pièces!C61=\"\",\"\",Liste_pièces!C61)","v":""},{"$f":"IF(Liste_pièces!D61=\"\",\"\",Liste_pièces!D61)","v":"connecteur coudé batterie"},{"$f":"IF(Liste_pièces!E61=\"\",\"\",Liste_pièces!E61)","v":""},{"$f":"IF(Liste_pièces!F61=\"\",\"\",Liste_pièces!F61)","v":"XLR 3 broches, pour le connecteur de charge batterie"},{"$f":"IF(Liste_pièces!G61=\"\",\"\",Liste_pièces!G61)","v":"ATTENTION : soudure à l’étain à réaliser"},{"$f":"IF(Liste_pièces!H61=\"\",\"\",Liste_pièces!H61)","v":"achat"},{"$f":"IF(Liste_pièces!I61=\"\",\"\",Liste_pièces!I61)","v":""},{"$f":"IF(Liste_pièces!J61=\"\",\"\",Liste_pièces!J61)","v":0},{"$f":"IF(Liste_pièces!K61=\"\",\"\",Liste_pièces!K61)","v":0},{"$f":"IF(Liste_pièces!L61=\"\",\"\",Liste_pièces!L61)","v":1},{"$f":"IF(Liste_pièces!M61=\"\",\"\",Liste_pièces!M61)","v":1},{"$f":"IF(B70=\"ZZZ\",0,IF(B70=B69,N69,1+N69))","v":4},0,5]
[{"$f":"IF(Liste_pièces!A94=\"\",\"ZZZ\",Liste_pièces!A94)","v":"ELE06"},{"$f":"IF(Liste_pièces!B94=\"\",\"ZZZ\",Liste_pièces!B94)","v":"ELE"},{"$f":"IF(Liste_pièces!C94=\"\",\"\",Liste_pièces!C94)","v":"bloc luminaire avant droit"},{"$f":"IF(Liste_pièces!D94=\"\",\"\",Liste_pièces!D94)","v":"connecteur 4 fils femelle"},{"$f":"IF(Liste_pièces!E94=\"\",\"\",Liste_pièces!E94)","v":""},{"$f":"IF(Liste_pièces!F94=\"\",\"\",Liste_pièces!F94)","v":"4 contacts, 1 rang pas 6mm, série AMP Superseal 1.5"},{"$f":"IF(Liste_pièces!G94=\"\",\"\",Liste_pièces!G94)","v":""},{"$f":"IF(Liste_pièces!H94=\"\",\"\",Liste_pièces!H94)","v":"assemblage fournisseur"},{"$f":"IF(Liste_pièces!I94=\"\",\"\",Liste_pièces!I94)","v":""},{"$f":"IF(Liste_pièces!J94=\"\",\"\",Liste_pièces!J94)","v":0},{"$f":"IF(Liste_pièces!K94=\"\",\"\",Liste_pièces!K94)","v":0},{"$f":"IF(Liste_pièces!L94=\"\",\"\",Liste_pièces!L94)","v":0},{"$f":"IF(Liste_pièces!M94=\"\",\"\",Liste_pièces!M94)","v":0.125},4,0,5]
[{"$f":"IF(Liste_pièces!A95=\"\",\"ZZZ\",Liste_pièces!A95)","v":"ELE07"},{"$f":"IF(Liste_pièces!B95=\"\",\"ZZZ\",Liste_pièces!B95)","v":"ELE"},{"$f":"IF(Liste_pièces!C95=\"\",\"\",Liste_pièces!C95)","v":"bloc luminaire avant droit"},{"$f":"IF(Liste_pièces!D95=\"\",\"\",Liste_pièces!D95)","v":"luminaire orange"},{"$f":"IF(Liste_pièces!E95=\"\",\"\",Liste_pièces!E95)","v":""},{"$f":"IF(Liste_pièces!F95=\"\",\"\",Liste_pièces!F95)","v":"12V, pack de 8 luminaires"},{"$f":"IF(Liste_pièces!G95=\"\",\"\",Liste_pièces!G95)","v":"Prévoir 1 luminaire orange par bloc luminaire avant"},{"$f":"IF(Liste_pièces!H95=\"\",\"\",Liste_pièces!H95)","v":"assemblage fournisseur"},{"$f":"IF(Liste_pièces!I95=\"\",\"\",Liste_pièces!I95)","v":""},{"$f":"IF(Liste_pièces!J95=\"\",\"\",Liste_pièces!J95)","v":0},{"$f":"IF(Liste_pièces!K95=\"\",\"\",Liste_pièces!K95)","v":0},{"$f":"IF(Liste_pièces!L95=\"\",\"\",Liste_pièces!L95)","v":0},{"$f":"IF(Liste_pièces!M95=\"\",\"\",Liste_pièces!M95)","v":0.125},4,0,5]
[{"$f":"IF(Liste_pièces!A96=\"\",\"ZZZ\",Liste_pièces!A96)","v":"ELE08"},{"$f":"IF(Liste_pièces!B96=\"\",\"ZZZ\",Liste_pièces!B96)","v":"ELE"},{"$f":"IF(Liste_pièces!C96=\"\",\"\",Liste_pièces!C96)","v":"bloc luminaire avant droit"},{"$f":"IF(Liste_pièces!D96=\"\",\"\",Liste_pièces!D96)","v":"phare avant"},{"$f":"IF(Liste_pièces!E96=\"\",\"\",Liste_pièces!E96)","v":""},{"$f":"IF(Liste_pièces!F96=\"\",\"\",Liste_pièces!F96)","v":"éclairage avant pour vélo électrique 6-12 v, 35 lux, portée environ 55m"},{"$f":"IF(Liste_pièces!G96=\"\",\"\",Liste_pièces!G96)","v":""},{"$f":"IF(Liste_pièces!H96=\"\",\"\",Liste_pièces!H96)","v":"assemblage fournisseur"},{"$f":"IF(Liste_pièces!I96=\"\",\"\",Liste_pièces!I96)","v":""},{"$f":"IF(Liste_pièces!J96=\"\",\"\",Liste_pièces!J96)","v":0},{"$f":"IF(Liste_pièces!K96=\"\",\"\",Liste_pièces!K96)","v":0},{"$f":"IF(Liste_pièces!L96=\"\",\"\",Liste_pièces!L96)","v":0},{"$f":"IF(Liste_pièces!M96=\"\",\"\",Liste_pièces!M96)","v":0.5},4,0,5]
[{"$f":"IF(Liste_pièces!A97=\"\",\"ZZZ\",Liste_pièces!A97)","v":"ELE09"},{"$f":"IF(Liste_pièces!B97=\"\",\"ZZZ\",Liste_pièces!B97)","v":"ELE"},{"$f":"IF(Liste_pièces!C97=\"\",\"\",Liste_pièces!C97)","v":"bloc luminaire avant gauche"},{"$f":"IF(Liste_pièces!D97=\"\",\"\",Liste_pièces!D97)","v":"connecteur 4 fils femelle"},{"$f":"IF(Liste_pièces!E97=\"\",\"\",Liste_pièces!E97)","v":""},{"$f":"IF(Liste_pièces!F97=\"\",\"\",Liste_pièces!F97)","v":"4 contacts, 1 rang pas 6mm, série AMP Superseal 1.5"},{"$f":"IF(Liste_pièces!G97=\"\",\"\",Liste_pièces!G97)","v":""},{"$f":"IF(Liste_pièces!H97=\"\",\"\",Liste_pièces!H97)","v":"assemblage fournisseur"},{"$f":"IF(Liste_pièces!I97=\"\",\"\",Liste_pièces!I97)","v":""},{"$f":"IF(Liste_pièces!J97=\"\",\"\",Liste_pièces!J97)","v":0},{"$f":"IF(Liste_pièces!K97=\"\",\"\",Liste_pièces!K97)","v":0},{"$f":"IF(Liste_pièces!L97=\"\",\"\",Liste_pièces!L97)","v":0},{"$f":"IF(Liste_pièces!M97=\"\",\"\",Liste_pièces!M97)","v":0.125},4,0,5]
[{"$f":"IF(Liste_pièces!A98=\"\",\"ZZZ\",Liste_pièces!A98)","v":"ELE10"},{"$f":"IF(Liste_pièces!B98=\"\",\"ZZZ\",Liste_pièces!B98)","v":"ELE"},{"$f":"IF(Liste_pièces!C98=\"\",\"\",Liste_pièces!C98)","v":"bloc luminaire avant gauche"},{"$f":"IF(Liste_pièces!D98=\"\",\"\",Liste_pièces!D98)","v":"luminaire orange"},{"$f":"IF(Liste_pièces!E98=\"\",\"\",Liste_pièces!E98)","v":""},{"$f":"IF(Liste_pièces!F98=\"\",\"\",Liste_pièces!F98)","v":"12V, pack de 8 luminaires"},{"$f":"IF(Liste_pièces!G98=\"\",\"\",Liste_pièces!G98)","v":"Prévoir 1 luminaire orange par bloc luminaire avant"},{"$f":"IF(Liste_pièces!H98=\"\",\"\",Liste_pièces!H98)","v":"assemblage fournisseur"},{"$f":"IF(Liste_pièces!I98=\"\",\"\",Liste_pièces!I98)","v":""},{"$f":"IF(Liste_pièces!J98=\"\",\"\",Liste_pièces!J98)","v":0},{"$f":"IF(Liste_pièces!K98=\"\",\"\",Liste_pièces!K98)","v":0},{"$f":"IF(Liste_pièces!L98=\"\",\"\",Liste_pièces!L98)","v":0},{"$f":"IF(Liste_pièces!M98=\"\",\"\",Liste_pièces!M98)","v":0.125},4,0,5]
[{"$f":"IF(Liste_pièces!A99=\"\",\"ZZZ\",Liste_pièces!A99)","v":"ELE11"},{"$f":"IF(Liste_pièces!B99=\"\",\"ZZZ\",Liste_pièces!B99)","v":"ELE"},{"$f":"IF(Liste_pièces!C99=\"\",\"\",Liste_pièces!C99)","v":"bloc luminaire avant gauche"},{"$f":"IF(Liste_pièces!D99=\"\",\"\",Liste_pièces!D99)","v":"phare avant"},{"$f":"IF(Liste_pièces!E99=\"\",\"\",Liste_pièces!E99)","v":""},{"$f":"IF(Liste_pièces!F99=\"\",\"\",Liste_pièces!F99)","v":"éclairage avant pour vélo électrique 6-12 v, 35 lux, portée environ 55m"},{"$f":"IF(Liste_pièces!G99=\"\",\"\",Liste_pièces!G99)","v":""},{"$f":"IF(Liste_pièces!H99=\"\",\"\",Liste_pièces!H99)","v":"assemblage fournisseur"},{"$f":"IF(Liste_pièces!I99=\"\",\"\",Liste_pièces!I99)","v":""},{"$f":"IF(Liste_pièces!J99=\"\",\"\",Liste_pièces!J99)","v":0},{"$f":"IF(Liste_pièces!K99=\"\",\"\",Liste_pièces!K99)","v":0},{"$f":"IF(Liste_pièces!L99=\"\",\"\",Liste_pièces!L99)","v":0},{"$f":"IF(Liste_pièces!M99=\"\",\"\",Liste_pièces!M99)","v":0.5},4,0,5]
[{"$f":"IF(Liste_pièces!A100=\"\",\"ZZZ\",Liste_pièces!A100)","v":"ELE12"},{"$f":"IF(Liste_pièces!B100=\"\",\"ZZZ\",Liste_pièces!B100)","v":"ELE"},{"$f":"IF(Liste_pièces!C100=\"\",\"\",Liste_pièces!C100)","v":"bloc luminaire avant gauche"},{"$f":"IF(Liste_pièces!D100=\"\",\"\",Liste_pièces!D100)","v":"2 prises USB"},{"$f":"IF(Liste_pièces!E100=\"\",\"\",Liste_pièces!E100)","v":"double prise USB, 2 x 2,1A, marine"},{"$f":"IF(Liste_pièces!F100=\"\",\"\",Liste_pièces!F100)","v":"à encastrer dans trou D29mm"},{"$f":"IF(Liste_pièces!G100=\"\",\"\",Liste_pièces!G100)","v":""},{"$f":"IF(Liste_pièces!H100=\"\",\"\",Liste_pièces!H100)","v":"assemblage fournisseur"},{"$f":"IF(Liste_pièces!I100=\"\",\"\",Liste_pièces!I100)","v":""},{"$f":"IF(Liste_pièces!J100=\"\",\"\",Liste_pièces!J100)","v":0},{"$f":"IF(Liste_pièces!K100=\"\",\"\",Liste_pièces!K100)","v":0},{"$f":"IF(Liste_pièces!L100=\"\",\"\",Liste_pièces!L100)","v":0},{"$f":"IF(Liste_pièces!M100=\"\",\"\",Liste_pièces!M100)","v":0.6},4,0,5]
[{"$f":"IF(Liste_pièces!A101=\"\",\"ZZZ\",Liste_pièces!A101)","v":"ELE13"},{"$f":"IF(Liste_pièces!B101=\"\",\"ZZZ\",Liste_pièces!B101)","v":"ELE"},{"$f":"IF(Liste_pièces!C101=\"\",\"\",Liste_pièces!C101)","v":"bloc luminaire arrière gauche"},{"$f":"IF(Liste_pièces!D101=\"\",\"\",Liste_pièces!D101)","v":"connecteur 4 fils femelle"},{"$f":"IF(Liste_pièces!E101=\"\",\"\",Liste_pièces!E101)","v":""},{"$f":"IF(Liste_pièces!F101=\"\",\"\",Liste_pièces!F101)","v":"4 contacts, 1 rang pas 6mm, série AMP Superseal 1.5"},{"$f":"IF(Liste_pièces!G101=\"\",\"\",Liste_pièces!G101)","v":""},{"$f":"IF(Liste_pièces!H101=\"\",\"\",Liste_pièces!H101)","v":"assemblage fournisseur"},{"$f":"IF(Liste_pièces!I101=\"\",\"\",Liste_pièces!I101)","v":""},{"$f":"IF(Liste_pièces!J101=\"\",\"\",Liste_pièces!J101)","v":0},{"$f":"IF(Liste_pièces!K101=\"\",\"\",Liste_pièces!K101)","v":0},{"$f":"IF(Liste_pièces!L101=\"\",\"\",Liste_pièces!L101)","v":0},{"$f":"IF(Liste_pièces!M101=\"\",\"\",Liste_pièces!M101)","v":0.125},4,0,5]
[{"$f":"IF(Liste_pièces!A102=\"\",\"ZZZ\",Liste_pièces!A102)","v":"ELE14"},{"$f":"IF(Liste_pièces!B102=\"\",\"ZZZ\",Liste_pièces!B102)","v":"ELE"},{"$f":"IF(Liste_pièces!C102=\"\",\"\",Liste_pièces!C102)","v":"bloc luminaire arrière gauche"},{"$f":"IF(Liste_pièces!D102=\"\",\"\",Liste_pièces!D102)","v":"luminaire orange"},{"$f":"IF(Liste_pièces!E102=\"\",\"\",Liste_pièces!E102)","v":""},{"$f":"IF(Liste_pièces!F102=\"\",\"\",Liste_pièces!F102)","v":"12V, pack de 8 luminaires"},{"$f":"IF(Liste_pièces!G102=\"\",\"\",Liste_pièces!G102)","v":"Prévoir 2 luminaires oranges par bloc luminaire arrière"},{"$f":"IF(Liste_pièces!H102=\"\",\"\",Liste_pièces!H102)","v":"assemblage fournisseur"},{"$f":"IF(Liste_pièces!I102=\"\",\"\",Liste_pièces!I102)","v":""},{"$f":"IF(Liste_pièces!J102=\"\",\"\",Liste_pièces!J102)","v":0},{"$f":"IF(Liste_pièces!K102=\"\",\"\",Liste_pièces!K102)","v":0},{"$f":"IF(Liste_pièces!L102=\"\",\"\",Liste_pièces!L102)","v":0},{"$f":"IF(Liste_pièces!M102=\"\",\"\",Liste_pièces!M102)","v":0.25},4,0,5]
[{"$f":"IF(Liste_pièces!A103=\"\",\"ZZZ\",Liste_pièces!A103)","v":"ELE15"},{"$f":"IF(Liste_pièces!B103=\"\",\"ZZZ\",Liste_pièces!B103)","v":"ELE"},{"$f":"IF(Liste_pièces!C103=\"\",\"\",Liste_pièces!C103)","v":"bloc luminaire arrière gauche"},{"$f":"IF(Liste_pièces!D103=\"\",\"\",Liste_pièces!D103)","v":"luminaire rouge"},{"$f":"IF(Liste_pièces!E103=\"\",\"\",Liste_pièces!E103)","v":""},{"$f":"IF(Liste_pièces!F103=\"\",\"\",Liste_pièces!F103)","v":"12V, pack de 8 luminaires"},{"$f":"IF(Liste_pièces!G103=\"\",\"\",Liste_pièces!G103)","v":"Prévoir 1 luminaire rouge par bloc luminaire arrière"},{"$f":"IF(Liste_pièces!H103=\"\",\"\",Liste_pièces!H103)","v":"assemblage fournisseur"},{"$f":"IF(Liste_pièces!I103=\"\",\"\",Liste_pièces!I103)","v":""},{"$f":"IF(Liste_pièces!J103=\"\",\"\",Liste_pièces!J103)","v":0},{"$f":"IF(Liste_pièces!K103=\"\",\"\",Liste_pièces!K103)","v":0},{"$f":"IF(Liste_pièces!L103=\"\",\"\",Liste_pièces!L103)","v":0},{"$f":"IF(Liste_pièces!M103=\"\",\"\",Liste_pièces!M103)","v":0.125},4,0,5]
[{"$f":"IF(Liste_pièces!A104=\"\",\"ZZZ\",Liste_pièces!A104)","v":"ELE16"},{"$f":"IF(Liste_pièces!B104=\"\",\"ZZZ\",Liste_pièces!B104)","v":"ELE"},{"$f":"IF(Liste_pièces!C104=\"\",\"\",Liste_pièces!C104)","v":"bloc luminaire arrière droit"},{"$f":"IF(Liste_pièces!D104=\"\",\"\",Liste_pièces!D104)","v":"connecteur 4 fils femelle"},{"$f":"IF(Liste_pièces!E104=\"\",\"\",Liste_pièces!E104)","v":""},{"$f":"IF(Liste_pièces!F104=\"\",\"\",Liste_pièces!F104)","v":"4 contacts, 1 rang pas 6mm, série AMP Superseal 1.5"},{"$f":"IF(Liste_pièces!G104=\"\",\"\",Liste_pièces!G104)","v":""},{"$f":"IF(Liste_pièces!H104=\"\",\"\",Liste_pièces!H104)","v":"assemblage fournisseur"},{"$f":"IF(Liste_pièces!I104=\"\",\"\",Liste_pièces!I104)","v":""},{"$f":"IF(Liste_pièces!J104=\"\",\"\",Liste_pièces!J104)","v":0},{"$f":"IF(Liste_pièces!K104=\"\",\"\",Liste_pièces!K104)","v":0},{"$f":"IF(Liste_pièces!L104=\"\",\"\",Liste_pièces!L104)","v":0},{"$f":"IF(Liste_pièces!M104=\"\",\"\",Liste_pièces!M104)","v":0.125},4,0,5]
[{"$f":"IF(Liste_pièces!A105=\"\",\"ZZZ\",Liste_pièces!A105)","v":"ELE17"},{"$f":"IF(Liste_pièces!B105=\"\",\"ZZZ\",Liste_pièces!B105)","v":"ELE"},{"$f":"IF(Liste_pièces!C105=\"\",\"\",Liste_pièces!C105)","v":"bloc luminaire arrière droit"},{"$f":"IF(Liste_pièces!D105=\"\",\"\",Liste_pièces!D105)","v":"luminaire orange"},{"$f":"IF(Liste_pièces!E105=\"\",\"\",Liste_pièces!E105)","v":""},{"$f":"IF(Liste_pièces!F105=\"\",\"\",Liste_pièces!F105)","v":"12V, pack de 8 luminaires"},{"$f":"IF(Liste_pièces!G105=\"\",\"\",Liste_pièces!G105)","v":"Prévoir 2 luminaires oranges par bloc luminaire arrière"},{"$f":"IF(Liste_pièces!H105=\"\",\"\",Liste_pièces!H105)","v":"assemblage fournisseur"},{"$f":"IF(Liste_pièces!I105=\"\",\"\",Liste_pièces!I105)","v":""},{"$f":"IF(Liste_pièces!J105=\"\",\"\",Liste_pièces!J105)","v":0},{"$f":"IF(Liste_pièces!K105=\"\",\"\",Liste_pièces!K105)","v":0},{"$f":"IF(Liste_pièces!L105=\"\",\"\",Liste_pièces!L105)","v":0},{"$f":"IF(Liste_pièces!M105=\"\",\"\",Liste_pièces!M105)","v":0.25},4,0,5]
[{"$f":"IF(Liste_pièces!A106=\"\",\"ZZZ\",Liste_pièces!A106)","v":"ELE18"},{"$f":"IF(Liste_pièces!B106=\"\",\"ZZZ\",Liste_pièces!B106)","v":"ELE"},{"$f":"IF(Liste_pièces!C106=\"\",\"\",Liste_pièces!C106)","v":"bloc luminaire arrière droit"},{"$f":"IF(Liste_pièces!D106=\"\",\"\",Liste_pièces!D106)","v":"luminaire rouge"},{"$f":"IF(Liste_pièces!E106=\"\",\"\",Liste_pièces!E106)","v":""},{"$f":"IF(Liste_pièces!F106=\"\",\"\",Liste_pièces!F106)","v":"12V, pack de 8 luminaires"},{"$f":"IF(Liste_pièces!G106=\"\",\"\",Liste_pièces!G106)","v":"Prévoir 1 luminaire rouge par bloc luminaire arrière"},{"$f":"IF(Liste_pièces!H106=\"\",\"\",Liste_pièces!H106)","v":"assemblage fournisseur"},{"$f":"IF(Liste_pièces!I106=\"\",\"\",Liste_pièces!I106)","v":""},{"$f":"IF(Liste_pièces!J106=\"\",\"\",Liste_pièces!J106)","v":0},{"$f":"IF(Liste_pièces!K106=\"\",\"\",Liste_pièces!K106)","v":0},{"$f":"IF(Liste_pièces!L106=\"\",\"\",Liste_pièces!L106)","v":0},{"$f":"IF(Liste_pièces!M106=\"\",\"\",Liste_pièces!M106)","v":0.125},4,0,5]
[{"$f":"IF(Liste_pièces!A107=\"\",\"ZZZ\",Liste_pièces!A107)","v":"ELE19"},{"$f":"IF(Liste_pièces!B107=\"\",\"ZZZ\",Liste_pièces!B107)","v":"ELE"},{"$f":"IF(Liste_pièces!C107=\"\",\"\",Liste_pièces!C107)","v":"bloc luminaire arrière droit"},{"$f":"IF(Liste_pièces!D107=\"\",\"\",Liste_pièces!D107)","v":"prise allume cigare"},{"$f":"IF(Liste_pièces!E107=\"\",\"\",Liste_pièces!E107)","v":"prise 12V, 15A, marine"},{"$f":"IF(Liste_pièces!F107=\"\",\"\",Liste_pièces!F107)","v":"à encastrer dans trou D29mm"},{"$f":"IF(Liste_pièces!G107=\"\",\"\",Liste_pièces!G107)","v":""},{"$f":"IF(Liste_pièces!H107=\"\",\"\",Liste_pièces!H107)","v":"assemblage fournisseur"},{"$f":"IF(Liste_pièces!I107=\"\",\"\",Liste_pièces!I107)","v":""},{"$f":"IF(Liste_pièces!J107=\"\",\"\",Liste_pièces!J107)","v":0},{"$f":"IF(Liste_pièces!K107=\"\",\"\",Liste_pièces!K107)","v":0},{"$f":"IF(Liste_pièces!L107=\"\",\"\",Liste_pièces!L107)","v":0},{"$f":"IF(Liste_pièces!M107=\"\",\"\",Liste_pièces!M107)","v":0.4},4,0,5]
[{"$f":"IF(Liste_pièces!A108=\"\",\"ZZZ\",Liste_pièces!A108)","v":"ELE20"},{"$f":"IF(Liste_pièces!B108=\"\",\"ZZZ\",Liste_pièces!B108)","v":"ELE"},{"$f":"IF(Liste_pièces!C108=\"\",\"\",Liste_pièces!C108)","v":"rallonge luminaire arrière"},{"$f":"IF(Liste_pièces!D108=\"\",\"\",Liste_pièces!D108)","v":"câble"},{"$f":"IF(Liste_pièces!E108=\"\",\"\",Liste_pièces!E108)","v":"4 fils x 0,75 mm²"},{"$f":"IF(Liste_pièces!F108=\"\",\"\",Liste_pièces!F108)","v":"souple, pack longueur 15m"},{"$f":"IF(Liste_pièces!G108=\"\",\"\",Liste_pièces!G108)","v":""},{"$f":"IF(Liste_pièces!H108=\"\",\"\",Liste_pièces!H108)","v":"assemblage fournisseur"},{"$f":"IF(Liste_pièces!I108=\"\",\"\",Liste_pièces!I108)","v":""},{"$f":"IF(Liste_pièces!J108=\"\",\"\",Liste_pièces!J108)","v":0},{"$f":"IF(Liste_pièces!K108=\"\",\"\",Liste_pièces!K108)","v":0},{"$f":"IF(Liste_pièces!L108=\"\",\"\",Liste_pièces!L108)","v":0},{"$f":"IF(Liste_pièces!M108=\"\",\"\",Liste_pièces!M108)","v":1},4,0,5]
[{"$f":"IF(Liste_pièces!A109=\"\",\"ZZZ\",Liste_pièces!A109)","v":"ELE21"},{"$f":"IF(Liste_pièces!B109=\"\",\"ZZZ\",Liste_pièces!B109)","v":"ELE"},{"$f":"IF(Liste_pièces!C109=\"\",\"\",Liste_pièces!C109)","v":"rallonge luminaire arrière"},{"$f":"IF(Liste_pièces!D109=\"\",\"\",Liste_pièces!D109)","v":"connecteur 4 fils mâle"},{"$f":"IF(Liste_pièces!E109=\"\",\"\",Liste_pièces!E109)","v":""},{"$f":"IF(Liste_pièces!F109=\"\",\"\",Liste_pièces!F109)","v":"4 contacts, 1 rang pas 6mm, série AMP Superseal 1.5"},{"$f":"IF(Liste_pièces!G109=\"\",\"\",Liste_pièces!G109)","v":""},{"$f":"IF(Liste_pièces!H109=\"\",\"\",Liste_pièces!H109)","v":"assemblage fournisseur"},{"$f":"IF(Liste_pièces!I109=\"\",\"\",Liste_pièces!I109)","v":""},{"$f":"IF(Liste_pièces!J109=\"\",\"\",Liste_pièces!J109)","v":0},{"$f":"IF(Liste_pièces!K109=\"\",\"\",Liste_pièces!K109)","v":0},{"$f":"IF(Liste_pièces!L109=\"\",\"\",Liste_pièces!L109)","v":0},{"$f":"IF(Liste_pièces!M109=\"\",\"\",Liste_pièces!M109)","v":0.4},4,0,5]
[{"$f":"IF(Liste_pièces!A110=\"\",\"ZZZ\",Liste_pièces!A110)","v":"ELE22"},{"$f":"IF(Liste_pièces!B110=\"\",\"ZZZ\",Liste_pièces!B110)","v":"ELE"},{"$f":"IF(Liste_pièces!C110=\"\",\"\",Liste_pièces!C110)","v":"RALLONGE LUMINAIRE AVANT"},{"$f":"IF(Liste_pièces!D110=\"\",\"\",Liste_pièces!D110)","v":"câble"},{"$f":"IF(Liste_pièces!E110=\"\",\"\",Liste_pièces!E110)","v":"4 fils x 0,75 mm²"},{"$f":"IF(Liste_pièces!F110=\"\",\"\",Liste_pièces!F110)","v":"souple, pack longueur 15m"},{"$f":"IF(Liste_pièces!G110=\"\",\"\",Liste_pièces!G110)","v":""},{"$f":"IF(Liste_pièces!H110=\"\",\"\",Liste_pièces!H110)","v":"assemblage fournisseur"},{"$f":"IF(Liste_pièces!I110=\"\",\"\",Liste_pièces!I110)","v":""},{"$f":"IF(Liste_pièces!J110=\"\",\"\",Liste_pièces!J110)","v":0},{"$f":"IF(Liste_pièces!K110=\"\",\"\",Liste_pièces!K110)","v":0},{"$f":"IF(Liste_pièces!L110=\"\",\"\",Liste_pièces!L110)","v":0},{"$f":"IF(Liste_pièces!M110=\"\",\"\",Liste_pièces!M110)","v":0.4},4,0,5]
[{"$f":"IF(Liste_pièces!A111=\"\",\"ZZZ\",Liste_pièces!A111)","v":"ELE23"},{"$f":"IF(Liste_pièces!B111=\"\",\"ZZZ\",Liste_pièces!B111)","v":"ELE"},{"$f":"IF(Liste_pièces!C111=\"\",\"\",Liste_pièces!C111)","v":"rallonge luminaire avant"},{"$f":"IF(Liste_pièces!D111=\"\",\"\",Liste_pièces!D111)","v":"connecteur 4 fils mâle"},{"$f":"IF(Liste_pièces!E111=\"\",\"\",Liste_pièces!E111)","v":""},{"$f":"IF(Liste_pièces!F111=\"\",\"\",Liste_pièces!F111)","v":"4 contacts, 1 rang pas 6mm, série AMP Superseal 1.5"},{"$f":"IF(Liste_pièces!G111=\"\",\"\",Liste_pièces!G111)","v":""},{"$f":"IF(Liste_pièces!H111=\"\",\"\",Liste_pièces!H111)","v":"assemblage fournisseur"},{"$f":"IF(Liste_pièces!I111=\"\",\"\",Liste_pièces!I111)","v":""},{"$f":"IF(Liste_pièces!J111=\"\",\"\",Liste_pièces!J111)","v":0},{"$f":"IF(Liste_pièces!K111=\"\",\"\",Liste_pièces!K111)","v":0},{"$f":"IF(Liste_pièces!L111=\"\",\"\",Liste_pièces!L111)","v":0},{"$f":"IF(Liste_pièces!M111=\"\",\"\",Liste_pièces!M111)","v":0.4},4,0,5]
[{"$f":"IF(Liste_pièces!A112=\"\",\"ZZZ\",Liste_pièces!A112)","v":"ELE24"},{"$f":"IF(Liste_pièces!B112=\"\",\"ZZZ\",Liste_pièces!B112)","v":"ELE"},{"$f":"IF(Liste_pièces!C112=\"\",\"\",Liste_pièces!C112)","v":"rallonge 12V avant"},{"$f":"IF(Liste_pièces!D112=\"\",\"\",Liste_pièces!D112)","v":"câble rouge"},{"$f":"IF(Liste_pièces!E112=\"\",\"\",Liste_pièces!E112)","v":"2 fils x 4 mm²"},{"$f":"IF(Liste_pièces!F112=\"\",\"\",Liste_pièces!F112)","v":"souple, pack longueur 10m"},{"$f":"IF(Liste_pièces!G112=\"\",\"\",Liste_pièces!G112)","v":""},{"$f":"IF(Liste_pièces!H112=\"\",\"\",Liste_pièces!H112)","v":"assemblage fournisseur"},{"$f":"IF(Liste_pièces!I112=\"\",\"\",Liste_pièces!I112)","v":""},{"$f":"IF(Liste_pièces!J112=\"\",\"\",Liste_pièces!J112)","v":0},{"$f":"IF(Liste_pièces!K112=\"\",\"\",Liste_pièces!K112)","v":0},{"$f":"IF(Liste_pièces!L112=\"\",\"\",Liste_pièces!L112)","v":0},{"$f":"IF(Liste_pièces!M112=\"\",\"\",Liste_pièces!M112)","v":0.5},4,0,5]
[{"$f":"IF(Liste_pièces!A113=\"\",\"ZZZ\",Liste_pièces!A113)","v":"ELE25"},{"$f":"IF(Liste_pièces!B113=\"\",\"ZZZ\",Liste_pièces!B113)","v":"ELE"},{"$f":"IF(Liste_pièces!C113=\"\",\"\",Liste_pièces!C113)","v":"rallonge 12V avant"},{"$f":"IF(Liste_pièces!D113=\"\",\"\",Liste_pièces!D113)","v":"câble noir"},{"$f":"IF(Liste_pièces!E113=\"\",\"\",Liste_pièces!E113)","v":"2 fils x 4 mm²"},{"$f":"IF(Liste_pièces!F113=\"\",\"\",Liste_pièces!F113)","v":"souple, pack longueur 10m"},{"$f":"IF(Liste_pièces!G113=\"\",\"\",Liste_pièces!G113)","v":""},{"$f":"IF(Liste_pièces!H113=\"\",\"\",Liste_pièces!H113)","v":"assemblage fournisseur"},{"$f":"IF(Liste_pièces!I113=\"\",\"\",Liste_pièces!I113)","v":""},{"$f":"IF(Liste_pièces!J113=\"\",\"\",Liste_pièces!J113)","v":0},{"$f":"IF(Liste_pièces!K113=\"\",\"\",Liste_pièces!K113)","v":0},{"$f":"IF(Liste_pièces!L113=\"\",\"\",Liste_pièces!L113)","v":0},{"$f":"IF(Liste_pièces!M113=\"\",\"\",Liste_pièces!M113)","v":0.4},4,0,5]
[{"$f":"IF(Liste_pièces!A114=\"\",\"ZZZ\",Liste_pièces!A114)","v":"ELE26"},{"$f":"IF(Liste_pièces!B114=\"\",\"ZZZ\",Liste_pièces!B114)","v":"ELE"},{"$f":"IF(Liste_pièces!C114=\"\",\"\",Liste_pièces!C114)","v":"rallonge 12V avant"},{"$f":"IF(Liste_pièces!D114=\"\",\"\",Liste_pièces!D114)","v":"gaine de câble électrique"},{"$f":"IF(Liste_pièces!E114=\"\",\"\",Liste_pièces!E114)","v":"gaine tressée 10mm pour les rallonges câble 4mm² 12V"},{"$f":"IF(Liste_pièces!F114=\"\",\"\",Liste_pièces!F114)","v":""},{"$f":"IF(Liste_pièces!G114=\"\",\"\",Liste_pièces!G114)","v":""},{"$f":"IF(Liste_pièces!H114=\"\",\"\",Liste_pièces!H114)","v":"assemblage fournisseur"},{"$f":"IF(Liste_pièces!I114=\"\",\"\",Liste_pièces!I114)","v":""},{"$f":"IF(Liste_pièces!J114=\"\",\"\",Liste_pièces!J114)","v":0},{"$f":"IF(Liste_pièces!K114=\"\",\"\",Liste_pièces!K114)","v":0},{"$f":"IF(Liste_pièces!L114=\"\",\"\",Liste_pièces!L114)","v":0},{"$f":"IF(Liste_pièces!M114=\"\",\"\",Liste_pièces!M114)","v":0.6},4,0,5]
[{"$f":"IF(Liste_pièces!A115=\"\",\"ZZZ\",Liste_pièces!A115)","v":"ELE27"},{"$f":"IF(Liste_pièces!B115=\"\",\"ZZZ\",Liste_pièces!B115)","v":"ELE"},{"$f":"IF(Liste_pièces!C115=\"\",\"\",Liste_pièces!C115)","v":"rallonge 12V avant"},{"$f":"IF(Liste_pièces!D115=\"\",\"\",Liste_pièces!D115)","v":"connecteur à sertir"},{"$f":"IF(Liste_pièces!E115=\"\",\"\",Liste_pièces!E115)","v":"pour câble 4mm², jaune"},{"$f":"IF(Liste_pièces!F115=\"\",\"\",Liste_pièces!F115)","v":""},{"$f":"IF(Liste_pièces!G115=\"\",\"\",Liste_pièces!G115)","v":""},{"$f":"IF(Liste_pièces!H115=\"\",\"\",Liste_pièces!H115)","v":"assemblage fournisseur"},{"$f":"IF(Liste_pièces!I115=\"\",\"\",Liste_pièces!I115)","v":""},{"$f":"IF(Liste_pièces!J115=\"\",\"\",Liste_pièces!J115)","v":0},{"$f":"IF(Liste_pièces!K115=\"\",\"\",Liste_pièces!K115)","v":0},{"$f":"IF(Liste_pièces!L115=\"\",\"\",Liste_pièces!L115)","v":0},{"$f":"IF(Liste_pièces!M115=\"\",\"\",Liste_pièces!M115)","v":0.6},4,0,5]
[{"$f":"IF(Liste_pièces!A116=\"\",\"ZZZ\",Liste_pièces!A116)","v":"ELE28"},{"$f":"IF(Liste_pièces!B116=\"\",\"ZZZ\",Liste_pièces!B116)","v":"ELE"},{"$f":"IF(Liste_pièces!C116=\"\",\"\",Liste_pièces!C116)","v":"rallonge 12V arrière"},{"$f":"IF(Liste_pièces!D116=\"\",\"\",Liste_pièces!D116)","v":"câble rouge"},{"$f":"IF(Liste_pièces!E116=\"\",\"\",Liste_pièces!E116)","v":"2 fils x 4 mm²"},{"$f":"IF(Liste_pièces!F116=\"\",\"\",Liste_pièces!F116)","v":"souple, pack longueur 10m"},{"$f":"IF(Liste_pièces!G116=\"\",\"\",Liste_pièces!G116)","v":""},{"$f":"IF(Liste_pièces!H116=\"\",\"\",Liste_pièces!H116)","v":"assemblage fournisseur"},{"$f":"IF(Liste_pièces!I116=\"\",\"\",Liste_pièces!I116)","v":""},{"$f":"IF(Liste_pièces!J116=\"\",\"\",Liste_pièces!J116)","v":0},{"$f":"IF(Liste_pièces!K116=\"\",\"\",Liste_pièces!K116)","v":0},{"$f":"IF(Liste_pièces!L116=\"\",\"\",Liste_pièces!L116)","v":0},{"$f":"IF(Liste_pièces!M116=\"\",\"\",Liste_pièces!M116)","v":0.5},4,0,5]
[{"$f":"IF(Liste_pièces!A117=\"\",\"ZZZ\",Liste_pièces!A117)","v":"ELE29"},{"$f":"IF(Liste_pièces!B117=\"\",\"ZZZ\",Liste_pièces!B117)","v":"ELE"},{"$f":"IF(Liste_pièces!C117=\"\",\"\",Liste_pièces!C117)","v":"rallonge 12V arrière"},{"$f":"IF(Liste_pièces!D117=\"\",\"\",Liste_pièces!D117)","v":"câble noir"},{"$f":"IF(Liste_pièces!E117=\"\",\"\",Liste_pièces!E117)","v":"2 fils x 4 mm²"},{"$f":"IF(Liste_pièces!F117=\"\",\"\",Liste_pièces!F117)","v":"souple, pack longueur 10m"},{"$f":"IF(Liste_pièces!G117=\"\",\"\",Liste_pièces!G117)","v":""},{"$f":"IF(Liste_pièces!H117=\"\",\"\",Liste_pièces!H117)","v":"assemblage fournisseur"},{"$f":"IF(Liste_pièces!I117=\"\",\"\",Liste_pièces!I117)","v":""},{"$f":"IF(Liste_pièces!J117=\"\",\"\",Liste_pièces!J117)","v":0},{"$f":"IF(Liste_pièces!K117=\"\",\"\",Liste_pièces!K117)","v":0},{"$f":"IF(Liste_pièces!L117=\"\",\"\",Liste_pièces!L117)","v":0},{"$f":"IF(Liste_pièces!M117=\"\",\"\",Liste_pièces!M117)","v":0.6},4,0,5]
[{"$f":"IF(Liste_pièces!A118=\"\",\"ZZZ\",Liste_pièces!A118)","v":"ELE30"},{"$f":"IF(Liste_pièces!B118=\"\",\"ZZZ\",Liste_pièces!B118)","v":"ELE"},{"$f":"IF(Liste_pièces!C118=\"\",\"\",Liste_pièces!C118)","v":"rallonge 12V arrière"},{"$f":"IF(Liste_pièces!D118=\"\",\"\",Liste_pièces!D118)","v":"gaine de câble électrique"},{"$f":"IF(Liste_pièces!E118=\"\",\"\",Liste_pièces!E118)","v":"gaine tressée 10mm pour les rallonges câble 4mm² 12V"},{"$f":"IF(Liste_pièces!F118=\"\",\"\",Liste_pièces!F118)","v":""},{"$f":"IF(Liste_pièces!G118=\"\",\"\",Liste_pièces!G118)","v":""},{"$f":"IF(Liste_pièces!H118=\"\",\"\",Liste_pièces!H118)","v":"assemblage fournisseur"},{"$f":"IF(Liste_pièces!I118=\"\",\"\",Liste_pièces!I118)","v":""},{"$f":"IF(Liste_pièces!J118=\"\",\"\",Liste_pièces!J118)","v":0},{"$f":"IF(Liste_pièces!K118=\"\",\"\",Liste_pièces!K118)","v":0},{"$f":"IF(Liste_pièces!L118=\"\",\"\",Liste_pièces!L118)","v":0},{"$f":"IF(Liste_pièces!M118=\"\",\"\",Liste_pièces!M118)","v":0.6},4,0,5]
[{"$f":"IF(Liste_pièces!A119=\"\",\"ZZZ\",Liste_pièces!A119)","v":"ELE31"},{"$f":"IF(Liste_pièces!B119=\"\",\"ZZZ\",Liste_pièces!B119)","v":"ELE"},{"$f":"IF(Liste_pièces!C119=\"\",\"\",Liste_pièces!C119)","v":"rallonge 12V arrière"},{"$f":"IF(Liste_pièces!D119=\"\",\"\",Liste_pièces!D119)","v":"connecteur à sertir"},{"$f":"IF(Liste_pièces!E119=\"\",\"\",Liste_pièces!E119)","v":"pour câble 4mm², jaune"},{"$f":"IF(Liste_pièces!F119=\"\",\"\",Liste_pièces!F119)","v":""},{"$f":"IF(Liste_pièces!G119=\"\",\"\",Liste_pièces!G119)","v":""},{"$f":"IF(Liste_pièces!H119=\"\",\"\",Liste_pièces!H119)","v":"assemblage fournisseur"},{"$f":"IF(Liste_pièces!I119=\"\",\"\",Liste_pièces!I119)","v":""},{"$f":"IF(Liste_pièces!J119=\"\",\"\",Liste_pièces!J119)","v":0},{"$f":"IF(Liste_pièces!K119=\"\",\"\",Liste_pièces!K119)","v":0},{"$f":"IF(Liste_pièces!L119=\"\",\"\",Liste_pièces!L119)","v":0},{"$f":"IF(Liste_pièces!M119=\"\",\"\",Liste_pièces!M119)","v":0.5},4,0,5]
[{"$f":"IF(Liste_pièces!A79=\"\",\"ZZZ\",Liste_pièces!A79)","v":"ELE32"},{"$f":"IF(Liste_pièces!B79=\"\",\"ZZZ\",Liste_pièces!B79)","v":"ELE"},{"$f":"IF(Liste_pièces!C79=\"\",\"\",Liste_pièces!C79)","v":""},{"$f":"IF(Liste_pièces!D79=\"\",\"\",Liste_pièces!D79)","v":"embouts de câblage"},{"$f":"IF(Liste_pièces!E79=\"\",\"\",Liste_pièces!E79)","v":""},{"$f":"IF(Liste_pièces!F79=\"\",\"\",Liste_pièces!F79)","v":""},{"$f":"IF(Liste_pièces!G79=\"\",\"\",Liste_pièces!G79)","v":"nécessaire pour ceux qui veulent faire leur propre assemblage électrique"},{"$f":"IF(Liste_pièces!H79=\"\",\"\",Liste_pièces!H79)","v":"assemblage fournisseur"},{"$f":"IF(Liste_pièces!I79=\"\",\"\",Liste_pièces!I79)","v":""},{"$f":"IF(Liste_pièces!J79=\"\",\"\",Liste_pièces!J79)","v":0},{"$f":"IF(Liste_pièces!K79=\"\",\"\",Liste_pièces!K79)","v":0},{"$f":"IF(Liste_pièces!L79=\"\",\"\",Liste_pièces!L79)","v":0},{"$f":"IF(Liste_pièces!M79=\"\",\"\",Liste_pièces!M79)","v":0},4,0,5]
[{"$f":"IF(Liste_pièces!A80=\"\",\"ZZZ\",Liste_pièces!A80)","v":"ELE33"},{"$f":"IF(Liste_pièces!B80=\"\",\"ZZZ\",Liste_pièces!B80)","v":"ELE"},{"$f":"IF(Liste_pièces!C80=\"\",\"\",Liste_pièces!C80)","v":""},{"$f":"IF(Liste_pièces!D80=\"\",\"\",Liste_pièces!D80)","v":"gaine thermo rétractable"},{"$f":"IF(Liste_pièces!E80=\"\",\"\",Liste_pièces!E80)","v":""},{"$f":"IF(Liste_pièces!F80=\"\",\"\",Liste_pièces!F80)","v":""},{"$f":"IF(Liste_pièces!G80=\"\",\"\",Liste_pièces!G80)","v":"nécessaire pour ceux qui veulent faire leur propre assemblage électrique"},{"$f":"IF(Liste_pièces!H80=\"\",\"\",Liste_pièces!H80)","v":"assemblage fournisseur"},{"$f":"IF(Liste_pièces!I80=\"\",\"\",Liste_pièces!I80)","v":""},{"$f":"IF(Liste_pièces!J80=\"\",\"\",Liste_pièces!J80)","v":0},{"$f":"IF(Liste_pièces!K80=\"\",\"\",Liste_pièces!K80)","v":0},{"$f":"IF(Liste_pièces!L80=\"\",\"\",Liste_pièces!L80)","v":0},{"$f":"IF(Liste_pièces!M80=\"\",\"\",Liste_pièces!M80)","v":0},4,0,5]
[{"$f":"IF(Liste_pièces!A59=\"\",\"ZZZ\",Liste_pièces!A59)","v":"ELE34"},{"$f":"IF(Liste_pièces!B59=\"\",\"ZZZ\",Liste_pièces!B59)","v":"ELE"},{"$f":"IF(Liste_pièces!C59=\"\",\"\",Liste_pièces!C59)","v":""},{"$f":"IF(Liste_pièces!D59=\"\",\"\",Liste_pièces!D59)","v":"régulateur de charge solaire type MPPT"},{"$f":"IF(Liste_pièces!E59=\"\",\"\",Liste_pièces!E59)","v":""},{"$f":"IF(Liste_pièces!F59=\"\",\"\",Liste_pièces!F59)","v":"36V"},{"$f":"IF(Liste_pièces!G59=\"\",\"\",Liste_pièces!G59)","v":""},{"$f":"IF(Liste_pièces!H59=\"\",\"\",Liste_pièces!H59)","v":"achat"},{"$f":"IF(Liste_pièces!I59=\"\",\"\",Liste_pièces!I59)","v":""},{"$f":"IF(Liste_pièces!J59=\"\",\"\",Liste_pièces!J59)","v":0},{"$f":"IF(Liste_pièces!K59=\"\",\"\",Liste_pièces!K59)","v":0},{"$f":"IF(Liste_pièces!L59=\"\",\"\",Liste_pièces!L59)","v":1},{"$f":"IF(Liste_pièces!M59=\"\",\"\",Liste_pièces!M59)","v":0},4,0,5]
[{"$f":"IF(Liste_pièces!A63=\"\",\"ZZZ\",Liste_pièces!A63)","v":"ELE35"},{"$f":"IF(Liste_pièces!B63=\"\",\"ZZZ\",Liste_pièces!B63)","v":"ELE"},{"$f":"IF(Liste_pièces!C63=\"\",\"\",Liste_pièces!C63)","v":"quincaillerie"},{"$f":"IF(Liste_pièces!D63=\"\",\"\",Liste_pièces!D63)","v":"connecteurs WAGO"},{"$f":"IF(Liste_pièces!E63=\"\",\"\",Liste_pièces!E63)","v":"pas besoin d’outil"},{"$f":"IF(Liste_pièces!F63=\"\",\"\",Liste_pièces!F63)","v":""},{"$f":"IF(Liste_pièces!G63=\"\",\"\",Liste_pièces!G63)","v":"raccordement du régulateur de charge au panneau solaire et au connecteur batterie"},{"$f":"IF(Liste_pièces!H63=\"\",\"\",Liste_pièces!H63)","v":"achat"},{"$f":"IF(Liste_pièces!I63=\"\",\"\",Liste_pièces!I63)","v":""},{"$f":"IF(Liste_pièces!J63=\"\",\"\",Liste_pièces!J63)","v":0},{"$f":"IF(Liste_pièces!K63=\"\",\"\",Liste_pièces!K63)","v":2},{"$f":"IF(Liste_pièces!L63=\"\",\"\",Liste_pièces!L63)","v":6},{"$f":"IF(Liste_pièces!M63=\"\",\"\",Liste_pièces!M63)","v":0},4,0,5]
[{"$f":"IF(Liste_pièces!A62=\"\",\"ZZZ\",Liste_pièces!A62)","v":"ELE36"},{"$f":"IF(Liste_pièces!B62=\"\",\"ZZZ\",Liste_pièces!B62)","v":"ELE"},{"$f":"IF(Liste_pièces!C62=\"\",\"\",Liste_pièces!C62)","v":""},{"$f":"IF(Liste_pièces!D62=\"\",\"\",Liste_pièces!D62)","v":"câble électrique 2 fils"},{"$f":"IF(Liste_pièces!E62=\"\",\"\",Liste_pièces!E62)","v":"souple (multibrin), section 2mm²"},{"$f":"IF(Liste_pièces!F62=\"\",\"\",Liste_pièces!F62)","v":""},{"$f":"IF(Liste_pièces!G62=\"\",\"\",Liste_pièces!G62)","v":"raccordements électriques divers"},{"$f":"IF(Liste_pièces!H62=\"\",\"\",Liste_pièces!H62)","v":"achat"},{"$f":"IF(Liste_pièces!I62=\"\",\"\",Liste_pièces!I62)","v":""},{"$f":"IF(Liste_pièces!J62=\"\",\"\",Liste_pièces!J62)","v":0},{"$f":"IF(Liste_pièces!K62=\"\",\"\",Liste_pièces!K62)","v":0},{"$f":"IF(Liste_pièces!L62=\"\",\"\",Liste_pièces!L62)","v":1},{"$f":"IF(Liste_pièces!M62=\"\",\"\",Liste_pièces!M62)","v":1},4,0,5]
[{"$f":"IF(Liste_pièces!A60=\"\",\"ZZZ\",Liste_pièces!A60)","v":"ELE37"},{"$f":"IF(Liste_pièces!B60=\"\",\"ZZZ\",Liste_pièces!B60)","v":"ELE"},{"$f":"IF(Liste_pièces!C60=\"\",\"\",Liste_pièces!C60)","v":"boîtier électrique"},{"$f":"IF(Liste_pièces!D60=\"\",\"\",Liste_pièces!D60)","v":"convertisseur DC/DC 36-12V"},{"$f":"IF(Liste_pièces!E60=\"\",\"\",Liste_pièces!E60)","v":""},{"$f":"IF(Liste_pièces!F60=\"\",\"\",Liste_pièces!F60)","v":"300W - 25A"},{"$f":"IF(Liste_pièces!G60=\"\",\"\",Liste_pièces!G60)","v":""},{"$f":"IF(Liste_pièces!H60=\"\",\"\",Liste_pièces!H60)","v":"assemblage fournisseur"},{"$f":"IF(Liste_pièces!I60=\"\",\"\",Liste_pièces!I60)","v":""},{"$f":"IF(Liste_pièces!J60=\"\",\"\",Liste_pièces!J60)","v":0},{"$f":"IF(Liste_pièces!K60=\"\",\"\",Liste_pièces!K60)","v":0},{"$f":"IF(Liste_pièces!L60=\"\",\"\",Liste_pièces!L60)","v":0},{"$f":"IF(Liste_pièces!M60=\"\",\"\",Liste_pièces!M60)","v":0},4,0,5]
[{"$f":"IF(Liste_pièces!A70=\"\",\"ZZZ\",Liste_pièces!A70)","v":"ELE91"},{"$f":"IF(Liste_pièces!B70=\"\",\"ZZZ\",Liste_pièces!B70)","v":"ELE"},{"$f":"IF(Liste_pièces!C70=\"\",\"\",Liste_pièces!C70)","v":"RALLONGE 12V ARRIÈRE"},{"$f":"IF(Liste_pièces!D70=\"\",\"\",Liste_pièces!D70)","v":"ensemble rallonge 12V arrière"},{"$f":"IF(Liste_pièces!E70=\"\",\"\",Liste_pièces!E70)","v":""},{"$f":"IF(Liste_pièces!F70=\"\",\"\",Liste_pièces!F70)","v":""},{"$f":"IF(Liste_pièces!G70=\"\",\"\",Liste_pièces!G70)","v":""},{"$f":"IF(Liste_pièces!H70=\"\",\"\",Liste_pièces!H70)","v":"achat"},{"$f":"IF(Liste_pièces!I70=\"\",\"\",Liste_pièces!I70)","v":""},{"$f":"IF(Liste_pièces!J70=\"\",\"\",Liste_pièces!J70)","v":0},{"$f":"IF(Liste_pièces!K70=\"\",\"\",Liste_pièces!K70)","v":0},{"$f":"IF(Liste_pièces!L70=\"\",\"\",Liste_pièces!L70)","v":0},{"$f":"IF(Liste_pièces!M70=\"\",\"\",Liste_pièces!M70)","v":1},4,1,6]
[{"$f":"IF(Liste_pièces!A69=\"\",\"ZZZ\",Liste_pièces!A69)","v":"ELE92"},{"$f":"IF(Liste_pièces!B69=\"\",\"ZZZ\",Liste_pièces!B69)","v":"ELE"},{"$f":"IF(Liste_pièces!C69=\"\",\"\",Liste_pièces!C69)","v":"RALLONGE LUMINAIRE AVANT"},{"$f":"IF(Liste_pièces!D69=\"\",\"\",Liste_pièces!D69)","v":"ensemble rallonge 12V avant"},{"$f":"IF(Liste_pièces!E69=\"\",\"\",Liste_pièces!E69)","v":""},{"$f":"IF(Liste_pièces!F69=\"\",\"\",Liste_pièces!F69)","v":""},{"$f":"IF(Liste_pièces!G69=\"\",\"\",Liste_pièces!G69)","v":""},{"$f":"IF(Liste_pièces!H69=\"\",\"\",Liste_pièces!H69)","v":"achat"},{"$f":"IF(Liste_pièces!I69=\"\",\"\",Liste_pièces!I69)","v":""},{"$f":"IF(Liste_pièces!J69=\"\",\"\",Liste_pièces!J69)","v":0},{"$f":"IF(Liste_pièces!K69=\"\",\"\",Liste_pièces!K69)","v":0},{"$f":"IF(Liste_pièces!L69=\"\",\"\",Liste_pièces!L69)","v":0},{"$f":"IF(Liste_pièces!M69=\"\",\"\",Liste_pièces!M69)","v":1},4,1,6]
[{"$f":"IF(Liste_pièces!A68=\"\",\"ZZZ\",Liste_pièces!A68)","v":"ELE93"},{"$f":"IF(Liste_pièces!B68=\"\",\"ZZZ\",Liste_pièces!B68)","v":"ELE"},{"$f":"IF(Liste_pièces!C68=\"\",\"\",Liste_pièces!C68)","v":"RALLONGE LUMINAIRE AVANT"},{"$f":"IF(Liste_pièces!D68=\"\",\"\",Liste_pièces!D68)","v":"ensemble rallonge luminaire avant"},{"$f":"IF(Liste_pièces!E68=\"\",\"\",Liste_pièces!E68)","v":""},{"$f":"IF(Liste_pièces!F68=\"\",\"\",Liste_pièces!F68)","v":""},{"$f":"IF(Liste_pièces!G68=\"\",\"\",Liste_pièces!G68)","v":""},{"$f":"IF(Liste_pièces!H68=\"\",\"\",Liste_pièces!H68)","v":"achat"},{"$f":"IF(Liste_pièces!I68=\"\",\"\",Liste_pièces!I68)","v":""},{"$f":"IF(Liste_pièces!J68=\"\",\"\",Liste_pièces!J68)","v":0},{"$f":"IF(Liste_pièces!K68=\"\",\"\",Liste_pièces!K68)","v":0},{"$f":"IF(Liste_pièces!L68=\"\",\"\",Liste_pièces!L68)","v":0},{"$f":"IF(Liste_pièces!M68=\"\",\"\",Liste_pièces!M68)","v":1},4,1,6]
[{"$f":"IF(Liste_pièces!A67=\"\",\"ZZZ\",Liste_pièces!A67)","v":"ELE94"},{"$f":"IF(Liste_pièces!B67=\"\",\"ZZZ\",Liste_pièces!B67)","v":"ELE"},{"$f":"IF(Liste_pièces!C67=\"\",\"\",Liste_pièces!C67)","v":"RALLONGE LUMINAIRE ARRIÈRE"},{"$f":"IF(Liste_pièces!D67=\"\",\"\",Liste_pièces!D67)","v":"ensemble rallonge luminaire arrière"},{"$f":"IF(Liste_pièces!E67=\"\",\"\",Liste_pièces!E67)","v":""},{"$f":"IF(Liste_pièces!F67=\"\",\"\",Liste_pièces!F67)","v":""},{"$f":"IF(Liste_pièces!G67=\"\",\"\",Liste_pièces!G67)","v":""},{"$f":"IF(Liste_pièces!H67=\"\",\"\",Liste_pièces!H67)","v":"achat"},{"$f":"IF(Liste_pièces!I67=\"\",\"\",Liste_pièces!I67)","v":""},{"$f":"IF(Liste_pièces!J67=\"\",\"\",Liste_pièces!J67)","v":0},{"$f":"IF(Liste_pièces!K67=\"\",\"\",Liste_pièces!K67)","v":0},{"$f":"IF(Liste_pièces!L67=\"\",\"\",Liste_pièces!L67)","v":0},{"$f":"IF(Liste_pièces!M67=\"\",\"\",Liste_pièces!M67)","v":1},4,{"$f":"IF(N106*37=SUM(N69:N105),1,0)","v":1},6]
[{"$f":"IF(Liste_pièces!A74=\"\",\"ZZZ\",Liste_pièces!A74)","v":"ELE95"},{"$f":"IF(Liste_pièces!B74=\"\",\"ZZZ\",Liste_pièces!B74)","v":"ELE"},{"$f":"IF(Liste_pièces!C74=\"\",\"\",Liste_pièces!C74)","v":"BLOC LUMINAIRE ARRIÈRE DROIT"},{"$f":"IF(Liste_pièces!D74=\"\",\"\",Liste_pièces!D74)","v":"ensemble bloc luminaire arrière droit"},{"$f":"IF(Liste_pièces!E74=\"\",\"\",Liste_pièces!E74)","v":""},{"$f":"IF(Liste_pièces!F74=\"\",\"\",Liste_pièces!F74)","v":""},{"$f":"IF(Liste_pièces!G74=\"\",\"\",Liste_pièces!G74)","v":""},{"$f":"IF(Liste_pièces!H74=\"\",\"\",Liste_pièces!H74)","v":"achat"},{"$f":"IF(Liste_pièces!I74=\"\",\"\",Liste_pièces!I74)","v":""},{"$f":"IF(Liste_pièces!J74=\"\",\"\",Liste_pièces!J74)","v":0},{"$f":"IF(Liste_pièces!K74=\"\",\"\",Liste_pièces!K74)","v":0},{"$f":"IF(Liste_pièces!L74=\"\",\"\",Liste_pièces!L74)","v":0},{"$f":"IF(Liste_pièces!M74=\"\",\"\",Liste_pièces!M74)","v":1},4,1,6]
[{"$f":"IF(Liste_pièces!A73=\"\",\"ZZZ\",Liste_pièces!A73)","v":"ELE96"},{"$f":"IF(Liste_pièces!B73=\"\",\"ZZZ\",Liste_pièces!B73)","v":"ELE"},{"$f":"IF(Liste_pièces!C73=\"\",\"\",Liste_pièces!C73)","v":"BLOC LUMINAIRE ARRIÈRE GAUCHE"},{"$f":"IF(Liste_pièces!D73=\"\",\"\",Liste_pièces!D73)","v":"ensemble bloc luminaire arrière gauche"},{"$f":"IF(Liste_pièces!E73=\"\",\"\",Liste_pièces!E73)","v":""},{"$f":"IF(Liste_pièces!F73=\"\",\"\",Liste_pièces!F73)","v":""},{"$f":"IF(Liste_pièces!G73=\"\",\"\",Liste_pièces!G73)","v":""},{"$f":"IF(Liste_pièces!H73=\"\",\"\",Liste_pièces!H73)","v":"achat"},{"$f":"IF(Liste_pièces!I73=\"\",\"\",Liste_pièces!I73)","v":""},{"$f":"IF(Liste_pièces!J73=\"\",\"\",Liste_pièces!J73)","v":0},{"$f":"IF(Liste_pièces!K73=\"\",\"\",Liste_pièces!K73)","v":0},{"$f":"IF(Liste_pièces!L73=\"\",\"\",Liste_pièces!L73)","v":0},{"$f":"IF(Liste_pièces!M73=\"\",\"\",Liste_pièces!M73)","v":1},4,1,6]
[{"$f":"IF(Liste_pièces!A72=\"\",\"ZZZ\",Liste_pièces!A72)","v":"ELE97"},{"$f":"IF(Liste_pièces!B72=\"\",\"ZZZ\",Liste_pièces!B72)","v":"ELE"},{"$f":"IF(Liste_pièces!C72=\"\",\"\",Liste_pièces!C72)","v":"BLOC LUMINAIRE AVANT DROIT"},{"$f":"IF(Liste_pièces!D72=\"\",\"\",Liste_pièces!D72)","v":"ensemble bloc luminaire avant droit"},{"$f":"IF(Liste_pièces!E72=\"\",\"\",Liste_pièces!E72)","v":""},{"$f":"IF(Liste_pièces!F72=\"\",\"\",Liste_pièces!F72)","v":""},{"$f":"IF(Liste_pièces!G72=\"\",\"\",Liste_pièces!G72)","v":""},{"$f":"IF(Liste_pièces!H72=\"\",\"\",Liste_pièces!H72)","v":"achat"},{"$f":"IF(Liste_pièces!I72=\"\",\"\",Liste_pièces!I72)","v":""},{"$f":"IF(Liste_pièces!J72=\"\",\"\",Liste_pièces!J72)","v":0},{"$f":"IF(Liste_pièces!K72=\"\",\"\",Liste_pièces!K72)","v":0},{"$f":"IF(Liste_pièces!L72=\"\",\"\",Liste_pièces!L72)","v":0},{"$f":"IF(Liste_pièces!M72=\"\",\"\",Liste_pièces!M72)","v":1},4,1,6]
[{"$f":"IF(Liste_pièces!A71=\"\",\"ZZZ\",Liste_pièces!A71)","v":"ELE98"},{"$f":"IF(Liste_pièces!B71=\"\",\"ZZZ\",Liste_pièces!B71)","v":"ELE"},{"$f":"IF(Liste_pièces!C71=\"\",\"\",Liste_pièces!C71)","v":"BLOC LUMINAIRE AVANT GAUCHE"},{"$f":"IF(Liste_pièces!D71=\"\",\"\",Liste_pièces!D71)","v":"ensemble bloc luminaire avant gauche"},{"$f":"IF(Liste_pièces!E71=\"\",\"\",Liste_pièces!E71)","v":""},{"$f":"IF(Liste_pièces!F71=\"\",\"\",Liste_pièces!F71)","v":""},{"$f":"IF(Liste_pièces!G71=\"\",\"\",Liste_pièces!G71)","v":""},{"$f":"IF(Liste_pièces!H71=\"\",\"\",Liste_pièces!H71)","v":"achat"},{"$f":"IF(Liste_pièces!I71=\"\",\"\",Liste_pièces!I71)","v":""},{"$f":"IF(Liste_pièces!J71=\"\",\"\",Liste_pièces!J71)","v":0},{"$f":"IF(Liste_pièces!K71=\"\",\"\",Liste_pièces!K71)","v":0},{"$f":"IF(Liste_pièces!L71=\"\",\"\",Liste_pièces!L71)","v":0},{"$f":"IF(Liste_pièces!M71=\"\",\"\",Liste_pièces!M71)","v":1},4,1,6]
[{"$f":"IF(Liste_pièces!A64=\"\",\"ZZZ\",Liste_pièces!A64)","v":"ELE99"},{"$f":"IF(Liste_pièces!B64=\"\",\"ZZZ\",Liste_pièces!B64)","v":"ELE"},{"$f":"IF(Liste_pièces!C64=\"\",\"\",Liste_pièces!C64)","v":"BOÎTIER ÉLECTRIQUE"},{"$f":"IF(Liste_pièces!D64=\"\",\"\",Liste_pièces!D64)","v":"ensemble boitier électrique"},{"$f":"IF(Liste_pièces!E64=\"\",\"\",Liste_pièces!E64)","v":""},{"$f":"IF(Liste_pièces!F64=\"\",\"\",Liste_pièces!F64)","v":"inclus MPPT solaire CTKEV300 36V et pattes de fixation"},{"$f":"IF(Liste_pièces!G64=\"\",\"\",Liste_pièces!G64)","v":""},{"$f":"IF(Liste_pièces!H64=\"\",\"\",Liste_pièces!H64)","v":"achat"},{"$f":"IF(Liste_pièces!I64=\"\",\"\",Liste_pièces!I64)","v":""},{"$f":"IF(Liste_pièces!J64=\"\",\"\",Liste_pièces!J64)","v":0},{"$f":"IF(Liste_pièces!K64=\"\",\"\",Liste_pièces!K64)","v":0},{"$f":"IF(Liste_pièces!L64=\"\",\"\",Liste_pièces!L64)","v":0},{"$f":"IF(Liste_pièces!M64=\"\",\"\",Liste_pièces!M64)","v":1},4,1,6]
[{"$f":"IF(Liste_pièces!A23=\"\",\"ZZZ\",Liste_pièces!A23)","v":"FRN01"},{"$f":"IF(Liste_pièces!B23=\"\",\"ZZZ\",Liste_pièces!B23)","v":"FRN"},{"$f":"IF(Liste_pièces!C23=\"\",\"\",Liste_pièces!C23)","v":""},{"$f":"IF(Liste_pièces!D23=\"\",\"\",Liste_pièces!D23)","v":"levier de frein avant"},{"$f":"IF(Liste_pièces!E23=\"\",\"\",Liste_pièces!E23)","v":"double câble"},{"$f":"IF(Liste_pièces!F23=\"\",\"\",Liste_pièces!F23)","v":"avec blocage (frein de parking)"},{"$f":"IF(Liste_pièces!G23=\"\",\"\",Liste_pièces!G23)","v":""},{"$f":"IF(Liste_pièces!H23=\"\",\"\",Liste_pièces!H23)","v":"achat"},{"$f":"IF(Liste_pièces!I23=\"\",\"\",Liste_pièces!I23)","v":""},{"$f":"IF(Liste_pièces!J23=\"\",\"\",Liste_pièces!J23)","v":1},{"$f":"IF(Liste_pièces!K23=\"\",\"\",Liste_pièces!K23)","v":1},{"$f":"IF(Liste_pièces!L23=\"\",\"\",Liste_pièces!L23)","v":1},{"$f":"IF(Liste_pièces!M23=\"\",\"\",Liste_pièces!M23)","v":1},5,0,7]
[{"$f":"IF(Liste_pièces!A24=\"\",\"ZZZ\",Liste_pièces!A24)","v":"FRN02"},{"$f":"IF(Liste_pièces!B24=\"\",\"ZZZ\",Liste_pièces!B24)","v":"FRN"},{"$f":"IF(Liste_pièces!C24=\"\",\"\",Liste_pièces!C24)","v":""},{"$f":"IF(Liste_pièces!D24=\"\",\"\",Liste_pièces!D24)","v":"gaine de câble de frein"},{"$f":"IF(Liste_pièces!E24=\"\",\"\",Liste_pièces!E24)","v":" "},{"$f":"IF(Liste_pièces!F24=\"\",\"\",Liste_pièces!F24)","v":"diamètre extérieur 5mm, avec butées"},{"$f":"IF(Liste_pièces!G24=\"\",\"\",Liste_pièces!G24)","v":""},{"$f":"IF(Liste_pièces!H24=\"\",\"\",Liste_pièces!H24)","v":"achat"},{"$f":"IF(Liste_pièces!I24=\"\",\"\",Liste_pièces!I24)","v":""},{"$f":"IF(Liste_pièces!J24=\"\",\"\",Liste_pièces!J24)","v":2},{"$f":"IF(Liste_pièces!K24=\"\",\"\",Liste_pièces!K24)","v":2},{"$f":"IF(Liste_pièces!L24=\"\",\"\",Liste_pièces!L24)","v":2},{"$f":"IF(Liste_pièces!M24=\"\",\"\",Liste_pièces!M24)","v":2},5,0,7]
[{"$f":"IF(Liste_pièces!A25=\"\",\"ZZZ\",Liste_pièces!A25)","v":"FRN03"},{"$f":"IF(Liste_pièces!B25=\"\",\"ZZZ\",Liste_pièces!B25)","v":"FRN"},{"$f":"IF(Liste_pièces!C25=\"\",\"\",Liste_pièces!C25)","v":""},{"$f":"IF(Liste_pièces!D25=\"\",\"\",Liste_pièces!D25)","v":"disque de frein"},{"$f":"IF(Liste_pièces!E25=\"\",\"\",Liste_pièces!E25)","v":" "},{"$f":"IF(Liste_pièces!F25=\"\",\"\",Liste_pièces!F25)","v":"diamètre 203mm, paire"},{"$f":"IF(Liste_pièces!G25=\"\",\"\",Liste_pièces!G25)","v":"attention : bien sélectionner diamètre 203mm à la commande"},{"$f":"IF(Liste_pièces!H25=\"\",\"\",Liste_pièces!H25)","v":"achat"},{"$f":"IF(Liste_pièces!I25=\"\",\"\",Liste_pièces!I25)","v":""},{"$f":"IF(Liste_pièces!J25=\"\",\"\",Liste_pièces!J25)","v":3},{"$f":"IF(Liste_pièces!K25=\"\",\"\",Liste_pièces!K25)","v":3},{"$f":"IF(Liste_pièces!L25=\"\",\"\",Liste_pièces!L25)","v":3},{"$f":"IF(Liste_pièces!M25=\"\",\"\",Liste_pièces!M25)","v":3},5,0,7]
[{"$f":"IF(Liste_pièces!A26=\"\",\"ZZZ\",Liste_pièces!A26)","v":"FRN04"},{"$f":"IF(Liste_pièces!B26=\"\",\"ZZZ\",Liste_pièces!B26)","v":"FRN"},{"$f":"IF(Liste_pièces!C26=\"\",\"\",Liste_pièces!C26)","v":""},{"$f":"IF(Liste_pièces!D26=\"\",\"\",Liste_pièces!D26)","v":"etrier de frein"},{"$f":"IF(Liste_pièces!E26=\"\",\"\",Liste_pièces!E26)","v":"à câble"},{"$f":"IF(Liste_pièces!F26=\"\",\"\",Liste_pièces!F26)","v":"Plaquettes métalliques"},{"$f":"IF(Liste_pièces!G26=\"\",\"\",Liste_pièces!G26)","v":""},{"$f":"IF(Liste_pièces!H26=\"\",\"\",Liste_pièces!H26)","v":"achat"},{"$f":"IF(Liste_pièces!I26=\"\",\"\",Liste_pièces!I26)","v":""},{"$f":"IF(Liste_pièces!J26=\"\",\"\",Liste_pièces!J26)","v":3},{"$f":"IF(Liste_pièces!K26=\"\",\"\",Liste_pièces!K26)","v":3},{"$f":"IF(Liste_pièces!L26=\"\",\"\",Liste_pièces!L26)","v":3},{"$f":"IF(Liste_pièces!M26=\"\",\"\",Liste_pièces!M26)","v":3},5,0,7]
[{"$f":"IF(Liste_pièces!A27=\"\",\"ZZZ\",Liste_pièces!A27)","v":"FRN05"},{"$f":"IF(Liste_pièces!B27=\"\",\"ZZZ\",Liste_pièces!B27)","v":"FRN"},{"$f":"IF(Liste_pièces!C27=\"\",\"\",Liste_pièces!C27)","v":""},{"$f":"IF(Liste_pièces!D27=\"\",\"\",Liste_pièces!D27)","v":"câble de frein"},{"$f":"IF(Liste_pièces!E27=\"\",\"\",Liste_pièces!E27)","v":""},{"$f":"IF(Liste_pièces!F27=\"\",\"\",Liste_pièces!F27)","v":"Inox, longueur 2 m"},{"$f":"IF(Liste_pièces!G27=\"\",\"\",Liste_pièces!G27)","v":""},{"$f":"IF(Liste_pièces!H27=\"\",\"\",Liste_pièces!H27)","v":"achat"},{"$f":"IF(Liste_pièces!I27=\"\",\"\",Liste_pièces!I27)","v":""},{"$f":"IF(Liste_pièces!J27=\"\",\"\",Liste_pièces!J27)","v":3},{"$f":"IF(Liste_pièces!K27=\"\",\"\",Liste_pièces!K27)","v":3},{"$f":"IF(Liste_pièces!L27=\"\",\"\",Liste_pièces!L27)","v":3},{"$f":"IF(Liste_pièces!M27=\"\",\"\",Liste_pièces!M27)","v":3},5,0,7]
[{"$f":"IF(Liste_pièces!A81=\"\",\"ZZZ\",Liste_pièces!A81)","v":"QIN01"},{"$f":"IF(Liste_pièces!B81=\"\",\"ZZZ\",Liste_pièces!B81)","v":"QIN"},{"$f":"IF(Liste_pièces!C81=\"\",\"\",Liste_pièces!C81)","v":""},{"$f":"IF(Liste_pièces!D81=\"\",\"\",Liste_pièces!D81)","v":"bande auto-agrippante (type « velcro »)"},{"$f":"IF(Liste_pièces!E81=\"\",\"\",Liste_pièces!E81)","v":"adhésif recto/verso, largeur 12mm, longueur 150mm, x100"},{"$f":"IF(Liste_pièces!F81=\"\",\"\",Liste_pièces!F81)","v":""},{"$f":"IF(Liste_pièces!G81=\"\",\"\",Liste_pièces!G81)","v":""},{"$f":"IF(Liste_pièces!H81=\"\",\"\",Liste_pièces!H81)","v":"achat"},{"$f":"IF(Liste_pièces!I81=\"\",\"\",Liste_pièces!I81)","v":""},{"$f":"IF(Liste_pièces!J81=\"\",\"\",Liste_pièces!J81)","v":0},{"$f":"IF(Liste_pièces!K81=\"\",\"\",Liste_pièces!K81)","v":0},{"$f":"IF(Liste_pièces!L81=\"\",\"\",Liste_pièces!L81)","v":1},{"$f":"IF(Liste_pièces!M81=\"\",\"\",Liste_pièces!M81)","v":1},6,0,8]
[{"$f":"IF(Liste_pièces!A120=\"\",\"ZZZ\",Liste_pièces!A120)","v":"QIN02"},{"$f":"IF(Liste_pièces!B120=\"\",\"ZZZ\",Liste_pièces!B120)","v":"QIN"},{"$f":"IF(Liste_pièces!C120=\"\",\"\",Liste_pièces!C120)","v":"quincaillerie"},{"$f":"IF(Liste_pièces!D120=\"\",\"\",Liste_pièces!D120)","v":"capuchon trou platine feux"},{"$f":"IF(Liste_pièces!E120=\"\",\"\",Liste_pièces!E120)","v":""},{"$f":"IF(Liste_pièces!F120=\"\",\"\",Liste_pièces!F120)","v":"diamètre 32mm"},{"$f":"IF(Liste_pièces!G120=\"\",\"\",Liste_pièces!G120)","v":""},{"$f":"IF(Liste_pièces!H120=\"\",\"\",Liste_pièces!H120)","v":"achat"},{"$f":"IF(Liste_pièces!I120=\"\",\"\",Liste_pièces!I120)","v":""},{"$f":"IF(Liste_pièces!J120=\"\",\"\",Liste_pièces!J120)","v":0},{"$f":"IF(Liste_pièces!K120=\"\",\"\",Liste_pièces!K120)","v":0},{"$f":"IF(Liste_pièces!L120=\"\",\"\",Liste_pièces!L120)","v":0},{"$f":"IF(Liste_pièces!M120=\"\",\"\",Liste_pièces!M120)","v":10},6,0,8]
[{"$f":"IF(Liste_pièces!A121=\"\",\"ZZZ\",Liste_pièces!A121)","v":"QIN03"},{"$f":"IF(Liste_pièces!B121=\"\",\"ZZZ\",Liste_pièces!B121)","v":"QIN"},{"$f":"IF(Liste_pièces!C121=\"\",\"\",Liste_pièces!C121)","v":"quincaillerie"},{"$f":"IF(Liste_pièces!D121=\"\",\"\",Liste_pièces!D121)","v":"embout tube D22"},{"$f":"IF(Liste_pièces!E121=\"\",\"\",Liste_pièces!E121)","v":""},{"$f":"IF(Liste_pièces!F121=\"\",\"\",Liste_pièces!F121)","v":"diamètre 22mm"},{"$f":"IF(Liste_pièces!G121=\"\",\"\",Liste_pièces!G121)","v":"x2 pour le guidon, x6 pour le siège conducteur, x6 pour le siège passager"},{"$f":"IF(Liste_pièces!H121=\"\",\"\",Liste_pièces!H121)","v":"achat"},{"$f":"IF(Liste_pièces!I121=\"\",\"\",Liste_pièces!I121)","v":""},{"$f":"IF(Liste_pièces!J121=\"\",\"\",Liste_pièces!J121)","v":6},{"$f":"IF(Liste_pièces!K121=\"\",\"\",Liste_pièces!K121)","v":10},{"$f":"IF(Liste_pièces!L121=\"\",\"\",Liste_pièces!L121)","v":10},{"$f":"IF(Liste_pièces!M121=\"\",\"\",Liste_pièces!M121)","v":10},6,0,8]
[{"$f":"IF(Liste_pièces!A142=\"\",\"ZZZ\",Liste_pièces!A142)","v":"QIN04"},{"$f":"IF(Liste_pièces!B142=\"\",\"ZZZ\",Liste_pièces!B142)","v":"QIN"},{"$f":"IF(Liste_pièces!C142=\"\",\"\",Liste_pièces!C142)","v":"quincaillerie"},{"$f":"IF(Liste_pièces!D142=\"\",\"\",Liste_pièces!D142)","v":"écrou frein M4"},{"$f":"IF(Liste_pièces!E142=\"\",\"\",Liste_pièces!E142)","v":"Inox A2 DIN 985"},{"$f":"IF(Liste_pièces!F142=\"\",\"\",Liste_pièces!F142)","v":""},{"$f":"IF(Liste_pièces!G142=\"\",\"\",Liste_pièces!G142)","v":""},{"$f":"IF(Liste_pièces!H142=\"\",\"\",Liste_pièces!H142)","v":"achat"},{"$f":"IF(Liste_pièces!I142=\"\",\"\",Liste_pièces!I142)","v":""},{"$f":"IF(Liste_pièces!J142=\"\",\"\",Liste_pièces!J142)","v":0},{"$f":"IF(Liste_pièces!K142=\"\",\"\",Liste_pièces!K142)","v":0},{"$f":"IF(Liste_pièces!L142=\"\",\"\",Liste_pièces!L142)","v":13},{"$f":"IF(Liste_pièces!M142=\"\",\"\",Liste_pièces!M142)","v":13},6,0,8]
[{"$f":"IF(Liste_pièces!A123=\"\",\"ZZZ\",Liste_pièces!A123)","v":"QIN05"},{"$f":"IF(Liste_pièces!B123=\"\",\"ZZZ\",Liste_pièces!B123)","v":"QIN"},{"$f":"IF(Liste_pièces!C123=\"\",\"\",Liste_pièces!C123)","v":"quincaillerie"},{"$f":"IF(Liste_pièces!D123=\"\",\"\",Liste_pièces!D123)","v":"bandes réfléchissantes"},{"$f":"IF(Liste_pièces!E123=\"\",\"\",Liste_pièces!E123)","v":"orange, rouge, blanche – 5cm x 3m"},{"$f":"IF(Liste_pièces!F123=\"\",\"\",Liste_pièces!F123)","v":""},{"$f":"IF(Liste_pièces!G123=\"\",\"\",Liste_pièces!G123)","v":""},{"$f":"IF(Liste_pièces!H123=\"\",\"\",Liste_pièces!H123)","v":"achat"},{"$f":"IF(Liste_pièces!I123=\"\",\"\",Liste_pièces!I123)","v":""},{"$f":"IF(Liste_pièces!J123=\"\",\"\",Liste_pièces!J123)","v":1},{"$f":"IF(Liste_pièces!K123=\"\",\"\",Liste_pièces!K123)","v":1},{"$f":"IF(Liste_pièces!L123=\"\",\"\",Liste_pièces!L123)","v":1},{"$f":"IF(Liste_pièces!M123=\"\",\"\",Liste_pièces!M123)","v":1},6,0,8]
[{"$f":"IF(Liste_pièces!A141=\"\",\"ZZZ\",Liste_pièces!A141)","v":"QIN06"},{"$f":"IF(Liste_pièces!B141=\"\",\"ZZZ\",Liste_pièces!B141)","v":"QIN"},{"$f":"IF(Liste_pièces!C141=\"\",\"\",Liste_pièces!C141)","v":"quincaillerie"},{"$f":"IF(Liste_pièces!D141=\"\",\"\",Liste_pièces!D141)","v":"écrou frein M6"},{"$f":"IF(Liste_pièces!E141=\"\",\"\",Liste_pièces!E141)","v":"Inox A2 DIN 985"},{"$f":"IF(Liste_pièces!F141=\"\",\"\",Liste_pièces!F141)","v":""},{"$f":"IF(Liste_pièces!G141=\"\",\"\",Liste_pièces!G141)","v":""},{"$f":"IF(Liste_pièces!H141=\"\",\"\",Liste_pièces!H141)","v":"achat"},{"$f":"IF(Liste_pièces!I141=\"\",\"\",Liste_pièces!I141)","v":""},{"$f":"IF(Liste_pièces!J141=\"\",\"\",Liste_pièces!J141)","v":229},{"$f":"IF(Liste_pièces!K141=\"\",\"\",Liste_pièces!K141)","v":271},{"$f":"IF(Liste_pièces!L141=\"\",\"\",Liste_pièces!L141)","v":409},{"$f":"IF(Liste_pièces!M141=\"\",\"\",Liste_pièces!M141)","v":441},6,0,8]
[{"$f":"IF(Liste_pièces!A122=\"\",\"ZZZ\",Liste_pièces!A122)","v":"QIN07"},{"$f":"IF(Liste_pièces!B122=\"\",\"ZZZ\",Liste_pièces!B122)","v":"QIN"},{"$f":"IF(Liste_pièces!C122=\"\",\"\",Liste_pièces!C122)","v":"quincaillerie"},{"$f":"IF(Liste_pièces!D122=\"\",\"\",Liste_pièces!D122)","v":"embout tube 25x25"},{"$f":"IF(Liste_pièces!E122=\"\",\"\",Liste_pièces!E122)","v":""},{"$f":"IF(Liste_pièces!F122=\"\",\"\",Liste_pièces!F122)","v":"environ 40 unités par vhélio"},{"$f":"IF(Liste_pièces!G122=\"\",\"\",Liste_pièces!G122)","v":"pack de 100"},{"$f":"IF(Liste_pièces!H122=\"\",\"\",Liste_pièces!H122)","v":"achat"},{"$f":"IF(Liste_pièces!I122=\"\",\"\",Liste_pièces!I122)","v":""},{"$f":"IF(Liste_pièces!J122=\"\",\"\",Liste_pièces!J122)","v":1},{"$f":"IF(Liste_pièces!K122=\"\",\"\",Liste_pièces!K122)","v":1},{"$f":"IF(Liste_pièces!L122=\"\",\"\",Liste_pièces!L122)","v":1},{"$f":"IF(Liste_pièces!M122=\"\",\"\",Liste_pièces!M122)","v":1},6,0,8]
[{"$f":"IF(Liste_pièces!A151=\"\",\"ZZZ\",Liste_pièces!A151)","v":"QIN10"},{"$f":"IF(Liste_pièces!B151=\"\",\"ZZZ\",Liste_pièces!B151)","v":"QIN"},{"$f":"IF(Liste_pièces!C151=\"\",\"\",Liste_pièces!C151)","v":"quincaillerie"},{"$f":"IF(Liste_pièces!D151=\"\",\"\",Liste_pièces!D151)","v":"boulon à anneau"},{"$f":"IF(Liste_pièces!E151=\"\",\"\",Liste_pièces!E151)","v":"M6 longueur totale 71mm, inox"},{"$f":"IF(Liste_pièces!F151=\"\",\"\",Liste_pièces!F151)","v":"pack de 10"},{"$f":"IF(Liste_pièces!G151=\"\",\"\",Liste_pièces!G151)","v":""},{"$f":"IF(Liste_pièces!H151=\"\",\"\",Liste_pièces!H151)","v":"achat"},{"$f":"IF(Liste_pièces!I151=\"\",\"\",Liste_pièces!I151)","v":""},{"$f":"IF(Liste_pièces!J151=\"\",\"\",Liste_pièces!J151)","v":0},{"$f":"IF(Liste_pièces!K151=\"\",\"\",Liste_pièces!K151)","v":0},{"$f":"IF(Liste_pièces!L151=\"\",\"\",Liste_pièces!L151)","v":1},{"$f":"IF(Liste_pièces!M151=\"\",\"\",Liste_pièces!M151)","v":1},6,0,8]
[{"$f":"IF(Liste_pièces!A145=\"\",\"ZZZ\",Liste_pièces!A145)","v":"QIN12"},{"$f":"IF(Liste_pièces!B145=\"\",\"ZZZ\",Liste_pièces!B145)","v":"QIN"},{"$f":"IF(Liste_pièces!C145=\"\",\"\",Liste_pièces!C145)","v":"quincaillerie"},{"$f":"IF(Liste_pièces!D145=\"\",\"\",Liste_pièces!D145)","v":"rondelle M6"},{"$f":"IF(Liste_pièces!E145=\"\",\"\",Liste_pièces!E145)","v":"diamètre extérieur 18mm, inox A2"},{"$f":"IF(Liste_pièces!F145=\"\",\"\",Liste_pièces!F145)","v":"NFE 25-513"},{"$f":"IF(Liste_pièces!G145=\"\",\"\",Liste_pièces!G145)","v":""},{"$f":"IF(Liste_pièces!H145=\"\",\"\",Liste_pièces!H145)","v":"achat"},{"$f":"IF(Liste_pièces!I145=\"\",\"\",Liste_pièces!I145)","v":""},{"$f":"IF(Liste_pièces!J145=\"\",\"\",Liste_pièces!J145)","v":309},{"$f":"IF(Liste_pièces!K145=\"\",\"\",Liste_pièces!K145)","v":350},{"$f":"IF(Liste_pièces!L145=\"\",\"\",Liste_pièces!L145)","v":499},{"$f":"IF(Liste_pièces!M145=\"\",\"\",Liste_pièces!M145)","v":536},6,0,8]
[{"$f":"IF(Liste_pièces!A149=\"\",\"ZZZ\",Liste_pièces!A149)","v":"QIN13"},{"$f":"IF(Liste_pièces!B149=\"\",\"ZZZ\",Liste_pièces!B149)","v":"QIN"},{"$f":"IF(Liste_pièces!C149=\"\",\"\",Liste_pièces!C149)","v":"quincaillerie"},{"$f":"IF(Liste_pièces!D149=\"\",\"\",Liste_pièces!D149)","v":"rondelle M8 nox"},{"$f":"IF(Liste_pièces!E149=\"\",\"\",Liste_pièces!E149)","v":""},{"$f":"IF(Liste_pièces!F149=\"\",\"\",Liste_pièces!F149)","v":""},{"$f":"IF(Liste_pièces!G149=\"\",\"\",Liste_pièces!G149)","v":""},{"$f":"IF(Liste_pièces!H149=\"\",\"\",Liste_pièces!H149)","v":"achat"},{"$f":"IF(Liste_pièces!I149=\"\",\"\",Liste_pièces!I149)","v":""},{"$f":"IF(Liste_pièces!J149=\"\",\"\",Liste_pièces!J149)","v":9},{"$f":"IF(Liste_pièces!K149=\"\",\"\",Liste_pièces!K149)","v":9},{"$f":"IF(Liste_pièces!L149=\"\",\"\",Liste_pièces!L149)","v":18},{"$f":"IF(Liste_pièces!M149=\"\",\"\",Liste_pièces!M149)","v":18},6,0,8]
[{"$f":"IF(Liste_pièces!A129=\"\",\"ZZZ\",Liste_pièces!A129)","v":"QIN14"},{"$f":"IF(Liste_pièces!B129=\"\",\"ZZZ\",Liste_pièces!B129)","v":"QIN"},{"$f":"IF(Liste_pièces!C129=\"\",\"\",Liste_pièces!C129)","v":"quincaillerie"},{"$f":"IF(Liste_pièces!D129=\"\",\"\",Liste_pièces!D129)","v":"vis M6 12mm"},{"$f":"IF(Liste_pièces!E129=\"\",\"\",Liste_pièces!E129)","v":"Inox A2, tête hexagonale, Filetage Total, DIN 933"},{"$f":"IF(Liste_pièces!F129=\"\",\"\",Liste_pièces!F129)","v":"Assemblage 2 tôles"},{"$f":"IF(Liste_pièces!G129=\"\",\"\",Liste_pièces!G129)","v":""},{"$f":"IF(Liste_pièces!H129=\"\",\"\",Liste_pièces!H129)","v":"achat"},{"$f":"IF(Liste_pièces!I129=\"\",\"\",Liste_pièces!I129)","v":""},{"$f":"IF(Liste_pièces!J129=\"\",\"\",Liste_pièces!J129)","v":15},{"$f":"IF(Liste_pièces!K129=\"\",\"\",Liste_pièces!K129)","v":24},{"$f":"IF(Liste_pièces!L129=\"\",\"\",Liste_pièces!L129)","v":24},{"$f":"IF(Liste_pièces!M129=\"\",\"\",Liste_pièces!M129)","v":24},6,0,8]
[{"$f":"IF(Liste_pièces!A152=\"\",\"ZZZ\",Liste_pièces!A152)","v":"QIN15"},{"$f":"IF(Liste_pièces!B152=\"\",\"ZZZ\",Liste_pièces!B152)","v":"QIN"},{"$f":"IF(Liste_pièces!C152=\"\",\"\",Liste_pièces!C152)","v":"quincaillerie"},{"$f":"IF(Liste_pièces!D152=\"\",\"\",Liste_pièces!D152)","v":"vis M10x50 TCHC"},{"$f":"IF(Liste_pièces!E152=\"\",\"\",Liste_pièces!E152)","v":"Inox A2, tête cylindrique 6 pans creux, filetage total, DIN 912"},{"$f":"IF(Liste_pièces!F152=\"\",\"\",Liste_pièces!F152)","v":""},{"$f":"IF(Liste_pièces!G152=\"\",\"\",Liste_pièces!G152)","v":""},{"$f":"IF(Liste_pièces!H152=\"\",\"\",Liste_pièces!H152)","v":"achat"},{"$f":"IF(Liste_pièces!I152=\"\",\"\",Liste_pièces!I152)","v":""},{"$f":"IF(Liste_pièces!J152=\"\",\"\",Liste_pièces!J152)","v":0},{"$f":"IF(Liste_pièces!K152=\"\",\"\",Liste_pièces!K152)","v":3},{"$f":"IF(Liste_pièces!L152=\"\",\"\",Liste_pièces!L152)","v":3},{"$f":"IF(Liste_pièces!M152=\"\",\"\",Liste_pièces!M152)","v":3},6,0,8]
[{"$f":"IF(Liste_pièces!A153=\"\",\"ZZZ\",Liste_pièces!A153)","v":"QIN16"},{"$f":"IF(Liste_pièces!B153=\"\",\"ZZZ\",Liste_pièces!B153)","v":"QIN"},{"$f":"IF(Liste_pièces!C153=\"\",\"\",Liste_pièces!C153)","v":"quincaillerie"},{"$f":"IF(Liste_pièces!D153=\"\",\"\",Liste_pièces!D153)","v":"écrou frein M10"},{"$f":"IF(Liste_pièces!E153=\"\",\"\",Liste_pièces!E153)","v":"Inox A2, DIN 985"},{"$f":"IF(Liste_pièces!F153=\"\",\"\",Liste_pièces!F153)","v":""},{"$f":"IF(Liste_pièces!G153=\"\",\"\",Liste_pièces!G153)","v":""},{"$f":"IF(Liste_pièces!H153=\"\",\"\",Liste_pièces!H153)","v":"achat"},{"$f":"IF(Liste_pièces!I153=\"\",\"\",Liste_pièces!I153)","v":""},{"$f":"IF(Liste_pièces!J153=\"\",\"\",Liste_pièces!J153)","v":0},{"$f":"IF(Liste_pièces!K153=\"\",\"\",Liste_pièces!K153)","v":3},{"$f":"IF(Liste_pièces!L153=\"\",\"\",Liste_pièces!L153)","v":3},{"$f":"IF(Liste_pièces!M153=\"\",\"\",Liste_pièces!M153)","v":3},6,0,8]
[{"$f":"IF(Liste_pièces!A154=\"\",\"ZZZ\",Liste_pièces!A154)","v":"QIN18"},{"$f":"IF(Liste_pièces!B154=\"\",\"ZZZ\",Liste_pièces!B154)","v":"QIN"},{"$f":"IF(Liste_pièces!C154=\"\",\"\",Liste_pièces!C154)","v":"quincaillerie"},{"$f":"IF(Liste_pièces!D154=\"\",\"\",Liste_pièces!D154)","v":"ressort"},{"$f":"IF(Liste_pièces!E154=\"\",\"\",Liste_pièces!E154)","v":" "},{"$f":"IF(Liste_pièces!F154=\"\",\"\",Liste_pièces!F154)","v":"Section 1,8mm, longueur 60mm, diamètre 12mm, charge utile 19kg"},{"$f":"IF(Liste_pièces!G154=\"\",\"\",Liste_pièces!G154)","v":""},{"$f":"IF(Liste_pièces!H154=\"\",\"\",Liste_pièces!H154)","v":"achat"},{"$f":"IF(Liste_pièces!I154=\"\",\"\",Liste_pièces!I154)","v":""},{"$f":"IF(Liste_pièces!J154=\"\",\"\",Liste_pièces!J154)","v":1},{"$f":"IF(Liste_pièces!K154=\"\",\"\",Liste_pièces!K154)","v":1},{"$f":"IF(Liste_pièces!L154=\"\",\"\",Liste_pièces!L154)","v":1},{"$f":"IF(Liste_pièces!M154=\"\",\"\",Liste_pièces!M154)","v":1},6,0,8]
[{"$f":"IF(Liste_pièces!A134=\"\",\"ZZZ\",Liste_pièces!A134)","v":"QIN20"},{"$f":"IF(Liste_pièces!B134=\"\",\"ZZZ\",Liste_pièces!B134)","v":"QIN"},{"$f":"IF(Liste_pièces!C134=\"\",\"\",Liste_pièces!C134)","v":"quincaillerie"},{"$f":"IF(Liste_pièces!D134=\"\",\"\",Liste_pièces!D134)","v":"vis M6 20mm"},{"$f":"IF(Liste_pièces!E134=\"\",\"\",Liste_pièces!E134)","v":"Inox A2, tête hexagonale, Filetage Total, DIN 933"},{"$f":"IF(Liste_pièces!F134=\"\",\"\",Liste_pièces!F134)","v":""},{"$f":"IF(Liste_pièces!G134=\"\",\"\",Liste_pièces!G134)","v":"pour le tendeur de chaîne, ne doit pas toucher le boîtier électrique"},{"$f":"IF(Liste_pièces!H134=\"\",\"\",Liste_pièces!H134)","v":"achat"},{"$f":"IF(Liste_pièces!I134=\"\",\"\",Liste_pièces!I134)","v":""},{"$f":"IF(Liste_pièces!J134=\"\",\"\",Liste_pièces!J134)","v":3},{"$f":"IF(Liste_pièces!K134=\"\",\"\",Liste_pièces!K134)","v":3},{"$f":"IF(Liste_pièces!L134=\"\",\"\",Liste_pièces!L134)","v":3},{"$f":"IF(Liste_pièces!M134=\"\",\"\",Liste_pièces!M134)","v":3},6,0,8]
[{"$f":"IF(Liste_pièces!A155=\"\",\"ZZZ\",Liste_pièces!A155)","v":"QIN22"},{"$f":"IF(Liste_pièces!B155=\"\",\"ZZZ\",Liste_pièces!B155)","v":"QIN"},{"$f":"IF(Liste_pièces!C155=\"\",\"\",Liste_pièces!C155)","v":"quincaillerie"},{"$f":"IF(Liste_pièces!D155=\"\",\"\",Liste_pièces!D155)","v":"50 boites en carton"},{"$f":"IF(Liste_pièces!E155=\"\",\"\",Liste_pièces!E155)","v":""},{"$f":"IF(Liste_pièces!F155=\"\",\"\",Liste_pièces!F155)","v":"8,5 x 8,5 x 3,5 cm"},{"$f":"IF(Liste_pièces!G155=\"\",\"\",Liste_pièces!G155)","v":"Pour le rangement des petites pièces"},{"$f":"IF(Liste_pièces!H155=\"\",\"\",Liste_pièces!H155)","v":"achat"},{"$f":"IF(Liste_pièces!I155=\"\",\"\",Liste_pièces!I155)","v":""},{"$f":"IF(Liste_pièces!J155=\"\",\"\",Liste_pièces!J155)","v":0},{"$f":"IF(Liste_pièces!K155=\"\",\"\",Liste_pièces!K155)","v":0},{"$f":"IF(Liste_pièces!L155=\"\",\"\",Liste_pièces!L155)","v":1},{"$f":"IF(Liste_pièces!M155=\"\",\"\",Liste_pièces!M155)","v":1},6,0,8]
[{"$f":"IF(Liste_pièces!A143=\"\",\"ZZZ\",Liste_pièces!A143)","v":"QIN23"},{"$f":"IF(Liste_pièces!B143=\"\",\"ZZZ\",Liste_pièces!B143)","v":"QIN"},{"$f":"IF(Liste_pièces!C143=\"\",\"\",Liste_pièces!C143)","v":"quincaillerie"},{"$f":"IF(Liste_pièces!D143=\"\",\"\",Liste_pièces!D143)","v":"écrou papillon M6"},{"$f":"IF(Liste_pièces!E143=\"\",\"\",Liste_pièces!E143)","v":"Inox A2 BN 644"},{"$f":"IF(Liste_pièces!F143=\"\",\"\",Liste_pièces!F143)","v":""},{"$f":"IF(Liste_pièces!G143=\"\",\"\",Liste_pièces!G143)","v":""},{"$f":"IF(Liste_pièces!H143=\"\",\"\",Liste_pièces!H143)","v":"achat"},{"$f":"IF(Liste_pièces!I143=\"\",\"\",Liste_pièces!I143)","v":""},{"$f":"IF(Liste_pièces!J143=\"\",\"\",Liste_pièces!J143)","v":4},{"$f":"IF(Liste_pièces!K143=\"\",\"\",Liste_pièces!K143)","v":8},{"$f":"IF(Liste_pièces!L143=\"\",\"\",Liste_pièces!L143)","v":8},{"$f":"IF(Liste_pièces!M143=\"\",\"\",Liste_pièces!M143)","v":12},6,0,{"$f":"IF(N133=0,0,IF(N133<>N132,MAX(N133+O132,P132+1),IF(O132=O133,P132,P132+O133)))","v":8}]
[{"$f":"IF(Liste_pièces!A156=\"\",\"ZZZ\",Liste_pièces!A156)","v":"QIN24"},{"$f":"IF(Liste_pièces!B156=\"\",\"ZZZ\",Liste_pièces!B156)","v":"QIN"},{"$f":"IF(Liste_pièces!C156=\"\",\"\",Liste_pièces!C156)","v":"quincaillerie"},{"$f":"IF(Liste_pièces!D156=\"\",\"\",Liste_pièces!D156)","v":"tendeur à œil réglable"},{"$f":"IF(Liste_pièces!E156=\"\",\"\",Liste_pièces!E156)","v":""},{"$f":"IF(Liste_pièces!F156=\"\",\"\",Liste_pièces!F156)","v":"galva, M5"},{"$f":"IF(Liste_pièces!G156=\"\",\"\",Liste_pièces!G156)","v":""},{"$f":"IF(Liste_pièces!H156=\"\",\"\",Liste_pièces!H156)","v":"achat"},{"$f":"IF(Liste_pièces!I156=\"\",\"\",Liste_pièces!I156)","v":""},{"$f":"IF(Liste_pièces!J156=\"\",\"\",Liste_pièces!J156)","v":1},{"$f":"IF(Liste_pièces!K156=\"\",\"\",Liste_pièces!K156)","v":1},{"$f":"IF(Liste_pièces!L156=\"\",\"\",Liste_pièces!L156)","v":1},{"$f":"IF(Liste_pièces!M156=\"\",\"\",Liste_pièces!M156)","v":1},{"$f":"IF(B134=\"ZZZ\",0,IF(B134=B133,N133,1+N133))","v":6},0,8]
[{"$f":"IF(Liste_pièces!A133=\"\",\"ZZZ\",Liste_pièces!A133)","v":"QIN25"},{"$f":"IF(Liste_pièces!B133=\"\",\"ZZZ\",Liste_pièces!B133)","v":"QIN"},{"$f":"IF(Liste_pièces!C133=\"\",\"\",Liste_pièces!C133)","v":"quincaillerie"},{"$f":"IF(Liste_pièces!D133=\"\",\"\",Liste_pièces!D133)","v":"vis M8 100mm"},{"$f":"IF(Liste_pièces!E133=\"\",\"\",Liste_pièces!E133)","v":"Inox A2, tête hexagonale, Filetage Total, DIN 933"},{"$f":"IF(Liste_pièces!F133=\"\",\"\",Liste_pièces!F133)","v":"roues stabilisatrices"},{"$f":"IF(Liste_pièces!G133=\"\",\"\",Liste_pièces!G133)","v":""},{"$f":"IF(Liste_pièces!H133=\"\",\"\",Liste_pièces!H133)","v":"achat"},{"$f":"IF(Liste_pièces!I133=\"\",\"\",Liste_pièces!I133)","v":""},{"$f":"IF(Liste_pièces!J133=\"\",\"\",Liste_pièces!J133)","v":0},{"$f":"IF(Liste_pièces!K133=\"\",\"\",Liste_pièces!K133)","v":0},{"$f":"IF(Liste_pièces!L133=\"\",\"\",Liste_pièces!L133)","v":2},{"$f":"IF(Liste_pièces!M133=\"\",\"\",Liste_pièces!M133)","v":2},6,0,8]
[{"$f":"IF(Liste_pièces!A157=\"\",\"ZZZ\",Liste_pièces!A157)","v":"QIN26"},{"$f":"IF(Liste_pièces!B157=\"\",\"ZZZ\",Liste_pièces!B157)","v":"QIN"},{"$f":"IF(Liste_pièces!C157=\"\",\"\",Liste_pièces!C157)","v":""},{"$f":"IF(Liste_pièces!D157=\"\",\"\",Liste_pièces!D157)","v":"tige filetée 8mm"},{"$f":"IF(Liste_pièces!E157=\"\",\"\",Liste_pièces!E157)","v":"étriers pour fixer le guidon"},{"$f":"IF(Liste_pièces!F157=\"\",\"\",Liste_pièces!F157)","v":"à plier en U"},{"$f":"IF(Liste_pièces!G157=\"\",\"\",Liste_pièces!G157)","v":"le filetage permet d'accrocher au guidon et d'éviter qu'il ne glisse, à la différence des étriers classiques"},{"$f":"IF(Liste_pièces!H157=\"\",\"\",Liste_pièces!H157)","v":"assemblage fournisseur"},{"$f":"IF(Liste_pièces!I157=\"\",\"\",Liste_pièces!I157)","v":""},{"$f":"IF(Liste_pièces!J157=\"\",\"\",Liste_pièces!J157)","v":2},{"$f":"IF(Liste_pièces!K157=\"\",\"\",Liste_pièces!K157)","v":2},{"$f":"IF(Liste_pièces!L157=\"\",\"\",Liste_pièces!L157)","v":2},{"$f":"IF(Liste_pièces!M157=\"\",\"\",Liste_pièces!M157)","v":2},6,0,8]
[{"$f":"IF(Liste_pièces!A136=\"\",\"ZZZ\",Liste_pièces!A136)","v":"QIN28"},{"$f":"IF(Liste_pièces!B136=\"\",\"ZZZ\",Liste_pièces!B136)","v":"QIN"},{"$f":"IF(Liste_pièces!C136=\"\",\"\",Liste_pièces!C136)","v":"quincaillerie"},{"$f":"IF(Liste_pièces!D136=\"\",\"\",Liste_pièces!D136)","v":"vis M8 140mm"},{"$f":"IF(Liste_pièces!E136=\"\",\"\",Liste_pièces!E136)","v":"Inox A2, tête hexagonale, Filetage Total, DIN 933"},{"$f":"IF(Liste_pièces!F136=\"\",\"\",Liste_pièces!F136)","v":"fixation bloc moteur aux tubes"},{"$f":"IF(Liste_pièces!G136=\"\",\"\",Liste_pièces!G136)","v":""},{"$f":"IF(Liste_pièces!H136=\"\",\"\",Liste_pièces!H136)","v":"achat"},{"$f":"IF(Liste_pièces!I136=\"\",\"\",Liste_pièces!I136)","v":""},{"$f":"IF(Liste_pièces!J136=\"\",\"\",Liste_pièces!J136)","v":0},{"$f":"IF(Liste_pièces!K136=\"\",\"\",Liste_pièces!K136)","v":4},{"$f":"IF(Liste_pièces!L136=\"\",\"\",Liste_pièces!L136)","v":4},{"$f":"IF(Liste_pièces!M136=\"\",\"\",Liste_pièces!M136)","v":4},6,0,8]
[{"$f":"IF(Liste_pièces!A140=\"\",\"ZZZ\",Liste_pièces!A140)","v":"QIN29"},{"$f":"IF(Liste_pièces!B140=\"\",\"ZZZ\",Liste_pièces!B140)","v":"QIN"},{"$f":"IF(Liste_pièces!C140=\"\",\"\",Liste_pièces!C140)","v":"quincaillerie"},{"$f":"IF(Liste_pièces!D140=\"\",\"\",Liste_pièces!D140)","v":"écrou frein M8"},{"$f":"IF(Liste_pièces!E140=\"\",\"\",Liste_pièces!E140)","v":"Inox A2 DIN 985"},{"$f":"IF(Liste_pièces!F140=\"\",\"\",Liste_pièces!F140)","v":""},{"$f":"IF(Liste_pièces!G140=\"\",\"\",Liste_pièces!G140)","v":""},{"$f":"IF(Liste_pièces!H140=\"\",\"\",Liste_pièces!H140)","v":"achat"},{"$f":"IF(Liste_pièces!I140=\"\",\"\",Liste_pièces!I140)","v":""},{"$f":"IF(Liste_pièces!J140=\"\",\"\",Liste_pièces!J140)","v":12},{"$f":"IF(Liste_pièces!K140=\"\",\"\",Liste_pièces!K140)","v":12},{"$f":"IF(Liste_pièces!L140=\"\",\"\",Liste_pièces!L140)","v":14},{"$f":"IF(Liste_pièces!M140=\"\",\"\",Liste_pièces!M140)","v":14},6,0,8]
[{"$f":"IF(Liste_pièces!A138=\"\",\"ZZZ\",Liste_pièces!A138)","v":"QIN32"},{"$f":"IF(Liste_pièces!B138=\"\",\"ZZZ\",Liste_pièces!B138)","v":"QIN"},{"$f":"IF(Liste_pièces!C138=\"\",\"\",Liste_pièces!C138)","v":""},{"$f":"IF(Liste_pièces!D138=\"\",\"\",Liste_pièces!D138)","v":"vis TRCC M12 300mm"},{"$f":"IF(Liste_pièces!E138=\"\",\"\",Liste_pièces!E138)","v":""},{"$f":"IF(Liste_pièces!F138=\"\",\"\",Liste_pièces!F138)","v":"axe potence"},{"$f":"IF(Liste_pièces!G138=\"\",\"\",Liste_pièces!G138)","v":""},{"$f":"IF(Liste_pièces!H138=\"\",\"\",Liste_pièces!H138)","v":"assemblage fournisseur"},{"$f":"IF(Liste_pièces!I138=\"\",\"\",Liste_pièces!I138)","v":""},{"$f":"IF(Liste_pièces!J138=\"\",\"\",Liste_pièces!J138)","v":1},{"$f":"IF(Liste_pièces!K138=\"\",\"\",Liste_pièces!K138)","v":1},{"$f":"IF(Liste_pièces!L138=\"\",\"\",Liste_pièces!L138)","v":1},{"$f":"IF(Liste_pièces!M138=\"\",\"\",Liste_pièces!M138)","v":1},6,0,8]
[{"$f":"IF(Liste_pièces!A139=\"\",\"ZZZ\",Liste_pièces!A139)","v":"QIN33"},{"$f":"IF(Liste_pièces!B139=\"\",\"ZZZ\",Liste_pièces!B139)","v":"QIN"},{"$f":"IF(Liste_pièces!C139=\"\",\"\",Liste_pièces!C139)","v":""},{"$f":"IF(Liste_pièces!D139=\"\",\"\",Liste_pièces!D139)","v":"vis TRCC M12 150mm"},{"$f":"IF(Liste_pièces!E139=\"\",\"\",Liste_pièces!E139)","v":""},{"$f":"IF(Liste_pièces!F139=\"\",\"\",Liste_pièces!F139)","v":"axe des bras de roues avant"},{"$f":"IF(Liste_pièces!G139=\"\",\"\",Liste_pièces!G139)","v":""},{"$f":"IF(Liste_pièces!H139=\"\",\"\",Liste_pièces!H139)","v":"assemblage fournisseur"},{"$f":"IF(Liste_pièces!I139=\"\",\"\",Liste_pièces!I139)","v":""},{"$f":"IF(Liste_pièces!J139=\"\",\"\",Liste_pièces!J139)","v":2},{"$f":"IF(Liste_pièces!K139=\"\",\"\",Liste_pièces!K139)","v":2},{"$f":"IF(Liste_pièces!L139=\"\",\"\",Liste_pièces!L139)","v":2},{"$f":"IF(Liste_pièces!M139=\"\",\"\",Liste_pièces!M139)","v":2},6,0,8]
[{"$f":"IF(Liste_pièces!A147=\"\",\"ZZZ\",Liste_pièces!A147)","v":"QIN34"},{"$f":"IF(Liste_pièces!B147=\"\",\"ZZZ\",Liste_pièces!B147)","v":"QIN"},{"$f":"IF(Liste_pièces!C147=\"\",\"\",Liste_pièces!C147)","v":"quincaillerie"},{"$f":"IF(Liste_pièces!D147=\"\",\"\",Liste_pièces!D147)","v":"écrou M12"},{"$f":"IF(Liste_pièces!E147=\"\",\"\",Liste_pièces!E147)","v":""},{"$f":"IF(Liste_pièces!F147=\"\",\"\",Liste_pièces!F147)","v":""},{"$f":"IF(Liste_pièces!G147=\"\",\"\",Liste_pièces!G147)","v":""},{"$f":"IF(Liste_pièces!H147=\"\",\"\",Liste_pièces!H147)","v":"achat"},{"$f":"IF(Liste_pièces!I147=\"\",\"\",Liste_pièces!I147)","v":""},{"$f":"IF(Liste_pièces!J147=\"\",\"\",Liste_pièces!J147)","v":7},{"$f":"IF(Liste_pièces!K147=\"\",\"\",Liste_pièces!K147)","v":7},{"$f":"IF(Liste_pièces!L147=\"\",\"\",Liste_pièces!L147)","v":7},{"$f":"IF(Liste_pièces!M147=\"\",\"\",Liste_pièces!M147)","v":7},6,0,8]
[{"$f":"IF(Liste_pièces!A130=\"\",\"ZZZ\",Liste_pièces!A130)","v":"QIN35"},{"$f":"IF(Liste_pièces!B130=\"\",\"ZZZ\",Liste_pièces!B130)","v":"QIN"},{"$f":"IF(Liste_pièces!C130=\"\",\"\",Liste_pièces!C130)","v":"quincaillerie"},{"$f":"IF(Liste_pièces!D130=\"\",\"\",Liste_pièces!D130)","v":"vis M6 35mm"},{"$f":"IF(Liste_pièces!E130=\"\",\"\",Liste_pièces!E130)","v":"Inox A2, tête hexagonale, Filetage Total, DIN 933"},{"$f":"IF(Liste_pièces!F130=\"\",\"\",Liste_pièces!F130)","v":"assemblage 1 tube + 1 tôle"},{"$f":"IF(Liste_pièces!G130=\"\",\"\",Liste_pièces!G130)","v":""},{"$f":"IF(Liste_pièces!H130=\"\",\"\",Liste_pièces!H130)","v":"achat"},{"$f":"IF(Liste_pièces!I130=\"\",\"\",Liste_pièces!I130)","v":""},{"$f":"IF(Liste_pièces!J130=\"\",\"\",Liste_pièces!J130)","v":78},{"$f":"IF(Liste_pièces!K130=\"\",\"\",Liste_pièces!K130)","v":91},{"$f":"IF(Liste_pièces!L130=\"\",\"\",Liste_pièces!L130)","v":195},{"$f":"IF(Liste_pièces!M130=\"\",\"\",Liste_pièces!M130)","v":208},6,0,8]
[{"$f":"IF(Liste_pièces!A144=\"\",\"ZZZ\",Liste_pièces!A144)","v":"QIN36"},{"$f":"IF(Liste_pièces!B144=\"\",\"ZZZ\",Liste_pièces!B144)","v":"QIN"},{"$f":"IF(Liste_pièces!C144=\"\",\"\",Liste_pièces!C144)","v":"quincaillerie"},{"$f":"IF(Liste_pièces!D144=\"\",\"\",Liste_pièces!D144)","v":"rondelle M12"},{"$f":"IF(Liste_pièces!E144=\"\",\"\",Liste_pièces!E144)","v":"diamètre extérieur 32mm, inox A2"},{"$f":"IF(Liste_pièces!F144=\"\",\"\",Liste_pièces!F144)","v":"NFE 25-513"},{"$f":"IF(Liste_pièces!G144=\"\",\"\",Liste_pièces!G144)","v":""},{"$f":"IF(Liste_pièces!H144=\"\",\"\",Liste_pièces!H144)","v":"achat"},{"$f":"IF(Liste_pièces!I144=\"\",\"\",Liste_pièces!I144)","v":""},{"$f":"IF(Liste_pièces!J144=\"\",\"\",Liste_pièces!J144)","v":4},{"$f":"IF(Liste_pièces!K144=\"\",\"\",Liste_pièces!K144)","v":4},{"$f":"IF(Liste_pièces!L144=\"\",\"\",Liste_pièces!L144)","v":4},{"$f":"IF(Liste_pièces!M144=\"\",\"\",Liste_pièces!M144)","v":4},6,0,8]
[{"$f":"IF(Liste_pièces!A135=\"\",\"ZZZ\",Liste_pièces!A135)","v":"QIN39"},{"$f":"IF(Liste_pièces!B135=\"\",\"ZZZ\",Liste_pièces!B135)","v":"QIN"},{"$f":"IF(Liste_pièces!C135=\"\",\"\",Liste_pièces!C135)","v":"quincaillerie"},{"$f":"IF(Liste_pièces!D135=\"\",\"\",Liste_pièces!D135)","v":"vis M8 65mm"},{"$f":"IF(Liste_pièces!E135=\"\",\"\",Liste_pièces!E135)","v":"Inox A2, tête hexagonale, Filetage Partiel, DIN 931"},{"$f":"IF(Liste_pièces!F135=\"\",\"\",Liste_pièces!F135)","v":" Axe rotation biellette (côté CHO47)"},{"$f":"IF(Liste_pièces!G135=\"\",\"\",Liste_pièces!G135)","v":""},{"$f":"IF(Liste_pièces!H135=\"\",\"\",Liste_pièces!H135)","v":"achat"},{"$f":"IF(Liste_pièces!I135=\"\",\"\",Liste_pièces!I135)","v":""},{"$f":"IF(Liste_pièces!J135=\"\",\"\",Liste_pièces!J135)","v":2},{"$f":"IF(Liste_pièces!K135=\"\",\"\",Liste_pièces!K135)","v":2},{"$f":"IF(Liste_pièces!L135=\"\",\"\",Liste_pièces!L135)","v":2},{"$f":"IF(Liste_pièces!M135=\"\",\"\",Liste_pièces!M135)","v":2},6,0,8]
[{"$f":"IF(Liste_pièces!A128=\"\",\"ZZZ\",Liste_pièces!A128)","v":"QIN40"},{"$f":"IF(Liste_pièces!B128=\"\",\"ZZZ\",Liste_pièces!B128)","v":"QIN"},{"$f":"IF(Liste_pièces!C128=\"\",\"\",Liste_pièces!C128)","v":"quincaillerie"},{"$f":"IF(Liste_pièces!D128=\"\",\"\",Liste_pièces!D128)","v":"vis M6 40mm"},{"$f":"IF(Liste_pièces!E128=\"\",\"\",Liste_pièces!E128)","v":"Inox A2, tête hexagonale, Filetage Total, DIN 933"},{"$f":"IF(Liste_pièces!F128=\"\",\"\",Liste_pièces!F128)","v":"assemblage 1 tube + 1 tôle"},{"$f":"IF(Liste_pièces!G128=\"\",\"\",Liste_pièces!G128)","v":""},{"$f":"IF(Liste_pièces!H128=\"\",\"\",Liste_pièces!H128)","v":"achat"},{"$f":"IF(Liste_pièces!I128=\"\",\"\",Liste_pièces!I128)","v":""},{"$f":"IF(Liste_pièces!J128=\"\",\"\",Liste_pièces!J128)","v":30},{"$f":"IF(Liste_pièces!K128=\"\",\"\",Liste_pièces!K128)","v":32},{"$f":"IF(Liste_pièces!L128=\"\",\"\",Liste_pièces!L128)","v":50},{"$f":"IF(Liste_pièces!M128=\"\",\"\",Liste_pièces!M128)","v":51},6,0,8]
[{"$f":"IF(Liste_pièces!A150=\"\",\"ZZZ\",Liste_pièces!A150)","v":"QIN41"},{"$f":"IF(Liste_pièces!B150=\"\",\"ZZZ\",Liste_pièces!B150)","v":"QIN"},{"$f":"IF(Liste_pièces!C150=\"\",\"\",Liste_pièces!C150)","v":"quincaillerie"},{"$f":"IF(Liste_pièces!D150=\"\",\"\",Liste_pièces!D150)","v":"rondelle M8 nylon"},{"$f":"IF(Liste_pièces!E150=\"\",\"\",Liste_pièces!E150)","v":""},{"$f":"IF(Liste_pièces!F150=\"\",\"\",Liste_pièces!F150)","v":""},{"$f":"IF(Liste_pièces!G150=\"\",\"\",Liste_pièces!G150)","v":""},{"$f":"IF(Liste_pièces!H150=\"\",\"\",Liste_pièces!H150)","v":"achat"},{"$f":"IF(Liste_pièces!I150=\"\",\"\",Liste_pièces!I150)","v":""},{"$f":"IF(Liste_pièces!J150=\"\",\"\",Liste_pièces!J150)","v":9},{"$f":"IF(Liste_pièces!K150=\"\",\"\",Liste_pièces!K150)","v":9},{"$f":"IF(Liste_pièces!L150=\"\",\"\",Liste_pièces!L150)","v":9},{"$f":"IF(Liste_pièces!M150=\"\",\"\",Liste_pièces!M150)","v":9},6,0,8]
[{"$f":"IF(Liste_pièces!A137=\"\",\"ZZZ\",Liste_pièces!A137)","v":"QIN43"},{"$f":"IF(Liste_pièces!B137=\"\",\"ZZZ\",Liste_pièces!B137)","v":"QIN"},{"$f":"IF(Liste_pièces!C137=\"\",\"\",Liste_pièces!C137)","v":"quincaillerie"},{"$f":"IF(Liste_pièces!D137=\"\",\"\",Liste_pièces!D137)","v":"vis M8 50mm"},{"$f":"IF(Liste_pièces!E137=\"\",\"\",Liste_pièces!E137)","v":"Inox A2, tête hexagonale, Filetage Partiel, DIN 931"},{"$f":"IF(Liste_pièces!F137=\"\",\"\",Liste_pièces!F137)","v":"Axe rotation biellette (au niveau des triangles)"},{"$f":"IF(Liste_pièces!G137=\"\",\"\",Liste_pièces!G137)","v":""},{"$f":"IF(Liste_pièces!H137=\"\",\"\",Liste_pièces!H137)","v":"achat"},{"$f":"IF(Liste_pièces!I137=\"\",\"\",Liste_pièces!I137)","v":""},{"$f":"IF(Liste_pièces!J137=\"\",\"\",Liste_pièces!J137)","v":2},{"$f":"IF(Liste_pièces!K137=\"\",\"\",Liste_pièces!K137)","v":2},{"$f":"IF(Liste_pièces!L137=\"\",\"\",Liste_pièces!L137)","v":2},{"$f":"IF(Liste_pièces!M137=\"\",\"\",Liste_pièces!M137)","v":2},6,0,8]
[{"$f":"IF(Liste_pièces!A146=\"\",\"ZZZ\",Liste_pièces!A146)","v":"QIN44"},{"$f":"IF(Liste_pièces!B146=\"\",\"ZZZ\",Liste_pièces!B146)","v":"QIN"},{"$f":"IF(Liste_pièces!C146=\"\",\"\",Liste_pièces!C146)","v":"quincaillerie"},{"$f":"IF(Liste_pièces!D146=\"\",\"\",Liste_pièces!D146)","v":"écrou M8"},{"$f":"IF(Liste_pièces!E146=\"\",\"\",Liste_pièces!E146)","v":""},{"$f":"IF(Liste_pièces!F146=\"\",\"\",Liste_pièces!F146)","v":""},{"$f":"IF(Liste_pièces!G146=\"\",\"\",Liste_pièces!G146)","v":"utilisé en contre écrou"},{"$f":"IF(Liste_pièces!H146=\"\",\"\",Liste_pièces!H146)","v":"achat"},{"$f":"IF(Liste_pièces!I146=\"\",\"\",Liste_pièces!I146)","v":""},{"$f":"IF(Liste_pièces!J146=\"\",\"\",Liste_pièces!J146)","v":4},{"$f":"IF(Liste_pièces!K146=\"\",\"\",Liste_pièces!K146)","v":4},{"$f":"IF(Liste_pièces!L146=\"\",\"\",Liste_pièces!L146)","v":4},{"$f":"IF(Liste_pièces!M146=\"\",\"\",Liste_pièces!M146)","v":4},6,0,8]
[{"$f":"IF(Liste_pièces!A131=\"\",\"ZZZ\",Liste_pièces!A131)","v":"QIN45"},{"$f":"IF(Liste_pièces!B131=\"\",\"ZZZ\",Liste_pièces!B131)","v":"QIN"},{"$f":"IF(Liste_pièces!C131=\"\",\"\",Liste_pièces!C131)","v":"quincaillerie"},{"$f":"IF(Liste_pièces!D131=\"\",\"\",Liste_pièces!D131)","v":"vis TFHC M6 45mm"},{"$f":"IF(Liste_pièces!E131=\"\",\"\",Liste_pièces!E131)","v":"Inox A2, tête fraisée, Filetage Total, DIN 933"},{"$f":"IF(Liste_pièces!F131=\"\",\"\",Liste_pièces!F131)","v":"fixation pattes support freins arrière"},{"$f":"IF(Liste_pièces!G131=\"\",\"\",Liste_pièces!G131)","v":""},{"$f":"IF(Liste_pièces!H131=\"\",\"\",Liste_pièces!H131)","v":"achat"},{"$f":"IF(Liste_pièces!I131=\"\",\"\",Liste_pièces!I131)","v":""},{"$f":"IF(Liste_pièces!J131=\"\",\"\",Liste_pièces!J131)","v":2},{"$f":"IF(Liste_pièces!K131=\"\",\"\",Liste_pièces!K131)","v":2},{"$f":"IF(Liste_pièces!L131=\"\",\"\",Liste_pièces!L131)","v":2},{"$f":"IF(Liste_pièces!M131=\"\",\"\",Liste_pièces!M131)","v":2},6,0,8]
[{"$f":"IF(Liste_pièces!A124=\"\",\"ZZZ\",Liste_pièces!A124)","v":"QIN46"},{"$f":"IF(Liste_pièces!B124=\"\",\"ZZZ\",Liste_pièces!B124)","v":"QIN"},{"$f":"IF(Liste_pièces!C124=\"\",\"\",Liste_pièces!C124)","v":"quincaillerie"},{"$f":"IF(Liste_pièces!D124=\"\",\"\",Liste_pièces!D124)","v":"vis M4 20mm"},{"$f":"IF(Liste_pièces!E124=\"\",\"\",Liste_pièces!E124)","v":"Inox A2, tête hexagonale, Filetage Total, DIN 933"},{"$f":"IF(Liste_pièces!F124=\"\",\"\",Liste_pièces!F124)","v":"fixation des feux sur les platines, et peut-être les tôles avec écrous sertis"},{"$f":"IF(Liste_pièces!G124=\"\",\"\",Liste_pièces!G124)","v":""},{"$f":"IF(Liste_pièces!H124=\"\",\"\",Liste_pièces!H124)","v":"achat"},{"$f":"IF(Liste_pièces!I124=\"\",\"\",Liste_pièces!I124)","v":""},{"$f":"IF(Liste_pièces!J124=\"\",\"\",Liste_pièces!J124)","v":0},{"$f":"IF(Liste_pièces!K124=\"\",\"\",Liste_pièces!K124)","v":0},{"$f":"IF(Liste_pièces!L124=\"\",\"\",Liste_pièces!L124)","v":0},{"$f":"IF(Liste_pièces!M124=\"\",\"\",Liste_pièces!M124)","v":12},6,0,8]
[{"$f":"IF(Liste_pièces!A158=\"\",\"ZZZ\",Liste_pièces!A158)","v":"QIN48"},{"$f":"IF(Liste_pièces!B158=\"\",\"ZZZ\",Liste_pièces!B158)","v":"QIN"},{"$f":"IF(Liste_pièces!C158=\"\",\"\",Liste_pièces!C158)","v":"quincaillerie"},{"$f":"IF(Liste_pièces!D158=\"\",\"\",Liste_pièces!D158)","v":"butée de porte D=30/H=25"},{"$f":"IF(Liste_pièces!E158=\"\",\"\",Liste_pièces!E158)","v":"butées de direction"},{"$f":"IF(Liste_pièces!F158=\"\",\"\",Liste_pièces!F158)","v":"lot de 2"},{"$f":"IF(Liste_pièces!G158=\"\",\"\",Liste_pièces!G158)","v":"à placer sur le triangle ou sur CHO47 ?"},{"$f":"IF(Liste_pièces!H158=\"\",\"\",Liste_pièces!H158)","v":"option"},{"$f":"IF(Liste_pièces!I158=\"\",\"\",Liste_pièces!I158)","v":""},{"$f":"IF(Liste_pièces!J158=\"\",\"\",Liste_pièces!J158)","v":0},{"$f":"IF(Liste_pièces!K158=\"\",\"\",Liste_pièces!K158)","v":0},{"$f":"IF(Liste_pièces!L158=\"\",\"\",Liste_pièces!L158)","v":0},{"$f":"IF(Liste_pièces!M158=\"\",\"\",Liste_pièces!M158)","v":0},6,0,8]
[{"$f":"IF(Liste_pièces!A148=\"\",\"ZZZ\",Liste_pièces!A148)","v":"QIN49"},{"$f":"IF(Liste_pièces!B148=\"\",\"ZZZ\",Liste_pièces!B148)","v":"QIN"},{"$f":"IF(Liste_pièces!C148=\"\",\"\",Liste_pièces!C148)","v":"quincaillerie"},{"$f":"IF(Liste_pièces!D148=\"\",\"\",Liste_pièces!D148)","v":"écrou M14"},{"$f":"IF(Liste_pièces!E148=\"\",\"\",Liste_pièces!E148)","v":""},{"$f":"IF(Liste_pièces!F148=\"\",\"\",Liste_pièces!F148)","v":"fixation des moyeux de roues avant"},{"$f":"IF(Liste_pièces!G148=\"\",\"\",Liste_pièces!G148)","v":""},{"$f":"IF(Liste_pièces!H148=\"\",\"\",Liste_pièces!H148)","v":"achat"},{"$f":"IF(Liste_pièces!I148=\"\",\"\",Liste_pièces!I148)","v":""},{"$f":"IF(Liste_pièces!J148=\"\",\"\",Liste_pièces!J148)","v":4},{"$f":"IF(Liste_pièces!K148=\"\",\"\",Liste_pièces!K148)","v":4},{"$f":"IF(Liste_pièces!L148=\"\",\"\",Liste_pièces!L148)","v":4},{"$f":"IF(Liste_pièces!M148=\"\",\"\",Liste_pièces!M148)","v":4},6,0,8]
[{"$f":"IF(Liste_pièces!A132=\"\",\"ZZZ\",Liste_pièces!A132)","v":"QIN50"},{"$f":"IF(Liste_pièces!B132=\"\",\"ZZZ\",Liste_pièces!B132)","v":"QIN"},{"$f":"IF(Liste_pièces!C132=\"\",\"\",Liste_pièces!C132)","v":"quincaillerie"},{"$f":"IF(Liste_pièces!D132=\"\",\"\",Liste_pièces!D132)","v":"vis TFHC M6 50mm"},{"$f":"IF(Liste_pièces!E132=\"\",\"\",Liste_pièces!E132)","v":"Inox A2, tête fraisée, Filetage Total, DIN 933"},{"$f":"IF(Liste_pièces!F132=\"\",\"\",Liste_pièces!F132)","v":"fixation pattes support freins avant"},{"$f":"IF(Liste_pièces!G132=\"\",\"\",Liste_pièces!G132)","v":"M6 45mm était trop court"},{"$f":"IF(Liste_pièces!H132=\"\",\"\",Liste_pièces!H132)","v":"achat"},{"$f":"IF(Liste_pièces!I132=\"\",\"\",Liste_pièces!I132)","v":""},{"$f":"IF(Liste_pièces!J132=\"\",\"\",Liste_pièces!J132)","v":4},{"$f":"IF(Liste_pièces!K132=\"\",\"\",Liste_pièces!K132)","v":4},{"$f":"IF(Liste_pièces!L132=\"\",\"\",Liste_pièces!L132)","v":4},{"$f":"IF(Liste_pièces!M132=\"\",\"\",Liste_pièces!M132)","v":4},6,0,8]
[{"$f":"IF(Liste_pièces!A159=\"\",\"ZZZ\",Liste_pièces!A159)","v":"QIN51"},{"$f":"IF(Liste_pièces!B159=\"\",\"ZZZ\",Liste_pièces!B159)","v":"QIN"},{"$f":"IF(Liste_pièces!C159=\"\",\"\",Liste_pièces!C159)","v":"siège adulte"},{"$f":"IF(Liste_pièces!D159=\"\",\"\",Liste_pièces!D159)","v":"étrier M8 D=26 40mm"},{"$f":"IF(Liste_pièces!E159=\"\",\"\",Liste_pièces!E159)","v":"ISO304"},{"$f":"IF(Liste_pièces!F159=\"\",\"\",Liste_pièces!F159)","v":""},{"$f":"IF(Liste_pièces!G159=\"\",\"\",Liste_pièces!G159)","v":""},{"$f":"IF(Liste_pièces!H159=\"\",\"\",Liste_pièces!H159)","v":"assemblage fournisseur"},{"$f":"IF(Liste_pièces!I159=\"\",\"\",Liste_pièces!I159)","v":""},{"$f":"IF(Liste_pièces!J159=\"\",\"\",Liste_pièces!J159)","v":0},{"$f":"IF(Liste_pièces!K159=\"\",\"\",Liste_pièces!K159)","v":4},{"$f":"IF(Liste_pièces!L159=\"\",\"\",Liste_pièces!L159)","v":4},{"$f":"IF(Liste_pièces!M159=\"\",\"\",Liste_pièces!M159)","v":4},6,1,9]
[{"$f":"IF(Liste_pièces!A160=\"\",\"ZZZ\",Liste_pièces!A160)","v":"QIN52"},{"$f":"IF(Liste_pièces!B160=\"\",\"ZZZ\",Liste_pièces!B160)","v":"QIN"},{"$f":"IF(Liste_pièces!C160=\"\",\"\",Liste_pièces!C160)","v":"siège adulte"},{"$f":"IF(Liste_pièces!D160=\"\",\"\",Liste_pièces!D160)","v":"étrier M8 D=26 65mm"},{"$f":"IF(Liste_pièces!E160=\"\",\"\",Liste_pièces!E160)","v":"ISO304"},{"$f":"IF(Liste_pièces!F160=\"\",\"\",Liste_pièces!F160)","v":""},{"$f":"IF(Liste_pièces!G160=\"\",\"\",Liste_pièces!G160)","v":""},{"$f":"IF(Liste_pièces!H160=\"\",\"\",Liste_pièces!H160)","v":"assemblage fournisseur"},{"$f":"IF(Liste_pièces!I160=\"\",\"\",Liste_pièces!I160)","v":""},{"$f":"IF(Liste_pièces!J160=\"\",\"\",Liste_pièces!J160)","v":4},{"$f":"IF(Liste_pièces!K160=\"\",\"\",Liste_pièces!K160)","v":4},{"$f":"IF(Liste_pièces!L160=\"\",\"\",Liste_pièces!L160)","v":4},{"$f":"IF(Liste_pièces!M160=\"\",\"\",Liste_pièces!M160)","v":4},6,1,9]
[{"$f":"IF(Liste_pièces!A161=\"\",\"ZZZ\",Liste_pièces!A161)","v":"QIN53"},{"$f":"IF(Liste_pièces!B161=\"\",\"ZZZ\",Liste_pièces!B161)","v":"QIN"},{"$f":"IF(Liste_pièces!C161=\"\",\"\",Liste_pièces!C161)","v":""},{"$f":"IF(Liste_pièces!D161=\"\",\"\",Liste_pièces!D161)","v":"butée à billes"},{"$f":"IF(Liste_pièces!E161=\"\",\"\",Liste_pièces!E161)","v":""},{"$f":"IF(Liste_pièces!F161=\"\",\"\",Liste_pièces!F161)","v":""},{"$f":"IF(Liste_pièces!G161=\"\",\"\",Liste_pièces!G161)","v":""},{"$f":"IF(Liste_pièces!H161=\"\",\"\",Liste_pièces!H161)","v":"assemblage fournisseur"},{"$f":"IF(Liste_pièces!I161=\"\",\"\",Liste_pièces!I161)","v":""},{"$f":"IF(Liste_pièces!J161=\"\",\"\",Liste_pièces!J161)","v":6},{"$f":"IF(Liste_pièces!K161=\"\",\"\",Liste_pièces!K161)","v":6},{"$f":"IF(Liste_pièces!L161=\"\",\"\",Liste_pièces!L161)","v":6},{"$f":"IF(Liste_pièces!M161=\"\",\"\",Liste_pièces!M161)","v":6},6,1,9]
[{"$f":"IF(Liste_pièces!A162=\"\",\"ZZZ\",Liste_pièces!A162)","v":"QIN54"},{"$f":"IF(Liste_pièces!B162=\"\",\"ZZZ\",Liste_pièces!B162)","v":"QIN"},{"$f":"IF(Liste_pièces!C162=\"\",\"\",Liste_pièces!C162)","v":"siège adulte"},{"$f":"IF(Liste_pièces!D162=\"\",\"\",Liste_pièces!D162)","v":"galet embase glissière"},{"$f":"IF(Liste_pièces!E162=\"\",\"\",Liste_pièces!E162)","v":"6 par embase"},{"$f":"IF(Liste_pièces!F162=\"\",\"\",Liste_pièces!F162)","v":""},{"$f":"IF(Liste_pièces!G162=\"\",\"\",Liste_pièces!G162)","v":""},{"$f":"IF(Liste_pièces!H162=\"\",\"\",Liste_pièces!H162)","v":"assemblage fournisseur"},{"$f":"IF(Liste_pièces!I162=\"\",\"\",Liste_pièces!I162)","v":""},{"$f":"IF(Liste_pièces!J162=\"\",\"\",Liste_pièces!J162)","v":0},{"$f":"IF(Liste_pièces!K162=\"\",\"\",Liste_pièces!K162)","v":12},{"$f":"IF(Liste_pièces!L162=\"\",\"\",Liste_pièces!L162)","v":12},{"$f":"IF(Liste_pièces!M162=\"\",\"\",Liste_pièces!M162)","v":12},6,1,9]
[{"$f":"IF(Liste_pièces!A167=\"\",\"ZZZ\",Liste_pièces!A167)","v":"QIN55"},{"$f":"IF(Liste_pièces!B167=\"\",\"ZZZ\",Liste_pièces!B167)","v":"QIN"},{"$f":"IF(Liste_pièces!C167=\"\",\"\",Liste_pièces!C167)","v":"siège adulte"},{"$f":"IF(Liste_pièces!D167=\"\",\"\",Liste_pièces!D167)","v":"ficelle pour tension des toiles sièges (dossier et assise)"},{"$f":"IF(Liste_pièces!E167=\"\",\"\",Liste_pièces!E167)","v":"diamètre au moins 2,5mm, 9 mètres par siège, noir"},{"$f":"IF(Liste_pièces!F167=\"\",\"\",Liste_pièces!F167)","v":"des ficelles ou lacets convienent"},{"$f":"IF(Liste_pièces!G167=\"\",\"\",Liste_pièces!G167)","v":""},{"$f":"IF(Liste_pièces!H167=\"\",\"\",Liste_pièces!H167)","v":"achat/récupération"},{"$f":"IF(Liste_pièces!I167=\"\",\"\",Liste_pièces!I167)","v":""},{"$f":"IF(Liste_pièces!J167=\"\",\"\",Liste_pièces!J167)","v":1},{"$f":"IF(Liste_pièces!K167=\"\",\"\",Liste_pièces!K167)","v":1},{"$f":"IF(Liste_pièces!L167=\"\",\"\",Liste_pièces!L167)","v":2},{"$f":"IF(Liste_pièces!M167=\"\",\"\",Liste_pièces!M167)","v":2},6,1,9]
[{"$f":"IF(Liste_pièces!A168=\"\",\"ZZZ\",Liste_pièces!A168)","v":"QIN56"},{"$f":"IF(Liste_pièces!B168=\"\",\"ZZZ\",Liste_pièces!B168)","v":"QIN"},{"$f":"IF(Liste_pièces!C168=\"\",\"\",Liste_pièces!C168)","v":"quincaillerie"},{"$f":"IF(Liste_pièces!D168=\"\",\"\",Liste_pièces!D168)","v":"Vis pour capteur de vitesse"},{"$f":"IF(Liste_pièces!E168=\"\",\"\",Liste_pièces!E168)","v":"Inox A2 DIN912"},{"$f":"IF(Liste_pièces!F168=\"\",\"\",Liste_pièces!F168)","v":""},{"$f":"IF(Liste_pièces!G168=\"\",\"\",Liste_pièces!G168)","v":""},{"$f":"IF(Liste_pièces!H168=\"\",\"\",Liste_pièces!H168)","v":"achat"},{"$f":"IF(Liste_pièces!I168=\"\",\"\",Liste_pièces!I168)","v":""},{"$f":"IF(Liste_pièces!J168=\"\",\"\",Liste_pièces!J168)","v":0},{"$f":"IF(Liste_pièces!K168=\"\",\"\",Liste_pièces!K168)","v":1},{"$f":"IF(Liste_pièces!L168=\"\",\"\",Liste_pièces!L168)","v":1},{"$f":"IF(Liste_pièces!M168=\"\",\"\",Liste_pièces!M168)","v":1},6,1,9]
[{"$f":"IF(Liste_pièces!A126=\"\",\"ZZZ\",Liste_pièces!A126)","v":"QIN60"},{"$f":"IF(Liste_pièces!B126=\"\",\"ZZZ\",Liste_pièces!B126)","v":"QIN"},{"$f":"IF(Liste_pièces!C126=\"\",\"\",Liste_pièces!C126)","v":"quincaillerie"},{"$f":"IF(Liste_pièces!D126=\"\",\"\",Liste_pièces!D126)","v":"vis M6 60mm"},{"$f":"IF(Liste_pièces!E126=\"\",\"\",Liste_pièces!E126)","v":"Inox A2, tête hexagonale, Filetage Total, DIN 933"},{"$f":"IF(Liste_pièces!F126=\"\",\"\",Liste_pièces!F126)","v":"assemplage 2 tubes"},{"$f":"IF(Liste_pièces!G126=\"\",\"\",Liste_pièces!G126)","v":""},{"$f":"IF(Liste_pièces!H126=\"\",\"\",Liste_pièces!H126)","v":"achat"},{"$f":"IF(Liste_pièces!I126=\"\",\"\",Liste_pièces!I126)","v":""},{"$f":"IF(Liste_pièces!J126=\"\",\"\",Liste_pièces!J126)","v":81},{"$f":"IF(Liste_pièces!K126=\"\",\"\",Liste_pièces!K126)","v":81},{"$f":"IF(Liste_pièces!L126=\"\",\"\",Liste_pièces!L126)","v":103},{"$f":"IF(Liste_pièces!M126=\"\",\"\",Liste_pièces!M126)","v":112},6,1,9]
[{"$f":"IF(Liste_pièces!A127=\"\",\"ZZZ\",Liste_pièces!A127)","v":"QIN65"},{"$f":"IF(Liste_pièces!B127=\"\",\"ZZZ\",Liste_pièces!B127)","v":"QIN"},{"$f":"IF(Liste_pièces!C127=\"\",\"\",Liste_pièces!C127)","v":"quincaillerie"},{"$f":"IF(Liste_pièces!D127=\"\",\"\",Liste_pièces!D127)","v":"vis M6 65mm"},{"$f":"IF(Liste_pièces!E127=\"\",\"\",Liste_pièces!E127)","v":"Inox A2, tête hexagonale, Filetage Total, DIN 933"},{"$f":"IF(Liste_pièces!F127=\"\",\"\",Liste_pièces!F127)","v":""},{"$f":"IF(Liste_pièces!G127=\"\",\"\",Liste_pièces!G127)","v":""},{"$f":"IF(Liste_pièces!H127=\"\",\"\",Liste_pièces!H127)","v":"achat"},{"$f":"IF(Liste_pièces!I127=\"\",\"\",Liste_pièces!I127)","v":""},{"$f":"IF(Liste_pièces!J127=\"\",\"\",Liste_pièces!J127)","v":8},{"$f":"IF(Liste_pièces!K127=\"\",\"\",Liste_pièces!K127)","v":8},{"$f":"IF(Liste_pièces!L127=\"\",\"\",Liste_pièces!L127)","v":8},{"$f":"IF(Liste_pièces!M127=\"\",\"\",Liste_pièces!M127)","v":10},6,1,9]
[{"$f":"IF(Liste_pièces!A125=\"\",\"ZZZ\",Liste_pièces!A125)","v":"QIN90"},{"$f":"IF(Liste_pièces!B125=\"\",\"ZZZ\",Liste_pièces!B125)","v":"QIN"},{"$f":"IF(Liste_pièces!C125=\"\",\"\",Liste_pièces!C125)","v":"quincaillerie"},{"$f":"IF(Liste_pièces!D125=\"\",\"\",Liste_pièces!D125)","v":"vis M6 90mm"},{"$f":"IF(Liste_pièces!E125=\"\",\"\",Liste_pièces!E125)","v":"Inox A2, tête hexagonale, Filetage Total, DIN 933"},{"$f":"IF(Liste_pièces!F125=\"\",\"\",Liste_pièces!F125)","v":"assemblage 3 tubes"},{"$f":"IF(Liste_pièces!G125=\"\",\"\",Liste_pièces!G125)","v":""},{"$f":"IF(Liste_pièces!H125=\"\",\"\",Liste_pièces!H125)","v":"achat"},{"$f":"IF(Liste_pièces!I125=\"\",\"\",Liste_pièces!I125)","v":""},{"$f":"IF(Liste_pièces!J125=\"\",\"\",Liste_pièces!J125)","v":14},{"$f":"IF(Liste_pièces!K125=\"\",\"\",Liste_pièces!K125)","v":14},{"$f":"IF(Liste_pièces!L125=\"\",\"\",Liste_pièces!L125)","v":25},{"$f":"IF(Liste_pièces!M125=\"\",\"\",Liste_pièces!M125)","v":25},6,1,9]
[{"$f":"IF(Liste_pièces!A31=\"\",\"ZZZ\",Liste_pièces!A31)","v":"QIN96"},{"$f":"IF(Liste_pièces!B31=\"\",\"ZZZ\",Liste_pièces!B31)","v":"QIN"},{"$f":"IF(Liste_pièces!C31=\"\",\"\",Liste_pièces!C31)","v":""},{"$f":"IF(Liste_pièces!D31=\"\",\"\",Liste_pièces!D31)","v":"ensemble coffret quincaillerie config. intégrale"},{"$f":"IF(Liste_pièces!E31=\"\",\"\",Liste_pièces!E31)","v":""},{"$f":"IF(Liste_pièces!F31=\"\",\"\",Liste_pièces!F31)","v":""},{"$f":"IF(Liste_pièces!G31=\"\",\"\",Liste_pièces!G31)","v":""},{"$f":"IF(Liste_pièces!H31=\"\",\"\",Liste_pièces!H31)","v":"option"},{"$f":"IF(Liste_pièces!I31=\"\",\"\",Liste_pièces!I31)","v":""},{"$f":"IF(Liste_pièces!J31=\"\",\"\",Liste_pièces!J31)","v":0},{"$f":"IF(Liste_pièces!K31=\"\",\"\",Liste_pièces!K31)","v":0},{"$f":"IF(Liste_pièces!L31=\"\",\"\",Liste_pièces!L31)","v":0},{"$f":"IF(Liste_pièces!M31=\"\",\"\",Liste_pièces!M31)","v":0},6,1,9]
[{"$f":"IF(Liste_pièces!A32=\"\",\"ZZZ\",Liste_pièces!A32)","v":"QIN97"},{"$f":"IF(Liste_pièces!B32=\"\",\"ZZZ\",Liste_pièces!B32)","v":"QIN"},{"$f":"IF(Liste_pièces!C32=\"\",\"\",Liste_pièces!C32)","v":""},{"$f":"IF(Liste_pièces!D32=\"\",\"\",Liste_pièces!D32)","v":"ensemble coffret quincaillerie config. solaire"},{"$f":"IF(Liste_pièces!E32=\"\",\"\",Liste_pièces!E32)","v":""},{"$f":"IF(Liste_pièces!F32=\"\",\"\",Liste_pièces!F32)","v":""},{"$f":"IF(Liste_pièces!G32=\"\",\"\",Liste_pièces!G32)","v":""},{"$f":"IF(Liste_pièces!H32=\"\",\"\",Liste_pièces!H32)","v":"option"},{"$f":"IF(Liste_pièces!I32=\"\",\"\",Liste_pièces!I32)","v":""},{"$f":"IF(Liste_pièces!J32=\"\",\"\",Liste_pièces!J32)","v":0},{"$f":"IF(Liste_pièces!K32=\"\",\"\",Liste_pièces!K32)","v":0},{"$f":"IF(Liste_pièces!L32=\"\",\"\",Liste_pièces!L32)","v":0},{"$f":"IF(Liste_pièces!M32=\"\",\"\",Liste_pièces!M32)","v":0},6,1,9]
[{"$f":"IF(Liste_pièces!A33=\"\",\"ZZZ\",Liste_pièces!A33)","v":"QIN98"},{"$f":"IF(Liste_pièces!B33=\"\",\"ZZZ\",Liste_pièces!B33)","v":"QIN"},{"$f":"IF(Liste_pièces!C33=\"\",\"\",Liste_pièces!C33)","v":""},{"$f":"IF(Liste_pièces!D33=\"\",\"\",Liste_pièces!D33)","v":"ensemble coffret quincaillerie config. motorisée"},{"$f":"IF(Liste_pièces!E33=\"\",\"\",Liste_pièces!E33)","v":""},{"$f":"IF(Liste_pièces!F33=\"\",\"\",Liste_pièces!F33)","v":""},{"$f":"IF(Liste_pièces!G33=\"\",\"\",Liste_pièces!G33)","v":""},{"$f":"IF(Liste_pièces!H33=\"\",\"\",Liste_pièces!H33)","v":"option"},{"$f":"IF(Liste_pièces!I33=\"\",\"\",Liste_pièces!I33)","v":""},{"$f":"IF(Liste_pièces!J33=\"\",\"\",Liste_pièces!J33)","v":0},{"$f":"IF(Liste_pièces!K33=\"\",\"\",Liste_pièces!K33)","v":0},{"$f":"IF(Liste_pièces!L33=\"\",\"\",Liste_pièces!L33)","v":0},{"$f":"IF(Liste_pièces!M33=\"\",\"\",Liste_pièces!M33)","v":0},6,1,9]
[{"$f":"IF(Liste_pièces!A34=\"\",\"ZZZ\",Liste_pièces!A34)","v":"QIN99"},{"$f":"IF(Liste_pièces!B34=\"\",\"ZZZ\",Liste_pièces!B34)","v":"QIN"},{"$f":"IF(Liste_pièces!C34=\"\",\"\",Liste_pièces!C34)","v":""},{"$f":"IF(Liste_pièces!D34=\"\",\"\",Liste_pièces!D34)","v":"ensemble coffret quincaillerie config. de base"},{"$f":"IF(Liste_pièces!E34=\"\",\"\",Liste_pièces!E34)","v":""},{"$f":"IF(Liste_pièces!F34=\"\",\"\",Liste_pièces!F34)","v":""},{"$f":"IF(Liste_pièces!G34=\"\",\"\",Liste_pièces!G34)","v":""},{"$f":"IF(Liste_pièces!H34=\"\",\"\",Liste_pièces!H34)","v":"option"},{"$f":"IF(Liste_pièces!I34=\"\",\"\",Liste_pièces!I34)","v":""},{"$f":"IF(Liste_pièces!J34=\"\",\"\",Liste_pièces!J34)","v":0},{"$f":"IF(Liste_pièces!K34=\"\",\"\",Liste_pièces!K34)","v":0},{"$f":"IF(Liste_pièces!L34=\"\",\"\",Liste_pièces!L34)","v":0},{"$f":"IF(Liste_pièces!M34=\"\",\"\",Liste_pièces!M34)","v":0},6,1,9]
[{"$f":"IF(Liste_pièces!A10=\"\",\"ZZZ\",Liste_pièces!A10)","v":"ROU01"},{"$f":"IF(Liste_pièces!B10=\"\",\"ZZZ\",Liste_pièces!B10)","v":"ROU"},{"$f":"IF(Liste_pièces!C10=\"\",\"\",Liste_pièces!C10)","v":""},{"$f":"IF(Liste_pièces!D10=\"\",\"\",Liste_pièces!D10)","v":"fond de Jante"},{"$f":"IF(Liste_pièces!E10=\"\",\"\",Liste_pièces!E10)","v":"Fond de Jante EXCESS 20x1,5/1,7"},{"$f":"IF(Liste_pièces!F10=\"\",\"\",Liste_pièces!F10)","v":""},{"$f":"IF(Liste_pièces!G10=\"\",\"\",Liste_pièces!G10)","v":""},{"$f":"IF(Liste_pièces!H10=\"\",\"\",Liste_pièces!H10)","v":"achat"},{"$f":"IF(Liste_pièces!I10=\"\",\"\",Liste_pièces!I10)","v":""},{"$f":"IF(Liste_pièces!J10=\"\",\"\",Liste_pièces!J10)","v":2},{"$f":"IF(Liste_pièces!K10=\"\",\"\",Liste_pièces!K10)","v":2},{"$f":"IF(Liste_pièces!L10=\"\",\"\",Liste_pièces!L10)","v":2},{"$f":"IF(Liste_pièces!M10=\"\",\"\",Liste_pièces!M10)","v":2},7,0,10]
[{"$f":"IF(Liste_pièces!A11=\"\",\"ZZZ\",Liste_pièces!A11)","v":"ROU02"},{"$f":"IF(Liste_pièces!B11=\"\",\"ZZZ\",Liste_pièces!B11)","v":"ROU"},{"$f":"IF(Liste_pièces!C11=\"\",\"\",Liste_pièces!C11)","v":""},{"$f":"IF(Liste_pièces!D11=\"\",\"\",Liste_pièces!D11)","v":"chambre à air"},{"$f":"IF(Liste_pièces!E11=\"\",\"\",Liste_pièces!E11)","v":""},{"$f":"IF(Liste_pièces!F11=\"\",\"\",Liste_pièces!F11)","v":"20 pouces, diamètre 2,35"},{"$f":"IF(Liste_pièces!G11=\"\",\"\",Liste_pièces!G11)","v":""},{"$f":"IF(Liste_pièces!H11=\"\",\"\",Liste_pièces!H11)","v":"achat"},{"$f":"IF(Liste_pièces!I11=\"\",\"\",Liste_pièces!I11)","v":""},{"$f":"IF(Liste_pièces!J11=\"\",\"\",Liste_pièces!J11)","v":3},{"$f":"IF(Liste_pièces!K11=\"\",\"\",Liste_pièces!K11)","v":3},{"$f":"IF(Liste_pièces!L11=\"\",\"\",Liste_pièces!L11)","v":3},{"$f":"IF(Liste_pièces!M11=\"\",\"\",Liste_pièces!M11)","v":3},7,0,10]
[{"$f":"IF(Liste_pièces!A13=\"\",\"ZZZ\",Liste_pièces!A13)","v":"ROU03"},{"$f":"IF(Liste_pièces!B13=\"\",\"ZZZ\",Liste_pièces!B13)","v":"ROU"},{"$f":"IF(Liste_pièces!C13=\"\",\"\",Liste_pièces!C13)","v":""},{"$f":"IF(Liste_pièces!D13=\"\",\"\",Liste_pièces!D13)","v":"pneu"},{"$f":"IF(Liste_pièces!E13=\"\",\"\",Liste_pièces!E13)","v":"Pneu rigide 20\" x 2,35\", avec amorti"},{"$f":"IF(Liste_pièces!F13=\"\",\"\",Liste_pièces!F13)","v":"Charge maximum 125kg"},{"$f":"IF(Liste_pièces!G13=\"\",\"\",Liste_pièces!G13)","v":""},{"$f":"IF(Liste_pièces!H13=\"\",\"\",Liste_pièces!H13)","v":"achat"},{"$f":"IF(Liste_pièces!I13=\"\",\"\",Liste_pièces!I13)","v":""},{"$f":"IF(Liste_pièces!J13=\"\",\"\",Liste_pièces!J13)","v":3},{"$f":"IF(Liste_pièces!K13=\"\",\"\",Liste_pièces!K13)","v":3},{"$f":"IF(Liste_pièces!L13=\"\",\"\",Liste_pièces!L13)","v":3},{"$f":"IF(Liste_pièces!M13=\"\",\"\",Liste_pièces!M13)","v":3},7,0,10]
[{"$f":"IF(Liste_pièces!A14=\"\",\"ZZZ\",Liste_pièces!A14)","v":"ROU04"},{"$f":"IF(Liste_pièces!B14=\"\",\"ZZZ\",Liste_pièces!B14)","v":"ROU"},{"$f":"IF(Liste_pièces!C14=\"\",\"\",Liste_pièces!C14)","v":""},{"$f":"IF(Liste_pièces!D14=\"\",\"\",Liste_pièces!D14)","v":"bande anti-crevaison"},{"$f":"IF(Liste_pièces!E14=\"\",\"\",Liste_pièces!E14)","v":"évite les crevaisons"},{"$f":"IF(Liste_pièces!F14=\"\",\"\",Liste_pièces!F14)","v":"non obligatoire"},{"$f":"IF(Liste_pièces!G14=\"\",\"\",Liste_pièces!G14)","v":"ancienne chambre à air à adapter (voir guide de montage)"},{"$f":"IF(Liste_pièces!H14=\"\",\"\",Liste_pièces!H14)","v":"achat/récupération"},{"$f":"IF(Liste_pièces!I14=\"\",\"\",Liste_pièces!I14)","v":""},{"$f":"IF(Liste_pièces!J14=\"\",\"\",Liste_pièces!J14)","v":1},{"$f":"IF(Liste_pièces!K14=\"\",\"\",Liste_pièces!K14)","v":1},{"$f":"IF(Liste_pièces!L14=\"\",\"\",Liste_pièces!L14)","v":1},{"$f":"IF(Liste_pièces!M14=\"\",\"\",Liste_pièces!M14)","v":1},7,{"$f":"IF(N170*37=SUM(N133:N169),1,0)","v":0},10]
[{"$f":"IF(Liste_pièces!A15=\"\",\"ZZZ\",Liste_pièces!A15)","v":"ROU05"},{"$f":"IF(Liste_pièces!B15=\"\",\"ZZZ\",Liste_pièces!B15)","v":"ROU"},{"$f":"IF(Liste_pièces!C15=\"\",\"\",Liste_pièces!C15)","v":""},{"$f":"IF(Liste_pièces!D15=\"\",\"\",Liste_pièces!D15)","v":"roues stabilisatrices latérales"},{"$f":"IF(Liste_pièces!E15=\"\",\"\",Liste_pièces!E15)","v":" "},{"$f":"IF(Liste_pièces!F15=\"\",\"\",Liste_pièces!F15)","v":"Paire, diamètre 100mm, roulements inclus"},{"$f":"IF(Liste_pièces!G15=\"\",\"\",Liste_pièces!G15)","v":""},{"$f":"IF(Liste_pièces!H15=\"\",\"\",Liste_pièces!H15)","v":"achat"},{"$f":"IF(Liste_pièces!I15=\"\",\"\",Liste_pièces!I15)","v":""},{"$f":"IF(Liste_pièces!J15=\"\",\"\",Liste_pièces!J15)","v":0},{"$f":"IF(Liste_pièces!K15=\"\",\"\",Liste_pièces!K15)","v":0},{"$f":"IF(Liste_pièces!L15=\"\",\"\",Liste_pièces!L15)","v":1},{"$f":"IF(Liste_pièces!M15=\"\",\"\",Liste_pièces!M15)","v":1},7,0,10]
[{"$f":"IF(Liste_pièces!A82=\"\",\"ZZZ\",Liste_pièces!A82)","v":"ROU12"},{"$f":"IF(Liste_pièces!B82=\"\",\"ZZZ\",Liste_pièces!B82)","v":"ROU"},{"$f":"IF(Liste_pièces!C82=\"\",\"\",Liste_pièces!C82)","v":"roue avant"},{"$f":"IF(Liste_pièces!D82=\"\",\"\",Liste_pièces!D82)","v":"jante"},{"$f":"IF(Liste_pièces!E82=\"\",\"\",Liste_pièces!E82)","v":"ETRTO 406x19c, 32 trous"},{"$f":"IF(Liste_pièces!F82=\"\",\"\",Liste_pièces!F82)","v":"Double paroi"},{"$f":"IF(Liste_pièces!G82=\"\",\"\",Liste_pièces!G82)","v":""},{"$f":"IF(Liste_pièces!H82=\"\",\"\",Liste_pièces!H82)","v":"assemblage fournisseur"},{"$f":"IF(Liste_pièces!I82=\"\",\"\",Liste_pièces!I82)","v":""},{"$f":"IF(Liste_pièces!J82=\"\",\"\",Liste_pièces!J82)","v":2},{"$f":"IF(Liste_pièces!K82=\"\",\"\",Liste_pièces!K82)","v":2},{"$f":"IF(Liste_pièces!L82=\"\",\"\",Liste_pièces!L82)","v":2},{"$f":"IF(Liste_pièces!M82=\"\",\"\",Liste_pièces!M82)","v":2},7,0,10]
[{"$f":"IF(Liste_pièces!A83=\"\",\"ZZZ\",Liste_pièces!A83)","v":"ROU13"},{"$f":"IF(Liste_pièces!B83=\"\",\"ZZZ\",Liste_pièces!B83)","v":"ROU"},{"$f":"IF(Liste_pièces!C83=\"\",\"\",Liste_pièces!C83)","v":"roue avant"},{"$f":"IF(Liste_pièces!D83=\"\",\"\",Liste_pièces!D83)","v":"rayons"},{"$f":"IF(Liste_pièces!E83=\"\",\"\",Liste_pièces!E83)","v":"inox"},{"$f":"IF(Liste_pièces!F83=\"\",\"\",Liste_pièces!F83)","v":"Longueur 182 mm"},{"$f":"IF(Liste_pièces!G83=\"\",\"\",Liste_pièces!G83)","v":""},{"$f":"IF(Liste_pièces!H83=\"\",\"\",Liste_pièces!H83)","v":"assemblage fournisseur"},{"$f":"IF(Liste_pièces!I83=\"\",\"\",Liste_pièces!I83)","v":""},{"$f":"IF(Liste_pièces!J83=\"\",\"\",Liste_pièces!J83)","v":64},{"$f":"IF(Liste_pièces!K83=\"\",\"\",Liste_pièces!K83)","v":64},{"$f":"IF(Liste_pièces!L83=\"\",\"\",Liste_pièces!L83)","v":64},{"$f":"IF(Liste_pièces!M83=\"\",\"\",Liste_pièces!M83)","v":64},7,0,10]
[{"$f":"IF(Liste_pièces!A84=\"\",\"ZZZ\",Liste_pièces!A84)","v":"ROU14"},{"$f":"IF(Liste_pièces!B84=\"\",\"ZZZ\",Liste_pièces!B84)","v":"ROU"},{"$f":"IF(Liste_pièces!C84=\"\",\"\",Liste_pièces!C84)","v":"roue avant"},{"$f":"IF(Liste_pièces!D84=\"\",\"\",Liste_pièces!D84)","v":"moyeu"},{"$f":"IF(Liste_pièces!E84=\"\",\"\",Liste_pièces!E84)","v":"32 trous"},{"$f":"IF(Liste_pièces!F84=\"\",\"\",Liste_pièces!F84)","v":"avec frein à disque, creux (thru-axle) 14,8mm, largeur 100mm"},{"$f":"IF(Liste_pièces!G84=\"\",\"\",Liste_pièces!G84)","v":""},{"$f":"IF(Liste_pièces!H84=\"\",\"\",Liste_pièces!H84)","v":"assemblage fournisseur"},{"$f":"IF(Liste_pièces!I84=\"\",\"\",Liste_pièces!I84)","v":""},{"$f":"IF(Liste_pièces!J84=\"\",\"\",Liste_pièces!J84)","v":2},{"$f":"IF(Liste_pièces!K84=\"\",\"\",Liste_pièces!K84)","v":2},{"$f":"IF(Liste_pièces!L84=\"\",\"\",Liste_pièces!L84)","v":2},{"$f":"IF(Liste_pièces!M84=\"\",\"\",Liste_pièces!M84)","v":2},7,0,10]
[{"$f":"IF(Liste_pièces!A75=\"\",\"ZZZ\",Liste_pièces!A75)","v":"ROU16"},{"$f":"IF(Liste_pièces!B75=\"\",\"ZZZ\",Liste_pièces!B75)","v":"ROU"},{"$f":"IF(Liste_pièces!C75=\"\",\"\",Liste_pièces!C75)","v":""},{"$f":"IF(Liste_pièces!D75=\"\",\"\",Liste_pièces!D75)","v":"roue arrière 20 pouces avec moyeu nexus 8 vitesses"},{"$f":"IF(Liste_pièces!E75=\"\",\"\",Liste_pièces!E75)","v":"moyeu Shimano Nexus Inter-8 SG-C6001-8D"},{"$f":"IF(Liste_pièces!F75=\"\",\"\",Liste_pièces!F75)","v":"pour frein à disque (center lock), 22 dents, moyeu, largeur 135mm, 36 rayons 2mm, bagues 7R noir et grise 7L fournies, ETRTO 406x19c"},{"$f":"IF(Liste_pièces!G75=\"\",\"\",Liste_pièces!G75)","v":"Ajuster la bague à 101mm (axe de la bague) au bord de la gaine en étant sur la vitesse 1"},{"$f":"IF(Liste_pièces!H75=\"\",\"\",Liste_pièces!H75)","v":"achat"},{"$f":"IF(Liste_pièces!I75=\"\",\"\",Liste_pièces!I75)","v":""},{"$f":"IF(Liste_pièces!J75=\"\",\"\",Liste_pièces!J75)","v":1},{"$f":"IF(Liste_pièces!K75=\"\",\"\",Liste_pièces!K75)","v":1},{"$f":"IF(Liste_pièces!L75=\"\",\"\",Liste_pièces!L75)","v":1},{"$f":"IF(Liste_pièces!M75=\"\",\"\",Liste_pièces!M75)","v":1},7,0,10]
[{"$f":"IF(Liste_pièces!A76=\"\",\"ZZZ\",Liste_pièces!A76)","v":"ROU17"},{"$f":"IF(Liste_pièces!B76=\"\",\"ZZZ\",Liste_pièces!B76)","v":"ROU"},{"$f":"IF(Liste_pièces!C76=\"\",\"\",Liste_pièces!C76)","v":""},{"$f":"IF(Liste_pièces!D76=\"\",\"\",Liste_pièces!D76)","v":"adaptateur center lock"},{"$f":"IF(Liste_pièces!E76=\"\",\"\",Liste_pièces!E76)","v":""},{"$f":"IF(Liste_pièces!F76=\"\",\"\",Liste_pièces!F76)","v":"center lock, 6 trous"},{"$f":"IF(Liste_pièces!G76=\"\",\"\",Liste_pièces!G76)","v":"pour le montage du disque sur le moyeu nexus 8 de la roue arrière"},{"$f":"IF(Liste_pièces!H76=\"\",\"\",Liste_pièces!H76)","v":"achat"},{"$f":"IF(Liste_pièces!I76=\"\",\"\",Liste_pièces!I76)","v":""},{"$f":"IF(Liste_pièces!J76=\"\",\"\",Liste_pièces!J76)","v":1},{"$f":"IF(Liste_pièces!K76=\"\",\"\",Liste_pièces!K76)","v":1},{"$f":"IF(Liste_pièces!L76=\"\",\"\",Liste_pièces!L76)","v":1},{"$f":"IF(Liste_pièces!M76=\"\",\"\",Liste_pièces!M76)","v":1},7,0,10]
[{"$f":"IF(Liste_pièces!A12=\"\",\"ZZZ\",Liste_pièces!A12)","v":"ROU18"},{"$f":"IF(Liste_pièces!B12=\"\",\"ZZZ\",Liste_pièces!B12)","v":"ROU"},{"$f":"IF(Liste_pièces!C12=\"\",\"\",Liste_pièces!C12)","v":""},{"$f":"IF(Liste_pièces!D12=\"\",\"\",Liste_pièces!D12)","v":"chambre à air linéaire"},{"$f":"IF(Liste_pièces!E12=\"\",\"\",Liste_pièces!E12)","v":""},{"$f":"IF(Liste_pièces!F12=\"\",\"\",Liste_pièces!F12)","v":"20 pouces, diamètre 2,35"},{"$f":"IF(Liste_pièces!G12=\"\",\"\",Liste_pièces!G12)","v":"pour la roue arrière (sans besoin de démonter la roue)"},{"$f":"IF(Liste_pièces!H12=\"\",\"\",Liste_pièces!H12)","v":"option"},{"$f":"IF(Liste_pièces!I12=\"\",\"\",Liste_pièces!I12)","v":""},{"$f":"IF(Liste_pièces!J12=\"\",\"\",Liste_pièces!J12)","v":0},{"$f":"IF(Liste_pièces!K12=\"\",\"\",Liste_pièces!K12)","v":0},{"$f":"IF(Liste_pièces!L12=\"\",\"\",Liste_pièces!L12)","v":0},{"$f":"IF(Liste_pièces!M12=\"\",\"\",Liste_pièces!M12)","v":0},7,0,10]
[{"$f":"IF(Liste_pièces!A9=\"\",\"ZZZ\",Liste_pièces!A9)","v":"ROU98"},{"$f":"IF(Liste_pièces!B9=\"\",\"ZZZ\",Liste_pièces!B9)","v":"ROU"},{"$f":"IF(Liste_pièces!C9=\"\",\"\",Liste_pièces!C9)","v":"ROUE AVANT"},{"$f":"IF(Liste_pièces!D9=\"\",\"\",Liste_pièces!D9)","v":"ensemble roue avant"},{"$f":"IF(Liste_pièces!E9=\"\",\"\",Liste_pièces!E9)","v":"paire de roues"},{"$f":"IF(Liste_pièces!F9=\"\",\"\",Liste_pièces!F9)","v":"diamètre intérieur 14,8 mm"},{"$f":"IF(Liste_pièces!G9=\"\",\"\",Liste_pièces!G9)","v":""},{"$f":"IF(Liste_pièces!H9=\"\",\"\",Liste_pièces!H9)","v":"achat"},{"$f":"IF(Liste_pièces!I9=\"\",\"\",Liste_pièces!I9)","v":""},{"$f":"IF(Liste_pièces!J9=\"\",\"\",Liste_pièces!J9)","v":1},{"$f":"IF(Liste_pièces!K9=\"\",\"\",Liste_pièces!K9)","v":1},{"$f":"IF(Liste_pièces!L9=\"\",\"\",Liste_pièces!L9)","v":1},{"$f":"IF(Liste_pièces!M9=\"\",\"\",Liste_pièces!M9)","v":1},7,0,10]
[{"$f":"IF(Liste_pièces!A256=\"\",\"ZZZ\",Liste_pièces!A256)","v":"TB_E16"},{"$f":"IF(Liste_pièces!B256=\"\",\"ZZZ\",Liste_pièces!B256)","v":"TB_"},{"$f":"IF(Liste_pièces!C256=\"\",\"\",Liste_pièces!C256)","v":""},{"$f":"IF(Liste_pièces!D256=\"\",\"\",Liste_pièces!D256)","v":"Axe potence (haut)"},{"$f":"IF(Liste_pièces!E256=\"\",\"\",Liste_pièces!E256)","v":"20x20x2"},{"$f":"IF(Liste_pièces!F256=\"\",\"\",Liste_pièces!F256)","v":14},{"$f":"IF(Liste_pièces!G256=\"\",\"\",Liste_pièces!G256)","v":""},{"$f":"IF(Liste_pièces!H256=\"\",\"\",Liste_pièces!H256)","v":"assemblage fournisseur"},{"$f":"IF(Liste_pièces!I256=\"\",\"\",Liste_pièces!I256)","v":""},{"$f":"IF(Liste_pièces!J256=\"\",\"\",Liste_pièces!J256)","v":1},{"$f":"IF(Liste_pièces!K256=\"\",\"\",Liste_pièces!K256)","v":1},{"$f":"IF(Liste_pièces!L256=\"\",\"\",Liste_pièces!L256)","v":1},{"$f":"IF(Liste_pièces!M256=\"\",\"\",Liste_pièces!M256)","v":1},8,0,11]
[{"$f":"IF(Liste_pièces!A254=\"\",\"ZZZ\",Liste_pièces!A254)","v":"TB_E20"},{"$f":"IF(Liste_pièces!B254=\"\",\"ZZZ\",Liste_pièces!B254)","v":"TB_"},{"$f":"IF(Liste_pièces!C254=\"\",\"\",Liste_pièces!C254)","v":""},{"$f":"IF(Liste_pièces!D254=\"\",\"\",Liste_pièces!D254)","v":"Entretoise moteur"},{"$f":"IF(Liste_pièces!E254=\"\",\"\",Liste_pièces!E254)","v":"20x20x2"},{"$f":"IF(Liste_pièces!F254=\"\",\"\",Liste_pièces!F254)","v":20},{"$f":"IF(Liste_pièces!G254=\"\",\"\",Liste_pièces!G254)","v":""},{"$f":"IF(Liste_pièces!H254=\"\",\"\",Liste_pièces!H254)","v":"assemblage fournisseur"},{"$f":"IF(Liste_pièces!I254=\"\",\"\",Liste_pièces!I254)","v":""},{"$f":"IF(Liste_pièces!J254=\"\",\"\",Liste_pièces!J254)","v":0},{"$f":"IF(Liste_pièces!K254=\"\",\"\",Liste_pièces!K254)","v":8},{"$f":"IF(Liste_pièces!L254=\"\",\"\",Liste_pièces!L254)","v":8},{"$f":"IF(Liste_pièces!M254=\"\",\"\",Liste_pièces!M254)","v":8},8,0,11]
[{"$f":"IF(Liste_pièces!A253=\"\",\"ZZZ\",Liste_pièces!A253)","v":"TB_E21"},{"$f":"IF(Liste_pièces!B253=\"\",\"ZZZ\",Liste_pièces!B253)","v":"TB_"},{"$f":"IF(Liste_pièces!C253=\"\",\"\",Liste_pièces!C253)","v":""},{"$f":"IF(Liste_pièces!D253=\"\",\"\",Liste_pièces!D253)","v":"Entretoise"},{"$f":"IF(Liste_pièces!E253=\"\",\"\",Liste_pièces!E253)","v":"20x20x2"},{"$f":"IF(Liste_pièces!F253=\"\",\"\",Liste_pièces!F253)","v":20.7},{"$f":"IF(Liste_pièces!G253=\"\",\"\",Liste_pièces!G253)","v":"à mettre dans des tubes 25x25x2"},{"$f":"IF(Liste_pièces!H253=\"\",\"\",Liste_pièces!H253)","v":"assemblage fournisseur"},{"$f":"IF(Liste_pièces!I253=\"\",\"\",Liste_pièces!I253)","v":""},{"$f":"IF(Liste_pièces!J253=\"\",\"\",Liste_pièces!J253)","v":6},{"$f":"IF(Liste_pièces!K253=\"\",\"\",Liste_pièces!K253)","v":14},{"$f":"IF(Liste_pièces!L253=\"\",\"\",Liste_pièces!L253)","v":14},{"$f":"IF(Liste_pièces!M253=\"\",\"\",Liste_pièces!M253)","v":14},8,0,11]
[{"$f":"IF(Liste_pièces!A255=\"\",\"ZZZ\",Liste_pièces!A255)","v":"TB_E36"},{"$f":"IF(Liste_pièces!B255=\"\",\"ZZZ\",Liste_pièces!B255)","v":"TB_"},{"$f":"IF(Liste_pièces!C255=\"\",\"\",Liste_pièces!C255)","v":""},{"$f":"IF(Liste_pièces!D255=\"\",\"\",Liste_pièces!D255)","v":"Entretoise moteur"},{"$f":"IF(Liste_pièces!E255=\"\",\"\",Liste_pièces!E255)","v":"20x20x2"},{"$f":"IF(Liste_pièces!F255=\"\",\"\",Liste_pièces!F255)","v":36},{"$f":"IF(Liste_pièces!G255=\"\",\"\",Liste_pièces!G255)","v":""},{"$f":"IF(Liste_pièces!H255=\"\",\"\",Liste_pièces!H255)","v":"assemblage fournisseur"},{"$f":"IF(Liste_pièces!I255=\"\",\"\",Liste_pièces!I255)","v":""},{"$f":"IF(Liste_pièces!J255=\"\",\"\",Liste_pièces!J255)","v":0},{"$f":"IF(Liste_pièces!K255=\"\",\"\",Liste_pièces!K255)","v":4},{"$f":"IF(Liste_pièces!L255=\"\",\"\",Liste_pièces!L255)","v":4},{"$f":"IF(Liste_pièces!M255=\"\",\"\",Liste_pièces!M255)","v":4},8,0,11]
[{"$f":"IF(Liste_pièces!A201=\"\",\"ZZZ\",Liste_pièces!A201)","v":"TB_L00"},{"$f":"IF(Liste_pièces!B201=\"\",\"ZZZ\",Liste_pièces!B201)","v":"TB_"},{"$f":"IF(Liste_pièces!C201=\"\",\"\",Liste_pièces!C201)","v":""},{"$f":"IF(Liste_pièces!D201=\"\",\"\",Liste_pièces!D201)","v":"Longeron chassis bas avant droit"},{"$f":"IF(Liste_pièces!E201=\"\",\"\",Liste_pièces!E201)","v":"25x25x2mm"},{"$f":"IF(Liste_pièces!F201=\"\",\"\",Liste_pièces!F201)","v":1425},{"$f":"IF(Liste_pièces!G201=\"\",\"\",Liste_pièces!G201)","v":""},{"$f":"IF(Liste_pièces!H201=\"\",\"\",Liste_pièces!H201)","v":"assemblage fournisseur"},{"$f":"IF(Liste_pièces!I201=\"\",\"\",Liste_pièces!I201)","v":""},{"$f":"IF(Liste_pièces!J201=\"\",\"\",Liste_pièces!J201)","v":1},{"$f":"IF(Liste_pièces!K201=\"\",\"\",Liste_pièces!K201)","v":1},{"$f":"IF(Liste_pièces!L201=\"\",\"\",Liste_pièces!L201)","v":1},{"$f":"IF(Liste_pièces!M201=\"\",\"\",Liste_pièces!M201)","v":1},8,0,11]
[{"$f":"IF(Liste_pièces!A202=\"\",\"ZZZ\",Liste_pièces!A202)","v":"TB_L01"},{"$f":"IF(Liste_pièces!B202=\"\",\"ZZZ\",Liste_pièces!B202)","v":"TB_"},{"$f":"IF(Liste_pièces!C202=\"\",\"\",Liste_pièces!C202)","v":""},{"$f":"IF(Liste_pièces!D202=\"\",\"\",Liste_pièces!D202)","v":"Longeron chassis bas avant gauche"},{"$f":"IF(Liste_pièces!E202=\"\",\"\",Liste_pièces!E202)","v":"25x25x2mm"},{"$f":"IF(Liste_pièces!F202=\"\",\"\",Liste_pièces!F202)","v":1425},{"$f":"IF(Liste_pièces!G202=\"\",\"\",Liste_pièces!G202)","v":""},{"$f":"IF(Liste_pièces!H202=\"\",\"\",Liste_pièces!H202)","v":"assemblage fournisseur"},{"$f":"IF(Liste_pièces!I202=\"\",\"\",Liste_pièces!I202)","v":""},{"$f":"IF(Liste_pièces!J202=\"\",\"\",Liste_pièces!J202)","v":1},{"$f":"IF(Liste_pièces!K202=\"\",\"\",Liste_pièces!K202)","v":1},{"$f":"IF(Liste_pièces!L202=\"\",\"\",Liste_pièces!L202)","v":1},{"$f":"IF(Liste_pièces!M202=\"\",\"\",Liste_pièces!M202)","v":1},8,0,11]
[{"$f":"IF(Liste_pièces!A203=\"\",\"ZZZ\",Liste_pièces!A203)","v":"TB_L02"},{"$f":"IF(Liste_pièces!B203=\"\",\"ZZZ\",Liste_pièces!B203)","v":"TB_"},{"$f":"IF(Liste_pièces!C203=\"\",\"\",Liste_pièces!C203)","v":""},{"$f":"IF(Liste_pièces!D203=\"\",\"\",Liste_pièces!D203)","v":"Longeron chassis bas arrière"},{"$f":"IF(Liste_pièces!E203=\"\",\"\",Liste_pièces!E203)","v":"25x25x2mm"},{"$f":"IF(Liste_pièces!F203=\"\",\"\",Liste_pièces!F203)","v":1255},{"$f":"IF(Liste_pièces!G203=\"\",\"\",Liste_pièces!G203)","v":""},{"$f":"IF(Liste_pièces!H203=\"\",\"\",Liste_pièces!H203)","v":"assemblage fournisseur"},{"$f":"IF(Liste_pièces!I203=\"\",\"\",Liste_pièces!I203)","v":""},{"$f":"IF(Liste_pièces!J203=\"\",\"\",Liste_pièces!J203)","v":2},{"$f":"IF(Liste_pièces!K203=\"\",\"\",Liste_pièces!K203)","v":2},{"$f":"IF(Liste_pièces!L203=\"\",\"\",Liste_pièces!L203)","v":2},{"$f":"IF(Liste_pièces!M203=\"\",\"\",Liste_pièces!M203)","v":2},8,0,11]
[{"$f":"IF(Liste_pièces!A204=\"\",\"ZZZ\",Liste_pièces!A204)","v":"TB_L03"},{"$f":"IF(Liste_pièces!B204=\"\",\"ZZZ\",Liste_pièces!B204)","v":"TB_"},{"$f":"IF(Liste_pièces!C204=\"\",\"\",Liste_pièces!C204)","v":""},{"$f":"IF(Liste_pièces!D204=\"\",\"\",Liste_pièces!D204)","v":"Longeron extérieur marche pied"},{"$f":"IF(Liste_pièces!E204=\"\",\"\",Liste_pièces!E204)","v":"25x25x2mm"},{"$f":"IF(Liste_pièces!F204=\"\",\"\",Liste_pièces!F204)","v":1255},{"$f":"IF(Liste_pièces!G204=\"\",\"\",Liste_pièces!G204)","v":""},{"$f":"IF(Liste_pièces!H204=\"\",\"\",Liste_pièces!H204)","v":"assemblage fournisseur"},{"$f":"IF(Liste_pièces!I204=\"\",\"\",Liste_pièces!I204)","v":""},{"$f":"IF(Liste_pièces!J204=\"\",\"\",Liste_pièces!J204)","v":0},{"$f":"IF(Liste_pièces!K204=\"\",\"\",Liste_pièces!K204)","v":0},{"$f":"IF(Liste_pièces!L204=\"\",\"\",Liste_pièces!L204)","v":2},{"$f":"IF(Liste_pièces!M204=\"\",\"\",Liste_pièces!M204)","v":2},8,0,11]
[{"$f":"IF(Liste_pièces!A205=\"\",\"ZZZ\",Liste_pièces!A205)","v":"TB_L04"},{"$f":"IF(Liste_pièces!B205=\"\",\"ZZZ\",Liste_pièces!B205)","v":"TB_"},{"$f":"IF(Liste_pièces!C205=\"\",\"\",Liste_pièces!C205)","v":""},{"$f":"IF(Liste_pièces!D205=\"\",\"\",Liste_pièces!D205)","v":"Longeron rigidification arriere chassis"},{"$f":"IF(Liste_pièces!E205=\"\",\"\",Liste_pièces!E205)","v":"25x25x2mm"},{"$f":"IF(Liste_pièces!F205=\"\",\"\",Liste_pièces!F205)","v":525},{"$f":"IF(Liste_pièces!G205=\"\",\"\",Liste_pièces!G205)","v":""},{"$f":"IF(Liste_pièces!H205=\"\",\"\",Liste_pièces!H205)","v":"assemblage fournisseur"},{"$f":"IF(Liste_pièces!I205=\"\",\"\",Liste_pièces!I205)","v":""},{"$f":"IF(Liste_pièces!J205=\"\",\"\",Liste_pièces!J205)","v":2},{"$f":"IF(Liste_pièces!K205=\"\",\"\",Liste_pièces!K205)","v":2},{"$f":"IF(Liste_pièces!L205=\"\",\"\",Liste_pièces!L205)","v":2},{"$f":"IF(Liste_pièces!M205=\"\",\"\",Liste_pièces!M205)","v":2},8,0,11]
[{"$f":"IF(Liste_pièces!A206=\"\",\"ZZZ\",Liste_pièces!A206)","v":"TB_L05"},{"$f":"IF(Liste_pièces!B206=\"\",\"ZZZ\",Liste_pièces!B206)","v":"TB_"},{"$f":"IF(Liste_pièces!C206=\"\",\"\",Liste_pièces!C206)","v":""},{"$f":"IF(Liste_pièces!D206=\"\",\"\",Liste_pièces!D206)","v":"Longeron chassis haut"},{"$f":"IF(Liste_pièces!E206=\"\",\"\",Liste_pièces!E206)","v":"25x25x2mm"},{"$f":"IF(Liste_pièces!F206=\"\",\"\",Liste_pièces!F206)","v":2060},{"$f":"IF(Liste_pièces!G206=\"\",\"\",Liste_pièces!G206)","v":""},{"$f":"IF(Liste_pièces!H206=\"\",\"\",Liste_pièces!H206)","v":"assemblage fournisseur"},{"$f":"IF(Liste_pièces!I206=\"\",\"\",Liste_pièces!I206)","v":""},{"$f":"IF(Liste_pièces!J206=\"\",\"\",Liste_pièces!J206)","v":1},{"$f":"IF(Liste_pièces!K206=\"\",\"\",Liste_pièces!K206)","v":1},{"$f":"IF(Liste_pièces!L206=\"\",\"\",Liste_pièces!L206)","v":1},{"$f":"IF(Liste_pièces!M206=\"\",\"\",Liste_pièces!M206)","v":1},8,0,11]
[{"$f":"IF(Liste_pièces!A207=\"\",\"ZZZ\",Liste_pièces!A207)","v":"TB_L06"},{"$f":"IF(Liste_pièces!B207=\"\",\"ZZZ\",Liste_pièces!B207)","v":"TB_"},{"$f":"IF(Liste_pièces!C207=\"\",\"\",Liste_pièces!C207)","v":""},{"$f":"IF(Liste_pièces!D207=\"\",\"\",Liste_pièces!D207)","v":"Longeron chassis haut"},{"$f":"IF(Liste_pièces!E207=\"\",\"\",Liste_pièces!E207)","v":"25x25x2mm"},{"$f":"IF(Liste_pièces!F207=\"\",\"\",Liste_pièces!F207)","v":2060},{"$f":"IF(Liste_pièces!G207=\"\",\"\",Liste_pièces!G207)","v":""},{"$f":"IF(Liste_pièces!H207=\"\",\"\",Liste_pièces!H207)","v":"assemblage fournisseur"},{"$f":"IF(Liste_pièces!I207=\"\",\"\",Liste_pièces!I207)","v":""},{"$f":"IF(Liste_pièces!J207=\"\",\"\",Liste_pièces!J207)","v":1},{"$f":"IF(Liste_pièces!K207=\"\",\"\",Liste_pièces!K207)","v":1},{"$f":"IF(Liste_pièces!L207=\"\",\"\",Liste_pièces!L207)","v":1},{"$f":"IF(Liste_pièces!M207=\"\",\"\",Liste_pièces!M207)","v":1},8,0,11]
[{"$f":"IF(Liste_pièces!A208=\"\",\"ZZZ\",Liste_pièces!A208)","v":"TB_L07"},{"$f":"IF(Liste_pièces!B208=\"\",\"ZZZ\",Liste_pièces!B208)","v":"TB_"},{"$f":"IF(Liste_pièces!C208=\"\",\"\",Liste_pièces!C208)","v":""},{"$f":"IF(Liste_pièces!D208=\"\",\"\",Liste_pièces!D208)","v":"Longeron assise arriere chassis"},{"$f":"IF(Liste_pièces!E208=\"\",\"\",Liste_pièces!E208)","v":"25x25x2mm"},{"$f":"IF(Liste_pièces!F208=\"\",\"\",Liste_pièces!F208)","v":420},{"$f":"IF(Liste_pièces!G208=\"\",\"\",Liste_pièces!G208)","v":""},{"$f":"IF(Liste_pièces!H208=\"\",\"\",Liste_pièces!H208)","v":"assemblage fournisseur"},{"$f":"IF(Liste_pièces!I208=\"\",\"\",Liste_pièces!I208)","v":""},{"$f":"IF(Liste_pièces!J208=\"\",\"\",Liste_pièces!J208)","v":2},{"$f":"IF(Liste_pièces!K208=\"\",\"\",Liste_pièces!K208)","v":2},{"$f":"IF(Liste_pièces!L208=\"\",\"\",Liste_pièces!L208)","v":2},{"$f":"IF(Liste_pièces!M208=\"\",\"\",Liste_pièces!M208)","v":2},8,0,11]
[{"$f":"IF(Liste_pièces!A209=\"\",\"ZZZ\",Liste_pièces!A209)","v":"TB_L08"},{"$f":"IF(Liste_pièces!B209=\"\",\"ZZZ\",Liste_pièces!B209)","v":"TB_"},{"$f":"IF(Liste_pièces!C209=\"\",\"\",Liste_pièces!C209)","v":""},{"$f":"IF(Liste_pièces!D209=\"\",\"\",Liste_pièces!D209)","v":"Longeron galerie"},{"$f":"IF(Liste_pièces!E209=\"\",\"\",Liste_pièces!E209)","v":"25x25x2mm"},{"$f":"IF(Liste_pièces!F209=\"\",\"\",Liste_pièces!F209)","v":1400},{"$f":"IF(Liste_pièces!G209=\"\",\"\",Liste_pièces!G209)","v":""},{"$f":"IF(Liste_pièces!H209=\"\",\"\",Liste_pièces!H209)","v":"assemblage fournisseur"},{"$f":"IF(Liste_pièces!I209=\"\",\"\",Liste_pièces!I209)","v":""},{"$f":"IF(Liste_pièces!J209=\"\",\"\",Liste_pièces!J209)","v":0},{"$f":"IF(Liste_pièces!K209=\"\",\"\",Liste_pièces!K209)","v":0},{"$f":"IF(Liste_pièces!L209=\"\",\"\",Liste_pièces!L209)","v":2},{"$f":"IF(Liste_pièces!M209=\"\",\"\",Liste_pièces!M209)","v":2},8,0,11]
[{"$f":"IF(Liste_pièces!A210=\"\",\"ZZZ\",Liste_pièces!A210)","v":"TB_L09"},{"$f":"IF(Liste_pièces!B210=\"\",\"ZZZ\",Liste_pièces!B210)","v":"TB_"},{"$f":"IF(Liste_pièces!C210=\"\",\"\",Liste_pièces!C210)","v":""},{"$f":"IF(Liste_pièces!D210=\"\",\"\",Liste_pièces!D210)","v":"Longeron nez"},{"$f":"IF(Liste_pièces!E210=\"\",\"\",Liste_pièces!E210)","v":"25x25x2mm"},{"$f":"IF(Liste_pièces!F210=\"\",\"\",Liste_pièces!F210)","v":485},{"$f":"IF(Liste_pièces!G210=\"\",\"\",Liste_pièces!G210)","v":""},{"$f":"IF(Liste_pièces!H210=\"\",\"\",Liste_pièces!H210)","v":"assemblage fournisseur"},{"$f":"IF(Liste_pièces!I210=\"\",\"\",Liste_pièces!I210)","v":""},{"$f":"IF(Liste_pièces!J210=\"\",\"\",Liste_pièces!J210)","v":0},{"$f":"IF(Liste_pièces!K210=\"\",\"\",Liste_pièces!K210)","v":0},{"$f":"IF(Liste_pièces!L210=\"\",\"\",Liste_pièces!L210)","v":2},{"$f":"IF(Liste_pièces!M210=\"\",\"\",Liste_pièces!M210)","v":2},8,0,11]
[{"$f":"IF(Liste_pièces!A211=\"\",\"ZZZ\",Liste_pièces!A211)","v":"TB_L10"},{"$f":"IF(Liste_pièces!B211=\"\",\"ZZZ\",Liste_pièces!B211)","v":"TB_"},{"$f":"IF(Liste_pièces!C211=\"\",\"\",Liste_pièces!C211)","v":""},{"$f":"IF(Liste_pièces!D211=\"\",\"\",Liste_pièces!D211)","v":"Longeron stabilisateur bas"},{"$f":"IF(Liste_pièces!E211=\"\",\"\",Liste_pièces!E211)","v":"25x25x2mm"},{"$f":"IF(Liste_pièces!F211=\"\",\"\",Liste_pièces!F211)","v":215},{"$f":"IF(Liste_pièces!G211=\"\",\"\",Liste_pièces!G211)","v":""},{"$f":"IF(Liste_pièces!H211=\"\",\"\",Liste_pièces!H211)","v":"assemblage fournisseur"},{"$f":"IF(Liste_pièces!I211=\"\",\"\",Liste_pièces!I211)","v":""},{"$f":"IF(Liste_pièces!J211=\"\",\"\",Liste_pièces!J211)","v":0},{"$f":"IF(Liste_pièces!K211=\"\",\"\",Liste_pièces!K211)","v":0},{"$f":"IF(Liste_pièces!L211=\"\",\"\",Liste_pièces!L211)","v":4},{"$f":"IF(Liste_pièces!M211=\"\",\"\",Liste_pièces!M211)","v":4},8,0,11]
[{"$f":"IF(Liste_pièces!A212=\"\",\"ZZZ\",Liste_pièces!A212)","v":"TB_L11"},{"$f":"IF(Liste_pièces!B212=\"\",\"ZZZ\",Liste_pièces!B212)","v":"TB_"},{"$f":"IF(Liste_pièces!C212=\"\",\"\",Liste_pièces!C212)","v":""},{"$f":"IF(Liste_pièces!D212=\"\",\"\",Liste_pièces!D212)","v":"Longeron stabilisateur haut"},{"$f":"IF(Liste_pièces!E212=\"\",\"\",Liste_pièces!E212)","v":"25x25x2mm"},{"$f":"IF(Liste_pièces!F212=\"\",\"\",Liste_pièces!F212)","v":240},{"$f":"IF(Liste_pièces!G212=\"\",\"\",Liste_pièces!G212)","v":""},{"$f":"IF(Liste_pièces!H212=\"\",\"\",Liste_pièces!H212)","v":"assemblage fournisseur"},{"$f":"IF(Liste_pièces!I212=\"\",\"\",Liste_pièces!I212)","v":""},{"$f":"IF(Liste_pièces!J212=\"\",\"\",Liste_pièces!J212)","v":0},{"$f":"IF(Liste_pièces!K212=\"\",\"\",Liste_pièces!K212)","v":0},{"$f":"IF(Liste_pièces!L212=\"\",\"\",Liste_pièces!L212)","v":4},{"$f":"IF(Liste_pièces!M212=\"\",\"\",Liste_pièces!M212)","v":4},8,0,11]
[{"$f":"IF(Liste_pièces!A213=\"\",\"ZZZ\",Liste_pièces!A213)","v":"TB_L12"},{"$f":"IF(Liste_pièces!B213=\"\",\"ZZZ\",Liste_pièces!B213)","v":"TB_"},{"$f":"IF(Liste_pièces!C213=\"\",\"\",Liste_pièces!C213)","v":""},{"$f":"IF(Liste_pièces!D213=\"\",\"\",Liste_pièces!D213)","v":"Longeron support d'attache remorque"},{"$f":"IF(Liste_pièces!E213=\"\",\"\",Liste_pièces!E213)","v":"25x25x2mm"},{"$f":"IF(Liste_pièces!F213=\"\",\"\",Liste_pièces!F213)","v":190},{"$f":"IF(Liste_pièces!G213=\"\",\"\",Liste_pièces!G213)","v":""},{"$f":"IF(Liste_pièces!H213=\"\",\"\",Liste_pièces!H213)","v":"option"},{"$f":"IF(Liste_pièces!I213=\"\",\"\",Liste_pièces!I213)","v":""},{"$f":"IF(Liste_pièces!J213=\"\",\"\",Liste_pièces!J213)","v":0},{"$f":"IF(Liste_pièces!K213=\"\",\"\",Liste_pièces!K213)","v":0},{"$f":"IF(Liste_pièces!L213=\"\",\"\",Liste_pièces!L213)","v":0},{"$f":"IF(Liste_pièces!M213=\"\",\"\",Liste_pièces!M213)","v":0},8,0,11]
[{"$f":"IF(Liste_pièces!A214=\"\",\"ZZZ\",Liste_pièces!A214)","v":"TB_M00"},{"$f":"IF(Liste_pièces!B214=\"\",\"ZZZ\",Liste_pièces!B214)","v":"TB_"},{"$f":"IF(Liste_pièces!C214=\"\",\"\",Liste_pièces!C214)","v":""},{"$f":"IF(Liste_pièces!D214=\"\",\"\",Liste_pièces!D214)","v":"Montant arriere"},{"$f":"IF(Liste_pièces!E214=\"\",\"\",Liste_pièces!E214)","v":"25x25x2mm"},{"$f":"IF(Liste_pièces!F214=\"\",\"\",Liste_pièces!F214)","v":1441},{"$f":"IF(Liste_pièces!G214=\"\",\"\",Liste_pièces!G214)","v":""},{"$f":"IF(Liste_pièces!H214=\"\",\"\",Liste_pièces!H214)","v":"assemblage fournisseur"},{"$f":"IF(Liste_pièces!I214=\"\",\"\",Liste_pièces!I214)","v":""},{"$f":"IF(Liste_pièces!J214=\"\",\"\",Liste_pièces!J214)","v":0},{"$f":"IF(Liste_pièces!K214=\"\",\"\",Liste_pièces!K214)","v":0},{"$f":"IF(Liste_pièces!L214=\"\",\"\",Liste_pièces!L214)","v":2},{"$f":"IF(Liste_pièces!M214=\"\",\"\",Liste_pièces!M214)","v":2},8,0,11]
[{"$f":"IF(Liste_pièces!A215=\"\",\"ZZZ\",Liste_pièces!A215)","v":"TB_M01"},{"$f":"IF(Liste_pièces!B215=\"\",\"ZZZ\",Liste_pièces!B215)","v":"TB_"},{"$f":"IF(Liste_pièces!C215=\"\",\"\",Liste_pièces!C215)","v":""},{"$f":"IF(Liste_pièces!D215=\"\",\"\",Liste_pièces!D215)","v":"Montant arriere chassis"},{"$f":"IF(Liste_pièces!E215=\"\",\"\",Liste_pièces!E215)","v":"25x25x2mm"},{"$f":"IF(Liste_pièces!F215=\"\",\"\",Liste_pièces!F215)","v":425},{"$f":"IF(Liste_pièces!G215=\"\",\"\",Liste_pièces!G215)","v":""},{"$f":"IF(Liste_pièces!H215=\"\",\"\",Liste_pièces!H215)","v":"assemblage fournisseur"},{"$f":"IF(Liste_pièces!I215=\"\",\"\",Liste_pièces!I215)","v":""},{"$f":"IF(Liste_pièces!J215=\"\",\"\",Liste_pièces!J215)","v":2},{"$f":"IF(Liste_pièces!K215=\"\",\"\",Liste_pièces!K215)","v":2},{"$f":"IF(Liste_pièces!L215=\"\",\"\",Liste_pièces!L215)","v":2},{"$f":"IF(Liste_pièces!M215=\"\",\"\",Liste_pièces!M215)","v":2},8,0,{"$f":"IF(N197=0,0,IF(N197<>N196,MAX(N197+O196,P196+1),IF(O196=O197,P196,P196+O197)))","v":11}]
[{"$f":"IF(Liste_pièces!A216=\"\",\"ZZZ\",Liste_pièces!A216)","v":"TB_M02"},{"$f":"IF(Liste_pièces!B216=\"\",\"ZZZ\",Liste_pièces!B216)","v":"TB_"},{"$f":"IF(Liste_pièces!C216=\"\",\"\",Liste_pièces!C216)","v":""},{"$f":"IF(Liste_pièces!D216=\"\",\"\",Liste_pièces!D216)","v":"Montant sous assise arriere"},{"$f":"IF(Liste_pièces!E216=\"\",\"\",Liste_pièces!E216)","v":"25x25x2mm"},{"$f":"IF(Liste_pièces!F216=\"\",\"\",Liste_pièces!F216)","v":325},{"$f":"IF(Liste_pièces!G216=\"\",\"\",Liste_pièces!G216)","v":""},{"$f":"IF(Liste_pièces!H216=\"\",\"\",Liste_pièces!H216)","v":"assemblage fournisseur"},{"$f":"IF(Liste_pièces!I216=\"\",\"\",Liste_pièces!I216)","v":""},{"$f":"IF(Liste_pièces!J216=\"\",\"\",Liste_pièces!J216)","v":2},{"$f":"IF(Liste_pièces!K216=\"\",\"\",Liste_pièces!K216)","v":2},{"$f":"IF(Liste_pièces!L216=\"\",\"\",Liste_pièces!L216)","v":2},{"$f":"IF(Liste_pièces!M216=\"\",\"\",Liste_pièces!M216)","v":2},{"$f":"IF(B198=\"ZZZ\",0,IF(B198=B197,N197,1+N197))","v":8},0,11]
[{"$f":"IF(Liste_pièces!A217=\"\",\"ZZZ\",Liste_pièces!A217)","v":"TB_M03"},{"$f":"IF(Liste_pièces!B217=\"\",\"ZZZ\",Liste_pièces!B217)","v":"TB_"},{"$f":"IF(Liste_pièces!C217=\"\",\"\",Liste_pièces!C217)","v":""},{"$f":"IF(Liste_pièces!D217=\"\",\"\",Liste_pièces!D217)","v":"Montant sous assise avant gauche"},{"$f":"IF(Liste_pièces!E217=\"\",\"\",Liste_pièces!E217)","v":"25x25x2mm"},{"$f":"IF(Liste_pièces!F217=\"\",\"\",Liste_pièces!F217)","v":325},{"$f":"IF(Liste_pièces!G217=\"\",\"\",Liste_pièces!G217)","v":""},{"$f":"IF(Liste_pièces!H217=\"\",\"\",Liste_pièces!H217)","v":"assemblage fournisseur"},{"$f":"IF(Liste_pièces!I217=\"\",\"\",Liste_pièces!I217)","v":""},{"$f":"IF(Liste_pièces!J217=\"\",\"\",Liste_pièces!J217)","v":1},{"$f":"IF(Liste_pièces!K217=\"\",\"\",Liste_pièces!K217)","v":1},{"$f":"IF(Liste_pièces!L217=\"\",\"\",Liste_pièces!L217)","v":1},{"$f":"IF(Liste_pièces!M217=\"\",\"\",Liste_pièces!M217)","v":1},8,0,11]
[{"$f":"IF(Liste_pièces!A218=\"\",\"ZZZ\",Liste_pièces!A218)","v":"TB_M04"},{"$f":"IF(Liste_pièces!B218=\"\",\"ZZZ\",Liste_pièces!B218)","v":"TB_"},{"$f":"IF(Liste_pièces!C218=\"\",\"\",Liste_pièces!C218)","v":""},{"$f":"IF(Liste_pièces!D218=\"\",\"\",Liste_pièces!D218)","v":"Montant sous assise avant droit"},{"$f":"IF(Liste_pièces!E218=\"\",\"\",Liste_pièces!E218)","v":"25x25x2mm"},{"$f":"IF(Liste_pièces!F218=\"\",\"\",Liste_pièces!F218)","v":325},{"$f":"IF(Liste_pièces!G218=\"\",\"\",Liste_pièces!G218)","v":""},{"$f":"IF(Liste_pièces!H218=\"\",\"\",Liste_pièces!H218)","v":"assemblage fournisseur"},{"$f":"IF(Liste_pièces!I218=\"\",\"\",Liste_pièces!I218)","v":""},{"$f":"IF(Liste_pièces!J218=\"\",\"\",Liste_pièces!J218)","v":1},{"$f":"IF(Liste_pièces!K218=\"\",\"\",Liste_pièces!K218)","v":2},{"$f":"IF(Liste_pièces!L218=\"\",\"\",Liste_pièces!L218)","v":1},{"$f":"IF(Liste_pièces!M218=\"\",\"\",Liste_pièces!M218)","v":1},8,0,11]
[{"$f":"IF(Liste_pièces!A219=\"\",\"ZZZ\",Liste_pièces!A219)","v":"TB_M05"},{"$f":"IF(Liste_pièces!B219=\"\",\"ZZZ\",Liste_pièces!B219)","v":"TB_"},{"$f":"IF(Liste_pièces!C219=\"\",\"\",Liste_pièces!C219)","v":""},{"$f":"IF(Liste_pièces!D219=\"\",\"\",Liste_pièces!D219)","v":"Montant direction"},{"$f":"IF(Liste_pièces!E219=\"\",\"\",Liste_pièces!E219)","v":"25x25x2mm"},{"$f":"IF(Liste_pièces!F219=\"\",\"\",Liste_pièces!F219)","v":300},{"$f":"IF(Liste_pièces!G219=\"\",\"\",Liste_pièces!G219)","v":""},{"$f":"IF(Liste_pièces!H219=\"\",\"\",Liste_pièces!H219)","v":"assemblage fournisseur"},{"$f":"IF(Liste_pièces!I219=\"\",\"\",Liste_pièces!I219)","v":""},{"$f":"IF(Liste_pièces!J219=\"\",\"\",Liste_pièces!J219)","v":2},{"$f":"IF(Liste_pièces!K219=\"\",\"\",Liste_pièces!K219)","v":2},{"$f":"IF(Liste_pièces!L219=\"\",\"\",Liste_pièces!L219)","v":2},{"$f":"IF(Liste_pièces!M219=\"\",\"\",Liste_pièces!M219)","v":2},8,0,11]
[{"$f":"IF(Liste_pièces!A220=\"\",\"ZZZ\",Liste_pièces!A220)","v":"TB_M06"},{"$f":"IF(Liste_pièces!B220=\"\",\"ZZZ\",Liste_pièces!B220)","v":"TB_"},{"$f":"IF(Liste_pièces!C220=\"\",\"\",Liste_pièces!C220)","v":""},{"$f":"IF(Liste_pièces!D220=\"\",\"\",Liste_pièces!D220)","v":"Montant direction avant"},{"$f":"IF(Liste_pièces!E220=\"\",\"\",Liste_pièces!E220)","v":"25x25x2mm"},{"$f":"IF(Liste_pièces!F220=\"\",\"\",Liste_pièces!F220)","v":300},{"$f":"IF(Liste_pièces!G220=\"\",\"\",Liste_pièces!G220)","v":""},{"$f":"IF(Liste_pièces!H220=\"\",\"\",Liste_pièces!H220)","v":"assemblage fournisseur"},{"$f":"IF(Liste_pièces!I220=\"\",\"\",Liste_pièces!I220)","v":""},{"$f":"IF(Liste_pièces!J220=\"\",\"\",Liste_pièces!J220)","v":2},{"$f":"IF(Liste_pièces!K220=\"\",\"\",Liste_pièces!K220)","v":2},{"$f":"IF(Liste_pièces!L220=\"\",\"\",Liste_pièces!L220)","v":2},{"$f":"IF(Liste_pièces!M220=\"\",\"\",Liste_pièces!M220)","v":2},8,0,11]
[{"$f":"IF(Liste_pièces!A221=\"\",\"ZZZ\",Liste_pièces!A221)","v":"TB_M07"},{"$f":"IF(Liste_pièces!B221=\"\",\"ZZZ\",Liste_pièces!B221)","v":"TB_"},{"$f":"IF(Liste_pièces!C221=\"\",\"\",Liste_pièces!C221)","v":""},{"$f":"IF(Liste_pièces!D221=\"\",\"\",Liste_pièces!D221)","v":"Montant avant"},{"$f":"IF(Liste_pièces!E221=\"\",\"\",Liste_pièces!E221)","v":"25x25x2mm"},{"$f":"IF(Liste_pièces!F221=\"\",\"\",Liste_pièces!F221)","v":1111},{"$f":"IF(Liste_pièces!G221=\"\",\"\",Liste_pièces!G221)","v":""},{"$f":"IF(Liste_pièces!H221=\"\",\"\",Liste_pièces!H221)","v":"assemblage fournisseur"},{"$f":"IF(Liste_pièces!I221=\"\",\"\",Liste_pièces!I221)","v":""},{"$f":"IF(Liste_pièces!J221=\"\",\"\",Liste_pièces!J221)","v":0},{"$f":"IF(Liste_pièces!K221=\"\",\"\",Liste_pièces!K221)","v":0},{"$f":"IF(Liste_pièces!L221=\"\",\"\",Liste_pièces!L221)","v":2},{"$f":"IF(Liste_pièces!M221=\"\",\"\",Liste_pièces!M221)","v":2},8,0,11]
[{"$f":"IF(Liste_pièces!A222=\"\",\"ZZZ\",Liste_pièces!A222)","v":"TB_R00"},{"$f":"IF(Liste_pièces!B222=\"\",\"ZZZ\",Liste_pièces!B222)","v":"TB_"},{"$f":"IF(Liste_pièces!C222=\"\",\"\",Liste_pièces!C222)","v":""},{"$f":"IF(Liste_pièces!D222=\"\",\"\",Liste_pièces!D222)","v":"Renfort direction"},{"$f":"IF(Liste_pièces!E222=\"\",\"\",Liste_pièces!E222)","v":"25x25x2mm"},{"$f":"IF(Liste_pièces!F222=\"\",\"\",Liste_pièces!F222)","v":336},{"$f":"IF(Liste_pièces!G222=\"\",\"\",Liste_pièces!G222)","v":""},{"$f":"IF(Liste_pièces!H222=\"\",\"\",Liste_pièces!H222)","v":"assemblage fournisseur"},{"$f":"IF(Liste_pièces!I222=\"\",\"\",Liste_pièces!I222)","v":""},{"$f":"IF(Liste_pièces!J222=\"\",\"\",Liste_pièces!J222)","v":2},{"$f":"IF(Liste_pièces!K222=\"\",\"\",Liste_pièces!K222)","v":2},{"$f":"IF(Liste_pièces!L222=\"\",\"\",Liste_pièces!L222)","v":2},{"$f":"IF(Liste_pièces!M222=\"\",\"\",Liste_pièces!M222)","v":2},8,0,11]
[{"$f":"IF(Liste_pièces!A223=\"\",\"ZZZ\",Liste_pièces!A223)","v":"TB_R01"},{"$f":"IF(Liste_pièces!B223=\"\",\"ZZZ\",Liste_pièces!B223)","v":"TB_"},{"$f":"IF(Liste_pièces!C223=\"\",\"\",Liste_pièces!C223)","v":""},{"$f":"IF(Liste_pièces!D223=\"\",\"\",Liste_pièces!D223)","v":"Renfort train avant"},{"$f":"IF(Liste_pièces!E223=\"\",\"\",Liste_pièces!E223)","v":"25x25x2mm"},{"$f":"IF(Liste_pièces!F223=\"\",\"\",Liste_pièces!F223)","v":193},{"$f":"IF(Liste_pièces!G223=\"\",\"\",Liste_pièces!G223)","v":""},{"$f":"IF(Liste_pièces!H223=\"\",\"\",Liste_pièces!H223)","v":"assemblage fournisseur"},{"$f":"IF(Liste_pièces!I223=\"\",\"\",Liste_pièces!I223)","v":""},{"$f":"IF(Liste_pièces!J223=\"\",\"\",Liste_pièces!J223)","v":2},{"$f":"IF(Liste_pièces!K223=\"\",\"\",Liste_pièces!K223)","v":2},{"$f":"IF(Liste_pièces!L223=\"\",\"\",Liste_pièces!L223)","v":2},{"$f":"IF(Liste_pièces!M223=\"\",\"\",Liste_pièces!M223)","v":2},8,0,11]
[{"$f":"IF(Liste_pièces!A224=\"\",\"ZZZ\",Liste_pièces!A224)","v":"TB_R02"},{"$f":"IF(Liste_pièces!B224=\"\",\"ZZZ\",Liste_pièces!B224)","v":"TB_"},{"$f":"IF(Liste_pièces!C224=\"\",\"\",Liste_pièces!C224)","v":""},{"$f":"IF(Liste_pièces!D224=\"\",\"\",Liste_pièces!D224)","v":"Renfort nez"},{"$f":"IF(Liste_pièces!E224=\"\",\"\",Liste_pièces!E224)","v":"25x25x2mm"},{"$f":"IF(Liste_pièces!F224=\"\",\"\",Liste_pièces!F224)","v":399},{"$f":"IF(Liste_pièces!G224=\"\",\"\",Liste_pièces!G224)","v":""},{"$f":"IF(Liste_pièces!H224=\"\",\"\",Liste_pièces!H224)","v":"assemblage fournisseur"},{"$f":"IF(Liste_pièces!I224=\"\",\"\",Liste_pièces!I224)","v":""},{"$f":"IF(Liste_pièces!J224=\"\",\"\",Liste_pièces!J224)","v":0},{"$f":"IF(Liste_pièces!K224=\"\",\"\",Liste_pièces!K224)","v":0},{"$f":"IF(Liste_pièces!L224=\"\",\"\",Liste_pièces!L224)","v":2},{"$f":"IF(Liste_pièces!M224=\"\",\"\",Liste_pièces!M224)","v":2},8,0,11]
[{"$f":"IF(Liste_pièces!A225=\"\",\"ZZZ\",Liste_pièces!A225)","v":"TB_R03"},{"$f":"IF(Liste_pièces!B225=\"\",\"ZZZ\",Liste_pièces!B225)","v":"TB_"},{"$f":"IF(Liste_pièces!C225=\"\",\"\",Liste_pièces!C225)","v":""},{"$f":"IF(Liste_pièces!D225=\"\",\"\",Liste_pièces!D225)","v":"Renfort chassis"},{"$f":"IF(Liste_pièces!E225=\"\",\"\",Liste_pièces!E225)","v":"25x25x2mm"},{"$f":"IF(Liste_pièces!F225=\"\",\"\",Liste_pièces!F225)","v":648},{"$f":"IF(Liste_pièces!G225=\"\",\"\",Liste_pièces!G225)","v":""},{"$f":"IF(Liste_pièces!H225=\"\",\"\",Liste_pièces!H225)","v":"assemblage fournisseur"},{"$f":"IF(Liste_pièces!I225=\"\",\"\",Liste_pièces!I225)","v":""},{"$f":"IF(Liste_pièces!J225=\"\",\"\",Liste_pièces!J225)","v":0},{"$f":"IF(Liste_pièces!K225=\"\",\"\",Liste_pièces!K225)","v":0},{"$f":"IF(Liste_pièces!L225=\"\",\"\",Liste_pièces!L225)","v":1},{"$f":"IF(Liste_pièces!M225=\"\",\"\",Liste_pièces!M225)","v":1},8,0,11]
[{"$f":"IF(Liste_pièces!A226=\"\",\"ZZZ\",Liste_pièces!A226)","v":"TB_R04"},{"$f":"IF(Liste_pièces!B226=\"\",\"ZZZ\",Liste_pièces!B226)","v":"TB_"},{"$f":"IF(Liste_pièces!C226=\"\",\"\",Liste_pièces!C226)","v":""},{"$f":"IF(Liste_pièces!D226=\"\",\"\",Liste_pièces!D226)","v":"Renfort nez court"},{"$f":"IF(Liste_pièces!E226=\"\",\"\",Liste_pièces!E226)","v":"25x25x2mm"},{"$f":"IF(Liste_pièces!F226=\"\",\"\",Liste_pièces!F226)","v":139},{"$f":"IF(Liste_pièces!G226=\"\",\"\",Liste_pièces!G226)","v":""},{"$f":"IF(Liste_pièces!H226=\"\",\"\",Liste_pièces!H226)","v":"assemblage fournisseur"},{"$f":"IF(Liste_pièces!I226=\"\",\"\",Liste_pièces!I226)","v":""},{"$f":"IF(Liste_pièces!J226=\"\",\"\",Liste_pièces!J226)","v":2},{"$f":"IF(Liste_pièces!K226=\"\",\"\",Liste_pièces!K226)","v":2},{"$f":"IF(Liste_pièces!L226=\"\",\"\",Liste_pièces!L226)","v":0},{"$f":"IF(Liste_pièces!M226=\"\",\"\",Liste_pièces!M226)","v":0},8,0,11]
[{"$f":"IF(Liste_pièces!A227=\"\",\"ZZZ\",Liste_pièces!A227)","v":"TB_T00"},{"$f":"IF(Liste_pièces!B227=\"\",\"ZZZ\",Liste_pièces!B227)","v":"TB_"},{"$f":"IF(Liste_pièces!C227=\"\",\"\",Liste_pièces!C227)","v":""},{"$f":"IF(Liste_pièces!D227=\"\",\"\",Liste_pièces!D227)","v":"Traverse arriere marche pied"},{"$f":"IF(Liste_pièces!E227=\"\",\"\",Liste_pièces!E227)","v":"25x25x2mm"},{"$f":"IF(Liste_pièces!F227=\"\",\"\",Liste_pièces!F227)","v":800},{"$f":"IF(Liste_pièces!G227=\"\",\"\",Liste_pièces!G227)","v":""},{"$f":"IF(Liste_pièces!H227=\"\",\"\",Liste_pièces!H227)","v":"assemblage fournisseur"},{"$f":"IF(Liste_pièces!I227=\"\",\"\",Liste_pièces!I227)","v":""},{"$f":"IF(Liste_pièces!J227=\"\",\"\",Liste_pièces!J227)","v":0},{"$f":"IF(Liste_pièces!K227=\"\",\"\",Liste_pièces!K227)","v":0},{"$f":"IF(Liste_pièces!L227=\"\",\"\",Liste_pièces!L227)","v":1},{"$f":"IF(Liste_pièces!M227=\"\",\"\",Liste_pièces!M227)","v":1},8,0,11]
[{"$f":"IF(Liste_pièces!A228=\"\",\"ZZZ\",Liste_pièces!A228)","v":"TB_T01"},{"$f":"IF(Liste_pièces!B228=\"\",\"ZZZ\",Liste_pièces!B228)","v":"TB_"},{"$f":"IF(Liste_pièces!C228=\"\",\"\",Liste_pièces!C228)","v":""},{"$f":"IF(Liste_pièces!D228=\"\",\"\",Liste_pièces!D228)","v":"Traverse intermediaire marche pied"},{"$f":"IF(Liste_pièces!E228=\"\",\"\",Liste_pièces!E228)","v":"25x25x2mm"},{"$f":"IF(Liste_pièces!F228=\"\",\"\",Liste_pièces!F228)","v":800},{"$f":"IF(Liste_pièces!G228=\"\",\"\",Liste_pièces!G228)","v":""},{"$f":"IF(Liste_pièces!H228=\"\",\"\",Liste_pièces!H228)","v":"assemblage fournisseur"},{"$f":"IF(Liste_pièces!I228=\"\",\"\",Liste_pièces!I228)","v":""},{"$f":"IF(Liste_pièces!J228=\"\",\"\",Liste_pièces!J228)","v":0},{"$f":"IF(Liste_pièces!K228=\"\",\"\",Liste_pièces!K228)","v":0},{"$f":"IF(Liste_pièces!L228=\"\",\"\",Liste_pièces!L228)","v":1},{"$f":"IF(Liste_pièces!M228=\"\",\"\",Liste_pièces!M228)","v":1},8,0,11]
[{"$f":"IF(Liste_pièces!A229=\"\",\"ZZZ\",Liste_pièces!A229)","v":"TB_T02"},{"$f":"IF(Liste_pièces!B229=\"\",\"ZZZ\",Liste_pièces!B229)","v":"TB_"},{"$f":"IF(Liste_pièces!C229=\"\",\"\",Liste_pièces!C229)","v":""},{"$f":"IF(Liste_pièces!D229=\"\",\"\",Liste_pièces!D229)","v":"Traverse avant marche pied"},{"$f":"IF(Liste_pièces!E229=\"\",\"\",Liste_pièces!E229)","v":"25x25x2mm"},{"$f":"IF(Liste_pièces!F229=\"\",\"\",Liste_pièces!F229)","v":800},{"$f":"IF(Liste_pièces!G229=\"\",\"\",Liste_pièces!G229)","v":""},{"$f":"IF(Liste_pièces!H229=\"\",\"\",Liste_pièces!H229)","v":"assemblage fournisseur"},{"$f":"IF(Liste_pièces!I229=\"\",\"\",Liste_pièces!I229)","v":""},{"$f":"IF(Liste_pièces!J229=\"\",\"\",Liste_pièces!J229)","v":0},{"$f":"IF(Liste_pièces!K229=\"\",\"\",Liste_pièces!K229)","v":0},{"$f":"IF(Liste_pièces!L229=\"\",\"\",Liste_pièces!L229)","v":1},{"$f":"IF(Liste_pièces!M229=\"\",\"\",Liste_pièces!M229)","v":1},8,0,11]
[{"$f":"IF(Liste_pièces!A230=\"\",\"ZZZ\",Liste_pièces!A230)","v":"TB_T03"},{"$f":"IF(Liste_pièces!B230=\"\",\"ZZZ\",Liste_pièces!B230)","v":"TB_"},{"$f":"IF(Liste_pièces!C230=\"\",\"\",Liste_pièces!C230)","v":""},{"$f":"IF(Liste_pièces!D230=\"\",\"\",Liste_pièces!D230)","v":"Demi traverse avant marche pied"},{"$f":"IF(Liste_pièces!E230=\"\",\"\",Liste_pièces!E230)","v":"25x25x2mm"},{"$f":"IF(Liste_pièces!F230=\"\",\"\",Liste_pièces!F230)","v":307},{"$f":"IF(Liste_pièces!G230=\"\",\"\",Liste_pièces!G230)","v":""},{"$f":"IF(Liste_pièces!H230=\"\",\"\",Liste_pièces!H230)","v":"assemblage fournisseur"},{"$f":"IF(Liste_pièces!I230=\"\",\"\",Liste_pièces!I230)","v":""},{"$f":"IF(Liste_pièces!J230=\"\",\"\",Liste_pièces!J230)","v":0},{"$f":"IF(Liste_pièces!K230=\"\",\"\",Liste_pièces!K230)","v":0},{"$f":"IF(Liste_pièces!L230=\"\",\"\",Liste_pièces!L230)","v":2},{"$f":"IF(Liste_pièces!M230=\"\",\"\",Liste_pièces!M230)","v":2},8,0,11]
[{"$f":"IF(Liste_pièces!A231=\"\",\"ZZZ\",Liste_pièces!A231)","v":"TB_T04"},{"$f":"IF(Liste_pièces!B231=\"\",\"ZZZ\",Liste_pièces!B231)","v":"TB_"},{"$f":"IF(Liste_pièces!C231=\"\",\"\",Liste_pièces!C231)","v":""},{"$f":"IF(Liste_pièces!D231=\"\",\"\",Liste_pièces!D231)","v":"Traverse renfort avant marche pied"},{"$f":"IF(Liste_pièces!E231=\"\",\"\",Liste_pièces!E231)","v":""},{"$f":"IF(Liste_pièces!F231=\"\",\"\",Liste_pièces!F231)","v":250},{"$f":"IF(Liste_pièces!G231=\"\",\"\",Liste_pièces!G231)","v":""},{"$f":"IF(Liste_pièces!H231=\"\",\"\",Liste_pièces!H231)","v":"assemblage fournisseur"},{"$f":"IF(Liste_pièces!I231=\"\",\"\",Liste_pièces!I231)","v":""},{"$f":"IF(Liste_pièces!J231=\"\",\"\",Liste_pièces!J231)","v":1},{"$f":"IF(Liste_pièces!K231=\"\",\"\",Liste_pièces!K231)","v":1},{"$f":"IF(Liste_pièces!L231=\"\",\"\",Liste_pièces!L231)","v":1},{"$f":"IF(Liste_pièces!M231=\"\",\"\",Liste_pièces!M231)","v":1},8,0,11]
[{"$f":"IF(Liste_pièces!A232=\"\",\"ZZZ\",Liste_pièces!A232)","v":"TB_T05"},{"$f":"IF(Liste_pièces!B232=\"\",\"ZZZ\",Liste_pièces!B232)","v":"TB_"},{"$f":"IF(Liste_pièces!C232=\"\",\"\",Liste_pièces!C232)","v":""},{"$f":"IF(Liste_pièces!D232=\"\",\"\",Liste_pièces!D232)","v":"Traverse long"},{"$f":"IF(Liste_pièces!E232=\"\",\"\",Liste_pièces!E232)","v":"Remarque : pour les config. Basique et motorisée, T05 remplace T07 quand il n’y a pas la galerie et les plateformes"},{"$f":"IF(Liste_pièces!F232=\"\",\"\",Liste_pièces!F232)","v":186},{"$f":"IF(Liste_pièces!G232=\"\",\"\",Liste_pièces!G232)","v":""},{"$f":"IF(Liste_pièces!H232=\"\",\"\",Liste_pièces!H232)","v":"assemblage fournisseur"},{"$f":"IF(Liste_pièces!I232=\"\",\"\",Liste_pièces!I232)","v":""},{"$f":"IF(Liste_pièces!J232=\"\",\"\",Liste_pièces!J232)","v":3},{"$f":"IF(Liste_pièces!K232=\"\",\"\",Liste_pièces!K232)","v":3},{"$f":"IF(Liste_pièces!L232=\"\",\"\",Liste_pièces!L232)","v":2},{"$f":"IF(Liste_pièces!M232=\"\",\"\",Liste_pièces!M232)","v":2},8,0,11]
[{"$f":"IF(Liste_pièces!A233=\"\",\"ZZZ\",Liste_pièces!A233)","v":"TB_T06"},{"$f":"IF(Liste_pièces!B233=\"\",\"ZZZ\",Liste_pièces!B233)","v":"TB_"},{"$f":"IF(Liste_pièces!C233=\"\",\"\",Liste_pièces!C233)","v":""},{"$f":"IF(Liste_pièces!D233=\"\",\"\",Liste_pièces!D233)","v":"Traverse arriere assise"},{"$f":"IF(Liste_pièces!E233=\"\",\"\",Liste_pièces!E233)","v":"25x25x2mm"},{"$f":"IF(Liste_pièces!F233=\"\",\"\",Liste_pièces!F233)","v":700},{"$f":"IF(Liste_pièces!G233=\"\",\"\",Liste_pièces!G233)","v":""},{"$f":"IF(Liste_pièces!H233=\"\",\"\",Liste_pièces!H233)","v":"assemblage fournisseur"},{"$f":"IF(Liste_pièces!I233=\"\",\"\",Liste_pièces!I233)","v":""},{"$f":"IF(Liste_pièces!J233=\"\",\"\",Liste_pièces!J233)","v":0},{"$f":"IF(Liste_pièces!K233=\"\",\"\",Liste_pièces!K233)","v":0},{"$f":"IF(Liste_pièces!L233=\"\",\"\",Liste_pièces!L233)","v":1},{"$f":"IF(Liste_pièces!M233=\"\",\"\",Liste_pièces!M233)","v":1},8,0,11]
[{"$f":"IF(Liste_pièces!A234=\"\",\"ZZZ\",Liste_pièces!A234)","v":"TB_T07"},{"$f":"IF(Liste_pièces!B234=\"\",\"ZZZ\",Liste_pièces!B234)","v":"TB_"},{"$f":"IF(Liste_pièces!C234=\"\",\"\",Liste_pièces!C234)","v":""},{"$f":"IF(Liste_pièces!D234=\"\",\"\",Liste_pièces!D234)","v":"Traverse avant assise"},{"$f":"IF(Liste_pièces!E234=\"\",\"\",Liste_pièces!E234)","v":"25x25x2mm"},{"$f":"IF(Liste_pièces!F234=\"\",\"\",Liste_pièces!F234)","v":800},{"$f":"IF(Liste_pièces!G234=\"\",\"\",Liste_pièces!G234)","v":""},{"$f":"IF(Liste_pièces!H234=\"\",\"\",Liste_pièces!H234)","v":"assemblage fournisseur"},{"$f":"IF(Liste_pièces!I234=\"\",\"\",Liste_pièces!I234)","v":""},{"$f":"IF(Liste_pièces!J234=\"\",\"\",Liste_pièces!J234)","v":0},{"$f":"IF(Liste_pièces!K234=\"\",\"\",Liste_pièces!K234)","v":0},{"$f":"IF(Liste_pièces!L234=\"\",\"\",Liste_pièces!L234)","v":1},{"$f":"IF(Liste_pièces!M234=\"\",\"\",Liste_pièces!M234)","v":1},8,1,12]
[{"$f":"IF(Liste_pièces!A235=\"\",\"ZZZ\",Liste_pièces!A235)","v":"TB_T08"},{"$f":"IF(Liste_pièces!B235=\"\",\"ZZZ\",Liste_pièces!B235)","v":"TB_"},{"$f":"IF(Liste_pièces!C235=\"\",\"\",Liste_pièces!C235)","v":""},{"$f":"IF(Liste_pièces!D235=\"\",\"\",Liste_pièces!D235)","v":"Traverse arriere galerie"},{"$f":"IF(Liste_pièces!E235=\"\",\"\",Liste_pièces!E235)","v":"25x25x2mm"},{"$f":"IF(Liste_pièces!F235=\"\",\"\",Liste_pièces!F235)","v":700},{"$f":"IF(Liste_pièces!G235=\"\",\"\",Liste_pièces!G235)","v":""},{"$f":"IF(Liste_pièces!H235=\"\",\"\",Liste_pièces!H235)","v":"assemblage fournisseur"},{"$f":"IF(Liste_pièces!I235=\"\",\"\",Liste_pièces!I235)","v":""},{"$f":"IF(Liste_pièces!J235=\"\",\"\",Liste_pièces!J235)","v":0},{"$f":"IF(Liste_pièces!K235=\"\",\"\",Liste_pièces!K235)","v":0},{"$f":"IF(Liste_pièces!L235=\"\",\"\",Liste_pièces!L235)","v":1},{"$f":"IF(Liste_pièces!M235=\"\",\"\",Liste_pièces!M235)","v":1},8,1,12]
[{"$f":"IF(Liste_pièces!A236=\"\",\"ZZZ\",Liste_pièces!A236)","v":"TB_T09"},{"$f":"IF(Liste_pièces!B236=\"\",\"ZZZ\",Liste_pièces!B236)","v":"TB_"},{"$f":"IF(Liste_pièces!C236=\"\",\"\",Liste_pièces!C236)","v":""},{"$f":"IF(Liste_pièces!D236=\"\",\"\",Liste_pièces!D236)","v":"Traverse intermédiaire galerie"},{"$f":"IF(Liste_pièces!E236=\"\",\"\",Liste_pièces!E236)","v":"25x25x2mm"},{"$f":"IF(Liste_pièces!F236=\"\",\"\",Liste_pièces!F236)","v":750},{"$f":"IF(Liste_pièces!G236=\"\",\"\",Liste_pièces!G236)","v":""},{"$f":"IF(Liste_pièces!H236=\"\",\"\",Liste_pièces!H236)","v":"assemblage fournisseur"},{"$f":"IF(Liste_pièces!I236=\"\",\"\",Liste_pièces!I236)","v":""},{"$f":"IF(Liste_pièces!J236=\"\",\"\",Liste_pièces!J236)","v":0},{"$f":"IF(Liste_pièces!K236=\"\",\"\",Liste_pièces!K236)","v":0},{"$f":"IF(Liste_pièces!L236=\"\",\"\",Liste_pièces!L236)","v":2},{"$f":"IF(Liste_pièces!M236=\"\",\"\",Liste_pièces!M236)","v":2},8,1,12]
[{"$f":"IF(Liste_pièces!A237=\"\",\"ZZZ\",Liste_pièces!A237)","v":"TB_T10"},{"$f":"IF(Liste_pièces!B237=\"\",\"ZZZ\",Liste_pièces!B237)","v":"TB_"},{"$f":"IF(Liste_pièces!C237=\"\",\"\",Liste_pièces!C237)","v":""},{"$f":"IF(Liste_pièces!D237=\"\",\"\",Liste_pièces!D237)","v":"Traverse avant galerie"},{"$f":"IF(Liste_pièces!E237=\"\",\"\",Liste_pièces!E237)","v":"25x25x2mm"},{"$f":"IF(Liste_pièces!F237=\"\",\"\",Liste_pièces!F237)","v":750},{"$f":"IF(Liste_pièces!G237=\"\",\"\",Liste_pièces!G237)","v":""},{"$f":"IF(Liste_pièces!H237=\"\",\"\",Liste_pièces!H237)","v":"assemblage fournisseur"},{"$f":"IF(Liste_pièces!I237=\"\",\"\",Liste_pièces!I237)","v":""},{"$f":"IF(Liste_pièces!J237=\"\",\"\",Liste_pièces!J237)","v":0},{"$f":"IF(Liste_pièces!K237=\"\",\"\",Liste_pièces!K237)","v":0},{"$f":"IF(Liste_pièces!L237=\"\",\"\",Liste_pièces!L237)","v":1},{"$f":"IF(Liste_pièces!M237=\"\",\"\",Liste_pièces!M237)","v":1},8,1,12]
[{"$f":"IF(Liste_pièces!A238=\"\",\"ZZZ\",Liste_pièces!A238)","v":"TB_T11"},{"$f":"IF(Liste_pièces!B238=\"\",\"ZZZ\",Liste_pièces!B238)","v":"TB_"},{"$f":"IF(Liste_pièces!C238=\"\",\"\",Liste_pièces!C238)","v":""},{"$f":"IF(Liste_pièces!D238=\"\",\"\",Liste_pièces!D238)","v":"Traverse support direction bas"},{"$f":"IF(Liste_pièces!E238=\"\",\"\",Liste_pièces!E238)","v":"25x25x2mm"},{"$f":"IF(Liste_pièces!F238=\"\",\"\",Liste_pièces!F238)","v":659},{"$f":"IF(Liste_pièces!G238=\"\",\"\",Liste_pièces!G238)","v":""},{"$f":"IF(Liste_pièces!H238=\"\",\"\",Liste_pièces!H238)","v":"assemblage fournisseur"},{"$f":"IF(Liste_pièces!I238=\"\",\"\",Liste_pièces!I238)","v":""},{"$f":"IF(Liste_pièces!J238=\"\",\"\",Liste_pièces!J238)","v":1},{"$f":"IF(Liste_pièces!K238=\"\",\"\",Liste_pièces!K238)","v":1},{"$f":"IF(Liste_pièces!L238=\"\",\"\",Liste_pièces!L238)","v":1},{"$f":"IF(Liste_pièces!M238=\"\",\"\",Liste_pièces!M238)","v":1},8,1,12]
[{"$f":"IF(Liste_pièces!A239=\"\",\"ZZZ\",Liste_pièces!A239)","v":"TB_T12"},{"$f":"IF(Liste_pièces!B239=\"\",\"ZZZ\",Liste_pièces!B239)","v":"TB_"},{"$f":"IF(Liste_pièces!C239=\"\",\"\",Liste_pièces!C239)","v":""},{"$f":"IF(Liste_pièces!D239=\"\",\"\",Liste_pièces!D239)","v":"Traverse support direction haut"},{"$f":"IF(Liste_pièces!E239=\"\",\"\",Liste_pièces!E239)","v":"25x25x2mm"},{"$f":"IF(Liste_pièces!F239=\"\",\"\",Liste_pièces!F239)","v":659},{"$f":"IF(Liste_pièces!G239=\"\",\"\",Liste_pièces!G239)","v":""},{"$f":"IF(Liste_pièces!H239=\"\",\"\",Liste_pièces!H239)","v":"assemblage fournisseur"},{"$f":"IF(Liste_pièces!I239=\"\",\"\",Liste_pièces!I239)","v":""},{"$f":"IF(Liste_pièces!J239=\"\",\"\",Liste_pièces!J239)","v":1},{"$f":"IF(Liste_pièces!K239=\"\",\"\",Liste_pièces!K239)","v":1},{"$f":"IF(Liste_pièces!L239=\"\",\"\",Liste_pièces!L239)","v":1},{"$f":"IF(Liste_pièces!M239=\"\",\"\",Liste_pièces!M239)","v":1},8,1,12]
[{"$f":"IF(Liste_pièces!A240=\"\",\"ZZZ\",Liste_pièces!A240)","v":"TB_T13"},{"$f":"IF(Liste_pièces!B240=\"\",\"ZZZ\",Liste_pièces!B240)","v":"TB_"},{"$f":"IF(Liste_pièces!C240=\"\",\"\",Liste_pièces!C240)","v":""},{"$f":"IF(Liste_pièces!D240=\"\",\"\",Liste_pièces!D240)","v":"Traverse demi support direction haut"},{"$f":"IF(Liste_pièces!E240=\"\",\"\",Liste_pièces!E240)","v":"25x25x2mm"},{"$f":"IF(Liste_pièces!F240=\"\",\"\",Liste_pièces!F240)","v":265},{"$f":"IF(Liste_pièces!G240=\"\",\"\",Liste_pièces!G240)","v":""},{"$f":"IF(Liste_pièces!H240=\"\",\"\",Liste_pièces!H240)","v":"assemblage fournisseur"},{"$f":"IF(Liste_pièces!I240=\"\",\"\",Liste_pièces!I240)","v":""},{"$f":"IF(Liste_pièces!J240=\"\",\"\",Liste_pièces!J240)","v":2},{"$f":"IF(Liste_pièces!K240=\"\",\"\",Liste_pièces!K240)","v":2},{"$f":"IF(Liste_pièces!L240=\"\",\"\",Liste_pièces!L240)","v":2},{"$f":"IF(Liste_pièces!M240=\"\",\"\",Liste_pièces!M240)","v":2},8,1,12]
[{"$f":"IF(Liste_pièces!A241=\"\",\"ZZZ\",Liste_pièces!A241)","v":"TB_T14"},{"$f":"IF(Liste_pièces!B241=\"\",\"ZZZ\",Liste_pièces!B241)","v":"TB_"},{"$f":"IF(Liste_pièces!C241=\"\",\"\",Liste_pièces!C241)","v":""},{"$f":"IF(Liste_pièces!D241=\"\",\"\",Liste_pièces!D241)","v":"Traverse long 180"},{"$f":"IF(Liste_pièces!E241=\"\",\"\",Liste_pièces!E241)","v":"25x25x2mm"},{"$f":"IF(Liste_pièces!F241=\"\",\"\",Liste_pièces!F241)","v":180},{"$f":"IF(Liste_pièces!G241=\"\",\"\",Liste_pièces!G241)","v":""},{"$f":"IF(Liste_pièces!H241=\"\",\"\",Liste_pièces!H241)","v":"assemblage fournisseur"},{"$f":"IF(Liste_pièces!I241=\"\",\"\",Liste_pièces!I241)","v":""},{"$f":"IF(Liste_pièces!J241=\"\",\"\",Liste_pièces!J241)","v":1},{"$f":"IF(Liste_pièces!K241=\"\",\"\",Liste_pièces!K241)","v":1},{"$f":"IF(Liste_pièces!L241=\"\",\"\",Liste_pièces!L241)","v":1},{"$f":"IF(Liste_pièces!M241=\"\",\"\",Liste_pièces!M241)","v":1},8,1,12]
[{"$f":"IF(Liste_pièces!A242=\"\",\"ZZZ\",Liste_pièces!A242)","v":"TB_T15"},{"$f":"IF(Liste_pièces!B242=\"\",\"ZZZ\",Liste_pièces!B242)","v":"TB_"},{"$f":"IF(Liste_pièces!C242=\"\",\"\",Liste_pièces!C242)","v":""},{"$f":"IF(Liste_pièces!D242=\"\",\"\",Liste_pièces!D242)","v":"Traverse sous nez"},{"$f":"IF(Liste_pièces!E242=\"\",\"\",Liste_pièces!E242)","v":"25x25x2mm"},{"$f":"IF(Liste_pièces!F242=\"\",\"\",Liste_pièces!F242)","v":110},{"$f":"IF(Liste_pièces!G242=\"\",\"\",Liste_pièces!G242)","v":""},{"$f":"IF(Liste_pièces!H242=\"\",\"\",Liste_pièces!H242)","v":"assemblage fournisseur"},{"$f":"IF(Liste_pièces!I242=\"\",\"\",Liste_pièces!I242)","v":""},{"$f":"IF(Liste_pièces!J242=\"\",\"\",Liste_pièces!J242)","v":0},{"$f":"IF(Liste_pièces!K242=\"\",\"\",Liste_pièces!K242)","v":0},{"$f":"IF(Liste_pièces!L242=\"\",\"\",Liste_pièces!L242)","v":4},{"$f":"IF(Liste_pièces!M242=\"\",\"\",Liste_pièces!M242)","v":4},8,1,12]
[{"$f":"IF(Liste_pièces!A243=\"\",\"ZZZ\",Liste_pièces!A243)","v":"TB_T16"},{"$f":"IF(Liste_pièces!B243=\"\",\"ZZZ\",Liste_pièces!B243)","v":"TB_"},{"$f":"IF(Liste_pièces!C243=\"\",\"\",Liste_pièces!C243)","v":""},{"$f":"IF(Liste_pièces!D243=\"\",\"\",Liste_pièces!D243)","v":"Traverse direction bas"},{"$f":"IF(Liste_pièces!E243=\"\",\"\",Liste_pièces!E243)","v":"25x25x2mm"},{"$f":"IF(Liste_pièces!F243=\"\",\"\",Liste_pièces!F243)","v":130},{"$f":"IF(Liste_pièces!G243=\"\",\"\",Liste_pièces!G243)","v":""},{"$f":"IF(Liste_pièces!H243=\"\",\"\",Liste_pièces!H243)","v":"assemblage fournisseur"},{"$f":"IF(Liste_pièces!I243=\"\",\"\",Liste_pièces!I243)","v":""},{"$f":"IF(Liste_pièces!J243=\"\",\"\",Liste_pièces!J243)","v":1},{"$f":"IF(Liste_pièces!K243=\"\",\"\",Liste_pièces!K243)","v":1},{"$f":"IF(Liste_pièces!L243=\"\",\"\",Liste_pièces!L243)","v":1},{"$f":"IF(Liste_pièces!M243=\"\",\"\",Liste_pièces!M243)","v":1},8,1,12]
[{"$f":"IF(Liste_pièces!A244=\"\",\"ZZZ\",Liste_pièces!A244)","v":"TB_T17"},{"$f":"IF(Liste_pièces!B244=\"\",\"ZZZ\",Liste_pièces!B244)","v":"TB_"},{"$f":"IF(Liste_pièces!C244=\"\",\"\",Liste_pièces!C244)","v":""},{"$f":"IF(Liste_pièces!D244=\"\",\"\",Liste_pièces!D244)","v":"Tube supplémentaire"},{"$f":"IF(Liste_pièces!E244=\"\",\"\",Liste_pièces!E244)","v":"non percé, pour remplacement de tube non conforme ou adaptations personnalisées"},{"$f":"IF(Liste_pièces!F244=\"\",\"\",Liste_pièces!F244)","v":2060},{"$f":"IF(Liste_pièces!G244=\"\",\"\",Liste_pièces!G244)","v":""},{"$f":"IF(Liste_pièces!H244=\"\",\"\",Liste_pièces!H244)","v":"assemblage fournisseur"},{"$f":"IF(Liste_pièces!I244=\"\",\"\",Liste_pièces!I244)","v":""},{"$f":"IF(Liste_pièces!J244=\"\",\"\",Liste_pièces!J244)","v":1},{"$f":"IF(Liste_pièces!K244=\"\",\"\",Liste_pièces!K244)","v":1},{"$f":"IF(Liste_pièces!L244=\"\",\"\",Liste_pièces!L244)","v":1},{"$f":"IF(Liste_pièces!M244=\"\",\"\",Liste_pièces!M244)","v":1},8,1,12]
[{"$f":"IF(Liste_pièces!A245=\"\",\"ZZZ\",Liste_pièces!A245)","v":"TB_T18"},{"$f":"IF(Liste_pièces!B245=\"\",\"ZZZ\",Liste_pièces!B245)","v":"TB_"},{"$f":"IF(Liste_pièces!C245=\"\",\"\",Liste_pièces!C245)","v":""},{"$f":"IF(Liste_pièces!D245=\"\",\"\",Liste_pièces!D245)","v":"Biellette de direction"},{"$f":"IF(Liste_pièces!E245=\"\",\"\",Liste_pièces!E245)","v":"25x25x2mm"},{"$f":"IF(Liste_pièces!F245=\"\",\"\",Liste_pièces!F245)","v":295},{"$f":"IF(Liste_pièces!G245=\"\",\"\",Liste_pièces!G245)","v":""},{"$f":"IF(Liste_pièces!H245=\"\",\"\",Liste_pièces!H245)","v":"assemblage fournisseur"},{"$f":"IF(Liste_pièces!I245=\"\",\"\",Liste_pièces!I245)","v":""},{"$f":"IF(Liste_pièces!J245=\"\",\"\",Liste_pièces!J245)","v":2},{"$f":"IF(Liste_pièces!K245=\"\",\"\",Liste_pièces!K245)","v":2},{"$f":"IF(Liste_pièces!L245=\"\",\"\",Liste_pièces!L245)","v":2},{"$f":"IF(Liste_pièces!M245=\"\",\"\",Liste_pièces!M245)","v":2},8,1,12]
[{"$f":"IF(Liste_pièces!A246=\"\",\"ZZZ\",Liste_pièces!A246)","v":"TB_T19"},{"$f":"IF(Liste_pièces!B246=\"\",\"ZZZ\",Liste_pièces!B246)","v":"TB_"},{"$f":"IF(Liste_pièces!C246=\"\",\"\",Liste_pièces!C246)","v":""},{"$f":"IF(Liste_pièces!D246=\"\",\"\",Liste_pièces!D246)","v":"Traverse stabilisateurs"},{"$f":"IF(Liste_pièces!E246=\"\",\"\",Liste_pièces!E246)","v":"25x25x2mm"},{"$f":"IF(Liste_pièces!F246=\"\",\"\",Liste_pièces!F246)","v":307},{"$f":"IF(Liste_pièces!G246=\"\",\"\",Liste_pièces!G246)","v":""},{"$f":"IF(Liste_pièces!H246=\"\",\"\",Liste_pièces!H246)","v":"assemblage fournisseur"},{"$f":"IF(Liste_pièces!I246=\"\",\"\",Liste_pièces!I246)","v":""},{"$f":"IF(Liste_pièces!J246=\"\",\"\",Liste_pièces!J246)","v":0},{"$f":"IF(Liste_pièces!K246=\"\",\"\",Liste_pièces!K246)","v":0},{"$f":"IF(Liste_pièces!L246=\"\",\"\",Liste_pièces!L246)","v":4},{"$f":"IF(Liste_pièces!M246=\"\",\"\",Liste_pièces!M246)","v":4},8,1,12]
[{"$f":"IF(Liste_pièces!A247=\"\",\"ZZZ\",Liste_pièces!A247)","v":"TB_T20"},{"$f":"IF(Liste_pièces!B247=\"\",\"ZZZ\",Liste_pièces!B247)","v":"TB_"},{"$f":"IF(Liste_pièces!C247=\"\",\"\",Liste_pièces!C247)","v":""},{"$f":"IF(Liste_pièces!D247=\"\",\"\",Liste_pièces!D247)","v":"Support pour sièges enfants"},{"$f":"IF(Liste_pièces!E247=\"\",\"\",Liste_pièces!E247)","v":"25x25x2mm"},{"$f":"IF(Liste_pièces!F247=\"\",\"\",Liste_pièces!F247)","v":530},{"$f":"IF(Liste_pièces!G247=\"\",\"\",Liste_pièces!G247)","v":""},{"$f":"IF(Liste_pièces!H247=\"\",\"\",Liste_pièces!H247)","v":"option"},{"$f":"IF(Liste_pièces!I247=\"\",\"\",Liste_pièces!I247)","v":""},{"$f":"IF(Liste_pièces!J247=\"\",\"\",Liste_pièces!J247)","v":0},{"$f":"IF(Liste_pièces!K247=\"\",\"\",Liste_pièces!K247)","v":0},{"$f":"IF(Liste_pièces!L247=\"\",\"\",Liste_pièces!L247)","v":0},{"$f":"IF(Liste_pièces!M247=\"\",\"\",Liste_pièces!M247)","v":0},8,1,12]
[{"$f":"IF(Liste_pièces!A248=\"\",\"ZZZ\",Liste_pièces!A248)","v":"TB_T21"},{"$f":"IF(Liste_pièces!B248=\"\",\"ZZZ\",Liste_pièces!B248)","v":"TB_"},{"$f":"IF(Liste_pièces!C248=\"\",\"\",Liste_pièces!C248)","v":""},{"$f":"IF(Liste_pièces!D248=\"\",\"\",Liste_pièces!D248)","v":"Traverse support attache remorque"},{"$f":"IF(Liste_pièces!E248=\"\",\"\",Liste_pièces!E248)","v":"25x25x2mm"},{"$f":"IF(Liste_pièces!F248=\"\",\"\",Liste_pièces!F248)","v":130},{"$f":"IF(Liste_pièces!G248=\"\",\"\",Liste_pièces!G248)","v":""},{"$f":"IF(Liste_pièces!H248=\"\",\"\",Liste_pièces!H248)","v":"option"},{"$f":"IF(Liste_pièces!I248=\"\",\"\",Liste_pièces!I248)","v":""},{"$f":"IF(Liste_pièces!J248=\"\",\"\",Liste_pièces!J248)","v":0},{"$f":"IF(Liste_pièces!K248=\"\",\"\",Liste_pièces!K248)","v":0},{"$f":"IF(Liste_pièces!L248=\"\",\"\",Liste_pièces!L248)","v":0},{"$f":"IF(Liste_pièces!M248=\"\",\"\",Liste_pièces!M248)","v":0},8,1,12]
[{"$f":"IF(Liste_pièces!A249=\"\",\"ZZZ\",Liste_pièces!A249)","v":"TB_T22"},{"$f":"IF(Liste_pièces!B249=\"\",\"ZZZ\",Liste_pièces!B249)","v":"TB_"},{"$f":"IF(Liste_pièces!C249=\"\",\"\",Liste_pièces!C249)","v":""},{"$f":"IF(Liste_pièces!D249=\"\",\"\",Liste_pièces!D249)","v":"Fixation panneau solaire"},{"$f":"IF(Liste_pièces!E249=\"\",\"\",Liste_pièces!E249)","v":"25x25x2mm"},{"$f":"IF(Liste_pièces!F249=\"\",\"\",Liste_pièces!F249)","v":650},{"$f":"IF(Liste_pièces!G249=\"\",\"\",Liste_pièces!G249)","v":""},{"$f":"IF(Liste_pièces!H249=\"\",\"\",Liste_pièces!H249)","v":"assemblage fournisseur"},{"$f":"IF(Liste_pièces!I249=\"\",\"\",Liste_pièces!I249)","v":""},{"$f":"IF(Liste_pièces!J249=\"\",\"\",Liste_pièces!J249)","v":0},{"$f":"IF(Liste_pièces!K249=\"\",\"\",Liste_pièces!K249)","v":0},{"$f":"IF(Liste_pièces!L249=\"\",\"\",Liste_pièces!L249)","v":1},{"$f":"IF(Liste_pièces!M249=\"\",\"\",Liste_pièces!M249)","v":1},8,1,12]
[{"$f":"IF(Liste_pièces!A250=\"\",\"ZZZ\",Liste_pièces!A250)","v":"TB_T23"},{"$f":"IF(Liste_pièces!B250=\"\",\"ZZZ\",Liste_pièces!B250)","v":"TB_"},{"$f":"IF(Liste_pièces!C250=\"\",\"\",Liste_pièces!C250)","v":"siège adulte"},{"$f":"IF(Liste_pièces!D250=\"\",\"\",Liste_pièces!D250)","v":"Loquet pour embase sièges"},{"$f":"IF(Liste_pièces!E250=\"\",\"\",Liste_pièces!E250)","v":"25x25x2mm"},{"$f":"IF(Liste_pièces!F250=\"\",\"\",Liste_pièces!F250)","v":100},{"$f":"IF(Liste_pièces!G250=\"\",\"\",Liste_pièces!G250)","v":""},{"$f":"IF(Liste_pièces!H250=\"\",\"\",Liste_pièces!H250)","v":"assemblage fournisseur"},{"$f":"IF(Liste_pièces!I250=\"\",\"\",Liste_pièces!I250)","v":""},{"$f":"IF(Liste_pièces!J250=\"\",\"\",Liste_pièces!J250)","v":0},{"$f":"IF(Liste_pièces!K250=\"\",\"\",Liste_pièces!K250)","v":2},{"$f":"IF(Liste_pièces!L250=\"\",\"\",Liste_pièces!L250)","v":2},{"$f":"IF(Liste_pièces!M250=\"\",\"\",Liste_pièces!M250)","v":2},8,1,12]
[{"$f":"IF(Liste_pièces!A251=\"\",\"ZZZ\",Liste_pièces!A251)","v":"TB_T24"},{"$f":"IF(Liste_pièces!B251=\"\",\"ZZZ\",Liste_pièces!B251)","v":"TB_"},{"$f":"IF(Liste_pièces!C251=\"\",\"\",Liste_pièces!C251)","v":""},{"$f":"IF(Liste_pièces!D251=\"\",\"\",Liste_pièces!D251)","v":""},{"$f":"IF(Liste_pièces!E251=\"\",\"\",Liste_pièces!E251)","v":"Remarque : pour les config. Basique et motorisée, T24 remplace T00, T01 et T02 quand il n’y a pas la galerie et les plateformes"},{"$f":"IF(Liste_pièces!F251=\"\",\"\",Liste_pièces!F251)","v":""},{"$f":"IF(Liste_pièces!G251=\"\",\"\",Liste_pièces!G251)","v":""},{"$f":"IF(Liste_pièces!H251=\"\",\"\",Liste_pièces!H251)","v":""},{"$f":"IF(Liste_pièces!I251=\"\",\"\",Liste_pièces!I251)","v":""},{"$f":"IF(Liste_pièces!J251=\"\",\"\",Liste_pièces!J251)","v":3},{"$f":"IF(Liste_pièces!K251=\"\",\"\",Liste_pièces!K251)","v":3},{"$f":"IF(Liste_pièces!L251=\"\",\"\",Liste_pièces!L251)","v":0},{"$f":"IF(Liste_pièces!M251=\"\",\"\",Liste_pièces!M251)","v":0},8,1,12]
[{"$f":"IF(Liste_pièces!A252=\"\",\"ZZZ\",Liste_pièces!A252)","v":"TB_T25"},{"$f":"IF(Liste_pièces!B252=\"\",\"ZZZ\",Liste_pièces!B252)","v":"TB_"},{"$f":"IF(Liste_pièces!C252=\"\",\"\",Liste_pièces!C252)","v":""},{"$f":"IF(Liste_pièces!D252=\"\",\"\",Liste_pièces!D252)","v":""},{"$f":"IF(Liste_pièces!E252=\"\",\"\",Liste_pièces!E252)","v":"Remarque : pour les config. Basique et motorisée, T25 remplace T06 quand il n’y a pas la galerie et les plateformes"},{"$f":"IF(Liste_pièces!F252=\"\",\"\",Liste_pièces!F252)","v":""},{"$f":"IF(Liste_pièces!G252=\"\",\"\",Liste_pièces!G252)","v":""},{"$f":"IF(Liste_pièces!H252=\"\",\"\",Liste_pièces!H252)","v":""},{"$f":"IF(Liste_pièces!I252=\"\",\"\",Liste_pièces!I252)","v":""},{"$f":"IF(Liste_pièces!J252=\"\",\"\",Liste_pièces!J252)","v":1},{"$f":"IF(Liste_pièces!K252=\"\",\"\",Liste_pièces!K252)","v":1},{"$f":"IF(Liste_pièces!L252=\"\",\"\",Liste_pièces!L252)","v":0},{"$f":"IF(Liste_pièces!M252=\"\",\"\",Liste_pièces!M252)","v":0},8,{"$f":"IF(N234*37=SUM(N197:N233),1,0)","v":1},12]
[{"$f":"IF(Liste_pièces!A17=\"\",\"ZZZ\",Liste_pièces!A17)","v":"TSM00"},{"$f":"IF(Liste_pièces!B17=\"\",\"ZZZ\",Liste_pièces!B17)","v":"TSM"},{"$f":"IF(Liste_pièces!C17=\"\",\"\",Liste_pièces!C17)","v":""},{"$f":"IF(Liste_pièces!D17=\"\",\"\",Liste_pièces!D17)","v":"plateau avant"},{"$f":"IF(Liste_pièces!E17=\"\",\"\",Liste_pièces!E17)","v":""},{"$f":"IF(Liste_pièces!F17=\"\",\"\",Liste_pièces!F17)","v":"48 dents, BCD 104, 4 trous"},{"$f":"IF(Liste_pièces!G17=\"\",\"\",Liste_pièces!G17)","v":""},{"$f":"IF(Liste_pièces!H17=\"\",\"\",Liste_pièces!H17)","v":"achat"},{"$f":"IF(Liste_pièces!I17=\"\",\"\",Liste_pièces!I17)","v":""},{"$f":"IF(Liste_pièces!J17=\"\",\"\",Liste_pièces!J17)","v":0},{"$f":"IF(Liste_pièces!K17=\"\",\"\",Liste_pièces!K17)","v":1},{"$f":"IF(Liste_pièces!L17=\"\",\"\",Liste_pièces!L17)","v":1},{"$f":"IF(Liste_pièces!M17=\"\",\"\",Liste_pièces!M17)","v":1},9,0,13]
[{"$f":"IF(Liste_pièces!A19=\"\",\"ZZZ\",Liste_pièces!A19)","v":"TSM01"},{"$f":"IF(Liste_pièces!B19=\"\",\"ZZZ\",Liste_pièces!B19)","v":"TSM"},{"$f":"IF(Liste_pièces!C19=\"\",\"\",Liste_pièces!C19)","v":""},{"$f":"IF(Liste_pièces!D19=\"\",\"\",Liste_pièces!D19)","v":"pignon (tendeur de chaine)"},{"$f":"IF(Liste_pièces!E19=\"\",\"\",Liste_pièces!E19)","v":"avec roulement à bille"},{"$f":"IF(Liste_pièces!F19=\"\",\"\",Liste_pièces!F19)","v":""},{"$f":"IF(Liste_pièces!G19=\"\",\"\",Liste_pièces!G19)","v":""},{"$f":"IF(Liste_pièces!H19=\"\",\"\",Liste_pièces!H19)","v":"achat"},{"$f":"IF(Liste_pièces!I19=\"\",\"\",Liste_pièces!I19)","v":""},{"$f":"IF(Liste_pièces!J19=\"\",\"\",Liste_pièces!J19)","v":1},{"$f":"IF(Liste_pièces!K19=\"\",\"\",Liste_pièces!K19)","v":1},{"$f":"IF(Liste_pièces!L19=\"\",\"\",Liste_pièces!L19)","v":1},{"$f":"IF(Liste_pièces!M19=\"\",\"\",Liste_pièces!M19)","v":1},9,0,13]
[{"$f":"IF(Liste_pièces!A20=\"\",\"ZZZ\",Liste_pièces!A20)","v":"TSM02"},{"$f":"IF(Liste_pièces!B20=\"\",\"ZZZ\",Liste_pièces!B20)","v":"TSM"},{"$f":"IF(Liste_pièces!C20=\"\",\"\",Liste_pièces!C20)","v":""},{"$f":"IF(Liste_pièces!D20=\"\",\"\",Liste_pièces!D20)","v":"chaine"},{"$f":"IF(Liste_pièces!E20=\"\",\"\",Liste_pièces!E20)","v":"1 vitesse, vélo électrique"},{"$f":"IF(Liste_pièces!F20=\"\",\"\",Liste_pièces!F20)","v":"assembler la chaine avec le bon nombre de mailles pour une longueur totale de 378cm"},{"$f":"IF(Liste_pièces!G20=\"\",\"\",Liste_pièces!G20)","v":""},{"$f":"IF(Liste_pièces!H20=\"\",\"\",Liste_pièces!H20)","v":"achat"},{"$f":"IF(Liste_pièces!I20=\"\",\"\",Liste_pièces!I20)","v":""},{"$f":"IF(Liste_pièces!J20=\"\",\"\",Liste_pièces!J20)","v":3},{"$f":"IF(Liste_pièces!K20=\"\",\"\",Liste_pièces!K20)","v":3},{"$f":"IF(Liste_pièces!L20=\"\",\"\",Liste_pièces!L20)","v":3},{"$f":"IF(Liste_pièces!M20=\"\",\"\",Liste_pièces!M20)","v":3},9,0,13]
[{"$f":"IF(Liste_pièces!A85=\"\",\"ZZZ\",Liste_pièces!A85)","v":"TSM03"},{"$f":"IF(Liste_pièces!B85=\"\",\"ZZZ\",Liste_pièces!B85)","v":"TSM"},{"$f":"IF(Liste_pièces!C85=\"\",\"\",Liste_pièces!C85)","v":"moteur"},{"$f":"IF(Liste_pièces!D85=\"\",\"\",Liste_pièces!D85)","v":"moteur 36V 250W 80NM"},{"$f":"IF(Liste_pièces!E85=\"\",\"\",Liste_pièces!E85)","v":"Attention : protocole UART, capteur de couple"},{"$f":"IF(Liste_pièces!F85=\"\",\"\",Liste_pièces!F85)","v":"puissance crête environ 700W"},{"$f":"IF(Liste_pièces!G85=\"\",\"\",Liste_pièces!G85)","v":""},{"$f":"IF(Liste_pièces!H85=\"\",\"\",Liste_pièces!H85)","v":"assemblage fournisseur"},{"$f":"IF(Liste_pièces!I85=\"\",\"\",Liste_pièces!I85)","v":""},{"$f":"IF(Liste_pièces!J85=\"\",\"\",Liste_pièces!J85)","v":0},{"$f":"IF(Liste_pièces!K85=\"\",\"\",Liste_pièces!K85)","v":1},{"$f":"IF(Liste_pièces!L85=\"\",\"\",Liste_pièces!L85)","v":1},{"$f":"IF(Liste_pièces!M85=\"\",\"\",Liste_pièces!M85)","v":1},9,0,13]
[{"$f":"IF(Liste_pièces!A86=\"\",\"ZZZ\",Liste_pièces!A86)","v":"TSM04"},{"$f":"IF(Liste_pièces!B86=\"\",\"ZZZ\",Liste_pièces!B86)","v":"TSM"},{"$f":"IF(Liste_pièces!C86=\"\",\"\",Liste_pièces!C86)","v":"moteur"},{"$f":"IF(Liste_pièces!D86=\"\",\"\",Liste_pièces!D86)","v":"manivelle droite et gauche"},{"$f":"IF(Liste_pièces!E86=\"\",\"\",Liste_pièces!E86)","v":""},{"$f":"IF(Liste_pièces!F86=\"\",\"\",Liste_pièces!F86)","v":"raccordement pédalier carré"},{"$f":"IF(Liste_pièces!G86=\"\",\"\",Liste_pièces!G86)","v":""},{"$f":"IF(Liste_pièces!H86=\"\",\"\",Liste_pièces!H86)","v":"assemblage fournisseur"},{"$f":"IF(Liste_pièces!I86=\"\",\"\",Liste_pièces!I86)","v":""},{"$f":"IF(Liste_pièces!J86=\"\",\"\",Liste_pièces!J86)","v":0},{"$f":"IF(Liste_pièces!K86=\"\",\"\",Liste_pièces!K86)","v":1},{"$f":"IF(Liste_pièces!L86=\"\",\"\",Liste_pièces!L86)","v":1},{"$f":"IF(Liste_pièces!M86=\"\",\"\",Liste_pièces!M86)","v":1},9,0,13]
[{"$f":"IF(Liste_pièces!A87=\"\",\"ZZZ\",Liste_pièces!A87)","v":"TSM06"},{"$f":"IF(Liste_pièces!B87=\"\",\"ZZZ\",Liste_pièces!B87)","v":"TSM"},{"$f":"IF(Liste_pièces!C87=\"\",\"\",Liste_pièces!C87)","v":"moteur"},{"$f":"IF(Liste_pièces!D87=\"\",\"\",Liste_pièces!D87)","v":"adaptateur moteur plateau"},{"$f":"IF(Liste_pièces!E87=\"\",\"\",Liste_pièces!E87)","v":""},{"$f":"IF(Liste_pièces!F87=\"\",\"\",Liste_pièces!F87)","v":""},{"$f":"IF(Liste_pièces!G87=\"\",\"\",Liste_pièces!G87)","v":""},{"$f":"IF(Liste_pièces!H87=\"\",\"\",Liste_pièces!H87)","v":"assemblage fournisseur"},{"$f":"IF(Liste_pièces!I87=\"\",\"\",Liste_pièces!I87)","v":""},{"$f":"IF(Liste_pièces!J87=\"\",\"\",Liste_pièces!J87)","v":0},{"$f":"IF(Liste_pièces!K87=\"\",\"\",Liste_pièces!K87)","v":1},{"$f":"IF(Liste_pièces!L87=\"\",\"\",Liste_pièces!L87)","v":1},{"$f":"IF(Liste_pièces!M87=\"\",\"\",Liste_pièces!M87)","v":1},9,0,13]
[{"$f":"IF(Liste_pièces!A88=\"\",\"ZZZ\",Liste_pièces!A88)","v":"TSM07"},{"$f":"IF(Liste_pièces!B88=\"\",\"ZZZ\",Liste_pièces!B88)","v":"TSM"},{"$f":"IF(Liste_pièces!C88=\"\",\"\",Liste_pièces!C88)","v":"moteur"},{"$f":"IF(Liste_pièces!D88=\"\",\"\",Liste_pièces!D88)","v":"levier frein arrière"},{"$f":"IF(Liste_pièces!E88=\"\",\"\",Liste_pièces!E88)","v":""},{"$f":"IF(Liste_pièces!F88=\"\",\"\",Liste_pièces!F88)","v":"à câble"},{"$f":"IF(Liste_pièces!G88=\"\",\"\",Liste_pièces!G88)","v":""},{"$f":"IF(Liste_pièces!H88=\"\",\"\",Liste_pièces!H88)","v":"assemblage fournisseur"},{"$f":"IF(Liste_pièces!I88=\"\",\"\",Liste_pièces!I88)","v":""},{"$f":"IF(Liste_pièces!J88=\"\",\"\",Liste_pièces!J88)","v":0},{"$f":"IF(Liste_pièces!K88=\"\",\"\",Liste_pièces!K88)","v":1},{"$f":"IF(Liste_pièces!L88=\"\",\"\",Liste_pièces!L88)","v":1},{"$f":"IF(Liste_pièces!M88=\"\",\"\",Liste_pièces!M88)","v":1},9,0,13]
[{"$f":"IF(Liste_pièces!A89=\"\",\"ZZZ\",Liste_pièces!A89)","v":"TSM08"},{"$f":"IF(Liste_pièces!B89=\"\",\"ZZZ\",Liste_pièces!B89)","v":"TSM"},{"$f":"IF(Liste_pièces!C89=\"\",\"\",Liste_pièces!C89)","v":"moteur"},{"$f":"IF(Liste_pièces!D89=\"\",\"\",Liste_pièces!D89)","v":"ecran LCD 500C"},{"$f":"IF(Liste_pièces!E89=\"\",\"\",Liste_pièces!E89)","v":"Attention : protocole UART"},{"$f":"IF(Liste_pièces!F89=\"\",\"\",Liste_pièces!F89)","v":"couleur, 80mm x 40mm"},{"$f":"IF(Liste_pièces!G89=\"\",\"\",Liste_pièces!G89)","v":""},{"$f":"IF(Liste_pièces!H89=\"\",\"\",Liste_pièces!H89)","v":"assemblage fournisseur"},{"$f":"IF(Liste_pièces!I89=\"\",\"\",Liste_pièces!I89)","v":""},{"$f":"IF(Liste_pièces!J89=\"\",\"\",Liste_pièces!J89)","v":0},{"$f":"IF(Liste_pièces!K89=\"\",\"\",Liste_pièces!K89)","v":1},{"$f":"IF(Liste_pièces!L89=\"\",\"\",Liste_pièces!L89)","v":1},{"$f":"IF(Liste_pièces!M89=\"\",\"\",Liste_pièces!M89)","v":1},9,0,13]
[{"$f":"IF(Liste_pièces!A90=\"\",\"ZZZ\",Liste_pièces!A90)","v":"TSM09"},{"$f":"IF(Liste_pièces!B90=\"\",\"ZZZ\",Liste_pièces!B90)","v":"TSM"},{"$f":"IF(Liste_pièces!C90=\"\",\"\",Liste_pièces!C90)","v":"moteur"},{"$f":"IF(Liste_pièces!D90=\"\",\"\",Liste_pièces!D90)","v":"capteur de vitesse"},{"$f":"IF(Liste_pièces!E90=\"\",\"\",Liste_pièces!E90)","v":""},{"$f":"IF(Liste_pièces!F90=\"\",\"\",Liste_pièces!F90)","v":""},{"$f":"IF(Liste_pièces!G90=\"\",\"\",Liste_pièces!G90)","v":"longueur nécessaire du câble 170cm, à prolonger selon le cas"},{"$f":"IF(Liste_pièces!H90=\"\",\"\",Liste_pièces!H90)","v":"assemblage fournisseur"},{"$f":"IF(Liste_pièces!I90=\"\",\"\",Liste_pièces!I90)","v":""},{"$f":"IF(Liste_pièces!J90=\"\",\"\",Liste_pièces!J90)","v":0},{"$f":"IF(Liste_pièces!K90=\"\",\"\",Liste_pièces!K90)","v":1},{"$f":"IF(Liste_pièces!L90=\"\",\"\",Liste_pièces!L90)","v":1},{"$f":"IF(Liste_pièces!M90=\"\",\"\",Liste_pièces!M90)","v":1},9,0,13]
[{"$f":"IF(Liste_pièces!A91=\"\",\"ZZZ\",Liste_pièces!A91)","v":"TSM10"},{"$f":"IF(Liste_pièces!B91=\"\",\"ZZZ\",Liste_pièces!B91)","v":"TSM"},{"$f":"IF(Liste_pièces!C91=\"\",\"\",Liste_pièces!C91)","v":"moteur"},{"$f":"IF(Liste_pièces!D91=\"\",\"\",Liste_pièces!D91)","v":"câble multiconnecteurs"},{"$f":"IF(Liste_pièces!E91=\"\",\"\",Liste_pièces!E91)","v":"connection moteur, écran, capteur de vitesse"},{"$f":"IF(Liste_pièces!F91=\"\",\"\",Liste_pièces!F91)","v":"femelle vert 5 broches, femelle jaune 3 broches, femelle jaune 3 broches, femelle 8 broches"},{"$f":"IF(Liste_pièces!G91=\"\",\"\",Liste_pièces!G91)","v":""},{"$f":"IF(Liste_pièces!H91=\"\",\"\",Liste_pièces!H91)","v":"assemblage fournisseur"},{"$f":"IF(Liste_pièces!I91=\"\",\"\",Liste_pièces!I91)","v":""},{"$f":"IF(Liste_pièces!J91=\"\",\"\",Liste_pièces!J91)","v":0},{"$f":"IF(Liste_pièces!K91=\"\",\"\",Liste_pièces!K91)","v":1},{"$f":"IF(Liste_pièces!L91=\"\",\"\",Liste_pièces!L91)","v":1},{"$f":"IF(Liste_pièces!M91=\"\",\"\",Liste_pièces!M91)","v":1},9,0,13]
[{"$f":"IF(Liste_pièces!A92=\"\",\"ZZZ\",Liste_pièces!A92)","v":"TSM11"},{"$f":"IF(Liste_pièces!B92=\"\",\"ZZZ\",Liste_pièces!B92)","v":"TSM"},{"$f":"IF(Liste_pièces!C92=\"\",\"\",Liste_pièces!C92)","v":"moteur"},{"$f":"IF(Liste_pièces!D92=\"\",\"\",Liste_pièces!D92)","v":"câble alimentation"},{"$f":"IF(Liste_pièces!E92=\"\",\"\",Liste_pièces!E92)","v":"connection moteur au 36V +-"},{"$f":"IF(Liste_pièces!F92=\"\",\"\",Liste_pièces!F92)","v":""},{"$f":"IF(Liste_pièces!G92=\"\",\"\",Liste_pièces!G92)","v":""},{"$f":"IF(Liste_pièces!H92=\"\",\"\",Liste_pièces!H92)","v":"assemblage fournisseur"},{"$f":"IF(Liste_pièces!I92=\"\",\"\",Liste_pièces!I92)","v":""},{"$f":"IF(Liste_pièces!J92=\"\",\"\",Liste_pièces!J92)","v":0},{"$f":"IF(Liste_pièces!K92=\"\",\"\",Liste_pièces!K92)","v":1},{"$f":"IF(Liste_pièces!L92=\"\",\"\",Liste_pièces!L92)","v":1},{"$f":"IF(Liste_pièces!M92=\"\",\"\",Liste_pièces!M92)","v":1},9,0,13]
[{"$f":"IF(Liste_pièces!A21=\"\",\"ZZZ\",Liste_pièces!A21)","v":"TSM12"},{"$f":"IF(Liste_pièces!B21=\"\",\"ZZZ\",Liste_pièces!B21)","v":"TSM"},{"$f":"IF(Liste_pièces!C21=\"\",\"\",Liste_pièces!C21)","v":""},{"$f":"IF(Liste_pièces!D21=\"\",\"\",Liste_pièces!D21)","v":"pédales (paire)"},{"$f":"IF(Liste_pièces!E21=\"\",\"\",Liste_pièces!E21)","v":""},{"$f":"IF(Liste_pièces!F21=\"\",\"\",Liste_pièces!F21)","v":"paire"},{"$f":"IF(Liste_pièces!G21=\"\",\"\",Liste_pièces!G21)","v":""},{"$f":"IF(Liste_pièces!H21=\"\",\"\",Liste_pièces!H21)","v":"achat"},{"$f":"IF(Liste_pièces!I21=\"\",\"\",Liste_pièces!I21)","v":""},{"$f":"IF(Liste_pièces!J21=\"\",\"\",Liste_pièces!J21)","v":1},{"$f":"IF(Liste_pièces!K21=\"\",\"\",Liste_pièces!K21)","v":1},{"$f":"IF(Liste_pièces!L21=\"\",\"\",Liste_pièces!L21)","v":1},{"$f":"IF(Liste_pièces!M21=\"\",\"\",Liste_pièces!M21)","v":1},9,0,13]
[{"$f":"IF(Liste_pièces!A22=\"\",\"ZZZ\",Liste_pièces!A22)","v":"TSM13"},{"$f":"IF(Liste_pièces!B22=\"\",\"ZZZ\",Liste_pièces!B22)","v":"TSM"},{"$f":"IF(Liste_pièces!C22=\"\",\"\",Liste_pièces!C22)","v":""},{"$f":"IF(Liste_pièces!D22=\"\",\"\",Liste_pièces!D22)","v":"boitier de pédalier (version sans moteur)"},{"$f":"IF(Liste_pièces!E22=\"\",\"\",Liste_pièces!E22)","v":"Boitier de pédalier (sans moteur)"},{"$f":"IF(Liste_pièces!F22=\"\",\"\",Liste_pièces!F22)","v":"68 x 127mm"},{"$f":"IF(Liste_pièces!G22=\"\",\"\",Liste_pièces!G22)","v":""},{"$f":"IF(Liste_pièces!H22=\"\",\"\",Liste_pièces!H22)","v":"achat"},{"$f":"IF(Liste_pièces!I22=\"\",\"\",Liste_pièces!I22)","v":""},{"$f":"IF(Liste_pièces!J22=\"\",\"\",Liste_pièces!J22)","v":1},{"$f":"IF(Liste_pièces!K22=\"\",\"\",Liste_pièces!K22)","v":0},{"$f":"IF(Liste_pièces!L22=\"\",\"\",Liste_pièces!L22)","v":0},{"$f":"IF(Liste_pièces!M22=\"\",\"\",Liste_pièces!M22)","v":0},9,0,13]
[{"$f":"IF(Liste_pièces!A18=\"\",\"ZZZ\",Liste_pièces!A18)","v":"TSM15"},{"$f":"IF(Liste_pièces!B18=\"\",\"ZZZ\",Liste_pièces!B18)","v":"TSM"},{"$f":"IF(Liste_pièces!C18=\"\",\"\",Liste_pièces!C18)","v":""},{"$f":"IF(Liste_pièces!D18=\"\",\"\",Liste_pièces!D18)","v":"pédalier : 2 manivelles + plateau"},{"$f":"IF(Liste_pièces!E18=\"\",\"\",Liste_pièces!E18)","v":""},{"$f":"IF(Liste_pièces!F18=\"\",\"\",Liste_pièces!F18)","v":"48 dents"},{"$f":"IF(Liste_pièces!G18=\"\",\"\",Liste_pièces!G18)","v":""},{"$f":"IF(Liste_pièces!H18=\"\",\"\",Liste_pièces!H18)","v":"achat"},{"$f":"IF(Liste_pièces!I18=\"\",\"\",Liste_pièces!I18)","v":""},{"$f":"IF(Liste_pièces!J18=\"\",\"\",Liste_pièces!J18)","v":1},{"$f":"IF(Liste_pièces!K18=\"\",\"\",Liste_pièces!K18)","v":0},{"$f":"IF(Liste_pièces!L18=\"\",\"\",Liste_pièces!L18)","v":0},{"$f":"IF(Liste_pièces!M18=\"\",\"\",Liste_pièces!M18)","v":0},9,0,13]
[{"$f":"IF(Liste_pièces!A16=\"\",\"ZZZ\",Liste_pièces!A16)","v":"TSM99"},{"$f":"IF(Liste_pièces!B16=\"\",\"ZZZ\",Liste_pièces!B16)","v":"TSM"},{"$f":"IF(Liste_pièces!C16=\"\",\"\",Liste_pièces!C16)","v":"MOTEUR"},{"$f":"IF(Liste_pièces!D16=\"\",\"\",Liste_pièces!D16)","v":"ensemble moteur"},{"$f":"IF(Liste_pièces!E16=\"\",\"\",Liste_pièces!E16)","v":""},{"$f":"IF(Liste_pièces!F16=\"\",\"\",Liste_pièces!F16)","v":""},{"$f":"IF(Liste_pièces!G16=\"\",\"\",Liste_pièces!G16)","v":""},{"$f":"IF(Liste_pièces!H16=\"\",\"\",Liste_pièces!H16)","v":"achat"},{"$f":"IF(Liste_pièces!I16=\"\",\"\",Liste_pièces!I16)","v":""},{"$f":"IF(Liste_pièces!J16=\"\",\"\",Liste_pièces!J16)","v":0},{"$f":"IF(Liste_pièces!K16=\"\",\"\",Liste_pièces!K16)","v":1},{"$f":"IF(Liste_pièces!L16=\"\",\"\",Liste_pièces!L16)","v":1},{"$f":"IF(Liste_pièces!M16=\"\",\"\",Liste_pièces!M16)","v":1},9,0,13]
[{"$f":"IF(Liste_pièces!A40=\"\",\"ZZZ\",Liste_pièces!A40)","v":"TXT01"},{"$f":"IF(Liste_pièces!B40=\"\",\"ZZZ\",Liste_pièces!B40)","v":"TXT"},{"$f":"IF(Liste_pièces!C40=\"\",\"\",Liste_pièces!C40)","v":"textiles"},{"$f":"IF(Liste_pièces!D40=\"\",\"\",Liste_pièces!D40)","v":"toiles vide poche (2 exemplaires par vhélio)"},{"$f":"IF(Liste_pièces!E40=\"\",\"\",Liste_pièces!E40)","v":""},{"$f":"IF(Liste_pièces!F40=\"\",\"\",Liste_pièces!F40)","v":"Tissu imperméable SAC, 375 g/m², 100% polyester doublé PVC"},{"$f":"IF(Liste_pièces!G40=\"\",\"\",Liste_pièces!G40)","v":"Gris souris"},{"$f":"IF(Liste_pièces!H40=\"\",\"\",Liste_pièces!H40)","v":"assemblage fournisseur"},{"$f":"IF(Liste_pièces!I40=\"\",\"\",Liste_pièces!I40)","v":""},{"$f":"IF(Liste_pièces!J40=\"\",\"\",Liste_pièces!J40)","v":0},{"$f":"IF(Liste_pièces!K40=\"\",\"\",Liste_pièces!K40)","v":0},{"$f":"IF(Liste_pièces!L40=\"\",\"\",Liste_pièces!L40)","v":1},{"$f":"IF(Liste_pièces!M40=\"\",\"\",Liste_pièces!M40)","v":1},10,0,14]
[{"$f":"IF(Liste_pièces!A41=\"\",\"ZZZ\",Liste_pièces!A41)","v":"TXT02"},{"$f":"IF(Liste_pièces!B41=\"\",\"ZZZ\",Liste_pièces!B41)","v":"TXT"},{"$f":"IF(Liste_pièces!C41=\"\",\"\",Liste_pièces!C41)","v":"textiles"},{"$f":"IF(Liste_pièces!D41=\"\",\"\",Liste_pièces!D41)","v":"toiles latérales gauche (jupe gauche)"},{"$f":"IF(Liste_pièces!E41=\"\",\"\",Liste_pièces!E41)","v":""},{"$f":"IF(Liste_pièces!F41=\"\",\"\",Liste_pièces!F41)","v":"Toile grille textilène 440g/m², PV polyester, résistant UV"},{"$f":"IF(Liste_pièces!G41=\"\",\"\",Liste_pièces!G41)","v":"Anthracite"},{"$f":"IF(Liste_pièces!H41=\"\",\"\",Liste_pièces!H41)","v":"assemblage fournisseur"},{"$f":"IF(Liste_pièces!I41=\"\",\"\",Liste_pièces!I41)","v":""},{"$f":"IF(Liste_pièces!J41=\"\",\"\",Liste_pièces!J41)","v":0},{"$f":"IF(Liste_pièces!K41=\"\",\"\",Liste_pièces!K41)","v":1},{"$f":"IF(Liste_pièces!L41=\"\",\"\",Liste_pièces!L41)","v":1},{"$f":"IF(Liste_pièces!M41=\"\",\"\",Liste_pièces!M41)","v":1},10,0,14]
[{"$f":"IF(Liste_pièces!A42=\"\",\"ZZZ\",Liste_pièces!A42)","v":"TXT03"},{"$f":"IF(Liste_pièces!B42=\"\",\"ZZZ\",Liste_pièces!B42)","v":"TXT"},{"$f":"IF(Liste_pièces!C42=\"\",\"\",Liste_pièces!C42)","v":"textiles"},{"$f":"IF(Liste_pièces!D42=\"\",\"\",Liste_pièces!D42)","v":"toiles latérales droite (jupe droite)"},{"$f":"IF(Liste_pièces!E42=\"\",\"\",Liste_pièces!E42)","v":""},{"$f":"IF(Liste_pièces!F42=\"\",\"\",Liste_pièces!F42)","v":"Toile grille textilène 440g/m², PV polyester, résistant UV"},{"$f":"IF(Liste_pièces!G42=\"\",\"\",Liste_pièces!G42)","v":"Anthracite"},{"$f":"IF(Liste_pièces!H42=\"\",\"\",Liste_pièces!H42)","v":"assemblage fournisseur"},{"$f":"IF(Liste_pièces!I42=\"\",\"\",Liste_pièces!I42)","v":""},{"$f":"IF(Liste_pièces!J42=\"\",\"\",Liste_pièces!J42)","v":0},{"$f":"IF(Liste_pièces!K42=\"\",\"\",Liste_pièces!K42)","v":1},{"$f":"IF(Liste_pièces!L42=\"\",\"\",Liste_pièces!L42)","v":1},{"$f":"IF(Liste_pièces!M42=\"\",\"\",Liste_pièces!M42)","v":1},10,0,14]
[{"$f":"IF(Liste_pièces!A43=\"\",\"ZZZ\",Liste_pièces!A43)","v":"TXT04"},{"$f":"IF(Liste_pièces!B43=\"\",\"ZZZ\",Liste_pièces!B43)","v":"TXT"},{"$f":"IF(Liste_pièces!C43=\"\",\"\",Liste_pièces!C43)","v":"textiles"},{"$f":"IF(Liste_pièces!D43=\"\",\"\",Liste_pièces!D43)","v":"toiles siège - assise (1 exemplaire par siège)"},{"$f":"IF(Liste_pièces!E43=\"\",\"\",Liste_pièces!E43)","v":""},{"$f":"IF(Liste_pièces!F43=\"\",\"\",Liste_pièces!F43)","v":"Toile grille textilène 440g/m², PV polyester, résistant UV, tresser de la chambre à air sous la toile pour constituer l'amorti"},{"$f":"IF(Liste_pièces!G43=\"\",\"\",Liste_pièces!G43)","v":"Anthracite"},{"$f":"IF(Liste_pièces!H43=\"\",\"\",Liste_pièces!H43)","v":"assemblage fournisseur"},{"$f":"IF(Liste_pièces!I43=\"\",\"\",Liste_pièces!I43)","v":""},{"$f":"IF(Liste_pièces!J43=\"\",\"\",Liste_pièces!J43)","v":1},{"$f":"IF(Liste_pièces!K43=\"\",\"\",Liste_pièces!K43)","v":2},{"$f":"IF(Liste_pièces!L43=\"\",\"\",Liste_pièces!L43)","v":2},{"$f":"IF(Liste_pièces!M43=\"\",\"\",Liste_pièces!M43)","v":2},10,0,14]
[{"$f":"IF(Liste_pièces!A44=\"\",\"ZZZ\",Liste_pièces!A44)","v":"TXT05"},{"$f":"IF(Liste_pièces!B44=\"\",\"ZZZ\",Liste_pièces!B44)","v":"TXT"},{"$f":"IF(Liste_pièces!C44=\"\",\"\",Liste_pièces!C44)","v":"textiles"},{"$f":"IF(Liste_pièces!D44=\"\",\"\",Liste_pièces!D44)","v":"toiles siège - dossier (1 exemplaire par siège)"},{"$f":"IF(Liste_pièces!E44=\"\",\"\",Liste_pièces!E44)","v":""},{"$f":"IF(Liste_pièces!F44=\"\",\"\",Liste_pièces!F44)","v":"Toile grille textilène 440g/m², PV polyester, résistant UV"},{"$f":"IF(Liste_pièces!G44=\"\",\"\",Liste_pièces!G44)","v":"Anthracite"},{"$f":"IF(Liste_pièces!H44=\"\",\"\",Liste_pièces!H44)","v":"assemblage fournisseur"},{"$f":"IF(Liste_pièces!I44=\"\",\"\",Liste_pièces!I44)","v":""},{"$f":"IF(Liste_pièces!J44=\"\",\"\",Liste_pièces!J44)","v":1},{"$f":"IF(Liste_pièces!K44=\"\",\"\",Liste_pièces!K44)","v":2},{"$f":"IF(Liste_pièces!L44=\"\",\"\",Liste_pièces!L44)","v":2},{"$f":"IF(Liste_pièces!M44=\"\",\"\",Liste_pièces!M44)","v":2},10,0,14]
[{"$f":"IF(Liste_pièces!A45=\"\",\"ZZZ\",Liste_pièces!A45)","v":"TXT06"},{"$f":"IF(Liste_pièces!B45=\"\",\"ZZZ\",Liste_pièces!B45)","v":"TXT"},{"$f":"IF(Liste_pièces!C45=\"\",\"\",Liste_pièces!C45)","v":"textiles"},{"$f":"IF(Liste_pièces!D45=\"\",\"\",Liste_pièces!D45)","v":"œillets pour toiles"},{"$f":"IF(Liste_pièces!E45=\"\",\"\",Liste_pièces!E45)","v":""},{"$f":"IF(Liste_pièces!F45=\"\",\"\",Liste_pièces!F45)","v":"œillets 12mm, couleur argent"},{"$f":"IF(Liste_pièces!G45=\"\",\"\",Liste_pièces!G45)","v":"prévoir 34 œillets pour le kit complet TXT99"},{"$f":"IF(Liste_pièces!H45=\"\",\"\",Liste_pièces!H45)","v":"assemblage fournisseur"},{"$f":"IF(Liste_pièces!I45=\"\",\"\",Liste_pièces!I45)","v":""},{"$f":"IF(Liste_pièces!J45=\"\",\"\",Liste_pièces!J45)","v":1},{"$f":"IF(Liste_pièces!K45=\"\",\"\",Liste_pièces!K45)","v":1},{"$f":"IF(Liste_pièces!L45=\"\",\"\",Liste_pièces!L45)","v":1},{"$f":"IF(Liste_pièces!M45=\"\",\"\",Liste_pièces!M45)","v":1},10,0,14]
[{"$f":"IF(Liste_pièces!A46=\"\",\"ZZZ\",Liste_pièces!A46)","v":"TXT99"},{"$f":"IF(Liste_pièces!B46=\"\",\"ZZZ\",Liste_pièces!B46)","v":"TXT"},{"$f":"IF(Liste_pièces!C46=\"\",\"\",Liste_pièces!C46)","v":"TEXTILES"},{"$f":"IF(Liste_pièces!D46=\"\",\"\",Liste_pièces!D46)","v":"ensemble de toile complet"},{"$f":"IF(Liste_pièces!E46=\"\",\"\",Liste_pièces!E46)","v":"intègre jupe gauche, jupe droite, 2 toiles de sièges (assise et dossier), 2 vides poches"},{"$f":"IF(Liste_pièces!F46=\"\",\"\",Liste_pièces!F46)","v":""},{"$f":"IF(Liste_pièces!G46=\"\",\"\",Liste_pièces!G46)","v":""},{"$f":"IF(Liste_pièces!H46=\"\",\"\",Liste_pièces!H46)","v":"achat"},{"$f":"IF(Liste_pièces!I46=\"\",\"\",Liste_pièces!I46)","v":""},{"$f":"IF(Liste_pièces!J46=\"\",\"\",Liste_pièces!J46)","v":"voir détail ensemble textile"},{"$f":"IF(Liste_pièces!K46=\"\",\"\",Liste_pièces!K46)","v":"voir détail ensemble textile"},{"$f":"IF(Liste_pièces!L46=\"\",\"\",Liste_pièces!L46)","v":1},{"$f":"IF(Liste_pièces!M46=\"\",\"\",Liste_pièces!M46)","v":1},10,0,14]
[{"$f":"IF(Liste_pièces!A257=\"\",\"ZZZ\",Liste_pièces!A257)","v":"ZZZ"},{"$f":"IF(Liste_pièces!B257=\"\",\"ZZZ\",Liste_pièces!B257)","v":"ZZZ"},{"$f":"IF(Liste_pièces!C257=\"\",\"\",Liste_pièces!C257)","v":""},{"$f":"IF(Liste_pièces!D257=\"\",\"\",Liste_pièces!D257)","v":""},{"$f":"IF(Liste_pièces!E257=\"\",\"\",Liste_pièces!E257)","v":""},{"$f":"IF(Liste_pièces!F257=\"\",\"\",Liste_pièces!F257)","v":""},{"$f":"IF(Liste_pièces!G257=\"\",\"\",Liste_pièces!G257)","v":""},{"$f":"IF(Liste_pièces!H257=\"\",\"\",Liste_pièces!H257)","v":""},{"$f":"IF(Liste_pièces!I257=\"\",\"\",Liste_pièces!I257)","v":""},{"$f":"IF(Liste_pièces!J257=\"\",\"\",Liste_pièces!J257)","v":""},{"$f":"IF(Liste_pièces!K257=\"\",\"\",Liste_pièces!K257)","v":""},{"$f":"IF(Liste_pièces!L257=\"\",\"\",Liste_pièces!L257)","v":""},{"$f":"IF(Liste_pièces!M257=\"\",\"\",Liste_pièces!M257)","v":""},{"$f":"IF(B1001=\"ZZZ\",0,IF(B1001=B256,N256,1+N256))","v":0},0,0]
[{"$f":"IF(Liste_pièces!A258=\"\",\"ZZZ\",Liste_pièces!A258)","v":"ZZZ"},{"$f":"IF(Liste_pièces!B258=\"\",\"ZZZ\",Liste_pièces!B258)","v":"ZZZ"},{"$f":"IF(Liste_pièces!C258=\"\",\"\",Liste_pièces!C258)","v":""},{"$f":"IF(Liste_pièces!D258=\"\",\"\",Liste_pièces!D258)","v":""},{"$f":"IF(Liste_pièces!E258=\"\",\"\",Liste_pièces!E258)","v":""},{"$f":"IF(Liste_pièces!F258=\"\",\"\",Liste_pièces!F258)","v":""},{"$f":"IF(Liste_pièces!G258=\"\",\"\",Liste_pièces!G258)","v":""},{"$f":"IF(Liste_pièces!H258=\"\",\"\",Liste_pièces!H258)","v":""},{"$f":"IF(Liste_pièces!I258=\"\",\"\",Liste_pièces!I258)","v":""},{"$f":"IF(Liste_pièces!J258=\"\",\"\",Liste_pièces!J258)","v":""},{"$f":"IF(Liste_pièces!K258=\"\",\"\",Liste_pièces!K258)","v":""},{"$f":"IF(Liste_pièces!L258=\"\",\"\",Liste_pièces!L258)","v":""},{"$f":"IF(Liste_pièces!M258=\"\",\"\",Liste_pièces!M258)","v":""},{"$f":"IF(B1002=\"ZZZ\",0,IF(B1002=B1001,N257,1+N257))","v":0},0,0]
[{"$f":"IF(Liste_pièces!A259=\"\",\"ZZZ\",Liste_pièces!A259)","v":"ZZZ"},{"$f":"IF(Liste_pièces!B259=\"\",\"ZZZ\",Liste_pièces!B259)","v":"ZZZ"},{"$f":"IF(Liste_pièces!C259=\"\",\"\",Liste_pièces!C259)","v":""},{"$f":"IF(Liste_pièces!D259=\"\",\"\",Liste_pièces!D259)","v":""},{"$f":"IF(Liste_pièces!E259=\"\",\"\",Liste_pièces!E259)","v":""},{"$f":"IF(Liste_pièces!F259=\"\",\"\",Liste_pièces!F259)","v":""},{"$f":"IF(Liste_pièces!G259=\"\",\"\",Liste_pièces!G259)","v":""},{"$f":"IF(Liste_pièces!H259=\"\",\"\",Liste_pièces!H259)","v":""},{"$f":"IF(Liste_pièces!I259=\"\",\"\",Liste_pièces!I259)","v":""},{"$f":"IF(Liste_pièces!J259=\"\",\"\",Liste_pièces!J259)","v":""},{"$f":"IF(Liste_pièces!K259=\"\",\"\",Liste_pièces!K259)","v":""},{"$f":"IF(Liste_pièces!L259=\"\",\"\",Liste_pièces!L259)","v":""},{"$f":"IF(Liste_pièces!M259=\"\",\"\",Liste_pièces!M259)","v":""},0,0,0]
[{"$f":"IF(Liste_pièces!A260=\"\",\"ZZZ\",Liste_pièces!A260)","v":"ZZZ"},{"$f":"IF(Liste_pièces!B260=\"\",\"ZZZ\",Liste_pièces!B260)","v":"ZZZ"},{"$f":"IF(Liste_pièces!C260=\"\",\"\",Liste_pièces!C260)","v":""},{"$f":"IF(Liste_pièces!D260=\"\",\"\",Liste_pièces!D260)","v":""},{"$f":"IF(Liste_pièces!E260=\"\",\"\",Liste_pièces!E260)","v":""},{"$f":"IF(Liste_pièces!F260=\"\",\"\",Liste_pièces!F260)","v":""},{"$f":"IF(Liste_pièces!G260=\"\",\"\",Liste_pièces!G260)","v":""},{"$f":"IF(Liste_pièces!H260=\"\",\"\",Liste_pièces!H260)","v":""},{"$f":"IF(Liste_pièces!I260=\"\",\"\",Liste_pièces!I260)","v":""},{"$f":"IF(Liste_pièces!J260=\"\",\"\",Liste_pièces!J260)","v":""},{"$f":"IF(Liste_pièces!K260=\"\",\"\",Liste_pièces!K260)","v":""},{"$f":"IF(Liste_pièces!L260=\"\",\"\",Liste_pièces!L260)","v":""},{"$f":"IF(Liste_pièces!M260=\"\",\"\",Liste_pièces!M260)","v":""},0,0,0]
[{"$f":"IF(Liste_pièces!A261=\"\",\"ZZZ\",Liste_pièces!A261)","v":"ZZZ"},{"$f":"IF(Liste_pièces!B261=\"\",\"ZZZ\",Liste_pièces!B261)","v":"ZZZ"},{"$f":"IF(Liste_pièces!C261=\"\",\"\",Liste_pièces!C261)","v":""},{"$f":"IF(Liste_pièces!D261=\"\",\"\",Liste_pièces!D261)","v":""},{"$f":"IF(Liste_pièces!E261=\"\",\"\",Liste_pièces!E261)","v":""},{"$f":"IF(Liste_pièces!F261=\"\",\"\",Liste_pièces!F261)","v":""},{"$f":"IF(Liste_pièces!G261=\"\",\"\",Liste_pièces!G261)","v":""},{"$f":"IF(Liste_pièces!H261=\"\",\"\",Liste_pièces!H261)","v":""},{"$f":"IF(Liste_pièces!I261=\"\",\"\",Liste_pièces!I261)","v":""},{"$f":"IF(Liste_pièces!J261=\"\",\"\",Liste_pièces!J261)","v":""},{"$f":"IF(Liste_pièces!K261=\"\",\"\",Liste_pièces!K261)","v":""},{"$f":"IF(Liste_pièces!L261=\"\",\"\",Liste_pièces!L261)","v":""},{"$f":"IF(Liste_pièces!M261=\"\",\"\",Liste_pièces!M261)","v":""},0,0,{"$f":"IF(N261=0,0,IF(N261<>N260,MAX(N261+O260,P260+1),IF(O260=O261,P260,P260+O261)))","v":0}]
[{"$f":"IF(Liste_pièces!A262=\"\",\"ZZZ\",Liste_pièces!A262)","v":"ZZZ"},{"$f":"IF(Liste_pièces!B262=\"\",\"ZZZ\",Liste_pièces!B262)","v":"ZZZ"},{"$f":"IF(Liste_pièces!C262=\"\",\"\",Liste_pièces!C262)","v":""},{"$f":"IF(Liste_pièces!D262=\"\",\"\",Liste_pièces!D262)","v":""},{"$f":"IF(Liste_pièces!E262=\"\",\"\",Liste_pièces!E262)","v":""},{"$f":"IF(Liste_pièces!F262=\"\",\"\",Liste_pièces!F262)","v":""},{"$f":"IF(Liste_pièces!G262=\"\",\"\",Liste_pièces!G262)","v":""},{"$f":"IF(Liste_pièces!H262=\"\",\"\",Liste_pièces!H262)","v":""},{"$f":"IF(Liste_pièces!I262=\"\",\"\",Liste_pièces!I262)","v":""},{"$f":"IF(Liste_pièces!J262=\"\",\"\",Liste_pièces!J262)","v":""},{"$f":"IF(Liste_pièces!K262=\"\",\"\",Liste_pièces!K262)","v":""},{"$f":"IF(Liste_pièces!L262=\"\",\"\",Liste_pièces!L262)","v":""},{"$f":"IF(Liste_pièces!M262=\"\",\"\",Liste_pièces!M262)","v":""},0,0,{"$f":"IF(N262=0,0,IF(N262<>N261,MAX(N262+O261,P261+1),IF(O261=O262,P261,P261+O262)))","v":0}]
[{"$f":"IF(Liste_pièces!A263=\"\",\"ZZZ\",Liste_pièces!A263)","v":"ZZZ"},{"$f":"IF(Liste_pièces!B263=\"\",\"ZZZ\",Liste_pièces!B263)","v":"ZZZ"},{"$f":"IF(Liste_pièces!C263=\"\",\"\",Liste_pièces!C263)","v":""},{"$f":"IF(Liste_pièces!D263=\"\",\"\",Liste_pièces!D263)","v":""},{"$f":"IF(Liste_pièces!E263=\"\",\"\",Liste_pièces!E263)","v":""},{"$f":"IF(Liste_pièces!F263=\"\",\"\",Liste_pièces!F263)","v":""},{"$f":"IF(Liste_pièces!G263=\"\",\"\",Liste_pièces!G263)","v":""},{"$f":"IF(Liste_pièces!H263=\"\",\"\",Liste_pièces!H263)","v":""},{"$f":"IF(Liste_pièces!I263=\"\",\"\",Liste_pièces!I263)","v":""},{"$f":"IF(Liste_pièces!J263=\"\",\"\",Liste_pièces!J263)","v":""},{"$f":"IF(Liste_pièces!K263=\"\",\"\",Liste_pièces!K263)","v":""},{"$f":"IF(Liste_pièces!L263=\"\",\"\",Liste_pièces!L263)","v":""},{"$f":"IF(Liste_pièces!M263=\"\",\"\",Liste_pièces!M263)","v":""},0,0,{"$f":"IF(N263=0,0,IF(N263<>N262,MAX(N263+O262,P262+1),IF(O262=O263,P262,P262+O263)))","v":0}]
[{"$f":"IF(Liste_pièces!A264=\"\",\"ZZZ\",Liste_pièces!A264)","v":"ZZZ"},{"$f":"IF(Liste_pièces!B264=\"\",\"ZZZ\",Liste_pièces!B264)","v":"ZZZ"},{"$f":"IF(Liste_pièces!C264=\"\",\"\",Liste_pièces!C264)","v":""},{"$f":"IF(Liste_pièces!D264=\"\",\"\",Liste_pièces!D264)","v":""},{"$f":"IF(Liste_pièces!E264=\"\",\"\",Liste_pièces!E264)","v":""},{"$f":"IF(Liste_pièces!F264=\"\",\"\",Liste_pièces!F264)","v":""},{"$f":"IF(Liste_pièces!G264=\"\",\"\",Liste_pièces!G264)","v":""},{"$f":"IF(Liste_pièces!H264=\"\",\"\",Liste_pièces!H264)","v":""},{"$f":"IF(Liste_pièces!I264=\"\",\"\",Liste_pièces!I264)","v":""},{"$f":"IF(Liste_pièces!J264=\"\",\"\",Liste_pièces!J264)","v":""},{"$f":"IF(Liste_pièces!K264=\"\",\"\",Liste_pièces!K264)","v":""},{"$f":"IF(Liste_pièces!L264=\"\",\"\",Liste_pièces!L264)","v":""},{"$f":"IF(Liste_pièces!M264=\"\",\"\",Liste_pièces!M264)","v":""},0,0,0]
[{"$f":"IF(Liste_pièces!A265=\"\",\"ZZZ\",Liste_pièces!A265)","v":"ZZZ"},{"$f":"IF(Liste_pièces!B265=\"\",\"ZZZ\",Liste_pièces!B265)","v":"ZZZ"},{"$f":"IF(Liste_pièces!C265=\"\",\"\",Liste_pièces!C265)","v":""},{"$f":"IF(Liste_pièces!D265=\"\",\"\",Liste_pièces!D265)","v":""},{"$f":"IF(Liste_pièces!E265=\"\",\"\",Liste_pièces!E265)","v":""},{"$f":"IF(Liste_pièces!F265=\"\",\"\",Liste_pièces!F265)","v":""},{"$f":"IF(Liste_pièces!G265=\"\",\"\",Liste_pièces!G265)","v":""},{"$f":"IF(Liste_pièces!H265=\"\",\"\",Liste_pièces!H265)","v":""},{"$f":"IF(Liste_pièces!I265=\"\",\"\",Liste_pièces!I265)","v":""},{"$f":"IF(Liste_pièces!J265=\"\",\"\",Liste_pièces!J265)","v":""},{"$f":"IF(Liste_pièces!K265=\"\",\"\",Liste_pièces!K265)","v":""},{"$f":"IF(Liste_pièces!L265=\"\",\"\",Liste_pièces!L265)","v":""},{"$f":"IF(Liste_pièces!M265=\"\",\"\",Liste_pièces!M265)","v":""},0,0,0]
[{"$f":"IF(Liste_pièces!A266=\"\",\"ZZZ\",Liste_pièces!A266)","v":"ZZZ"},{"$f":"IF(Liste_pièces!B266=\"\",\"ZZZ\",Liste_pièces!B266)","v":"ZZZ"},{"$f":"IF(Liste_pièces!C266=\"\",\"\",Liste_pièces!C266)","v":""},{"$f":"IF(Liste_pièces!D266=\"\",\"\",Liste_pièces!D266)","v":""},{"$f":"IF(Liste_pièces!E266=\"\",\"\",Liste_pièces!E266)","v":""},{"$f":"IF(Liste_pièces!F266=\"\",\"\",Liste_pièces!F266)","v":""},{"$f":"IF(Liste_pièces!G266=\"\",\"\",Liste_pièces!G266)","v":""},{"$f":"IF(Liste_pièces!H266=\"\",\"\",Liste_pièces!H266)","v":""},{"$f":"IF(Liste_pièces!I266=\"\",\"\",Liste_pièces!I266)","v":""},{"$f":"IF(Liste_pièces!J266=\"\",\"\",Liste_pièces!J266)","v":""},{"$f":"IF(Liste_pièces!K266=\"\",\"\",Liste_pièces!K266)","v":""},{"$f":"IF(Liste_pièces!L266=\"\",\"\",Liste_pièces!L266)","v":""},{"$f":"IF(Liste_pièces!M266=\"\",\"\",Liste_pièces!M266)","v":""},0,0,0]
[{"$f":"IF(Liste_pièces!A267=\"\",\"ZZZ\",Liste_pièces!A267)","v":"ZZZ"},{"$f":"IF(Liste_pièces!B267=\"\",\"ZZZ\",Liste_pièces!B267)","v":"ZZZ"},{"$f":"IF(Liste_pièces!C267=\"\",\"\",Liste_pièces!C267)","v":""},{"$f":"IF(Liste_pièces!D267=\"\",\"\",Liste_pièces!D267)","v":""},{"$f":"IF(Liste_pièces!E267=\"\",\"\",Liste_pièces!E267)","v":""},{"$f":"IF(Liste_pièces!F267=\"\",\"\",Liste_pièces!F267)","v":""},{"$f":"IF(Liste_pièces!G267=\"\",\"\",Liste_pièces!G267)","v":""},{"$f":"IF(Liste_pièces!H267=\"\",\"\",Liste_pièces!H267)","v":""},{"$f":"IF(Liste_pièces!I267=\"\",\"\",Liste_pièces!I267)","v":""},{"$f":"IF(Liste_pièces!J267=\"\",\"\",Liste_pièces!J267)","v":""},{"$f":"IF(Liste_pièces!K267=\"\",\"\",Liste_pièces!K267)","v":""},{"$f":"IF(Liste_pièces!L267=\"\",\"\",Liste_pièces!L267)","v":""},{"$f":"IF(Liste_pièces!M267=\"\",\"\",Liste_pièces!M267)","v":""},0,0,0]
[{"$f":"IF(Liste_pièces!A268=\"\",\"ZZZ\",Liste_pièces!A268)","v":"ZZZ"},{"$f":"IF(Liste_pièces!B268=\"\",\"ZZZ\",Liste_pièces!B268)","v":"ZZZ"},{"$f":"IF(Liste_pièces!C268=\"\",\"\",Liste_pièces!C268)","v":""},{"$f":"IF(Liste_pièces!D268=\"\",\"\",Liste_pièces!D268)","v":""},{"$f":"IF(Liste_pièces!E268=\"\",\"\",Liste_pièces!E268)","v":""},{"$f":"IF(Liste_pièces!F268=\"\",\"\",Liste_pièces!F268)","v":""},{"$f":"IF(Liste_pièces!G268=\"\",\"\",Liste_pièces!G268)","v":""},{"$f":"IF(Liste_pièces!H268=\"\",\"\",Liste_pièces!H268)","v":""},{"$f":"IF(Liste_pièces!I268=\"\",\"\",Liste_pièces!I268)","v":""},{"$f":"IF(Liste_pièces!J268=\"\",\"\",Liste_pièces!J268)","v":""},{"$f":"IF(Liste_pièces!K268=\"\",\"\",Liste_pièces!K268)","v":""},{"$f":"IF(Liste_pièces!L268=\"\",\"\",Liste_pièces!L268)","v":""},{"$f":"IF(Liste_pièces!M268=\"\",\"\",Liste_pièces!M268)","v":""},0,0,0]
[{"$f":"IF(Liste_pièces!A269=\"\",\"ZZZ\",Liste_pièces!A269)","v":"ZZZ"},{"$f":"IF(Liste_pièces!B269=\"\",\"ZZZ\",Liste_pièces!B269)","v":"ZZZ"},{"$f":"IF(Liste_pièces!C269=\"\",\"\",Liste_pièces!C269)","v":""},{"$f":"IF(Liste_pièces!D269=\"\",\"\",Liste_pièces!D269)","v":""},{"$f":"IF(Liste_pièces!E269=\"\",\"\",Liste_pièces!E269)","v":""},{"$f":"IF(Liste_pièces!F269=\"\",\"\",Liste_pièces!F269)","v":""},{"$f":"IF(Liste_pièces!G269=\"\",\"\",Liste_pièces!G269)","v":""},{"$f":"IF(Liste_pièces!H269=\"\",\"\",Liste_pièces!H269)","v":""},{"$f":"IF(Liste_pièces!I269=\"\",\"\",Liste_pièces!I269)","v":""},{"$f":"IF(Liste_pièces!J269=\"\",\"\",Liste_pièces!J269)","v":""},{"$f":"IF(Liste_pièces!K269=\"\",\"\",Liste_pièces!K269)","v":""},{"$f":"IF(Liste_pièces!L269=\"\",\"\",Liste_pièces!L269)","v":""},{"$f":"IF(Liste_pièces!M269=\"\",\"\",Liste_pièces!M269)","v":""},0,0,0]
[{"$f":"IF(Liste_pièces!A270=\"\",\"ZZZ\",Liste_pièces!A270)","v":"ZZZ"},{"$f":"IF(Liste_pièces!B270=\"\",\"ZZZ\",Liste_pièces!B270)","v":"ZZZ"},{"$f":"IF(Liste_pièces!C270=\"\",\"\",Liste_pièces!C270)","v":""},{"$f":"IF(Liste_pièces!D270=\"\",\"\",Liste_pièces!D270)","v":""},{"$f":"IF(Liste_pièces!E270=\"\",\"\",Liste_pièces!E270)","v":""},{"$f":"IF(Liste_pièces!F270=\"\",\"\",Liste_pièces!F270)","v":""},{"$f":"IF(Liste_pièces!G270=\"\",\"\",Liste_pièces!G270)","v":""},{"$f":"IF(Liste_pièces!H270=\"\",\"\",Liste_pièces!H270)","v":""},{"$f":"IF(Liste_pièces!I270=\"\",\"\",Liste_pièces!I270)","v":""},{"$f":"IF(Liste_pièces!J270=\"\",\"\",Liste_pièces!J270)","v":""},{"$f":"IF(Liste_pièces!K270=\"\",\"\",Liste_pièces!K270)","v":""},{"$f":"IF(Liste_pièces!L270=\"\",\"\",Liste_pièces!L270)","v":""},{"$f":"IF(Liste_pièces!M270=\"\",\"\",Liste_pièces!M270)","v":""},0,0,0]
[{"$f":"IF(Liste_pièces!A271=\"\",\"ZZZ\",Liste_pièces!A271)","v":"ZZZ"},{"$f":"IF(Liste_pièces!B271=\"\",\"ZZZ\",Liste_pièces!B271)","v":"ZZZ"},{"$f":"IF(Liste_pièces!C271=\"\",\"\",Liste_pièces!C271)","v":""},{"$f":"IF(Liste_pièces!D271=\"\",\"\",Liste_pièces!D271)","v":""},{"$f":"IF(Liste_pièces!E271=\"\",\"\",Liste_pièces!E271)","v":""},{"$f":"IF(Liste_pièces!F271=\"\",\"\",Liste_pièces!F271)","v":""},{"$f":"IF(Liste_pièces!G271=\"\",\"\",Liste_pièces!G271)","v":""},{"$f":"IF(Liste_pièces!H271=\"\",\"\",Liste_pièces!H271)","v":""},{"$f":"IF(Liste_pièces!I271=\"\",\"\",Liste_pièces!I271)","v":""},{"$f":"IF(Liste_pièces!J271=\"\",\"\",Liste_pièces!J271)","v":""},{"$f":"IF(Liste_pièces!K271=\"\",\"\",Liste_pièces!K271)","v":""},{"$f":"IF(Liste_pièces!L271=\"\",\"\",Liste_pièces!L271)","v":""},{"$f":"IF(Liste_pièces!M271=\"\",\"\",Liste_pièces!M271)","v":""},0,0,0]
[{"$f":"IF(Liste_pièces!A272=\"\",\"ZZZ\",Liste_pièces!A272)","v":"ZZZ"},{"$f":"IF(Liste_pièces!B272=\"\",\"ZZZ\",Liste_pièces!B272)","v":"ZZZ"},{"$f":"IF(Liste_pièces!C272=\"\",\"\",Liste_pièces!C272)","v":""},{"$f":"IF(Liste_pièces!D272=\"\",\"\",Liste_pièces!D272)","v":""},{"$f":"IF(Liste_pièces!E272=\"\",\"\",Liste_pièces!E272)","v":""},{"$f":"IF(Liste_pièces!F272=\"\",\"\",Liste_pièces!F272)","v":""},{"$f":"IF(Liste_pièces!G272=\"\",\"\",Liste_pièces!G272)","v":""},{"$f":"IF(Liste_pièces!H272=\"\",\"\",Liste_pièces!H272)","v":""},{"$f":"IF(Liste_pièces!I272=\"\",\"\",Liste_pièces!I272)","v":""},{"$f":"IF(Liste_pièces!J272=\"\",\"\",Liste_pièces!J272)","v":""},{"$f":"IF(Liste_pièces!K272=\"\",\"\",Liste_pièces!K272)","v":""},{"$f":"IF(Liste_pièces!L272=\"\",\"\",Liste_pièces!L272)","v":""},{"$f":"IF(Liste_pièces!M272=\"\",\"\",Liste_pièces!M272)","v":""},0,0,0]
[{"$f":"IF(Liste_pièces!A273=\"\",\"ZZZ\",Liste_pièces!A273)","v":"ZZZ"},{"$f":"IF(Liste_pièces!B273=\"\",\"ZZZ\",Liste_pièces!B273)","v":"ZZZ"},{"$f":"IF(Liste_pièces!C273=\"\",\"\",Liste_pièces!C273)","v":""},{"$f":"IF(Liste_pièces!D273=\"\",\"\",Liste_pièces!D273)","v":""},{"$f":"IF(Liste_pièces!E273=\"\",\"\",Liste_pièces!E273)","v":""},{"$f":"IF(Liste_pièces!F273=\"\",\"\",Liste_pièces!F273)","v":""},{"$f":"IF(Liste_pièces!G273=\"\",\"\",Liste_pièces!G273)","v":""},{"$f":"IF(Liste_pièces!H273=\"\",\"\",Liste_pièces!H273)","v":""},{"$f":"IF(Liste_pièces!I273=\"\",\"\",Liste_pièces!I273)","v":""},{"$f":"IF(Liste_pièces!J273=\"\",\"\",Liste_pièces!J273)","v":""},{"$f":"IF(Liste_pièces!K273=\"\",\"\",Liste_pièces!K273)","v":""},{"$f":"IF(Liste_pièces!L273=\"\",\"\",Liste_pièces!L273)","v":""},{"$f":"IF(Liste_pièces!M273=\"\",\"\",Liste_pièces!M273)","v":""},0,0,0]
[{"$f":"IF(Liste_pièces!A274=\"\",\"ZZZ\",Liste_pièces!A274)","v":"ZZZ"},{"$f":"IF(Liste_pièces!B274=\"\",\"ZZZ\",Liste_pièces!B274)","v":"ZZZ"},{"$f":"IF(Liste_pièces!C274=\"\",\"\",Liste_pièces!C274)","v":""},{"$f":"IF(Liste_pièces!D274=\"\",\"\",Liste_pièces!D274)","v":""},{"$f":"IF(Liste_pièces!E274=\"\",\"\",Liste_pièces!E274)","v":""},{"$f":"IF(Liste_pièces!F274=\"\",\"\",Liste_pièces!F274)","v":""},{"$f":"IF(Liste_pièces!G274=\"\",\"\",Liste_pièces!G274)","v":""},{"$f":"IF(Liste_pièces!H274=\"\",\"\",Liste_pièces!H274)","v":""},{"$f":"IF(Liste_pièces!I274=\"\",\"\",Liste_pièces!I274)","v":""},{"$f":"IF(Liste_pièces!J274=\"\",\"\",Liste_pièces!J274)","v":""},{"$f":"IF(Liste_pièces!K274=\"\",\"\",Liste_pièces!K274)","v":""},{"$f":"IF(Liste_pièces!L274=\"\",\"\",Liste_pièces!L274)","v":""},{"$f":"IF(Liste_pièces!M274=\"\",\"\",Liste_pièces!M274)","v":""},0,0,0]
[{"$f":"IF(Liste_pièces!A275=\"\",\"ZZZ\",Liste_pièces!A275)","v":"ZZZ"},{"$f":"IF(Liste_pièces!B275=\"\",\"ZZZ\",Liste_pièces!B275)","v":"ZZZ"},{"$f":"IF(Liste_pièces!C275=\"\",\"\",Liste_pièces!C275)","v":""},{"$f":"IF(Liste_pièces!D275=\"\",\"\",Liste_pièces!D275)","v":""},{"$f":"IF(Liste_pièces!E275=\"\",\"\",Liste_pièces!E275)","v":""},{"$f":"IF(Liste_pièces!F275=\"\",\"\",Liste_pièces!F275)","v":""},{"$f":"IF(Liste_pièces!G275=\"\",\"\",Liste_pièces!G275)","v":""},{"$f":"IF(Liste_pièces!H275=\"\",\"\",Liste_pièces!H275)","v":""},{"$f":"IF(Liste_pièces!I275=\"\",\"\",Liste_pièces!I275)","v":""},{"$f":"IF(Liste_pièces!J275=\"\",\"\",Liste_pièces!J275)","v":""},{"$f":"IF(Liste_pièces!K275=\"\",\"\",Liste_pièces!K275)","v":""},{"$f":"IF(Liste_pièces!L275=\"\",\"\",Liste_pièces!L275)","v":""},{"$f":"IF(Liste_pièces!M275=\"\",\"\",Liste_pièces!M275)","v":""},0,0,0]
[{"$f":"IF(Liste_pièces!A276=\"\",\"ZZZ\",Liste_pièces!A276)","v":"ZZZ"},{"$f":"IF(Liste_pièces!B276=\"\",\"ZZZ\",Liste_pièces!B276)","v":"ZZZ"},{"$f":"IF(Liste_pièces!C276=\"\",\"\",Liste_pièces!C276)","v":""},{"$f":"IF(Liste_pièces!D276=\"\",\"\",Liste_pièces!D276)","v":""},{"$f":"IF(Liste_pièces!E276=\"\",\"\",Liste_pièces!E276)","v":""},{"$f":"IF(Liste_pièces!F276=\"\",\"\",Liste_pièces!F276)","v":""},{"$f":"IF(Liste_pièces!G276=\"\",\"\",Liste_pièces!G276)","v":""},{"$f":"IF(Liste_pièces!H276=\"\",\"\",Liste_pièces!H276)","v":""},{"$f":"IF(Liste_pièces!I276=\"\",\"\",Liste_pièces!I276)","v":""},{"$f":"IF(Liste_pièces!J276=\"\",\"\",Liste_pièces!J276)","v":""},{"$f":"IF(Liste_pièces!K276=\"\",\"\",Liste_pièces!K276)","v":""},{"$f":"IF(Liste_pièces!L276=\"\",\"\",Liste_pièces!L276)","v":""},{"$f":"IF(Liste_pièces!M276=\"\",\"\",Liste_pièces!M276)","v":""},0,0,0]
[{"$f":"IF(Liste_pièces!A277=\"\",\"ZZZ\",Liste_pièces!A277)","v":"ZZZ"},{"$f":"IF(Liste_pièces!B277=\"\",\"ZZZ\",Liste_pièces!B277)","v":"ZZZ"},{"$f":"IF(Liste_pièces!C277=\"\",\"\",Liste_pièces!C277)","v":""},{"$f":"IF(Liste_pièces!D277=\"\",\"\",Liste_pièces!D277)","v":""},{"$f":"IF(Liste_pièces!E277=\"\",\"\",Liste_pièces!E277)","v":""},{"$f":"IF(Liste_pièces!F277=\"\",\"\",Liste_pièces!F277)","v":""},{"$f":"IF(Liste_pièces!G277=\"\",\"\",Liste_pièces!G277)","v":""},{"$f":"IF(Liste_pièces!H277=\"\",\"\",Liste_pièces!H277)","v":""},{"$f":"IF(Liste_pièces!I277=\"\",\"\",Liste_pièces!I277)","v":""},{"$f":"IF(Liste_pièces!J277=\"\",\"\",Liste_pièces!J277)","v":""},{"$f":"IF(Liste_pièces!K277=\"\",\"\",Liste_pièces!K277)","v":""},{"$f":"IF(Liste_pièces!L277=\"\",\"\",Liste_pièces!L277)","v":""},{"$f":"IF(Liste_pièces!M277=\"\",\"\",Liste_pièces!M277)","v":""},0,0,0]
[{"$f":"IF(Liste_pièces!A278=\"\",\"ZZZ\",Liste_pièces!A278)","v":"ZZZ"},{"$f":"IF(Liste_pièces!B278=\"\",\"ZZZ\",Liste_pièces!B278)","v":"ZZZ"},{"$f":"IF(Liste_pièces!C278=\"\",\"\",Liste_pièces!C278)","v":""},{"$f":"IF(Liste_pièces!D278=\"\",\"\",Liste_pièces!D278)","v":""},{"$f":"IF(Liste_pièces!E278=\"\",\"\",Liste_pièces!E278)","v":""},{"$f":"IF(Liste_pièces!F278=\"\",\"\",Liste_pièces!F278)","v":""},{"$f":"IF(Liste_pièces!G278=\"\",\"\",Liste_pièces!G278)","v":""},{"$f":"IF(Liste_pièces!H278=\"\",\"\",Liste_pièces!H278)","v":""},{"$f":"IF(Liste_pièces!I278=\"\",\"\",Liste_pièces!I278)","v":""},{"$f":"IF(Liste_pièces!J278=\"\",\"\",Liste_pièces!J278)","v":""},{"$f":"IF(Liste_pièces!K278=\"\",\"\",Liste_pièces!K278)","v":""},{"$f":"IF(Liste_pièces!L278=\"\",\"\",Liste_pièces!L278)","v":""},{"$f":"IF(Liste_pièces!M278=\"\",\"\",Liste_pièces!M278)","v":""},0,0,0]
[{"$f":"IF(Liste_pièces!A279=\"\",\"ZZZ\",Liste_pièces!A279)","v":"ZZZ"},{"$f":"IF(Liste_pièces!B279=\"\",\"ZZZ\",Liste_pièces!B279)","v":"ZZZ"},{"$f":"IF(Liste_pièces!C279=\"\",\"\",Liste_pièces!C279)","v":""},{"$f":"IF(Liste_pièces!D279=\"\",\"\",Liste_pièces!D279)","v":""},{"$f":"IF(Liste_pièces!E279=\"\",\"\",Liste_pièces!E279)","v":""},{"$f":"IF(Liste_pièces!F279=\"\",\"\",Liste_pièces!F279)","v":""},{"$f":"IF(Liste_pièces!G279=\"\",\"\",Liste_pièces!G279)","v":""},{"$f":"IF(Liste_pièces!H279=\"\",\"\",Liste_pièces!H279)","v":""},{"$f":"IF(Liste_pièces!I279=\"\",\"\",Liste_pièces!I279)","v":""},{"$f":"IF(Liste_pièces!J279=\"\",\"\",Liste_pièces!J279)","v":""},{"$f":"IF(Liste_pièces!K279=\"\",\"\",Liste_pièces!K279)","v":""},{"$f":"IF(Liste_pièces!L279=\"\",\"\",Liste_pièces!L279)","v":""},{"$f":"IF(Liste_pièces!M279=\"\",\"\",Liste_pièces!M279)","v":""},0,0,0]
[{"$f":"IF(Liste_pièces!A280=\"\",\"ZZZ\",Liste_pièces!A280)","v":"ZZZ"},{"$f":"IF(Liste_pièces!B280=\"\",\"ZZZ\",Liste_pièces!B280)","v":"ZZZ"},{"$f":"IF(Liste_pièces!C280=\"\",\"\",Liste_pièces!C280)","v":""},{"$f":"IF(Liste_pièces!D280=\"\",\"\",Liste_pièces!D280)","v":""},{"$f":"IF(Liste_pièces!E280=\"\",\"\",Liste_pièces!E280)","v":""},{"$f":"IF(Liste_pièces!F280=\"\",\"\",Liste_pièces!F280)","v":""},{"$f":"IF(Liste_pièces!G280=\"\",\"\",Liste_pièces!G280)","v":""},{"$f":"IF(Liste_pièces!H280=\"\",\"\",Liste_pièces!H280)","v":""},{"$f":"IF(Liste_pièces!I280=\"\",\"\",Liste_pièces!I280)","v":""},{"$f":"IF(Liste_pièces!J280=\"\",\"\",Liste_pièces!J280)","v":""},{"$f":"IF(Liste_pièces!K280=\"\",\"\",Liste_pièces!K280)","v":""},{"$f":"IF(Liste_pièces!L280=\"\",\"\",Liste_pièces!L280)","v":""},{"$f":"IF(Liste_pièces!M280=\"\",\"\",Liste_pièces!M280)","v":""},0,0,0]
[{"$f":"IF(Liste_pièces!A281=\"\",\"ZZZ\",Liste_pièces!A281)","v":"ZZZ"},{"$f":"IF(Liste_pièces!B281=\"\",\"ZZZ\",Liste_pièces!B281)","v":"ZZZ"},{"$f":"IF(Liste_pièces!C281=\"\",\"\",Liste_pièces!C281)","v":""},{"$f":"IF(Liste_pièces!D281=\"\",\"\",Liste_pièces!D281)","v":""},{"$f":"IF(Liste_pièces!E281=\"\",\"\",Liste_pièces!E281)","v":""},{"$f":"IF(Liste_pièces!F281=\"\",\"\",Liste_pièces!F281)","v":""},{"$f":"IF(Liste_pièces!G281=\"\",\"\",Liste_pièces!G281)","v":""},{"$f":"IF(Liste_pièces!H281=\"\",\"\",Liste_pièces!H281)","v":""},{"$f":"IF(Liste_pièces!I281=\"\",\"\",Liste_pièces!I281)","v":""},{"$f":"IF(Liste_pièces!J281=\"\",\"\",Liste_pièces!J281)","v":""},{"$f":"IF(Liste_pièces!K281=\"\",\"\",Liste_pièces!K281)","v":""},{"$f":"IF(Liste_pièces!L281=\"\",\"\",Liste_pièces!L281)","v":""},{"$f":"IF(Liste_pièces!M281=\"\",\"\",Liste_pièces!M281)","v":""},0,0,0]
[{"$f":"IF(Liste_pièces!A282=\"\",\"ZZZ\",Liste_pièces!A282)","v":"ZZZ"},{"$f":"IF(Liste_pièces!B282=\"\",\"ZZZ\",Liste_pièces!B282)","v":"ZZZ"},{"$f":"IF(Liste_pièces!C282=\"\",\"\",Liste_pièces!C282)","v":""},{"$f":"IF(Liste_pièces!D282=\"\",\"\",Liste_pièces!D282)","v":""},{"$f":"IF(Liste_pièces!E282=\"\",\"\",Liste_pièces!E282)","v":""},{"$f":"IF(Liste_pièces!F282=\"\",\"\",Liste_pièces!F282)","v":""},{"$f":"IF(Liste_pièces!G282=\"\",\"\",Liste_pièces!G282)","v":""},{"$f":"IF(Liste_pièces!H282=\"\",\"\",Liste_pièces!H282)","v":""},{"$f":"IF(Liste_pièces!I282=\"\",\"\",Liste_pièces!I282)","v":""},{"$f":"IF(Liste_pièces!J282=\"\",\"\",Liste_pièces!J282)","v":""},{"$f":"IF(Liste_pièces!K282=\"\",\"\",Liste_pièces!K282)","v":""},{"$f":"IF(Liste_pièces!L282=\"\",\"\",Liste_pièces!L282)","v":""},{"$f":"IF(Liste_pièces!M282=\"\",\"\",Liste_pièces!M282)","v":""},0,0,0]
[{"$f":"IF(Liste_pièces!A283=\"\",\"ZZZ\",Liste_pièces!A283)","v":"ZZZ"},{"$f":"IF(Liste_pièces!B283=\"\",\"ZZZ\",Liste_pièces!B283)","v":"ZZZ"},{"$f":"IF(Liste_pièces!C283=\"\",\"\",Liste_pièces!C283)","v":""},{"$f":"IF(Liste_pièces!D283=\"\",\"\",Liste_pièces!D283)","v":""},{"$f":"IF(Liste_pièces!E283=\"\",\"\",Liste_pièces!E283)","v":""},{"$f":"IF(Liste_pièces!F283=\"\",\"\",Liste_pièces!F283)","v":""},{"$f":"IF(Liste_pièces!G283=\"\",\"\",Liste_pièces!G283)","v":""},{"$f":"IF(Liste_pièces!H283=\"\",\"\",Liste_pièces!H283)","v":""},{"$f":"IF(Liste_pièces!I283=\"\",\"\",Liste_pièces!I283)","v":""},{"$f":"IF(Liste_pièces!J283=\"\",\"\",Liste_pièces!J283)","v":""},{"$f":"IF(Liste_pièces!K283=\"\",\"\",Liste_pièces!K283)","v":""},{"$f":"IF(Liste_pièces!L283=\"\",\"\",Liste_pièces!L283)","v":""},{"$f":"IF(Liste_pièces!M283=\"\",\"\",Liste_pièces!M283)","v":""},0,0,0]
[{"$f":"IF(Liste_pièces!A284=\"\",\"ZZZ\",Liste_pièces!A284)","v":"ZZZ"},{"$f":"IF(Liste_pièces!B284=\"\",\"ZZZ\",Liste_pièces!B284)","v":"ZZZ"},{"$f":"IF(Liste_pièces!C284=\"\",\"\",Liste_pièces!C284)","v":""},{"$f":"IF(Liste_pièces!D284=\"\",\"\",Liste_pièces!D284)","v":""},{"$f":"IF(Liste_pièces!E284=\"\",\"\",Liste_pièces!E284)","v":""},{"$f":"IF(Liste_pièces!F284=\"\",\"\",Liste_pièces!F284)","v":""},{"$f":"IF(Liste_pièces!G284=\"\",\"\",Liste_pièces!G284)","v":""},{"$f":"IF(Liste_pièces!H284=\"\",\"\",Liste_pièces!H284)","v":""},{"$f":"IF(Liste_pièces!I284=\"\",\"\",Liste_pièces!I284)","v":""},{"$f":"IF(Liste_pièces!J284=\"\",\"\",Liste_pièces!J284)","v":""},{"$f":"IF(Liste_pièces!K284=\"\",\"\",Liste_pièces!K284)","v":""},{"$f":"IF(Liste_pièces!L284=\"\",\"\",Liste_pièces!L284)","v":""},{"$f":"IF(Liste_pièces!M284=\"\",\"\",Liste_pièces!M284)","v":""},0,0,0]
[{"$f":"IF(Liste_pièces!A285=\"\",\"ZZZ\",Liste_pièces!A285)","v":"ZZZ"},{"$f":"IF(Liste_pièces!B285=\"\",\"ZZZ\",Liste_pièces!B285)","v":"ZZZ"},{"$f":"IF(Liste_pièces!C285=\"\",\"\",Liste_pièces!C285)","v":""},{"$f":"IF(Liste_pièces!D285=\"\",\"\",Liste_pièces!D285)","v":""},{"$f":"IF(Liste_pièces!E285=\"\",\"\",Liste_pièces!E285)","v":""},{"$f":"IF(Liste_pièces!F285=\"\",\"\",Liste_pièces!F285)","v":""},{"$f":"IF(Liste_pièces!G285=\"\",\"\",Liste_pièces!G285)","v":""},{"$f":"IF(Liste_pièces!H285=\"\",\"\",Liste_pièces!H285)","v":""},{"$f":"IF(Liste_pièces!I285=\"\",\"\",Liste_pièces!I285)","v":""},{"$f":"IF(Liste_pièces!J285=\"\",\"\",Liste_pièces!J285)","v":""},{"$f":"IF(Liste_pièces!K285=\"\",\"\",Liste_pièces!K285)","v":""},{"$f":"IF(Liste_pièces!L285=\"\",\"\",Liste_pièces!L285)","v":""},{"$f":"IF(Liste_pièces!M285=\"\",\"\",Liste_pièces!M285)","v":""},0,0,0]
[{"$f":"IF(Liste_pièces!A286=\"\",\"ZZZ\",Liste_pièces!A286)","v":"ZZZ"},{"$f":"IF(Liste_pièces!B286=\"\",\"ZZZ\",Liste_pièces!B286)","v":"ZZZ"},{"$f":"IF(Liste_pièces!C286=\"\",\"\",Liste_pièces!C286)","v":""},{"$f":"IF(Liste_pièces!D286=\"\",\"\",Liste_pièces!D286)","v":""},{"$f":"IF(Liste_pièces!E286=\"\",\"\",Liste_pièces!E286)","v":""},{"$f":"IF(Liste_pièces!F286=\"\",\"\",Liste_pièces!F286)","v":""},{"$f":"IF(Liste_pièces!G286=\"\",\"\",Liste_pièces!G286)","v":""},{"$f":"IF(Liste_pièces!H286=\"\",\"\",Liste_pièces!H286)","v":""},{"$f":"IF(Liste_pièces!I286=\"\",\"\",Liste_pièces!I286)","v":""},{"$f":"IF(Liste_pièces!J286=\"\",\"\",Liste_pièces!J286)","v":""},{"$f":"IF(Liste_pièces!K286=\"\",\"\",Liste_pièces!K286)","v":""},{"$f":"IF(Liste_pièces!L286=\"\",\"\",Liste_pièces!L286)","v":""},{"$f":"IF(Liste_pièces!M286=\"\",\"\",Liste_pièces!M286)","v":""},0,0,0]
[{"$f":"IF(Liste_pièces!A287=\"\",\"ZZZ\",Liste_pièces!A287)","v":"ZZZ"},{"$f":"IF(Liste_pièces!B287=\"\",\"ZZZ\",Liste_pièces!B287)","v":"ZZZ"},{"$f":"IF(Liste_pièces!C287=\"\",\"\",Liste_pièces!C287)","v":""},{"$f":"IF(Liste_pièces!D287=\"\",\"\",Liste_pièces!D287)","v":""},{"$f":"IF(Liste_pièces!E287=\"\",\"\",Liste_pièces!E287)","v":""},{"$f":"IF(Liste_pièces!F287=\"\",\"\",Liste_pièces!F287)","v":""},{"$f":"IF(Liste_pièces!G287=\"\",\"\",Liste_pièces!G287)","v":""},{"$f":"IF(Liste_pièces!H287=\"\",\"\",Liste_pièces!H287)","v":""},{"$f":"IF(Liste_pièces!I287=\"\",\"\",Liste_pièces!I287)","v":""},{"$f":"IF(Liste_pièces!J287=\"\",\"\",Liste_pièces!J287)","v":""},{"$f":"IF(Liste_pièces!K287=\"\",\"\",Liste_pièces!K287)","v":""},{"$f":"IF(Liste_pièces!L287=\"\",\"\",Liste_pièces!L287)","v":""},{"$f":"IF(Liste_pièces!M287=\"\",\"\",Liste_pièces!M287)","v":""},0,0,0]
[{"$f":"IF(Liste_pièces!A288=\"\",\"ZZZ\",Liste_pièces!A288)","v":"ZZZ"},{"$f":"IF(Liste_pièces!B288=\"\",\"ZZZ\",Liste_pièces!B288)","v":"ZZZ"},{"$f":"IF(Liste_pièces!C288=\"\",\"\",Liste_pièces!C288)","v":""},{"$f":"IF(Liste_pièces!D288=\"\",\"\",Liste_pièces!D288)","v":""},{"$f":"IF(Liste_pièces!E288=\"\",\"\",Liste_pièces!E288)","v":""},{"$f":"IF(Liste_pièces!F288=\"\",\"\",Liste_pièces!F288)","v":""},{"$f":"IF(Liste_pièces!G288=\"\",\"\",Liste_pièces!G288)","v":""},{"$f":"IF(Liste_pièces!H288=\"\",\"\",Liste_pièces!H288)","v":""},{"$f":"IF(Liste_pièces!I288=\"\",\"\",Liste_pièces!I288)","v":""},{"$f":"IF(Liste_pièces!J288=\"\",\"\",Liste_pièces!J288)","v":""},{"$f":"IF(Liste_pièces!K288=\"\",\"\",Liste_pièces!K288)","v":""},{"$f":"IF(Liste_pièces!L288=\"\",\"\",Liste_pièces!L288)","v":""},{"$f":"IF(Liste_pièces!M288=\"\",\"\",Liste_pièces!M288)","v":""},0,0,0]
[{"$f":"IF(Liste_pièces!A289=\"\",\"ZZZ\",Liste_pièces!A289)","v":"ZZZ"},{"$f":"IF(Liste_pièces!B289=\"\",\"ZZZ\",Liste_pièces!B289)","v":"ZZZ"},{"$f":"IF(Liste_pièces!C289=\"\",\"\",Liste_pièces!C289)","v":""},{"$f":"IF(Liste_pièces!D289=\"\",\"\",Liste_pièces!D289)","v":""},{"$f":"IF(Liste_pièces!E289=\"\",\"\",Liste_pièces!E289)","v":""},{"$f":"IF(Liste_pièces!F289=\"\",\"\",Liste_pièces!F289)","v":""},{"$f":"IF(Liste_pièces!G289=\"\",\"\",Liste_pièces!G289)","v":""},{"$f":"IF(Liste_pièces!H289=\"\",\"\",Liste_pièces!H289)","v":""},{"$f":"IF(Liste_pièces!I289=\"\",\"\",Liste_pièces!I289)","v":""},{"$f":"IF(Liste_pièces!J289=\"\",\"\",Liste_pièces!J289)","v":""},{"$f":"IF(Liste_pièces!K289=\"\",\"\",Liste_pièces!K289)","v":""},{"$f":"IF(Liste_pièces!L289=\"\",\"\",Liste_pièces!L289)","v":""},{"$f":"IF(Liste_pièces!M289=\"\",\"\",Liste_pièces!M289)","v":""},0,0,0]
[{"$f":"IF(Liste_pièces!A290=\"\",\"ZZZ\",Liste_pièces!A290)","v":"ZZZ"},{"$f":"IF(Liste_pièces!B290=\"\",\"ZZZ\",Liste_pièces!B290)","v":"ZZZ"},{"$f":"IF(Liste_pièces!C290=\"\",\"\",Liste_pièces!C290)","v":""},{"$f":"IF(Liste_pièces!D290=\"\",\"\",Liste_pièces!D290)","v":""},{"$f":"IF(Liste_pièces!E290=\"\",\"\",Liste_pièces!E290)","v":""},{"$f":"IF(Liste_pièces!F290=\"\",\"\",Liste_pièces!F290)","v":""},{"$f":"IF(Liste_pièces!G290=\"\",\"\",Liste_pièces!G290)","v":""},{"$f":"IF(Liste_pièces!H290=\"\",\"\",Liste_pièces!H290)","v":""},{"$f":"IF(Liste_pièces!I290=\"\",\"\",Liste_pièces!I290)","v":""},{"$f":"IF(Liste_pièces!J290=\"\",\"\",Liste_pièces!J290)","v":""},{"$f":"IF(Liste_pièces!K290=\"\",\"\",Liste_pièces!K290)","v":""},{"$f":"IF(Liste_pièces!L290=\"\",\"\",Liste_pièces!L290)","v":""},{"$f":"IF(Liste_pièces!M290=\"\",\"\",Liste_pièces!M290)","v":""},0,0,0]
[{"$f":"IF(Liste_pièces!A291=\"\",\"ZZZ\",Liste_pièces!A291)","v":"ZZZ"},{"$f":"IF(Liste_pièces!B291=\"\",\"ZZZ\",Liste_pièces!B291)","v":"ZZZ"},{"$f":"IF(Liste_pièces!C291=\"\",\"\",Liste_pièces!C291)","v":""},{"$f":"IF(Liste_pièces!D291=\"\",\"\",Liste_pièces!D291)","v":""},{"$f":"IF(Liste_pièces!E291=\"\",\"\",Liste_pièces!E291)","v":""},{"$f":"IF(Liste_pièces!F291=\"\",\"\",Liste_pièces!F291)","v":""},{"$f":"IF(Liste_pièces!G291=\"\",\"\",Liste_pièces!G291)","v":""},{"$f":"IF(Liste_pièces!H291=\"\",\"\",Liste_pièces!H291)","v":""},{"$f":"IF(Liste_pièces!I291=\"\",\"\",Liste_pièces!I291)","v":""},{"$f":"IF(Liste_pièces!J291=\"\",\"\",Liste_pièces!J291)","v":""},{"$f":"IF(Liste_pièces!K291=\"\",\"\",Liste_pièces!K291)","v":""},{"$f":"IF(Liste_pièces!L291=\"\",\"\",Liste_pièces!L291)","v":""},{"$f":"IF(Liste_pièces!M291=\"\",\"\",Liste_pièces!M291)","v":""},0,0,0]
[{"$f":"IF(Liste_pièces!A292=\"\",\"ZZZ\",Liste_pièces!A292)","v":"ZZZ"},{"$f":"IF(Liste_pièces!B292=\"\",\"ZZZ\",Liste_pièces!B292)","v":"ZZZ"},{"$f":"IF(Liste_pièces!C292=\"\",\"\",Liste_pièces!C292)","v":""},{"$f":"IF(Liste_pièces!D292=\"\",\"\",Liste_pièces!D292)","v":""},{"$f":"IF(Liste_pièces!E292=\"\",\"\",Liste_pièces!E292)","v":""},{"$f":"IF(Liste_pièces!F292=\"\",\"\",Liste_pièces!F292)","v":""},{"$f":"IF(Liste_pièces!G292=\"\",\"\",Liste_pièces!G292)","v":""},{"$f":"IF(Liste_pièces!H292=\"\",\"\",Liste_pièces!H292)","v":""},{"$f":"IF(Liste_pièces!I292=\"\",\"\",Liste_pièces!I292)","v":""},{"$f":"IF(Liste_pièces!J292=\"\",\"\",Liste_pièces!J292)","v":""},{"$f":"IF(Liste_pièces!K292=\"\",\"\",Liste_pièces!K292)","v":""},{"$f":"IF(Liste_pièces!L292=\"\",\"\",Liste_pièces!L292)","v":""},{"$f":"IF(Liste_pièces!M292=\"\",\"\",Liste_pièces!M292)","v":""},0,0,0]
[{"$f":"IF(Liste_pièces!A293=\"\",\"ZZZ\",Liste_pièces!A293)","v":"ZZZ"},{"$f":"IF(Liste_pièces!B293=\"\",\"ZZZ\",Liste_pièces!B293)","v":"ZZZ"},{"$f":"IF(Liste_pièces!C293=\"\",\"\",Liste_pièces!C293)","v":""},{"$f":"IF(Liste_pièces!D293=\"\",\"\",Liste_pièces!D293)","v":""},{"$f":"IF(Liste_pièces!E293=\"\",\"\",Liste_pièces!E293)","v":""},{"$f":"IF(Liste_pièces!F293=\"\",\"\",Liste_pièces!F293)","v":""},{"$f":"IF(Liste_pièces!G293=\"\",\"\",Liste_pièces!G293)","v":""},{"$f":"IF(Liste_pièces!H293=\"\",\"\",Liste_pièces!H293)","v":""},{"$f":"IF(Liste_pièces!I293=\"\",\"\",Liste_pièces!I293)","v":""},{"$f":"IF(Liste_pièces!J293=\"\",\"\",Liste_pièces!J293)","v":""},{"$f":"IF(Liste_pièces!K293=\"\",\"\",Liste_pièces!K293)","v":""},{"$f":"IF(Liste_pièces!L293=\"\",\"\",Liste_pièces!L293)","v":""},{"$f":"IF(Liste_pièces!M293=\"\",\"\",Liste_pièces!M293)","v":""},0,0,0]
[{"$f":"IF(Liste_pièces!A294=\"\",\"ZZZ\",Liste_pièces!A294)","v":"ZZZ"},{"$f":"IF(Liste_pièces!B294=\"\",\"ZZZ\",Liste_pièces!B294)","v":"ZZZ"},{"$f":"IF(Liste_pièces!C294=\"\",\"\",Liste_pièces!C294)","v":""},{"$f":"IF(Liste_pièces!D294=\"\",\"\",Liste_pièces!D294)","v":""},{"$f":"IF(Liste_pièces!E294=\"\",\"\",Liste_pièces!E294)","v":""},{"$f":"IF(Liste_pièces!F294=\"\",\"\",Liste_pièces!F294)","v":""},{"$f":"IF(Liste_pièces!G294=\"\",\"\",Liste_pièces!G294)","v":""},{"$f":"IF(Liste_pièces!H294=\"\",\"\",Liste_pièces!H294)","v":""},{"$f":"IF(Liste_pièces!I294=\"\",\"\",Liste_pièces!I294)","v":""},{"$f":"IF(Liste_pièces!J294=\"\",\"\",Liste_pièces!J294)","v":""},{"$f":"IF(Liste_pièces!K294=\"\",\"\",Liste_pièces!K294)","v":""},{"$f":"IF(Liste_pièces!L294=\"\",\"\",Liste_pièces!L294)","v":""},{"$f":"IF(Liste_pièces!M294=\"\",\"\",Liste_pièces!M294)","v":""},0,1,0]
[{"$f":"IF(Liste_pièces!A295=\"\",\"ZZZ\",Liste_pièces!A295)","v":"ZZZ"},{"$f":"IF(Liste_pièces!B295=\"\",\"ZZZ\",Liste_pièces!B295)","v":"ZZZ"},{"$f":"IF(Liste_pièces!C295=\"\",\"\",Liste_pièces!C295)","v":""},{"$f":"IF(Liste_pièces!D295=\"\",\"\",Liste_pièces!D295)","v":""},{"$f":"IF(Liste_pièces!E295=\"\",\"\",Liste_pièces!E295)","v":""},{"$f":"IF(Liste_pièces!F295=\"\",\"\",Liste_pièces!F295)","v":""},{"$f":"IF(Liste_pièces!G295=\"\",\"\",Liste_pièces!G295)","v":""},{"$f":"IF(Liste_pièces!H295=\"\",\"\",Liste_pièces!H295)","v":""},{"$f":"IF(Liste_pièces!I295=\"\",\"\",Liste_pièces!I295)","v":""},{"$f":"IF(Liste_pièces!J295=\"\",\"\",Liste_pièces!J295)","v":""},{"$f":"IF(Liste_pièces!K295=\"\",\"\",Liste_pièces!K295)","v":""},{"$f":"IF(Liste_pièces!L295=\"\",\"\",Liste_pièces!L295)","v":""},{"$f":"IF(Liste_pièces!M295=\"\",\"\",Liste_pièces!M295)","v":""},0,1,0]
[{"$f":"IF(Liste_pièces!A296=\"\",\"ZZZ\",Liste_pièces!A296)","v":"ZZZ"},{"$f":"IF(Liste_pièces!B296=\"\",\"ZZZ\",Liste_pièces!B296)","v":"ZZZ"},{"$f":"IF(Liste_pièces!C296=\"\",\"\",Liste_pièces!C296)","v":""},{"$f":"IF(Liste_pièces!D296=\"\",\"\",Liste_pièces!D296)","v":""},{"$f":"IF(Liste_pièces!E296=\"\",\"\",Liste_pièces!E296)","v":""},{"$f":"IF(Liste_pièces!F296=\"\",\"\",Liste_pièces!F296)","v":""},{"$f":"IF(Liste_pièces!G296=\"\",\"\",Liste_pièces!G296)","v":""},{"$f":"IF(Liste_pièces!H296=\"\",\"\",Liste_pièces!H296)","v":""},{"$f":"IF(Liste_pièces!I296=\"\",\"\",Liste_pièces!I296)","v":""},{"$f":"IF(Liste_pièces!J296=\"\",\"\",Liste_pièces!J296)","v":""},{"$f":"IF(Liste_pièces!K296=\"\",\"\",Liste_pièces!K296)","v":""},{"$f":"IF(Liste_pièces!L296=\"\",\"\",Liste_pièces!L296)","v":""},{"$f":"IF(Liste_pièces!M296=\"\",\"\",Liste_pièces!M296)","v":""},0,1,0]
[{"$f":"IF(Liste_pièces!A297=\"\",\"ZZZ\",Liste_pièces!A297)","v":"ZZZ"},{"$f":"IF(Liste_pièces!B297=\"\",\"ZZZ\",Liste_pièces!B297)","v":"ZZZ"},{"$f":"IF(Liste_pièces!C297=\"\",\"\",Liste_pièces!C297)","v":""},{"$f":"IF(Liste_pièces!D297=\"\",\"\",Liste_pièces!D297)","v":""},{"$f":"IF(Liste_pièces!E297=\"\",\"\",Liste_pièces!E297)","v":""},{"$f":"IF(Liste_pièces!F297=\"\",\"\",Liste_pièces!F297)","v":""},{"$f":"IF(Liste_pièces!G297=\"\",\"\",Liste_pièces!G297)","v":""},{"$f":"IF(Liste_pièces!H297=\"\",\"\",Liste_pièces!H297)","v":""},{"$f":"IF(Liste_pièces!I297=\"\",\"\",Liste_pièces!I297)","v":""},{"$f":"IF(Liste_pièces!J297=\"\",\"\",Liste_pièces!J297)","v":""},{"$f":"IF(Liste_pièces!K297=\"\",\"\",Liste_pièces!K297)","v":""},{"$f":"IF(Liste_pièces!L297=\"\",\"\",Liste_pièces!L297)","v":""},{"$f":"IF(Liste_pièces!M297=\"\",\"\",Liste_pièces!M297)","v":""},0,1,0]
[{"$f":"IF(Liste_pièces!A298=\"\",\"ZZZ\",Liste_pièces!A298)","v":"ZZZ"},{"$f":"IF(Liste_pièces!B298=\"\",\"ZZZ\",Liste_pièces!B298)","v":"ZZZ"},{"$f":"IF(Liste_pièces!C298=\"\",\"\",Liste_pièces!C298)","v":""},{"$f":"IF(Liste_pièces!D298=\"\",\"\",Liste_pièces!D298)","v":""},{"$f":"IF(Liste_pièces!E298=\"\",\"\",Liste_pièces!E298)","v":""},{"$f":"IF(Liste_pièces!F298=\"\",\"\",Liste_pièces!F298)","v":""},{"$f":"IF(Liste_pièces!G298=\"\",\"\",Liste_pièces!G298)","v":""},{"$f":"IF(Liste_pièces!H298=\"\",\"\",Liste_pièces!H298)","v":""},{"$f":"IF(Liste_pièces!I298=\"\",\"\",Liste_pièces!I298)","v":""},{"$f":"IF(Liste_pièces!J298=\"\",\"\",Liste_pièces!J298)","v":""},{"$f":"IF(Liste_pièces!K298=\"\",\"\",Liste_pièces!K298)","v":""},{"$f":"IF(Liste_pièces!L298=\"\",\"\",Liste_pièces!L298)","v":""},{"$f":"IF(Liste_pièces!M298=\"\",\"\",Liste_pièces!M298)","v":""},0,{"$f":"IF(N298*37=SUM(N261:N297),1,0)","v":1},0]
[{"$f":"IF(Liste_pièces!A299=\"\",\"ZZZ\",Liste_pièces!A299)","v":"ZZZ"},{"$f":"IF(Liste_pièces!B299=\"\",\"ZZZ\",Liste_pièces!B299)","v":"ZZZ"},{"$f":"IF(Liste_pièces!C299=\"\",\"\",Liste_pièces!C299)","v":""},{"$f":"IF(Liste_pièces!D299=\"\",\"\",Liste_pièces!D299)","v":""},{"$f":"IF(Liste_pièces!E299=\"\",\"\",Liste_pièces!E299)","v":""},{"$f":"IF(Liste_pièces!F299=\"\",\"\",Liste_pièces!F299)","v":""},{"$f":"IF(Liste_pièces!G299=\"\",\"\",Liste_pièces!G299)","v":""},{"$f":"IF(Liste_pièces!H299=\"\",\"\",Liste_pièces!H299)","v":""},{"$f":"IF(Liste_pièces!I299=\"\",\"\",Liste_pièces!I299)","v":""},{"$f":"IF(Liste_pièces!J299=\"\",\"\",Liste_pièces!J299)","v":""},{"$f":"IF(Liste_pièces!K299=\"\",\"\",Liste_pièces!K299)","v":""},{"$f":"IF(Liste_pièces!L299=\"\",\"\",Liste_pièces!L299)","v":""},{"$f":"IF(Liste_pièces!M299=\"\",\"\",Liste_pièces!M299)","v":""},0,1,0]
[{"$f":"IF(Liste_pièces!A300=\"\",\"ZZZ\",Liste_pièces!A300)","v":"ZZZ"},{"$f":"IF(Liste_pièces!B300=\"\",\"ZZZ\",Liste_pièces!B300)","v":"ZZZ"},{"$f":"IF(Liste_pièces!C300=\"\",\"\",Liste_pièces!C300)","v":""},{"$f":"IF(Liste_pièces!D300=\"\",\"\",Liste_pièces!D300)","v":""},{"$f":"IF(Liste_pièces!E300=\"\",\"\",Liste_pièces!E300)","v":""},{"$f":"IF(Liste_pièces!F300=\"\",\"\",Liste_pièces!F300)","v":""},{"$f":"IF(Liste_pièces!G300=\"\",\"\",Liste_pièces!G300)","v":""},{"$f":"IF(Liste_pièces!H300=\"\",\"\",Liste_pièces!H300)","v":""},{"$f":"IF(Liste_pièces!I300=\"\",\"\",Liste_pièces!I300)","v":""},{"$f":"IF(Liste_pièces!J300=\"\",\"\",Liste_pièces!J300)","v":""},{"$f":"IF(Liste_pièces!K300=\"\",\"\",Liste_pièces!K300)","v":""},{"$f":"IF(Liste_pièces!L300=\"\",\"\",Liste_pièces!L300)","v":""},{"$f":"IF(Liste_pièces!M300=\"\",\"\",Liste_pièces!M300)","v":""},0,1,0]
[{"$f":"IF(Liste_pièces!A301=\"\",\"ZZZ\",Liste_pièces!A301)","v":"ZZZ"},{"$f":"IF(Liste_pièces!B301=\"\",\"ZZZ\",Liste_pièces!B301)","v":"ZZZ"},{"$f":"IF(Liste_pièces!C301=\"\",\"\",Liste_pièces!C301)","v":""},{"$f":"IF(Liste_pièces!D301=\"\",\"\",Liste_pièces!D301)","v":""},{"$f":"IF(Liste_pièces!E301=\"\",\"\",Liste_pièces!E301)","v":""},{"$f":"IF(Liste_pièces!F301=\"\",\"\",Liste_pièces!F301)","v":""},{"$f":"IF(Liste_pièces!G301=\"\",\"\",Liste_pièces!G301)","v":""},{"$f":"IF(Liste_pièces!H301=\"\",\"\",Liste_pièces!H301)","v":""},{"$f":"IF(Liste_pièces!I301=\"\",\"\",Liste_pièces!I301)","v":""},{"$f":"IF(Liste_pièces!J301=\"\",\"\",Liste_pièces!J301)","v":""},{"$f":"IF(Liste_pièces!K301=\"\",\"\",Liste_pièces!K301)","v":""},{"$f":"IF(Liste_pièces!L301=\"\",\"\",Liste_pièces!L301)","v":""},{"$f":"IF(Liste_pièces!M301=\"\",\"\",Liste_pièces!M301)","v":""},0,1,0]
[{"$f":"IF(Liste_pièces!A302=\"\",\"ZZZ\",Liste_pièces!A302)","v":"ZZZ"},{"$f":"IF(Liste_pièces!B302=\"\",\"ZZZ\",Liste_pièces!B302)","v":"ZZZ"},{"$f":"IF(Liste_pièces!C302=\"\",\"\",Liste_pièces!C302)","v":""},{"$f":"IF(Liste_pièces!D302=\"\",\"\",Liste_pièces!D302)","v":""},{"$f":"IF(Liste_pièces!E302=\"\",\"\",Liste_pièces!E302)","v":""},{"$f":"IF(Liste_pièces!F302=\"\",\"\",Liste_pièces!F302)","v":""},{"$f":"IF(Liste_pièces!G302=\"\",\"\",Liste_pièces!G302)","v":""},{"$f":"IF(Liste_pièces!H302=\"\",\"\",Liste_pièces!H302)","v":""},{"$f":"IF(Liste_pièces!I302=\"\",\"\",Liste_pièces!I302)","v":""},{"$f":"IF(Liste_pièces!J302=\"\",\"\",Liste_pièces!J302)","v":""},{"$f":"IF(Liste_pièces!K302=\"\",\"\",Liste_pièces!K302)","v":""},{"$f":"IF(Liste_pièces!L302=\"\",\"\",Liste_pièces!L302)","v":""},{"$f":"IF(Liste_pièces!M302=\"\",\"\",Liste_pièces!M302)","v":""},0,1,0]
[{"$f":"IF(Liste_pièces!A303=\"\",\"ZZZ\",Liste_pièces!A303)","v":"ZZZ"},{"$f":"IF(Liste_pièces!B303=\"\",\"ZZZ\",Liste_pièces!B303)","v":"ZZZ"},{"$f":"IF(Liste_pièces!C303=\"\",\"\",Liste_pièces!C303)","v":""},{"$f":"IF(Liste_pièces!D303=\"\",\"\",Liste_pièces!D303)","v":""},{"$f":"IF(Liste_pièces!E303=\"\",\"\",Liste_pièces!E303)","v":""},{"$f":"IF(Liste_pièces!F303=\"\",\"\",Liste_pièces!F303)","v":""},{"$f":"IF(Liste_pièces!G303=\"\",\"\",Liste_pièces!G303)","v":""},{"$f":"IF(Liste_pièces!H303=\"\",\"\",Liste_pièces!H303)","v":""},{"$f":"IF(Liste_pièces!I303=\"\",\"\",Liste_pièces!I303)","v":""},{"$f":"IF(Liste_pièces!J303=\"\",\"\",Liste_pièces!J303)","v":""},{"$f":"IF(Liste_pièces!K303=\"\",\"\",Liste_pièces!K303)","v":""},{"$f":"IF(Liste_pièces!L303=\"\",\"\",Liste_pièces!L303)","v":""},{"$f":"IF(Liste_pièces!M303=\"\",\"\",Liste_pièces!M303)","v":""},0,1,0]
[{"$f":"IF(Liste_pièces!A304=\"\",\"ZZZ\",Liste_pièces!A304)","v":"ZZZ"},{"$f":"IF(Liste_pièces!B304=\"\",\"ZZZ\",Liste_pièces!B304)","v":"ZZZ"},{"$f":"IF(Liste_pièces!C304=\"\",\"\",Liste_pièces!C304)","v":""},{"$f":"IF(Liste_pièces!D304=\"\",\"\",Liste_pièces!D304)","v":""},{"$f":"IF(Liste_pièces!E304=\"\",\"\",Liste_pièces!E304)","v":""},{"$f":"IF(Liste_pièces!F304=\"\",\"\",Liste_pièces!F304)","v":""},{"$f":"IF(Liste_pièces!G304=\"\",\"\",Liste_pièces!G304)","v":""},{"$f":"IF(Liste_pièces!H304=\"\",\"\",Liste_pièces!H304)","v":""},{"$f":"IF(Liste_pièces!I304=\"\",\"\",Liste_pièces!I304)","v":""},{"$f":"IF(Liste_pièces!J304=\"\",\"\",Liste_pièces!J304)","v":""},{"$f":"IF(Liste_pièces!K304=\"\",\"\",Liste_pièces!K304)","v":""},{"$f":"IF(Liste_pièces!L304=\"\",\"\",Liste_pièces!L304)","v":""},{"$f":"IF(Liste_pièces!M304=\"\",\"\",Liste_pièces!M304)","v":""},0,1,0]
[{"$f":"IF(Liste_pièces!A305=\"\",\"ZZZ\",Liste_pièces!A305)","v":"ZZZ"},{"$f":"IF(Liste_pièces!B305=\"\",\"ZZZ\",Liste_pièces!B305)","v":"ZZZ"},{"$f":"IF(Liste_pièces!C305=\"\",\"\",Liste_pièces!C305)","v":""},{"$f":"IF(Liste_pièces!D305=\"\",\"\",Liste_pièces!D305)","v":""},{"$f":"IF(Liste_pièces!E305=\"\",\"\",Liste_pièces!E305)","v":""},{"$f":"IF(Liste_pièces!F305=\"\",\"\",Liste_pièces!F305)","v":""},{"$f":"IF(Liste_pièces!G305=\"\",\"\",Liste_pièces!G305)","v":""},{"$f":"IF(Liste_pièces!H305=\"\",\"\",Liste_pièces!H305)","v":""},{"$f":"IF(Liste_pièces!I305=\"\",\"\",Liste_pièces!I305)","v":""},{"$f":"IF(Liste_pièces!J305=\"\",\"\",Liste_pièces!J305)","v":""},{"$f":"IF(Liste_pièces!K305=\"\",\"\",Liste_pièces!K305)","v":""},{"$f":"IF(Liste_pièces!L305=\"\",\"\",Liste_pièces!L305)","v":""},{"$f":"IF(Liste_pièces!M305=\"\",\"\",Liste_pièces!M305)","v":""},0,1,0]
[{"$f":"IF(Liste_pièces!A306=\"\",\"ZZZ\",Liste_pièces!A306)","v":"ZZZ"},{"$f":"IF(Liste_pièces!B306=\"\",\"ZZZ\",Liste_pièces!B306)","v":"ZZZ"},{"$f":"IF(Liste_pièces!C306=\"\",\"\",Liste_pièces!C306)","v":""},{"$f":"IF(Liste_pièces!D306=\"\",\"\",Liste_pièces!D306)","v":""},{"$f":"IF(Liste_pièces!E306=\"\",\"\",Liste_pièces!E306)","v":""},{"$f":"IF(Liste_pièces!F306=\"\",\"\",Liste_pièces!F306)","v":""},{"$f":"IF(Liste_pièces!G306=\"\",\"\",Liste_pièces!G306)","v":""},{"$f":"IF(Liste_pièces!H306=\"\",\"\",Liste_pièces!H306)","v":""},{"$f":"IF(Liste_pièces!I306=\"\",\"\",Liste_pièces!I306)","v":""},{"$f":"IF(Liste_pièces!J306=\"\",\"\",Liste_pièces!J306)","v":""},{"$f":"IF(Liste_pièces!K306=\"\",\"\",Liste_pièces!K306)","v":""},{"$f":"IF(Liste_pièces!L306=\"\",\"\",Liste_pièces!L306)","v":""},{"$f":"IF(Liste_pièces!M306=\"\",\"\",Liste_pièces!M306)","v":""},0,1,0]
[{"$f":"IF(Liste_pièces!A307=\"\",\"ZZZ\",Liste_pièces!A307)","v":"ZZZ"},{"$f":"IF(Liste_pièces!B307=\"\",\"ZZZ\",Liste_pièces!B307)","v":"ZZZ"},{"$f":"IF(Liste_pièces!C307=\"\",\"\",Liste_pièces!C307)","v":""},{"$f":"IF(Liste_pièces!D307=\"\",\"\",Liste_pièces!D307)","v":""},{"$f":"IF(Liste_pièces!E307=\"\",\"\",Liste_pièces!E307)","v":""},{"$f":"IF(Liste_pièces!F307=\"\",\"\",Liste_pièces!F307)","v":""},{"$f":"IF(Liste_pièces!G307=\"\",\"\",Liste_pièces!G307)","v":""},{"$f":"IF(Liste_pièces!H307=\"\",\"\",Liste_pièces!H307)","v":""},{"$f":"IF(Liste_pièces!I307=\"\",\"\",Liste_pièces!I307)","v":""},{"$f":"IF(Liste_pièces!J307=\"\",\"\",Liste_pièces!J307)","v":""},{"$f":"IF(Liste_pièces!K307=\"\",\"\",Liste_pièces!K307)","v":""},{"$f":"IF(Liste_pièces!L307=\"\",\"\",Liste_pièces!L307)","v":""},{"$f":"IF(Liste_pièces!M307=\"\",\"\",Liste_pièces!M307)","v":""},0,1,0]
[{"$f":"IF(Liste_pièces!A308=\"\",\"ZZZ\",Liste_pièces!A308)","v":"ZZZ"},{"$f":"IF(Liste_pièces!B308=\"\",\"ZZZ\",Liste_pièces!B308)","v":"ZZZ"},{"$f":"IF(Liste_pièces!C308=\"\",\"\",Liste_pièces!C308)","v":""},{"$f":"IF(Liste_pièces!D308=\"\",\"\",Liste_pièces!D308)","v":""},{"$f":"IF(Liste_pièces!E308=\"\",\"\",Liste_pièces!E308)","v":""},{"$f":"IF(Liste_pièces!F308=\"\",\"\",Liste_pièces!F308)","v":""},{"$f":"IF(Liste_pièces!G308=\"\",\"\",Liste_pièces!G308)","v":""},{"$f":"IF(Liste_pièces!H308=\"\",\"\",Liste_pièces!H308)","v":""},{"$f":"IF(Liste_pièces!I308=\"\",\"\",Liste_pièces!I308)","v":""},{"$f":"IF(Liste_pièces!J308=\"\",\"\",Liste_pièces!J308)","v":""},{"$f":"IF(Liste_pièces!K308=\"\",\"\",Liste_pièces!K308)","v":""},{"$f":"IF(Liste_pièces!L308=\"\",\"\",Liste_pièces!L308)","v":""},{"$f":"IF(Liste_pièces!M308=\"\",\"\",Liste_pièces!M308)","v":""},0,1,0]
[{"$f":"IF(Liste_pièces!A309=\"\",\"ZZZ\",Liste_pièces!A309)","v":"ZZZ"},{"$f":"IF(Liste_pièces!B309=\"\",\"ZZZ\",Liste_pièces!B309)","v":"ZZZ"},{"$f":"IF(Liste_pièces!C309=\"\",\"\",Liste_pièces!C309)","v":""},{"$f":"IF(Liste_pièces!D309=\"\",\"\",Liste_pièces!D309)","v":""},{"$f":"IF(Liste_pièces!E309=\"\",\"\",Liste_pièces!E309)","v":""},{"$f":"IF(Liste_pièces!F309=\"\",\"\",Liste_pièces!F309)","v":""},{"$f":"IF(Liste_pièces!G309=\"\",\"\",Liste_pièces!G309)","v":""},{"$f":"IF(Liste_pièces!H309=\"\",\"\",Liste_pièces!H309)","v":""},{"$f":"IF(Liste_pièces!I309=\"\",\"\",Liste_pièces!I309)","v":""},{"$f":"IF(Liste_pièces!J309=\"\",\"\",Liste_pièces!J309)","v":""},{"$f":"IF(Liste_pièces!K309=\"\",\"\",Liste_pièces!K309)","v":""},{"$f":"IF(Liste_pièces!L309=\"\",\"\",Liste_pièces!L309)","v":""},{"$f":"IF(Liste_pièces!M309=\"\",\"\",Liste_pièces!M309)","v":""},0,1,0]
[{"$f":"IF(Liste_pièces!A310=\"\",\"ZZZ\",Liste_pièces!A310)","v":"ZZZ"},{"$f":"IF(Liste_pièces!B310=\"\",\"ZZZ\",Liste_pièces!B310)","v":"ZZZ"},{"$f":"IF(Liste_pièces!C310=\"\",\"\",Liste_pièces!C310)","v":""},{"$f":"IF(Liste_pièces!D310=\"\",\"\",Liste_pièces!D310)","v":""},{"$f":"IF(Liste_pièces!E310=\"\",\"\",Liste_pièces!E310)","v":""},{"$f":"IF(Liste_pièces!F310=\"\",\"\",Liste_pièces!F310)","v":""},{"$f":"IF(Liste_pièces!G310=\"\",\"\",Liste_pièces!G310)","v":""},{"$f":"IF(Liste_pièces!H310=\"\",\"\",Liste_pièces!H310)","v":""},{"$f":"IF(Liste_pièces!I310=\"\",\"\",Liste_pièces!I310)","v":""},{"$f":"IF(Liste_pièces!J310=\"\",\"\",Liste_pièces!J310)","v":""},{"$f":"IF(Liste_pièces!K310=\"\",\"\",Liste_pièces!K310)","v":""},{"$f":"IF(Liste_pièces!L310=\"\",\"\",Liste_pièces!L310)","v":""},{"$f":"IF(Liste_pièces!M310=\"\",\"\",Liste_pièces!M310)","v":""},0,1,0]
[{"$f":"IF(Liste_pièces!A311=\"\",\"ZZZ\",Liste_pièces!A311)","v":"ZZZ"},{"$f":"IF(Liste_pièces!B311=\"\",\"ZZZ\",Liste_pièces!B311)","v":"ZZZ"},{"$f":"IF(Liste_pièces!C311=\"\",\"\",Liste_pièces!C311)","v":""},{"$f":"IF(Liste_pièces!D311=\"\",\"\",Liste_pièces!D311)","v":""},{"$f":"IF(Liste_pièces!E311=\"\",\"\",Liste_pièces!E311)","v":""},{"$f":"IF(Liste_pièces!F311=\"\",\"\",Liste_pièces!F311)","v":""},{"$f":"IF(Liste_pièces!G311=\"\",\"\",Liste_pièces!G311)","v":""},{"$f":"IF(Liste_pièces!H311=\"\",\"\",Liste_pièces!H311)","v":""},{"$f":"IF(Liste_pièces!I311=\"\",\"\",Liste_pièces!I311)","v":""},{"$f":"IF(Liste_pièces!J311=\"\",\"\",Liste_pièces!J311)","v":""},{"$f":"IF(Liste_pièces!K311=\"\",\"\",Liste_pièces!K311)","v":""},{"$f":"IF(Liste_pièces!L311=\"\",\"\",Liste_pièces!L311)","v":""},{"$f":"IF(Liste_pièces!M311=\"\",\"\",Liste_pièces!M311)","v":""},0,1,0]
[{"$f":"IF(Liste_pièces!A312=\"\",\"ZZZ\",Liste_pièces!A312)","v":"ZZZ"},{"$f":"IF(Liste_pièces!B312=\"\",\"ZZZ\",Liste_pièces!B312)","v":"ZZZ"},{"$f":"IF(Liste_pièces!C312=\"\",\"\",Liste_pièces!C312)","v":""},{"$f":"IF(Liste_pièces!D312=\"\",\"\",Liste_pièces!D312)","v":""},{"$f":"IF(Liste_pièces!E312=\"\",\"\",Liste_pièces!E312)","v":""},{"$f":"IF(Liste_pièces!F312=\"\",\"\",Liste_pièces!F312)","v":""},{"$f":"IF(Liste_pièces!G312=\"\",\"\",Liste_pièces!G312)","v":""},{"$f":"IF(Liste_pièces!H312=\"\",\"\",Liste_pièces!H312)","v":""},{"$f":"IF(Liste_pièces!I312=\"\",\"\",Liste_pièces!I312)","v":""},{"$f":"IF(Liste_pièces!J312=\"\",\"\",Liste_pièces!J312)","v":""},{"$f":"IF(Liste_pièces!K312=\"\",\"\",Liste_pièces!K312)","v":""},{"$f":"IF(Liste_pièces!L312=\"\",\"\",Liste_pièces!L312)","v":""},{"$f":"IF(Liste_pièces!M312=\"\",\"\",Liste_pièces!M312)","v":""},0,1,0]
[{"$f":"IF(Liste_pièces!A313=\"\",\"ZZZ\",Liste_pièces!A313)","v":"ZZZ"},{"$f":"IF(Liste_pièces!B313=\"\",\"ZZZ\",Liste_pièces!B313)","v":"ZZZ"},{"$f":"IF(Liste_pièces!C313=\"\",\"\",Liste_pièces!C313)","v":""},{"$f":"IF(Liste_pièces!D313=\"\",\"\",Liste_pièces!D313)","v":""},{"$f":"IF(Liste_pièces!E313=\"\",\"\",Liste_pièces!E313)","v":""},{"$f":"IF(Liste_pièces!F313=\"\",\"\",Liste_pièces!F313)","v":""},{"$f":"IF(Liste_pièces!G313=\"\",\"\",Liste_pièces!G313)","v":""},{"$f":"IF(Liste_pièces!H313=\"\",\"\",Liste_pièces!H313)","v":""},{"$f":"IF(Liste_pièces!I313=\"\",\"\",Liste_pièces!I313)","v":""},{"$f":"IF(Liste_pièces!J313=\"\",\"\",Liste_pièces!J313)","v":""},{"$f":"IF(Liste_pièces!K313=\"\",\"\",Liste_pièces!K313)","v":""},{"$f":"IF(Liste_pièces!L313=\"\",\"\",Liste_pièces!L313)","v":""},{"$f":"IF(Liste_pièces!M313=\"\",\"\",Liste_pièces!M313)","v":""},0,1,0]
[{"$f":"IF(Liste_pièces!A314=\"\",\"ZZZ\",Liste_pièces!A314)","v":"ZZZ"},{"$f":"IF(Liste_pièces!B314=\"\",\"ZZZ\",Liste_pièces!B314)","v":"ZZZ"},{"$f":"IF(Liste_pièces!C314=\"\",\"\",Liste_pièces!C314)","v":""},{"$f":"IF(Liste_pièces!D314=\"\",\"\",Liste_pièces!D314)","v":""},{"$f":"IF(Liste_pièces!E314=\"\",\"\",Liste_pièces!E314)","v":""},{"$f":"IF(Liste_pièces!F314=\"\",\"\",Liste_pièces!F314)","v":""},{"$f":"IF(Liste_pièces!G314=\"\",\"\",Liste_pièces!G314)","v":""},{"$f":"IF(Liste_pièces!H314=\"\",\"\",Liste_pièces!H314)","v":""},{"$f":"IF(Liste_pièces!I314=\"\",\"\",Liste_pièces!I314)","v":""},{"$f":"IF(Liste_pièces!J314=\"\",\"\",Liste_pièces!J314)","v":""},{"$f":"IF(Liste_pièces!K314=\"\",\"\",Liste_pièces!K314)","v":""},{"$f":"IF(Liste_pièces!L314=\"\",\"\",Liste_pièces!L314)","v":""},{"$f":"IF(Liste_pièces!M314=\"\",\"\",Liste_pièces!M314)","v":""},0,1,0]
[{"$f":"IF(Liste_pièces!A315=\"\",\"ZZZ\",Liste_pièces!A315)","v":"ZZZ"},{"$f":"IF(Liste_pièces!B315=\"\",\"ZZZ\",Liste_pièces!B315)","v":"ZZZ"},{"$f":"IF(Liste_pièces!C315=\"\",\"\",Liste_pièces!C315)","v":""},{"$f":"IF(Liste_pièces!D315=\"\",\"\",Liste_pièces!D315)","v":""},{"$f":"IF(Liste_pièces!E315=\"\",\"\",Liste_pièces!E315)","v":""},{"$f":"IF(Liste_pièces!F315=\"\",\"\",Liste_pièces!F315)","v":""},{"$f":"IF(Liste_pièces!G315=\"\",\"\",Liste_pièces!G315)","v":""},{"$f":"IF(Liste_pièces!H315=\"\",\"\",Liste_pièces!H315)","v":""},{"$f":"IF(Liste_pièces!I315=\"\",\"\",Liste_pièces!I315)","v":""},{"$f":"IF(Liste_pièces!J315=\"\",\"\",Liste_pièces!J315)","v":""},{"$f":"IF(Liste_pièces!K315=\"\",\"\",Liste_pièces!K315)","v":""},{"$f":"IF(Liste_pièces!L315=\"\",\"\",Liste_pièces!L315)","v":""},{"$f":"IF(Liste_pièces!M315=\"\",\"\",Liste_pièces!M315)","v":""},0,1,0]
[{"$f":"IF(Liste_pièces!A316=\"\",\"ZZZ\",Liste_pièces!A316)","v":"ZZZ"},{"$f":"IF(Liste_pièces!B316=\"\",\"ZZZ\",Liste_pièces!B316)","v":"ZZZ"},{"$f":"IF(Liste_pièces!C316=\"\",\"\",Liste_pièces!C316)","v":""},{"$f":"IF(Liste_pièces!D316=\"\",\"\",Liste_pièces!D316)","v":""},{"$f":"IF(Liste_pièces!E316=\"\",\"\",Liste_pièces!E316)","v":""},{"$f":"IF(Liste_pièces!F316=\"\",\"\",Liste_pièces!F316)","v":""},{"$f":"IF(Liste_pièces!G316=\"\",\"\",Liste_pièces!G316)","v":""},{"$f":"IF(Liste_pièces!H316=\"\",\"\",Liste_pièces!H316)","v":""},{"$f":"IF(Liste_pièces!I316=\"\",\"\",Liste_pièces!I316)","v":""},{"$f":"IF(Liste_pièces!J316=\"\",\"\",Liste_pièces!J316)","v":""},{"$f":"IF(Liste_pièces!K316=\"\",\"\",Liste_pièces!K316)","v":""},{"$f":"IF(Liste_pièces!L316=\"\",\"\",Liste_pièces!L316)","v":""},{"$f":"IF(Liste_pièces!M316=\"\",\"\",Liste_pièces!M316)","v":""},0,1,0]
[{"$f":"IF(Liste_pièces!A317=\"\",\"ZZZ\",Liste_pièces!A317)","v":"ZZZ"},{"$f":"IF(Liste_pièces!B317=\"\",\"ZZZ\",Liste_pièces!B317)","v":"ZZZ"},{"$f":"IF(Liste_pièces!C317=\"\",\"\",Liste_pièces!C317)","v":""},{"$f":"IF(Liste_pièces!D317=\"\",\"\",Liste_pièces!D317)","v":""},{"$f":"IF(Liste_pièces!E317=\"\",\"\",Liste_pièces!E317)","v":""},{"$f":"IF(Liste_pièces!F317=\"\",\"\",Liste_pièces!F317)","v":""},{"$f":"IF(Liste_pièces!G317=\"\",\"\",Liste_pièces!G317)","v":""},{"$f":"IF(Liste_pièces!H317=\"\",\"\",Liste_pièces!H317)","v":""},{"$f":"IF(Liste_pièces!I317=\"\",\"\",Liste_pièces!I317)","v":""},{"$f":"IF(Liste_pièces!J317=\"\",\"\",Liste_pièces!J317)","v":""},{"$f":"IF(Liste_pièces!K317=\"\",\"\",Liste_pièces!K317)","v":""},{"$f":"IF(Liste_pièces!L317=\"\",\"\",Liste_pièces!L317)","v":""},{"$f":"IF(Liste_pièces!M317=\"\",\"\",Liste_pièces!M317)","v":""},0,1,0]
[{"$f":"IF(Liste_pièces!A318=\"\",\"ZZZ\",Liste_pièces!A318)","v":"ZZZ"},{"$f":"IF(Liste_pièces!B318=\"\",\"ZZZ\",Liste_pièces!B318)","v":"ZZZ"},{"$f":"IF(Liste_pièces!C318=\"\",\"\",Liste_pièces!C318)","v":""},{"$f":"IF(Liste_pièces!D318=\"\",\"\",Liste_pièces!D318)","v":""},{"$f":"IF(Liste_pièces!E318=\"\",\"\",Liste_pièces!E318)","v":""},{"$f":"IF(Liste_pièces!F318=\"\",\"\",Liste_pièces!F318)","v":""},{"$f":"IF(Liste_pièces!G318=\"\",\"\",Liste_pièces!G318)","v":""},{"$f":"IF(Liste_pièces!H318=\"\",\"\",Liste_pièces!H318)","v":""},{"$f":"IF(Liste_pièces!I318=\"\",\"\",Liste_pièces!I318)","v":""},{"$f":"IF(Liste_pièces!J318=\"\",\"\",Liste_pièces!J318)","v":""},{"$f":"IF(Liste_pièces!K318=\"\",\"\",Liste_pièces!K318)","v":""},{"$f":"IF(Liste_pièces!L318=\"\",\"\",Liste_pièces!L318)","v":""},{"$f":"IF(Liste_pièces!M318=\"\",\"\",Liste_pièces!M318)","v":""},0,1,0]
[{"$f":"IF(Liste_pièces!A319=\"\",\"ZZZ\",Liste_pièces!A319)","v":"ZZZ"},{"$f":"IF(Liste_pièces!B319=\"\",\"ZZZ\",Liste_pièces!B319)","v":"ZZZ"},{"$f":"IF(Liste_pièces!C319=\"\",\"\",Liste_pièces!C319)","v":""},{"$f":"IF(Liste_pièces!D319=\"\",\"\",Liste_pièces!D319)","v":""},{"$f":"IF(Liste_pièces!E319=\"\",\"\",Liste_pièces!E319)","v":""},{"$f":"IF(Liste_pièces!F319=\"\",\"\",Liste_pièces!F319)","v":""},{"$f":"IF(Liste_pièces!G319=\"\",\"\",Liste_pièces!G319)","v":""},{"$f":"IF(Liste_pièces!H319=\"\",\"\",Liste_pièces!H319)","v":""},{"$f":"IF(Liste_pièces!I319=\"\",\"\",Liste_pièces!I319)","v":""},{"$f":"IF(Liste_pièces!J319=\"\",\"\",Liste_pièces!J319)","v":""},{"$f":"IF(Liste_pièces!K319=\"\",\"\",Liste_pièces!K319)","v":""},{"$f":"IF(Liste_pièces!L319=\"\",\"\",Liste_pièces!L319)","v":""},{"$f":"IF(Liste_pièces!M319=\"\",\"\",Liste_pièces!M319)","v":""},0,1,0]
[{"$f":"IF(Liste_pièces!A320=\"\",\"ZZZ\",Liste_pièces!A320)","v":"ZZZ"},{"$f":"IF(Liste_pièces!B320=\"\",\"ZZZ\",Liste_pièces!B320)","v":"ZZZ"},{"$f":"IF(Liste_pièces!C320=\"\",\"\",Liste_pièces!C320)","v":""},{"$f":"IF(Liste_pièces!D320=\"\",\"\",Liste_pièces!D320)","v":""},{"$f":"IF(Liste_pièces!E320=\"\",\"\",Liste_pièces!E320)","v":""},{"$f":"IF(Liste_pièces!F320=\"\",\"\",Liste_pièces!F320)","v":""},{"$f":"IF(Liste_pièces!G320=\"\",\"\",Liste_pièces!G320)","v":""},{"$f":"IF(Liste_pièces!H320=\"\",\"\",Liste_pièces!H320)","v":""},{"$f":"IF(Liste_pièces!I320=\"\",\"\",Liste_pièces!I320)","v":""},{"$f":"IF(Liste_pièces!J320=\"\",\"\",Liste_pièces!J320)","v":""},{"$f":"IF(Liste_pièces!K320=\"\",\"\",Liste_pièces!K320)","v":""},{"$f":"IF(Liste_pièces!L320=\"\",\"\",Liste_pièces!L320)","v":""},{"$f":"IF(Liste_pièces!M320=\"\",\"\",Liste_pièces!M320)","v":""},0,1,0]
[{"$f":"IF(Liste_pièces!A321=\"\",\"ZZZ\",Liste_pièces!A321)","v":"ZZZ"},{"$f":"IF(Liste_pièces!B321=\"\",\"ZZZ\",Liste_pièces!B321)","v":"ZZZ"},{"$f":"IF(Liste_pièces!C321=\"\",\"\",Liste_pièces!C321)","v":""},{"$f":"IF(Liste_pièces!D321=\"\",\"\",Liste_pièces!D321)","v":""},{"$f":"IF(Liste_pièces!E321=\"\",\"\",Liste_pièces!E321)","v":""},{"$f":"IF(Liste_pièces!F321=\"\",\"\",Liste_pièces!F321)","v":""},{"$f":"IF(Liste_pièces!G321=\"\",\"\",Liste_pièces!G321)","v":""},{"$f":"IF(Liste_pièces!H321=\"\",\"\",Liste_pièces!H321)","v":""},{"$f":"IF(Liste_pièces!I321=\"\",\"\",Liste_pièces!I321)","v":""},{"$f":"IF(Liste_pièces!J321=\"\",\"\",Liste_pièces!J321)","v":""},{"$f":"IF(Liste_pièces!K321=\"\",\"\",Liste_pièces!K321)","v":""},{"$f":"IF(Liste_pièces!L321=\"\",\"\",Liste_pièces!L321)","v":""},{"$f":"IF(Liste_pièces!M321=\"\",\"\",Liste_pièces!M321)","v":""},0,1,0]
[{"$f":"IF(Liste_pièces!A322=\"\",\"ZZZ\",Liste_pièces!A322)","v":"ZZZ"},{"$f":"IF(Liste_pièces!B322=\"\",\"ZZZ\",Liste_pièces!B322)","v":"ZZZ"},{"$f":"IF(Liste_pièces!C322=\"\",\"\",Liste_pièces!C322)","v":""},{"$f":"IF(Liste_pièces!D322=\"\",\"\",Liste_pièces!D322)","v":""},{"$f":"IF(Liste_pièces!E322=\"\",\"\",Liste_pièces!E322)","v":""},{"$f":"IF(Liste_pièces!F322=\"\",\"\",Liste_pièces!F322)","v":""},{"$f":"IF(Liste_pièces!G322=\"\",\"\",Liste_pièces!G322)","v":""},{"$f":"IF(Liste_pièces!H322=\"\",\"\",Liste_pièces!H322)","v":""},{"$f":"IF(Liste_pièces!I322=\"\",\"\",Liste_pièces!I322)","v":""},{"$f":"IF(Liste_pièces!J322=\"\",\"\",Liste_pièces!J322)","v":""},{"$f":"IF(Liste_pièces!K322=\"\",\"\",Liste_pièces!K322)","v":""},{"$f":"IF(Liste_pièces!L322=\"\",\"\",Liste_pièces!L322)","v":""},{"$f":"IF(Liste_pièces!M322=\"\",\"\",Liste_pièces!M322)","v":""},{"$f":"IF(B1066=\"ZZZ\",0,IF(B1066=B1065,N321,1+N321))","v":0},1,0]
[{"$f":"IF(Liste_pièces!A323=\"\",\"ZZZ\",Liste_pièces!A323)","v":"ZZZ"},{"$f":"IF(Liste_pièces!B323=\"\",\"ZZZ\",Liste_pièces!B323)","v":"ZZZ"},{"$f":"IF(Liste_pièces!C323=\"\",\"\",Liste_pièces!C323)","v":""},{"$f":"IF(Liste_pièces!D323=\"\",\"\",Liste_pièces!D323)","v":""},{"$f":"IF(Liste_pièces!E323=\"\",\"\",Liste_pièces!E323)","v":""},{"$f":"IF(Liste_pièces!F323=\"\",\"\",Liste_pièces!F323)","v":""},{"$f":"IF(Liste_pièces!G323=\"\",\"\",Liste_pièces!G323)","v":""},{"$f":"IF(Liste_pièces!H323=\"\",\"\",Liste_pièces!H323)","v":""},{"$f":"IF(Liste_pièces!I323=\"\",\"\",Liste_pièces!I323)","v":""},{"$f":"IF(Liste_pièces!J323=\"\",\"\",Liste_pièces!J323)","v":""},{"$f":"IF(Liste_pièces!K323=\"\",\"\",Liste_pièces!K323)","v":""},{"$f":"IF(Liste_pièces!L323=\"\",\"\",Liste_pièces!L323)","v":""},{"$f":"IF(Liste_pièces!M323=\"\",\"\",Liste_pièces!M323)","v":""},0,1,0]
[{"$f":"IF(Liste_pièces!A324=\"\",\"ZZZ\",Liste_pièces!A324)","v":"ZZZ"},{"$f":"IF(Liste_pièces!B324=\"\",\"ZZZ\",Liste_pièces!B324)","v":"ZZZ"},{"$f":"IF(Liste_pièces!C324=\"\",\"\",Liste_pièces!C324)","v":""},{"$f":"IF(Liste_pièces!D324=\"\",\"\",Liste_pièces!D324)","v":""},{"$f":"IF(Liste_pièces!E324=\"\",\"\",Liste_pièces!E324)","v":""},{"$f":"IF(Liste_pièces!F324=\"\",\"\",Liste_pièces!F324)","v":""},{"$f":"IF(Liste_pièces!G324=\"\",\"\",Liste_pièces!G324)","v":""},{"$f":"IF(Liste_pièces!H324=\"\",\"\",Liste_pièces!H324)","v":""},{"$f":"IF(Liste_pièces!I324=\"\",\"\",Liste_pièces!I324)","v":""},{"$f":"IF(Liste_pièces!J324=\"\",\"\",Liste_pièces!J324)","v":""},{"$f":"IF(Liste_pièces!K324=\"\",\"\",Liste_pièces!K324)","v":""},{"$f":"IF(Liste_pièces!L324=\"\",\"\",Liste_pièces!L324)","v":""},{"$f":"IF(Liste_pièces!M324=\"\",\"\",Liste_pièces!M324)","v":""},0,1,0]
[{"$f":"IF(Liste_pièces!A325=\"\",\"ZZZ\",Liste_pièces!A325)","v":"ZZZ"},{"$f":"IF(Liste_pièces!B325=\"\",\"ZZZ\",Liste_pièces!B325)","v":"ZZZ"},{"$f":"IF(Liste_pièces!C325=\"\",\"\",Liste_pièces!C325)","v":""},{"$f":"IF(Liste_pièces!D325=\"\",\"\",Liste_pièces!D325)","v":""},{"$f":"IF(Liste_pièces!E325=\"\",\"\",Liste_pièces!E325)","v":""},{"$f":"IF(Liste_pièces!F325=\"\",\"\",Liste_pièces!F325)","v":""},{"$f":"IF(Liste_pièces!G325=\"\",\"\",Liste_pièces!G325)","v":""},{"$f":"IF(Liste_pièces!H325=\"\",\"\",Liste_pièces!H325)","v":""},{"$f":"IF(Liste_pièces!I325=\"\",\"\",Liste_pièces!I325)","v":""},{"$f":"IF(Liste_pièces!J325=\"\",\"\",Liste_pièces!J325)","v":""},{"$f":"IF(Liste_pièces!K325=\"\",\"\",Liste_pièces!K325)","v":""},{"$f":"IF(Liste_pièces!L325=\"\",\"\",Liste_pièces!L325)","v":""},{"$f":"IF(Liste_pièces!M325=\"\",\"\",Liste_pièces!M325)","v":""},0,1,0]
[{"$f":"IF(Liste_pièces!A326=\"\",\"ZZZ\",Liste_pièces!A326)","v":"ZZZ"},{"$f":"IF(Liste_pièces!B326=\"\",\"ZZZ\",Liste_pièces!B326)","v":"ZZZ"},{"$f":"IF(Liste_pièces!C326=\"\",\"\",Liste_pièces!C326)","v":""},{"$f":"IF(Liste_pièces!D326=\"\",\"\",Liste_pièces!D326)","v":""},{"$f":"IF(Liste_pièces!E326=\"\",\"\",Liste_pièces!E326)","v":""},{"$f":"IF(Liste_pièces!F326=\"\",\"\",Liste_pièces!F326)","v":""},{"$f":"IF(Liste_pièces!G326=\"\",\"\",Liste_pièces!G326)","v":""},{"$f":"IF(Liste_pièces!H326=\"\",\"\",Liste_pièces!H326)","v":""},{"$f":"IF(Liste_pièces!I326=\"\",\"\",Liste_pièces!I326)","v":""},{"$f":"IF(Liste_pièces!J326=\"\",\"\",Liste_pièces!J326)","v":""},{"$f":"IF(Liste_pièces!K326=\"\",\"\",Liste_pièces!K326)","v":""},{"$f":"IF(Liste_pièces!L326=\"\",\"\",Liste_pièces!L326)","v":""},{"$f":"IF(Liste_pièces!M326=\"\",\"\",Liste_pièces!M326)","v":""},0,1,0]
[{"$f":"IF(Liste_pièces!A327=\"\",\"ZZZ\",Liste_pièces!A327)","v":"ZZZ"},{"$f":"IF(Liste_pièces!B327=\"\",\"ZZZ\",Liste_pièces!B327)","v":"ZZZ"},{"$f":"IF(Liste_pièces!C327=\"\",\"\",Liste_pièces!C327)","v":""},{"$f":"IF(Liste_pièces!D327=\"\",\"\",Liste_pièces!D327)","v":""},{"$f":"IF(Liste_pièces!E327=\"\",\"\",Liste_pièces!E327)","v":""},{"$f":"IF(Liste_pièces!F327=\"\",\"\",Liste_pièces!F327)","v":""},{"$f":"IF(Liste_pièces!G327=\"\",\"\",Liste_pièces!G327)","v":""},{"$f":"IF(Liste_pièces!H327=\"\",\"\",Liste_pièces!H327)","v":""},{"$f":"IF(Liste_pièces!I327=\"\",\"\",Liste_pièces!I327)","v":""},{"$f":"IF(Liste_pièces!J327=\"\",\"\",Liste_pièces!J327)","v":""},{"$f":"IF(Liste_pièces!K327=\"\",\"\",Liste_pièces!K327)","v":""},{"$f":"IF(Liste_pièces!L327=\"\",\"\",Liste_pièces!L327)","v":""},{"$f":"IF(Liste_pièces!M327=\"\",\"\",Liste_pièces!M327)","v":""},0,1,{"$f":"IF(N327=0,0,IF(N327<>N326,MAX(N327+O326,P326+1),IF(O326=O327,P326,P326+O327)))","v":0}]
[{"$f":"IF(Liste_pièces!A328=\"\",\"ZZZ\",Liste_pièces!A328)","v":"ZZZ"},{"$f":"IF(Liste_pièces!B328=\"\",\"ZZZ\",Liste_pièces!B328)","v":"ZZZ"},{"$f":"IF(Liste_pièces!C328=\"\",\"\",Liste_pièces!C328)","v":""},{"$f":"IF(Liste_pièces!D328=\"\",\"\",Liste_pièces!D328)","v":""},{"$f":"IF(Liste_pièces!E328=\"\",\"\",Liste_pièces!E328)","v":""},{"$f":"IF(Liste_pièces!F328=\"\",\"\",Liste_pièces!F328)","v":""},{"$f":"IF(Liste_pièces!G328=\"\",\"\",Liste_pièces!G328)","v":""},{"$f":"IF(Liste_pièces!H328=\"\",\"\",Liste_pièces!H328)","v":""},{"$f":"IF(Liste_pièces!I328=\"\",\"\",Liste_pièces!I328)","v":""},{"$f":"IF(Liste_pièces!J328=\"\",\"\",Liste_pièces!J328)","v":""},{"$f":"IF(Liste_pièces!K328=\"\",\"\",Liste_pièces!K328)","v":""},{"$f":"IF(Liste_pièces!L328=\"\",\"\",Liste_pièces!L328)","v":""},{"$f":"IF(Liste_pièces!M328=\"\",\"\",Liste_pièces!M328)","v":""},0,1,0]
[{"$f":"IF(Liste_pièces!A329=\"\",\"ZZZ\",Liste_pièces!A329)","v":"ZZZ"},{"$f":"IF(Liste_pièces!B329=\"\",\"ZZZ\",Liste_pièces!B329)","v":"ZZZ"},{"$f":"IF(Liste_pièces!C329=\"\",\"\",Liste_pièces!C329)","v":""},{"$f":"IF(Liste_pièces!D329=\"\",\"\",Liste_pièces!D329)","v":""},{"$f":"IF(Liste_pièces!E329=\"\",\"\",Liste_pièces!E329)","v":""},{"$f":"IF(Liste_pièces!F329=\"\",\"\",Liste_pièces!F329)","v":""},{"$f":"IF(Liste_pièces!G329=\"\",\"\",Liste_pièces!G329)","v":""},{"$f":"IF(Liste_pièces!H329=\"\",\"\",Liste_pièces!H329)","v":""},{"$f":"IF(Liste_pièces!I329=\"\",\"\",Liste_pièces!I329)","v":""},{"$f":"IF(Liste_pièces!J329=\"\",\"\",Liste_pièces!J329)","v":""},{"$f":"IF(Liste_pièces!K329=\"\",\"\",Liste_pièces!K329)","v":""},{"$f":"IF(Liste_pièces!L329=\"\",\"\",Liste_pièces!L329)","v":""},{"$f":"IF(Liste_pièces!M329=\"\",\"\",Liste_pièces!M329)","v":""},0,1,0]
[{"$f":"IF(Liste_pièces!A330=\"\",\"ZZZ\",Liste_pièces!A330)","v":"ZZZ"},{"$f":"IF(Liste_pièces!B330=\"\",\"ZZZ\",Liste_pièces!B330)","v":"ZZZ"},{"$f":"IF(Liste_pièces!C330=\"\",\"\",Liste_pièces!C330)","v":""},{"$f":"IF(Liste_pièces!D330=\"\",\"\",Liste_pièces!D330)","v":""},{"$f":"IF(Liste_pièces!E330=\"\",\"\",Liste_pièces!E330)","v":""},{"$f":"IF(Liste_pièces!F330=\"\",\"\",Liste_pièces!F330)","v":""},{"$f":"IF(Liste_pièces!G330=\"\",\"\",Liste_pièces!G330)","v":""},{"$f":"IF(Liste_pièces!H330=\"\",\"\",Liste_pièces!H330)","v":""},{"$f":"IF(Liste_pièces!I330=\"\",\"\",Liste_pièces!I330)","v":""},{"$f":"IF(Liste_pièces!J330=\"\",\"\",Liste_pièces!J330)","v":""},{"$f":"IF(Liste_pièces!K330=\"\",\"\",Liste_pièces!K330)","v":""},{"$f":"IF(Liste_pièces!L330=\"\",\"\",Liste_pièces!L330)","v":""},{"$f":"IF(Liste_pièces!M330=\"\",\"\",Liste_pièces!M330)","v":""},0,1,0]
[{"$f":"IF(Liste_pièces!A331=\"\",\"ZZZ\",Liste_pièces!A331)","v":"ZZZ"},{"$f":"IF(Liste_pièces!B331=\"\",\"ZZZ\",Liste_pièces!B331)","v":"ZZZ"},{"$f":"IF(Liste_pièces!C331=\"\",\"\",Liste_pièces!C331)","v":""},{"$f":"IF(Liste_pièces!D331=\"\",\"\",Liste_pièces!D331)","v":""},{"$f":"IF(Liste_pièces!E331=\"\",\"\",Liste_pièces!E331)","v":""},{"$f":"IF(Liste_pièces!F331=\"\",\"\",Liste_pièces!F331)","v":""},{"$f":"IF(Liste_pièces!G331=\"\",\"\",Liste_pièces!G331)","v":""},{"$f":"IF(Liste_pièces!H331=\"\",\"\",Liste_pièces!H331)","v":""},{"$f":"IF(Liste_pièces!I331=\"\",\"\",Liste_pièces!I331)","v":""},{"$f":"IF(Liste_pièces!J331=\"\",\"\",Liste_pièces!J331)","v":""},{"$f":"IF(Liste_pièces!K331=\"\",\"\",Liste_pièces!K331)","v":""},{"$f":"IF(Liste_pièces!L331=\"\",\"\",Liste_pièces!L331)","v":""},{"$f":"IF(Liste_pièces!M331=\"\",\"\",Liste_pièces!M331)","v":""},0,1,0]
[{"$f":"IF(Liste_pièces!A332=\"\",\"ZZZ\",Liste_pièces!A332)","v":"ZZZ"},{"$f":"IF(Liste_pièces!B332=\"\",\"ZZZ\",Liste_pièces!B332)","v":"ZZZ"},{"$f":"IF(Liste_pièces!C332=\"\",\"\",Liste_pièces!C332)","v":""},{"$f":"IF(Liste_pièces!D332=\"\",\"\",Liste_pièces!D332)","v":""},{"$f":"IF(Liste_pièces!E332=\"\",\"\",Liste_pièces!E332)","v":""},{"$f":"IF(Liste_pièces!F332=\"\",\"\",Liste_pièces!F332)","v":""},{"$f":"IF(Liste_pièces!G332=\"\",\"\",Liste_pièces!G332)","v":""},{"$f":"IF(Liste_pièces!H332=\"\",\"\",Liste_pièces!H332)","v":""},{"$f":"IF(Liste_pièces!I332=\"\",\"\",Liste_pièces!I332)","v":""},{"$f":"IF(Liste_pièces!J332=\"\",\"\",Liste_pièces!J332)","v":""},{"$f":"IF(Liste_pièces!K332=\"\",\"\",Liste_pièces!K332)","v":""},{"$f":"IF(Liste_pièces!L332=\"\",\"\",Liste_pièces!L332)","v":""},{"$f":"IF(Liste_pièces!M332=\"\",\"\",Liste_pièces!M332)","v":""},0,1,0]
[{"$f":"IF(Liste_pièces!A333=\"\",\"ZZZ\",Liste_pièces!A333)","v":"ZZZ"},{"$f":"IF(Liste_pièces!B333=\"\",\"ZZZ\",Liste_pièces!B333)","v":"ZZZ"},{"$f":"IF(Liste_pièces!C333=\"\",\"\",Liste_pièces!C333)","v":""},{"$f":"IF(Liste_pièces!D333=\"\",\"\",Liste_pièces!D333)","v":""},{"$f":"IF(Liste_pièces!E333=\"\",\"\",Liste_pièces!E333)","v":""},{"$f":"IF(Liste_pièces!F333=\"\",\"\",Liste_pièces!F333)","v":""},{"$f":"IF(Liste_pièces!G333=\"\",\"\",Liste_pièces!G333)","v":""},{"$f":"IF(Liste_pièces!H333=\"\",\"\",Liste_pièces!H333)","v":""},{"$f":"IF(Liste_pièces!I333=\"\",\"\",Liste_pièces!I333)","v":""},{"$f":"IF(Liste_pièces!J333=\"\",\"\",Liste_pièces!J333)","v":""},{"$f":"IF(Liste_pièces!K333=\"\",\"\",Liste_pièces!K333)","v":""},{"$f":"IF(Liste_pièces!L333=\"\",\"\",Liste_pièces!L333)","v":""},{"$f":"IF(Liste_pièces!M333=\"\",\"\",Liste_pièces!M333)","v":""},0,1,0]
[{"$f":"IF(Liste_pièces!A334=\"\",\"ZZZ\",Liste_pièces!A334)","v":"ZZZ"},{"$f":"IF(Liste_pièces!B334=\"\",\"ZZZ\",Liste_pièces!B334)","v":"ZZZ"},{"$f":"IF(Liste_pièces!C334=\"\",\"\",Liste_pièces!C334)","v":""},{"$f":"IF(Liste_pièces!D334=\"\",\"\",Liste_pièces!D334)","v":""},{"$f":"IF(Liste_pièces!E334=\"\",\"\",Liste_pièces!E334)","v":""},{"$f":"IF(Liste_pièces!F334=\"\",\"\",Liste_pièces!F334)","v":""},{"$f":"IF(Liste_pièces!G334=\"\",\"\",Liste_pièces!G334)","v":""},{"$f":"IF(Liste_pièces!H334=\"\",\"\",Liste_pièces!H334)","v":""},{"$f":"IF(Liste_pièces!I334=\"\",\"\",Liste_pièces!I334)","v":""},{"$f":"IF(Liste_pièces!J334=\"\",\"\",Liste_pièces!J334)","v":""},{"$f":"IF(Liste_pièces!K334=\"\",\"\",Liste_pièces!K334)","v":""},{"$f":"IF(Liste_pièces!L334=\"\",\"\",Liste_pièces!L334)","v":""},{"$f":"IF(Liste_pièces!M334=\"\",\"\",Liste_pièces!M334)","v":""},0,1,0]
[{"$f":"IF(Liste_pièces!A335=\"\",\"ZZZ\",Liste_pièces!A335)","v":"ZZZ"},{"$f":"IF(Liste_pièces!B335=\"\",\"ZZZ\",Liste_pièces!B335)","v":"ZZZ"},{"$f":"IF(Liste_pièces!C335=\"\",\"\",Liste_pièces!C335)","v":""},{"$f":"IF(Liste_pièces!D335=\"\",\"\",Liste_pièces!D335)","v":""},{"$f":"IF(Liste_pièces!E335=\"\",\"\",Liste_pièces!E335)","v":""},{"$f":"IF(Liste_pièces!F335=\"\",\"\",Liste_pièces!F335)","v":""},{"$f":"IF(Liste_pièces!G335=\"\",\"\",Liste_pièces!G335)","v":""},{"$f":"IF(Liste_pièces!H335=\"\",\"\",Liste_pièces!H335)","v":""},{"$f":"IF(Liste_pièces!I335=\"\",\"\",Liste_pièces!I335)","v":""},{"$f":"IF(Liste_pièces!J335=\"\",\"\",Liste_pièces!J335)","v":""},{"$f":"IF(Liste_pièces!K335=\"\",\"\",Liste_pièces!K335)","v":""},{"$f":"IF(Liste_pièces!L335=\"\",\"\",Liste_pièces!L335)","v":""},{"$f":"IF(Liste_pièces!M335=\"\",\"\",Liste_pièces!M335)","v":""},0,1,0]
[{"$f":"IF(Liste_pièces!A336=\"\",\"ZZZ\",Liste_pièces!A336)","v":"ZZZ"},{"$f":"IF(Liste_pièces!B336=\"\",\"ZZZ\",Liste_pièces!B336)","v":"ZZZ"},{"$f":"IF(Liste_pièces!C336=\"\",\"\",Liste_pièces!C336)","v":""},{"$f":"IF(Liste_pièces!D336=\"\",\"\",Liste_pièces!D336)","v":""},{"$f":"IF(Liste_pièces!E336=\"\",\"\",Liste_pièces!E336)","v":""},{"$f":"IF(Liste_pièces!F336=\"\",\"\",Liste_pièces!F336)","v":""},{"$f":"IF(Liste_pièces!G336=\"\",\"\",Liste_pièces!G336)","v":""},{"$f":"IF(Liste_pièces!H336=\"\",\"\",Liste_pièces!H336)","v":""},{"$f":"IF(Liste_pièces!I336=\"\",\"\",Liste_pièces!I336)","v":""},{"$f":"IF(Liste_pièces!J336=\"\",\"\",Liste_pièces!J336)","v":""},{"$f":"IF(Liste_pièces!K336=\"\",\"\",Liste_pièces!K336)","v":""},{"$f":"IF(Liste_pièces!L336=\"\",\"\",Liste_pièces!L336)","v":""},{"$f":"IF(Liste_pièces!M336=\"\",\"\",Liste_pièces!M336)","v":""},0,1,0]
[{"$f":"IF(Liste_pièces!A337=\"\",\"ZZZ\",Liste_pièces!A337)","v":"ZZZ"},{"$f":"IF(Liste_pièces!B337=\"\",\"ZZZ\",Liste_pièces!B337)","v":"ZZZ"},{"$f":"IF(Liste_pièces!C337=\"\",\"\",Liste_pièces!C337)","v":""},{"$f":"IF(Liste_pièces!D337=\"\",\"\",Liste_pièces!D337)","v":""},{"$f":"IF(Liste_pièces!E337=\"\",\"\",Liste_pièces!E337)","v":""},{"$f":"IF(Liste_pièces!F337=\"\",\"\",Liste_pièces!F337)","v":""},{"$f":"IF(Liste_pièces!G337=\"\",\"\",Liste_pièces!G337)","v":""},{"$f":"IF(Liste_pièces!H337=\"\",\"\",Liste_pièces!H337)","v":""},{"$f":"IF(Liste_pièces!I337=\"\",\"\",Liste_pièces!I337)","v":""},{"$f":"IF(Liste_pièces!J337=\"\",\"\",Liste_pièces!J337)","v":""},{"$f":"IF(Liste_pièces!K337=\"\",\"\",Liste_pièces!K337)","v":""},{"$f":"IF(Liste_pièces!L337=\"\",\"\",Liste_pièces!L337)","v":""},{"$f":"IF(Liste_pièces!M337=\"\",\"\",Liste_pièces!M337)","v":""},0,1,0]
[{"$f":"IF(Liste_pièces!A338=\"\",\"ZZZ\",Liste_pièces!A338)","v":"ZZZ"},{"$f":"IF(Liste_pièces!B338=\"\",\"ZZZ\",Liste_pièces!B338)","v":"ZZZ"},{"$f":"IF(Liste_pièces!C338=\"\",\"\",Liste_pièces!C338)","v":""},{"$f":"IF(Liste_pièces!D338=\"\",\"\",Liste_pièces!D338)","v":""},{"$f":"IF(Liste_pièces!E338=\"\",\"\",Liste_pièces!E338)","v":""},{"$f":"IF(Liste_pièces!F338=\"\",\"\",Liste_pièces!F338)","v":""},{"$f":"IF(Liste_pièces!G338=\"\",\"\",Liste_pièces!G338)","v":""},{"$f":"IF(Liste_pièces!H338=\"\",\"\",Liste_pièces!H338)","v":""},{"$f":"IF(Liste_pièces!I338=\"\",\"\",Liste_pièces!I338)","v":""},{"$f":"IF(Liste_pièces!J338=\"\",\"\",Liste_pièces!J338)","v":""},{"$f":"IF(Liste_pièces!K338=\"\",\"\",Liste_pièces!K338)","v":""},{"$f":"IF(Liste_pièces!L338=\"\",\"\",Liste_pièces!L338)","v":""},{"$f":"IF(Liste_pièces!M338=\"\",\"\",Liste_pièces!M338)","v":""},0,1,0]
[{"$f":"IF(Liste_pièces!A339=\"\",\"ZZZ\",Liste_pièces!A339)","v":"ZZZ"},{"$f":"IF(Liste_pièces!B339=\"\",\"ZZZ\",Liste_pièces!B339)","v":"ZZZ"},{"$f":"IF(Liste_pièces!C339=\"\",\"\",Liste_pièces!C339)","v":""},{"$f":"IF(Liste_pièces!D339=\"\",\"\",Liste_pièces!D339)","v":""},{"$f":"IF(Liste_pièces!E339=\"\",\"\",Liste_pièces!E339)","v":""},{"$f":"IF(Liste_pièces!F339=\"\",\"\",Liste_pièces!F339)","v":""},{"$f":"IF(Liste_pièces!G339=\"\",\"\",Liste_pièces!G339)","v":""},{"$f":"IF(Liste_pièces!H339=\"\",\"\",Liste_pièces!H339)","v":""},{"$f":"IF(Liste_pièces!I339=\"\",\"\",Liste_pièces!I339)","v":""},{"$f":"IF(Liste_pièces!J339=\"\",\"\",Liste_pièces!J339)","v":""},{"$f":"IF(Liste_pièces!K339=\"\",\"\",Liste_pièces!K339)","v":""},{"$f":"IF(Liste_pièces!L339=\"\",\"\",Liste_pièces!L339)","v":""},{"$f":"IF(Liste_pièces!M339=\"\",\"\",Liste_pièces!M339)","v":""},0,1,0]
[{"$f":"IF(Liste_pièces!A340=\"\",\"ZZZ\",Liste_pièces!A340)","v":"ZZZ"},{"$f":"IF(Liste_pièces!B340=\"\",\"ZZZ\",Liste_pièces!B340)","v":"ZZZ"},{"$f":"IF(Liste_pièces!C340=\"\",\"\",Liste_pièces!C340)","v":""},{"$f":"IF(Liste_pièces!D340=\"\",\"\",Liste_pièces!D340)","v":""},{"$f":"IF(Liste_pièces!E340=\"\",\"\",Liste_pièces!E340)","v":""},{"$f":"IF(Liste_pièces!F340=\"\",\"\",Liste_pièces!F340)","v":""},{"$f":"IF(Liste_pièces!G340=\"\",\"\",Liste_pièces!G340)","v":""},{"$f":"IF(Liste_pièces!H340=\"\",\"\",Liste_pièces!H340)","v":""},{"$f":"IF(Liste_pièces!I340=\"\",\"\",Liste_pièces!I340)","v":""},{"$f":"IF(Liste_pièces!J340=\"\",\"\",Liste_pièces!J340)","v":""},{"$f":"IF(Liste_pièces!K340=\"\",\"\",Liste_pièces!K340)","v":""},{"$f":"IF(Liste_pièces!L340=\"\",\"\",Liste_pièces!L340)","v":""},{"$f":"IF(Liste_pièces!M340=\"\",\"\",Liste_pièces!M340)","v":""},0,1,0]
[{"$f":"IF(Liste_pièces!A341=\"\",\"ZZZ\",Liste_pièces!A341)","v":"ZZZ"},{"$f":"IF(Liste_pièces!B341=\"\",\"ZZZ\",Liste_pièces!B341)","v":"ZZZ"},{"$f":"IF(Liste_pièces!C341=\"\",\"\",Liste_pièces!C341)","v":""},{"$f":"IF(Liste_pièces!D341=\"\",\"\",Liste_pièces!D341)","v":""},{"$f":"IF(Liste_pièces!E341=\"\",\"\",Liste_pièces!E341)","v":""},{"$f":"IF(Liste_pièces!F341=\"\",\"\",Liste_pièces!F341)","v":""},{"$f":"IF(Liste_pièces!G341=\"\",\"\",Liste_pièces!G341)","v":""},{"$f":"IF(Liste_pièces!H341=\"\",\"\",Liste_pièces!H341)","v":""},{"$f":"IF(Liste_pièces!I341=\"\",\"\",Liste_pièces!I341)","v":""},{"$f":"IF(Liste_pièces!J341=\"\",\"\",Liste_pièces!J341)","v":""},{"$f":"IF(Liste_pièces!K341=\"\",\"\",Liste_pièces!K341)","v":""},{"$f":"IF(Liste_pièces!L341=\"\",\"\",Liste_pièces!L341)","v":""},{"$f":"IF(Liste_pièces!M341=\"\",\"\",Liste_pièces!M341)","v":""},0,1,0]
[{"$f":"IF(Liste_pièces!A342=\"\",\"ZZZ\",Liste_pièces!A342)","v":"ZZZ"},{"$f":"IF(Liste_pièces!B342=\"\",\"ZZZ\",Liste_pièces!B342)","v":"ZZZ"},{"$f":"IF(Liste_pièces!C342=\"\",\"\",Liste_pièces!C342)","v":""},{"$f":"IF(Liste_pièces!D342=\"\",\"\",Liste_pièces!D342)","v":""},{"$f":"IF(Liste_pièces!E342=\"\",\"\",Liste_pièces!E342)","v":""},{"$f":"IF(Liste_pièces!F342=\"\",\"\",Liste_pièces!F342)","v":""},{"$f":"IF(Liste_pièces!G342=\"\",\"\",Liste_pièces!G342)","v":""},{"$f":"IF(Liste_pièces!H342=\"\",\"\",Liste_pièces!H342)","v":""},{"$f":"IF(Liste_pièces!I342=\"\",\"\",Liste_pièces!I342)","v":""},{"$f":"IF(Liste_pièces!J342=\"\",\"\",Liste_pièces!J342)","v":""},{"$f":"IF(Liste_pièces!K342=\"\",\"\",Liste_pièces!K342)","v":""},{"$f":"IF(Liste_pièces!L342=\"\",\"\",Liste_pièces!L342)","v":""},{"$f":"IF(Liste_pièces!M342=\"\",\"\",Liste_pièces!M342)","v":""},0,1,0]
[{"$f":"IF(Liste_pièces!A343=\"\",\"ZZZ\",Liste_pièces!A343)","v":"ZZZ"},{"$f":"IF(Liste_pièces!B343=\"\",\"ZZZ\",Liste_pièces!B343)","v":"ZZZ"},{"$f":"IF(Liste_pièces!C343=\"\",\"\",Liste_pièces!C343)","v":""},{"$f":"IF(Liste_pièces!D343=\"\",\"\",Liste_pièces!D343)","v":""},{"$f":"IF(Liste_pièces!E343=\"\",\"\",Liste_pièces!E343)","v":""},{"$f":"IF(Liste_pièces!F343=\"\",\"\",Liste_pièces!F343)","v":""},{"$f":"IF(Liste_pièces!G343=\"\",\"\",Liste_pièces!G343)","v":""},{"$f":"IF(Liste_pièces!H343=\"\",\"\",Liste_pièces!H343)","v":""},{"$f":"IF(Liste_pièces!I343=\"\",\"\",Liste_pièces!I343)","v":""},{"$f":"IF(Liste_pièces!J343=\"\",\"\",Liste_pièces!J343)","v":""},{"$f":"IF(Liste_pièces!K343=\"\",\"\",Liste_pièces!K343)","v":""},{"$f":"IF(Liste_pièces!L343=\"\",\"\",Liste_pièces!L343)","v":""},{"$f":"IF(Liste_pièces!M343=\"\",\"\",Liste_pièces!M343)","v":""},0,1,0]
[{"$f":"IF(Liste_pièces!A344=\"\",\"ZZZ\",Liste_pièces!A344)","v":"ZZZ"},{"$f":"IF(Liste_pièces!B344=\"\",\"ZZZ\",Liste_pièces!B344)","v":"ZZZ"},{"$f":"IF(Liste_pièces!C344=\"\",\"\",Liste_pièces!C344)","v":""},{"$f":"IF(Liste_pièces!D344=\"\",\"\",Liste_pièces!D344)","v":""},{"$f":"IF(Liste_pièces!E344=\"\",\"\",Liste_pièces!E344)","v":""},{"$f":"IF(Liste_pièces!F344=\"\",\"\",Liste_pièces!F344)","v":""},{"$f":"IF(Liste_pièces!G344=\"\",\"\",Liste_pièces!G344)","v":""},{"$f":"IF(Liste_pièces!H344=\"\",\"\",Liste_pièces!H344)","v":""},{"$f":"IF(Liste_pièces!I344=\"\",\"\",Liste_pièces!I344)","v":""},{"$f":"IF(Liste_pièces!J344=\"\",\"\",Liste_pièces!J344)","v":""},{"$f":"IF(Liste_pièces!K344=\"\",\"\",Liste_pièces!K344)","v":""},{"$f":"IF(Liste_pièces!L344=\"\",\"\",Liste_pièces!L344)","v":""},{"$f":"IF(Liste_pièces!M344=\"\",\"\",Liste_pièces!M344)","v":""},0,1,0]
[{"$f":"IF(Liste_pièces!A345=\"\",\"ZZZ\",Liste_pièces!A345)","v":"ZZZ"},{"$f":"IF(Liste_pièces!B345=\"\",\"ZZZ\",Liste_pièces!B345)","v":"ZZZ"},{"$f":"IF(Liste_pièces!C345=\"\",\"\",Liste_pièces!C345)","v":""},{"$f":"IF(Liste_pièces!D345=\"\",\"\",Liste_pièces!D345)","v":""},{"$f":"IF(Liste_pièces!E345=\"\",\"\",Liste_pièces!E345)","v":""},{"$f":"IF(Liste_pièces!F345=\"\",\"\",Liste_pièces!F345)","v":""},{"$f":"IF(Liste_pièces!G345=\"\",\"\",Liste_pièces!G345)","v":""},{"$f":"IF(Liste_pièces!H345=\"\",\"\",Liste_pièces!H345)","v":""},{"$f":"IF(Liste_pièces!I345=\"\",\"\",Liste_pièces!I345)","v":""},{"$f":"IF(Liste_pièces!J345=\"\",\"\",Liste_pièces!J345)","v":""},{"$f":"IF(Liste_pièces!K345=\"\",\"\",Liste_pièces!K345)","v":""},{"$f":"IF(Liste_pièces!L345=\"\",\"\",Liste_pièces!L345)","v":""},{"$f":"IF(Liste_pièces!M345=\"\",\"\",Liste_pièces!M345)","v":""},0,1,0]
[{"$f":"IF(Liste_pièces!A346=\"\",\"ZZZ\",Liste_pièces!A346)","v":"ZZZ"},{"$f":"IF(Liste_pièces!B346=\"\",\"ZZZ\",Liste_pièces!B346)","v":"ZZZ"},{"$f":"IF(Liste_pièces!C346=\"\",\"\",Liste_pièces!C346)","v":""},{"$f":"IF(Liste_pièces!D346=\"\",\"\",Liste_pièces!D346)","v":""},{"$f":"IF(Liste_pièces!E346=\"\",\"\",Liste_pièces!E346)","v":""},{"$f":"IF(Liste_pièces!F346=\"\",\"\",Liste_pièces!F346)","v":""},{"$f":"IF(Liste_pièces!G346=\"\",\"\",Liste_pièces!G346)","v":""},{"$f":"IF(Liste_pièces!H346=\"\",\"\",Liste_pièces!H346)","v":""},{"$f":"IF(Liste_pièces!I346=\"\",\"\",Liste_pièces!I346)","v":""},{"$f":"IF(Liste_pièces!J346=\"\",\"\",Liste_pièces!J346)","v":""},{"$f":"IF(Liste_pièces!K346=\"\",\"\",Liste_pièces!K346)","v":""},{"$f":"IF(Liste_pièces!L346=\"\",\"\",Liste_pièces!L346)","v":""},{"$f":"IF(Liste_pièces!M346=\"\",\"\",Liste_pièces!M346)","v":""},0,1,0]
[{"$f":"IF(Liste_pièces!A347=\"\",\"ZZZ\",Liste_pièces!A347)","v":"ZZZ"},{"$f":"IF(Liste_pièces!B347=\"\",\"ZZZ\",Liste_pièces!B347)","v":"ZZZ"},{"$f":"IF(Liste_pièces!C347=\"\",\"\",Liste_pièces!C347)","v":""},{"$f":"IF(Liste_pièces!D347=\"\",\"\",Liste_pièces!D347)","v":""},{"$f":"IF(Liste_pièces!E347=\"\",\"\",Liste_pièces!E347)","v":""},{"$f":"IF(Liste_pièces!F347=\"\",\"\",Liste_pièces!F347)","v":""},{"$f":"IF(Liste_pièces!G347=\"\",\"\",Liste_pièces!G347)","v":""},{"$f":"IF(Liste_pièces!H347=\"\",\"\",Liste_pièces!H347)","v":""},{"$f":"IF(Liste_pièces!I347=\"\",\"\",Liste_pièces!I347)","v":""},{"$f":"IF(Liste_pièces!J347=\"\",\"\",Liste_pièces!J347)","v":""},{"$f":"IF(Liste_pièces!K347=\"\",\"\",Liste_pièces!K347)","v":""},{"$f":"IF(Liste_pièces!L347=\"\",\"\",Liste_pièces!L347)","v":""},{"$f":"IF(Liste_pièces!M347=\"\",\"\",Liste_pièces!M347)","v":""},0,1,0]
[{"$f":"IF(Liste_pièces!A348=\"\",\"ZZZ\",Liste_pièces!A348)","v":"ZZZ"},{"$f":"IF(Liste_pièces!B348=\"\",\"ZZZ\",Liste_pièces!B348)","v":"ZZZ"},{"$f":"IF(Liste_pièces!C348=\"\",\"\",Liste_pièces!C348)","v":""},{"$f":"IF(Liste_pièces!D348=\"\",\"\",Liste_pièces!D348)","v":""},{"$f":"IF(Liste_pièces!E348=\"\",\"\",Liste_pièces!E348)","v":""},{"$f":"IF(Liste_pièces!F348=\"\",\"\",Liste_pièces!F348)","v":""},{"$f":"IF(Liste_pièces!G348=\"\",\"\",Liste_pièces!G348)","v":""},{"$f":"IF(Liste_pièces!H348=\"\",\"\",Liste_pièces!H348)","v":""},{"$f":"IF(Liste_pièces!I348=\"\",\"\",Liste_pièces!I348)","v":""},{"$f":"IF(Liste_pièces!J348=\"\",\"\",Liste_pièces!J348)","v":""},{"$f":"IF(Liste_pièces!K348=\"\",\"\",Liste_pièces!K348)","v":""},{"$f":"IF(Liste_pièces!L348=\"\",\"\",Liste_pièces!L348)","v":""},{"$f":"IF(Liste_pièces!M348=\"\",\"\",Liste_pièces!M348)","v":""},0,1,0]
[{"$f":"IF(Liste_pièces!A349=\"\",\"ZZZ\",Liste_pièces!A349)","v":"ZZZ"},{"$f":"IF(Liste_pièces!B349=\"\",\"ZZZ\",Liste_pièces!B349)","v":"ZZZ"},{"$f":"IF(Liste_pièces!C349=\"\",\"\",Liste_pièces!C349)","v":""},{"$f":"IF(Liste_pièces!D349=\"\",\"\",Liste_pièces!D349)","v":""},{"$f":"IF(Liste_pièces!E349=\"\",\"\",Liste_pièces!E349)","v":""},{"$f":"IF(Liste_pièces!F349=\"\",\"\",Liste_pièces!F349)","v":""},{"$f":"IF(Liste_pièces!G349=\"\",\"\",Liste_pièces!G349)","v":""},{"$f":"IF(Liste_pièces!H349=\"\",\"\",Liste_pièces!H349)","v":""},{"$f":"IF(Liste_pièces!I349=\"\",\"\",Liste_pièces!I349)","v":""},{"$f":"IF(Liste_pièces!J349=\"\",\"\",Liste_pièces!J349)","v":""},{"$f":"IF(Liste_pièces!K349=\"\",\"\",Liste_pièces!K349)","v":""},{"$f":"IF(Liste_pièces!L349=\"\",\"\",Liste_pièces!L349)","v":""},{"$f":"IF(Liste_pièces!M349=\"\",\"\",Liste_pièces!M349)","v":""},0,1,0]
[{"$f":"IF(Liste_pièces!A350=\"\",\"ZZZ\",Liste_pièces!A350)","v":"ZZZ"},{"$f":"IF(Liste_pièces!B350=\"\",\"ZZZ\",Liste_pièces!B350)","v":"ZZZ"},{"$f":"IF(Liste_pièces!C350=\"\",\"\",Liste_pièces!C350)","v":""},{"$f":"IF(Liste_pièces!D350=\"\",\"\",Liste_pièces!D350)","v":""},{"$f":"IF(Liste_pièces!E350=\"\",\"\",Liste_pièces!E350)","v":""},{"$f":"IF(Liste_pièces!F350=\"\",\"\",Liste_pièces!F350)","v":""},{"$f":"IF(Liste_pièces!G350=\"\",\"\",Liste_pièces!G350)","v":""},{"$f":"IF(Liste_pièces!H350=\"\",\"\",Liste_pièces!H350)","v":""},{"$f":"IF(Liste_pièces!I350=\"\",\"\",Liste_pièces!I350)","v":""},{"$f":"IF(Liste_pièces!J350=\"\",\"\",Liste_pièces!J350)","v":""},{"$f":"IF(Liste_pièces!K350=\"\",\"\",Liste_pièces!K350)","v":""},{"$f":"IF(Liste_pièces!L350=\"\",\"\",Liste_pièces!L350)","v":""},{"$f":"IF(Liste_pièces!M350=\"\",\"\",Liste_pièces!M350)","v":""},0,1,0]
[{"$f":"IF(Liste_pièces!A351=\"\",\"ZZZ\",Liste_pièces!A351)","v":"ZZZ"},{"$f":"IF(Liste_pièces!B351=\"\",\"ZZZ\",Liste_pièces!B351)","v":"ZZZ"},{"$f":"IF(Liste_pièces!C351=\"\",\"\",Liste_pièces!C351)","v":""},{"$f":"IF(Liste_pièces!D351=\"\",\"\",Liste_pièces!D351)","v":""},{"$f":"IF(Liste_pièces!E351=\"\",\"\",Liste_pièces!E351)","v":""},{"$f":"IF(Liste_pièces!F351=\"\",\"\",Liste_pièces!F351)","v":""},{"$f":"IF(Liste_pièces!G351=\"\",\"\",Liste_pièces!G351)","v":""},{"$f":"IF(Liste_pièces!H351=\"\",\"\",Liste_pièces!H351)","v":""},{"$f":"IF(Liste_pièces!I351=\"\",\"\",Liste_pièces!I351)","v":""},{"$f":"IF(Liste_pièces!J351=\"\",\"\",Liste_pièces!J351)","v":""},{"$f":"IF(Liste_pièces!K351=\"\",\"\",Liste_pièces!K351)","v":""},{"$f":"IF(Liste_pièces!L351=\"\",\"\",Liste_pièces!L351)","v":""},{"$f":"IF(Liste_pièces!M351=\"\",\"\",Liste_pièces!M351)","v":""},0,1,0]
[{"$f":"IF(Liste_pièces!A352=\"\",\"ZZZ\",Liste_pièces!A352)","v":"ZZZ"},{"$f":"IF(Liste_pièces!B352=\"\",\"ZZZ\",Liste_pièces!B352)","v":"ZZZ"},{"$f":"IF(Liste_pièces!C352=\"\",\"\",Liste_pièces!C352)","v":""},{"$f":"IF(Liste_pièces!D352=\"\",\"\",Liste_pièces!D352)","v":""},{"$f":"IF(Liste_pièces!E352=\"\",\"\",Liste_pièces!E352)","v":""},{"$f":"IF(Liste_pièces!F352=\"\",\"\",Liste_pièces!F352)","v":""},{"$f":"IF(Liste_pièces!G352=\"\",\"\",Liste_pièces!G352)","v":""},{"$f":"IF(Liste_pièces!H352=\"\",\"\",Liste_pièces!H352)","v":""},{"$f":"IF(Liste_pièces!I352=\"\",\"\",Liste_pièces!I352)","v":""},{"$f":"IF(Liste_pièces!J352=\"\",\"\",Liste_pièces!J352)","v":""},{"$f":"IF(Liste_pièces!K352=\"\",\"\",Liste_pièces!K352)","v":""},{"$f":"IF(Liste_pièces!L352=\"\",\"\",Liste_pièces!L352)","v":""},{"$f":"IF(Liste_pièces!M352=\"\",\"\",Liste_pièces!M352)","v":""},0,1,0]
[{"$f":"IF(Liste_pièces!A353=\"\",\"ZZZ\",Liste_pièces!A353)","v":"ZZZ"},{"$f":"IF(Liste_pièces!B353=\"\",\"ZZZ\",Liste_pièces!B353)","v":"ZZZ"},{"$f":"IF(Liste_pièces!C353=\"\",\"\",Liste_pièces!C353)","v":""},{"$f":"IF(Liste_pièces!D353=\"\",\"\",Liste_pièces!D353)","v":""},{"$f":"IF(Liste_pièces!E353=\"\",\"\",Liste_pièces!E353)","v":""},{"$f":"IF(Liste_pièces!F353=\"\",\"\",Liste_pièces!F353)","v":""},{"$f":"IF(Liste_pièces!G353=\"\",\"\",Liste_pièces!G353)","v":""},{"$f":"IF(Liste_pièces!H353=\"\",\"\",Liste_pièces!H353)","v":""},{"$f":"IF(Liste_pièces!I353=\"\",\"\",Liste_pièces!I353)","v":""},{"$f":"IF(Liste_pièces!J353=\"\",\"\",Liste_pièces!J353)","v":""},{"$f":"IF(Liste_pièces!K353=\"\",\"\",Liste_pièces!K353)","v":""},{"$f":"IF(Liste_pièces!L353=\"\",\"\",Liste_pièces!L353)","v":""},{"$f":"IF(Liste_pièces!M353=\"\",\"\",Liste_pièces!M353)","v":""},0,1,0]
[{"$f":"IF(Liste_pièces!A354=\"\",\"ZZZ\",Liste_pièces!A354)","v":"ZZZ"},{"$f":"IF(Liste_pièces!B354=\"\",\"ZZZ\",Liste_pièces!B354)","v":"ZZZ"},{"$f":"IF(Liste_pièces!C354=\"\",\"\",Liste_pièces!C354)","v":""},{"$f":"IF(Liste_pièces!D354=\"\",\"\",Liste_pièces!D354)","v":""},{"$f":"IF(Liste_pièces!E354=\"\",\"\",Liste_pièces!E354)","v":""},{"$f":"IF(Liste_pièces!F354=\"\",\"\",Liste_pièces!F354)","v":""},{"$f":"IF(Liste_pièces!G354=\"\",\"\",Liste_pièces!G354)","v":""},{"$f":"IF(Liste_pièces!H354=\"\",\"\",Liste_pièces!H354)","v":""},{"$f":"IF(Liste_pièces!I354=\"\",\"\",Liste_pièces!I354)","v":""},{"$f":"IF(Liste_pièces!J354=\"\",\"\",Liste_pièces!J354)","v":""},{"$f":"IF(Liste_pièces!K354=\"\",\"\",Liste_pièces!K354)","v":""},{"$f":"IF(Liste_pièces!L354=\"\",\"\",Liste_pièces!L354)","v":""},{"$f":"IF(Liste_pièces!M354=\"\",\"\",Liste_pièces!M354)","v":""},0,1,0]
[{"$f":"IF(Liste_pièces!A355=\"\",\"ZZZ\",Liste_pièces!A355)","v":"ZZZ"},{"$f":"IF(Liste_pièces!B355=\"\",\"ZZZ\",Liste_pièces!B355)","v":"ZZZ"},{"$f":"IF(Liste_pièces!C355=\"\",\"\",Liste_pièces!C355)","v":""},{"$f":"IF(Liste_pièces!D355=\"\",\"\",Liste_pièces!D355)","v":""},{"$f":"IF(Liste_pièces!E355=\"\",\"\",Liste_pièces!E355)","v":""},{"$f":"IF(Liste_pièces!F355=\"\",\"\",Liste_pièces!F355)","v":""},{"$f":"IF(Liste_pièces!G355=\"\",\"\",Liste_pièces!G355)","v":""},{"$f":"IF(Liste_pièces!H355=\"\",\"\",Liste_pièces!H355)","v":""},{"$f":"IF(Liste_pièces!I355=\"\",\"\",Liste_pièces!I355)","v":""},{"$f":"IF(Liste_pièces!J355=\"\",\"\",Liste_pièces!J355)","v":""},{"$f":"IF(Liste_pièces!K355=\"\",\"\",Liste_pièces!K355)","v":""},{"$f":"IF(Liste_pièces!L355=\"\",\"\",Liste_pièces!L355)","v":""},{"$f":"IF(Liste_pièces!M355=\"\",\"\",Liste_pièces!M355)","v":""},0,1,0]
[{"$f":"IF(Liste_pièces!A356=\"\",\"ZZZ\",Liste_pièces!A356)","v":"ZZZ"},{"$f":"IF(Liste_pièces!B356=\"\",\"ZZZ\",Liste_pièces!B356)","v":"ZZZ"},{"$f":"IF(Liste_pièces!C356=\"\",\"\",Liste_pièces!C356)","v":""},{"$f":"IF(Liste_pièces!D356=\"\",\"\",Liste_pièces!D356)","v":""},{"$f":"IF(Liste_pièces!E356=\"\",\"\",Liste_pièces!E356)","v":""},{"$f":"IF(Liste_pièces!F356=\"\",\"\",Liste_pièces!F356)","v":""},{"$f":"IF(Liste_pièces!G356=\"\",\"\",Liste_pièces!G356)","v":""},{"$f":"IF(Liste_pièces!H356=\"\",\"\",Liste_pièces!H356)","v":""},{"$f":"IF(Liste_pièces!I356=\"\",\"\",Liste_pièces!I356)","v":""},{"$f":"IF(Liste_pièces!J356=\"\",\"\",Liste_pièces!J356)","v":""},{"$f":"IF(Liste_pièces!K356=\"\",\"\",Liste_pièces!K356)","v":""},{"$f":"IF(Liste_pièces!L356=\"\",\"\",Liste_pièces!L356)","v":""},{"$f":"IF(Liste_pièces!M356=\"\",\"\",Liste_pièces!M356)","v":""},0,1,0]
[{"$f":"IF(Liste_pièces!A357=\"\",\"ZZZ\",Liste_pièces!A357)","v":"ZZZ"},{"$f":"IF(Liste_pièces!B357=\"\",\"ZZZ\",Liste_pièces!B357)","v":"ZZZ"},{"$f":"IF(Liste_pièces!C357=\"\",\"\",Liste_pièces!C357)","v":""},{"$f":"IF(Liste_pièces!D357=\"\",\"\",Liste_pièces!D357)","v":""},{"$f":"IF(Liste_pièces!E357=\"\",\"\",Liste_pièces!E357)","v":""},{"$f":"IF(Liste_pièces!F357=\"\",\"\",Liste_pièces!F357)","v":""},{"$f":"IF(Liste_pièces!G357=\"\",\"\",Liste_pièces!G357)","v":""},{"$f":"IF(Liste_pièces!H357=\"\",\"\",Liste_pièces!H357)","v":""},{"$f":"IF(Liste_pièces!I357=\"\",\"\",Liste_pièces!I357)","v":""},{"$f":"IF(Liste_pièces!J357=\"\",\"\",Liste_pièces!J357)","v":""},{"$f":"IF(Liste_pièces!K357=\"\",\"\",Liste_pièces!K357)","v":""},{"$f":"IF(Liste_pièces!L357=\"\",\"\",Liste_pièces!L357)","v":""},{"$f":"IF(Liste_pièces!M357=\"\",\"\",Liste_pièces!M357)","v":""},0,1,0]
[{"$f":"IF(Liste_pièces!A358=\"\",\"ZZZ\",Liste_pièces!A358)","v":"ZZZ"},{"$f":"IF(Liste_pièces!B358=\"\",\"ZZZ\",Liste_pièces!B358)","v":"ZZZ"},{"$f":"IF(Liste_pièces!C358=\"\",\"\",Liste_pièces!C358)","v":""},{"$f":"IF(Liste_pièces!D358=\"\",\"\",Liste_pièces!D358)","v":""},{"$f":"IF(Liste_pièces!E358=\"\",\"\",Liste_pièces!E358)","v":""},{"$f":"IF(Liste_pièces!F358=\"\",\"\",Liste_pièces!F358)","v":""},{"$f":"IF(Liste_pièces!G358=\"\",\"\",Liste_pièces!G358)","v":""},{"$f":"IF(Liste_pièces!H358=\"\",\"\",Liste_pièces!H358)","v":""},{"$f":"IF(Liste_pièces!I358=\"\",\"\",Liste_pièces!I358)","v":""},{"$f":"IF(Liste_pièces!J358=\"\",\"\",Liste_pièces!J358)","v":""},{"$f":"IF(Liste_pièces!K358=\"\",\"\",Liste_pièces!K358)","v":""},{"$f":"IF(Liste_pièces!L358=\"\",\"\",Liste_pièces!L358)","v":""},{"$f":"IF(Liste_pièces!M358=\"\",\"\",Liste_pièces!M358)","v":""},0,1,0]
[{"$f":"IF(Liste_pièces!A359=\"\",\"ZZZ\",Liste_pièces!A359)","v":"ZZZ"},{"$f":"IF(Liste_pièces!B359=\"\",\"ZZZ\",Liste_pièces!B359)","v":"ZZZ"},{"$f":"IF(Liste_pièces!C359=\"\",\"\",Liste_pièces!C359)","v":""},{"$f":"IF(Liste_pièces!D359=\"\",\"\",Liste_pièces!D359)","v":""},{"$f":"IF(Liste_pièces!E359=\"\",\"\",Liste_pièces!E359)","v":""},{"$f":"IF(Liste_pièces!F359=\"\",\"\",Liste_pièces!F359)","v":""},{"$f":"IF(Liste_pièces!G359=\"\",\"\",Liste_pièces!G359)","v":""},{"$f":"IF(Liste_pièces!H359=\"\",\"\",Liste_pièces!H359)","v":""},{"$f":"IF(Liste_pièces!I359=\"\",\"\",Liste_pièces!I359)","v":""},{"$f":"IF(Liste_pièces!J359=\"\",\"\",Liste_pièces!J359)","v":""},{"$f":"IF(Liste_pièces!K359=\"\",\"\",Liste_pièces!K359)","v":""},{"$f":"IF(Liste_pièces!L359=\"\",\"\",Liste_pièces!L359)","v":""},{"$f":"IF(Liste_pièces!M359=\"\",\"\",Liste_pièces!M359)","v":""},0,1,0]
[{"$f":"IF(Liste_pièces!A360=\"\",\"ZZZ\",Liste_pièces!A360)","v":"ZZZ"},{"$f":"IF(Liste_pièces!B360=\"\",\"ZZZ\",Liste_pièces!B360)","v":"ZZZ"},{"$f":"IF(Liste_pièces!C360=\"\",\"\",Liste_pièces!C360)","v":""},{"$f":"IF(Liste_pièces!D360=\"\",\"\",Liste_pièces!D360)","v":""},{"$f":"IF(Liste_pièces!E360=\"\",\"\",Liste_pièces!E360)","v":""},{"$f":"IF(Liste_pièces!F360=\"\",\"\",Liste_pièces!F360)","v":""},{"$f":"IF(Liste_pièces!G360=\"\",\"\",Liste_pièces!G360)","v":""},{"$f":"IF(Liste_pièces!H360=\"\",\"\",Liste_pièces!H360)","v":""},{"$f":"IF(Liste_pièces!I360=\"\",\"\",Liste_pièces!I360)","v":""},{"$f":"IF(Liste_pièces!J360=\"\",\"\",Liste_pièces!J360)","v":""},{"$f":"IF(Liste_pièces!K360=\"\",\"\",Liste_pièces!K360)","v":""},{"$f":"IF(Liste_pièces!L360=\"\",\"\",Liste_pièces!L360)","v":""},{"$f":"IF(Liste_pièces!M360=\"\",\"\",Liste_pièces!M360)","v":""},0,1,0]
[{"$f":"IF(Liste_pièces!A361=\"\",\"ZZZ\",Liste_pièces!A361)","v":"ZZZ"},{"$f":"IF(Liste_pièces!B361=\"\",\"ZZZ\",Liste_pièces!B361)","v":"ZZZ"},{"$f":"IF(Liste_pièces!C361=\"\",\"\",Liste_pièces!C361)","v":""},{"$f":"IF(Liste_pièces!D361=\"\",\"\",Liste_pièces!D361)","v":""},{"$f":"IF(Liste_pièces!E361=\"\",\"\",Liste_pièces!E361)","v":""},{"$f":"IF(Liste_pièces!F361=\"\",\"\",Liste_pièces!F361)","v":""},{"$f":"IF(Liste_pièces!G361=\"\",\"\",Liste_pièces!G361)","v":""},{"$f":"IF(Liste_pièces!H361=\"\",\"\",Liste_pièces!H361)","v":""},{"$f":"IF(Liste_pièces!I361=\"\",\"\",Liste_pièces!I361)","v":""},{"$f":"IF(Liste_pièces!J361=\"\",\"\",Liste_pièces!J361)","v":""},{"$f":"IF(Liste_pièces!K361=\"\",\"\",Liste_pièces!K361)","v":""},{"$f":"IF(Liste_pièces!L361=\"\",\"\",Liste_pièces!L361)","v":""},{"$f":"IF(Liste_pièces!M361=\"\",\"\",Liste_pièces!M361)","v":""},0,1,0]
[{"$f":"IF(Liste_pièces!A362=\"\",\"ZZZ\",Liste_pièces!A362)","v":"ZZZ"},{"$f":"IF(Liste_pièces!B362=\"\",\"ZZZ\",Liste_pièces!B362)","v":"ZZZ"},{"$f":"IF(Liste_pièces!C362=\"\",\"\",Liste_pièces!C362)","v":""},{"$f":"IF(Liste_pièces!D362=\"\",\"\",Liste_pièces!D362)","v":""},{"$f":"IF(Liste_pièces!E362=\"\",\"\",Liste_pièces!E362)","v":""},{"$f":"IF(Liste_pièces!F362=\"\",\"\",Liste_pièces!F362)","v":""},{"$f":"IF(Liste_pièces!G362=\"\",\"\",Liste_pièces!G362)","v":""},{"$f":"IF(Liste_pièces!H362=\"\",\"\",Liste_pièces!H362)","v":""},{"$f":"IF(Liste_pièces!I362=\"\",\"\",Liste_pièces!I362)","v":""},{"$f":"IF(Liste_pièces!J362=\"\",\"\",Liste_pièces!J362)","v":""},{"$f":"IF(Liste_pièces!K362=\"\",\"\",Liste_pièces!K362)","v":""},{"$f":"IF(Liste_pièces!L362=\"\",\"\",Liste_pièces!L362)","v":""},{"$f":"IF(Liste_pièces!M362=\"\",\"\",Liste_pièces!M362)","v":""},0,{"$f":"IF(N362*37=SUM(N325:N361),1,0)","v":1},0]
[{"$f":"IF(Liste_pièces!A363=\"\",\"ZZZ\",Liste_pièces!A363)","v":"ZZZ"},{"$f":"IF(Liste_pièces!B363=\"\",\"ZZZ\",Liste_pièces!B363)","v":"ZZZ"},{"$f":"IF(Liste_pièces!C363=\"\",\"\",Liste_pièces!C363)","v":""},{"$f":"IF(Liste_pièces!D363=\"\",\"\",Liste_pièces!D363)","v":""},{"$f":"IF(Liste_pièces!E363=\"\",\"\",Liste_pièces!E363)","v":""},{"$f":"IF(Liste_pièces!F363=\"\",\"\",Liste_pièces!F363)","v":""},{"$f":"IF(Liste_pièces!G363=\"\",\"\",Liste_pièces!G363)","v":""},{"$f":"IF(Liste_pièces!H363=\"\",\"\",Liste_pièces!H363)","v":""},{"$f":"IF(Liste_pièces!I363=\"\",\"\",Liste_pièces!I363)","v":""},{"$f":"IF(Liste_pièces!J363=\"\",\"\",Liste_pièces!J363)","v":""},{"$f":"IF(Liste_pièces!K363=\"\",\"\",Liste_pièces!K363)","v":""},{"$f":"IF(Liste_pièces!L363=\"\",\"\",Liste_pièces!L363)","v":""},{"$f":"IF(Liste_pièces!M363=\"\",\"\",Liste_pièces!M363)","v":""},0,1,0]
[{"$f":"IF(Liste_pièces!A364=\"\",\"ZZZ\",Liste_pièces!A364)","v":"ZZZ"},{"$f":"IF(Liste_pièces!B364=\"\",\"ZZZ\",Liste_pièces!B364)","v":"ZZZ"},{"$f":"IF(Liste_pièces!C364=\"\",\"\",Liste_pièces!C364)","v":""},{"$f":"IF(Liste_pièces!D364=\"\",\"\",Liste_pièces!D364)","v":""},{"$f":"IF(Liste_pièces!E364=\"\",\"\",Liste_pièces!E364)","v":""},{"$f":"IF(Liste_pièces!F364=\"\",\"\",Liste_pièces!F364)","v":""},{"$f":"IF(Liste_pièces!G364=\"\",\"\",Liste_pièces!G364)","v":""},{"$f":"IF(Liste_pièces!H364=\"\",\"\",Liste_pièces!H364)","v":""},{"$f":"IF(Liste_pièces!I364=\"\",\"\",Liste_pièces!I364)","v":""},{"$f":"IF(Liste_pièces!J364=\"\",\"\",Liste_pièces!J364)","v":""},{"$f":"IF(Liste_pièces!K364=\"\",\"\",Liste_pièces!K364)","v":""},{"$f":"IF(Liste_pièces!L364=\"\",\"\",Liste_pièces!L364)","v":""},{"$f":"IF(Liste_pièces!M364=\"\",\"\",Liste_pièces!M364)","v":""},0,1,0]
[{"$f":"IF(Liste_pièces!A365=\"\",\"ZZZ\",Liste_pièces!A365)","v":"ZZZ"},{"$f":"IF(Liste_pièces!B365=\"\",\"ZZZ\",Liste_pièces!B365)","v":"ZZZ"},{"$f":"IF(Liste_pièces!C365=\"\",\"\",Liste_pièces!C365)","v":""},{"$f":"IF(Liste_pièces!D365=\"\",\"\",Liste_pièces!D365)","v":""},{"$f":"IF(Liste_pièces!E365=\"\",\"\",Liste_pièces!E365)","v":""},{"$f":"IF(Liste_pièces!F365=\"\",\"\",Liste_pièces!F365)","v":""},{"$f":"IF(Liste_pièces!G365=\"\",\"\",Liste_pièces!G365)","v":""},{"$f":"IF(Liste_pièces!H365=\"\",\"\",Liste_pièces!H365)","v":""},{"$f":"IF(Liste_pièces!I365=\"\",\"\",Liste_pièces!I365)","v":""},{"$f":"IF(Liste_pièces!J365=\"\",\"\",Liste_pièces!J365)","v":""},{"$f":"IF(Liste_pièces!K365=\"\",\"\",Liste_pièces!K365)","v":""},{"$f":"IF(Liste_pièces!L365=\"\",\"\",Liste_pièces!L365)","v":""},{"$f":"IF(Liste_pièces!M365=\"\",\"\",Liste_pièces!M365)","v":""},0,1,0]
[{"$f":"IF(Liste_pièces!A366=\"\",\"ZZZ\",Liste_pièces!A366)","v":"ZZZ"},{"$f":"IF(Liste_pièces!B366=\"\",\"ZZZ\",Liste_pièces!B366)","v":"ZZZ"},{"$f":"IF(Liste_pièces!C366=\"\",\"\",Liste_pièces!C366)","v":""},{"$f":"IF(Liste_pièces!D366=\"\",\"\",Liste_pièces!D366)","v":""},{"$f":"IF(Liste_pièces!E366=\"\",\"\",Liste_pièces!E366)","v":""},{"$f":"IF(Liste_pièces!F366=\"\",\"\",Liste_pièces!F366)","v":""},{"$f":"IF(Liste_pièces!G366=\"\",\"\",Liste_pièces!G366)","v":""},{"$f":"IF(Liste_pièces!H366=\"\",\"\",Liste_pièces!H366)","v":""},{"$f":"IF(Liste_pièces!I366=\"\",\"\",Liste_pièces!I366)","v":""},{"$f":"IF(Liste_pièces!J366=\"\",\"\",Liste_pièces!J366)","v":""},{"$f":"IF(Liste_pièces!K366=\"\",\"\",Liste_pièces!K366)","v":""},{"$f":"IF(Liste_pièces!L366=\"\",\"\",Liste_pièces!L366)","v":""},{"$f":"IF(Liste_pièces!M366=\"\",\"\",Liste_pièces!M366)","v":""},0,1,0]
[{"$f":"IF(Liste_pièces!A367=\"\",\"ZZZ\",Liste_pièces!A367)","v":"ZZZ"},{"$f":"IF(Liste_pièces!B367=\"\",\"ZZZ\",Liste_pièces!B367)","v":"ZZZ"},{"$f":"IF(Liste_pièces!C367=\"\",\"\",Liste_pièces!C367)","v":""},{"$f":"IF(Liste_pièces!D367=\"\",\"\",Liste_pièces!D367)","v":""},{"$f":"IF(Liste_pièces!E367=\"\",\"\",Liste_pièces!E367)","v":""},{"$f":"IF(Liste_pièces!F367=\"\",\"\",Liste_pièces!F367)","v":""},{"$f":"IF(Liste_pièces!G367=\"\",\"\",Liste_pièces!G367)","v":""},{"$f":"IF(Liste_pièces!H367=\"\",\"\",Liste_pièces!H367)","v":""},{"$f":"IF(Liste_pièces!I367=\"\",\"\",Liste_pièces!I367)","v":""},{"$f":"IF(Liste_pièces!J367=\"\",\"\",Liste_pièces!J367)","v":""},{"$f":"IF(Liste_pièces!K367=\"\",\"\",Liste_pièces!K367)","v":""},{"$f":"IF(Liste_pièces!L367=\"\",\"\",Liste_pièces!L367)","v":""},{"$f":"IF(Liste_pièces!M367=\"\",\"\",Liste_pièces!M367)","v":""},0,1,0]
[{"$f":"IF(Liste_pièces!A368=\"\",\"ZZZ\",Liste_pièces!A368)","v":"ZZZ"},{"$f":"IF(Liste_pièces!B368=\"\",\"ZZZ\",Liste_pièces!B368)","v":"ZZZ"},{"$f":"IF(Liste_pièces!C368=\"\",\"\",Liste_pièces!C368)","v":""},{"$f":"IF(Liste_pièces!D368=\"\",\"\",Liste_pièces!D368)","v":""},{"$f":"IF(Liste_pièces!E368=\"\",\"\",Liste_pièces!E368)","v":""},{"$f":"IF(Liste_pièces!F368=\"\",\"\",Liste_pièces!F368)","v":""},{"$f":"IF(Liste_pièces!G368=\"\",\"\",Liste_pièces!G368)","v":""},{"$f":"IF(Liste_pièces!H368=\"\",\"\",Liste_pièces!H368)","v":""},{"$f":"IF(Liste_pièces!I368=\"\",\"\",Liste_pièces!I368)","v":""},{"$f":"IF(Liste_pièces!J368=\"\",\"\",Liste_pièces!J368)","v":""},{"$f":"IF(Liste_pièces!K368=\"\",\"\",Liste_pièces!K368)","v":""},{"$f":"IF(Liste_pièces!L368=\"\",\"\",Liste_pièces!L368)","v":""},{"$f":"IF(Liste_pièces!M368=\"\",\"\",Liste_pièces!M368)","v":""},0,1,0]
[{"$f":"IF(Liste_pièces!A369=\"\",\"ZZZ\",Liste_pièces!A369)","v":"ZZZ"},{"$f":"IF(Liste_pièces!B369=\"\",\"ZZZ\",Liste_pièces!B369)","v":"ZZZ"},{"$f":"IF(Liste_pièces!C369=\"\",\"\",Liste_pièces!C369)","v":""},{"$f":"IF(Liste_pièces!D369=\"\",\"\",Liste_pièces!D369)","v":""},{"$f":"IF(Liste_pièces!E369=\"\",\"\",Liste_pièces!E369)","v":""},{"$f":"IF(Liste_pièces!F369=\"\",\"\",Liste_pièces!F369)","v":""},{"$f":"IF(Liste_pièces!G369=\"\",\"\",Liste_pièces!G369)","v":""},{"$f":"IF(Liste_pièces!H369=\"\",\"\",Liste_pièces!H369)","v":""},{"$f":"IF(Liste_pièces!I369=\"\",\"\",Liste_pièces!I369)","v":""},{"$f":"IF(Liste_pièces!J369=\"\",\"\",Liste_pièces!J369)","v":""},{"$f":"IF(Liste_pièces!K369=\"\",\"\",Liste_pièces!K369)","v":""},{"$f":"IF(Liste_pièces!L369=\"\",\"\",Liste_pièces!L369)","v":""},{"$f":"IF(Liste_pièces!M369=\"\",\"\",Liste_pièces!M369)","v":""},0,1,0]
[{"$f":"IF(Liste_pièces!A370=\"\",\"ZZZ\",Liste_pièces!A370)","v":"ZZZ"},{"$f":"IF(Liste_pièces!B370=\"\",\"ZZZ\",Liste_pièces!B370)","v":"ZZZ"},{"$f":"IF(Liste_pièces!C370=\"\",\"\",Liste_pièces!C370)","v":""},{"$f":"IF(Liste_pièces!D370=\"\",\"\",Liste_pièces!D370)","v":""},{"$f":"IF(Liste_pièces!E370=\"\",\"\",Liste_pièces!E370)","v":""},{"$f":"IF(Liste_pièces!F370=\"\",\"\",Liste_pièces!F370)","v":""},{"$f":"IF(Liste_pièces!G370=\"\",\"\",Liste_pièces!G370)","v":""},{"$f":"IF(Liste_pièces!H370=\"\",\"\",Liste_pièces!H370)","v":""},{"$f":"IF(Liste_pièces!I370=\"\",\"\",Liste_pièces!I370)","v":""},{"$f":"IF(Liste_pièces!J370=\"\",\"\",Liste_pièces!J370)","v":""},{"$f":"IF(Liste_pièces!K370=\"\",\"\",Liste_pièces!K370)","v":""},{"$f":"IF(Liste_pièces!L370=\"\",\"\",Liste_pièces!L370)","v":""},{"$f":"IF(Liste_pièces!M370=\"\",\"\",Liste_pièces!M370)","v":""},0,1,0]
[{"$f":"IF(Liste_pièces!A371=\"\",\"ZZZ\",Liste_pièces!A371)","v":"ZZZ"},{"$f":"IF(Liste_pièces!B371=\"\",\"ZZZ\",Liste_pièces!B371)","v":"ZZZ"},{"$f":"IF(Liste_pièces!C371=\"\",\"\",Liste_pièces!C371)","v":""},{"$f":"IF(Liste_pièces!D371=\"\",\"\",Liste_pièces!D371)","v":""},{"$f":"IF(Liste_pièces!E371=\"\",\"\",Liste_pièces!E371)","v":""},{"$f":"IF(Liste_pièces!F371=\"\",\"\",Liste_pièces!F371)","v":""},{"$f":"IF(Liste_pièces!G371=\"\",\"\",Liste_pièces!G371)","v":""},{"$f":"IF(Liste_pièces!H371=\"\",\"\",Liste_pièces!H371)","v":""},{"$f":"IF(Liste_pièces!I371=\"\",\"\",Liste_pièces!I371)","v":""},{"$f":"IF(Liste_pièces!J371=\"\",\"\",Liste_pièces!J371)","v":""},{"$f":"IF(Liste_pièces!K371=\"\",\"\",Liste_pièces!K371)","v":""},{"$f":"IF(Liste_pièces!L371=\"\",\"\",Liste_pièces!L371)","v":""},{"$f":"IF(Liste_pièces!M371=\"\",\"\",Liste_pièces!M371)","v":""},0,1,0]
[{"$f":"IF(Liste_pièces!A372=\"\",\"ZZZ\",Liste_pièces!A372)","v":"ZZZ"},{"$f":"IF(Liste_pièces!B372=\"\",\"ZZZ\",Liste_pièces!B372)","v":"ZZZ"},{"$f":"IF(Liste_pièces!C372=\"\",\"\",Liste_pièces!C372)","v":""},{"$f":"IF(Liste_pièces!D372=\"\",\"\",Liste_pièces!D372)","v":""},{"$f":"IF(Liste_pièces!E372=\"\",\"\",Liste_pièces!E372)","v":""},{"$f":"IF(Liste_pièces!F372=\"\",\"\",Liste_pièces!F372)","v":""},{"$f":"IF(Liste_pièces!G372=\"\",\"\",Liste_pièces!G372)","v":""},{"$f":"IF(Liste_pièces!H372=\"\",\"\",Liste_pièces!H372)","v":""},{"$f":"IF(Liste_pièces!I372=\"\",\"\",Liste_pièces!I372)","v":""},{"$f":"IF(Liste_pièces!J372=\"\",\"\",Liste_pièces!J372)","v":""},{"$f":"IF(Liste_pièces!K372=\"\",\"\",Liste_pièces!K372)","v":""},{"$f":"IF(Liste_pièces!L372=\"\",\"\",Liste_pièces!L372)","v":""},{"$f":"IF(Liste_pièces!M372=\"\",\"\",Liste_pièces!M372)","v":""},0,1,0]
[{"$f":"IF(Liste_pièces!A373=\"\",\"ZZZ\",Liste_pièces!A373)","v":"ZZZ"},{"$f":"IF(Liste_pièces!B373=\"\",\"ZZZ\",Liste_pièces!B373)","v":"ZZZ"},{"$f":"IF(Liste_pièces!C373=\"\",\"\",Liste_pièces!C373)","v":""},{"$f":"IF(Liste_pièces!D373=\"\",\"\",Liste_pièces!D373)","v":""},{"$f":"IF(Liste_pièces!E373=\"\",\"\",Liste_pièces!E373)","v":""},{"$f":"IF(Liste_pièces!F373=\"\",\"\",Liste_pièces!F373)","v":""},{"$f":"IF(Liste_pièces!G373=\"\",\"\",Liste_pièces!G373)","v":""},{"$f":"IF(Liste_pièces!H373=\"\",\"\",Liste_pièces!H373)","v":""},{"$f":"IF(Liste_pièces!I373=\"\",\"\",Liste_pièces!I373)","v":""},{"$f":"IF(Liste_pièces!J373=\"\",\"\",Liste_pièces!J373)","v":""},{"$f":"IF(Liste_pièces!K373=\"\",\"\",Liste_pièces!K373)","v":""},{"$f":"IF(Liste_pièces!L373=\"\",\"\",Liste_pièces!L373)","v":""},{"$f":"IF(Liste_pièces!M373=\"\",\"\",Liste_pièces!M373)","v":""},0,1,0]
[{"$f":"IF(Liste_pièces!A374=\"\",\"ZZZ\",Liste_pièces!A374)","v":"ZZZ"},{"$f":"IF(Liste_pièces!B374=\"\",\"ZZZ\",Liste_pièces!B374)","v":"ZZZ"},{"$f":"IF(Liste_pièces!C374=\"\",\"\",Liste_pièces!C374)","v":""},{"$f":"IF(Liste_pièces!D374=\"\",\"\",Liste_pièces!D374)","v":""},{"$f":"IF(Liste_pièces!E374=\"\",\"\",Liste_pièces!E374)","v":""},{"$f":"IF(Liste_pièces!F374=\"\",\"\",Liste_pièces!F374)","v":""},{"$f":"IF(Liste_pièces!G374=\"\",\"\",Liste_pièces!G374)","v":""},{"$f":"IF(Liste_pièces!H374=\"\",\"\",Liste_pièces!H374)","v":""},{"$f":"IF(Liste_pièces!I374=\"\",\"\",Liste_pièces!I374)","v":""},{"$f":"IF(Liste_pièces!J374=\"\",\"\",Liste_pièces!J374)","v":""},{"$f":"IF(Liste_pièces!K374=\"\",\"\",Liste_pièces!K374)","v":""},{"$f":"IF(Liste_pièces!L374=\"\",\"\",Liste_pièces!L374)","v":""},{"$f":"IF(Liste_pièces!M374=\"\",\"\",Liste_pièces!M374)","v":""},0,1,0]
[{"$f":"IF(Liste_pièces!A375=\"\",\"ZZZ\",Liste_pièces!A375)","v":"ZZZ"},{"$f":"IF(Liste_pièces!B375=\"\",\"ZZZ\",Liste_pièces!B375)","v":"ZZZ"},{"$f":"IF(Liste_pièces!C375=\"\",\"\",Liste_pièces!C375)","v":""},{"$f":"IF(Liste_pièces!D375=\"\",\"\",Liste_pièces!D375)","v":""},{"$f":"IF(Liste_pièces!E375=\"\",\"\",Liste_pièces!E375)","v":""},{"$f":"IF(Liste_pièces!F375=\"\",\"\",Liste_pièces!F375)","v":""},{"$f":"IF(Liste_pièces!G375=\"\",\"\",Liste_pièces!G375)","v":""},{"$f":"IF(Liste_pièces!H375=\"\",\"\",Liste_pièces!H375)","v":""},{"$f":"IF(Liste_pièces!I375=\"\",\"\",Liste_pièces!I375)","v":""},{"$f":"IF(Liste_pièces!J375=\"\",\"\",Liste_pièces!J375)","v":""},{"$f":"IF(Liste_pièces!K375=\"\",\"\",Liste_pièces!K375)","v":""},{"$f":"IF(Liste_pièces!L375=\"\",\"\",Liste_pièces!L375)","v":""},{"$f":"IF(Liste_pièces!M375=\"\",\"\",Liste_pièces!M375)","v":""},0,1,0]
[{"$f":"IF(Liste_pièces!A376=\"\",\"ZZZ\",Liste_pièces!A376)","v":"ZZZ"},{"$f":"IF(Liste_pièces!B376=\"\",\"ZZZ\",Liste_pièces!B376)","v":"ZZZ"},{"$f":"IF(Liste_pièces!C376=\"\",\"\",Liste_pièces!C376)","v":""},{"$f":"IF(Liste_pièces!D376=\"\",\"\",Liste_pièces!D376)","v":""},{"$f":"IF(Liste_pièces!E376=\"\",\"\",Liste_pièces!E376)","v":""},{"$f":"IF(Liste_pièces!F376=\"\",\"\",Liste_pièces!F376)","v":""},{"$f":"IF(Liste_pièces!G376=\"\",\"\",Liste_pièces!G376)","v":""},{"$f":"IF(Liste_pièces!H376=\"\",\"\",Liste_pièces!H376)","v":""},{"$f":"IF(Liste_pièces!I376=\"\",\"\",Liste_pièces!I376)","v":""},{"$f":"IF(Liste_pièces!J376=\"\",\"\",Liste_pièces!J376)","v":""},{"$f":"IF(Liste_pièces!K376=\"\",\"\",Liste_pièces!K376)","v":""},{"$f":"IF(Liste_pièces!L376=\"\",\"\",Liste_pièces!L376)","v":""},{"$f":"IF(Liste_pièces!M376=\"\",\"\",Liste_pièces!M376)","v":""},0,1,0]
[{"$f":"IF(Liste_pièces!A377=\"\",\"ZZZ\",Liste_pièces!A377)","v":"ZZZ"},{"$f":"IF(Liste_pièces!B377=\"\",\"ZZZ\",Liste_pièces!B377)","v":"ZZZ"},{"$f":"IF(Liste_pièces!C377=\"\",\"\",Liste_pièces!C377)","v":""},{"$f":"IF(Liste_pièces!D377=\"\",\"\",Liste_pièces!D377)","v":""},{"$f":"IF(Liste_pièces!E377=\"\",\"\",Liste_pièces!E377)","v":""},{"$f":"IF(Liste_pièces!F377=\"\",\"\",Liste_pièces!F377)","v":""},{"$f":"IF(Liste_pièces!G377=\"\",\"\",Liste_pièces!G377)","v":""},{"$f":"IF(Liste_pièces!H377=\"\",\"\",Liste_pièces!H377)","v":""},{"$f":"IF(Liste_pièces!I377=\"\",\"\",Liste_pièces!I377)","v":""},{"$f":"IF(Liste_pièces!J377=\"\",\"\",Liste_pièces!J377)","v":""},{"$f":"IF(Liste_pièces!K377=\"\",\"\",Liste_pièces!K377)","v":""},{"$f":"IF(Liste_pièces!L377=\"\",\"\",Liste_pièces!L377)","v":""},{"$f":"IF(Liste_pièces!M377=\"\",\"\",Liste_pièces!M377)","v":""},0,1,0]
[{"$f":"IF(Liste_pièces!A378=\"\",\"ZZZ\",Liste_pièces!A378)","v":"ZZZ"},{"$f":"IF(Liste_pièces!B378=\"\",\"ZZZ\",Liste_pièces!B378)","v":"ZZZ"},{"$f":"IF(Liste_pièces!C378=\"\",\"\",Liste_pièces!C378)","v":""},{"$f":"IF(Liste_pièces!D378=\"\",\"\",Liste_pièces!D378)","v":""},{"$f":"IF(Liste_pièces!E378=\"\",\"\",Liste_pièces!E378)","v":""},{"$f":"IF(Liste_pièces!F378=\"\",\"\",Liste_pièces!F378)","v":""},{"$f":"IF(Liste_pièces!G378=\"\",\"\",Liste_pièces!G378)","v":""},{"$f":"IF(Liste_pièces!H378=\"\",\"\",Liste_pièces!H378)","v":""},{"$f":"IF(Liste_pièces!I378=\"\",\"\",Liste_pièces!I378)","v":""},{"$f":"IF(Liste_pièces!J378=\"\",\"\",Liste_pièces!J378)","v":""},{"$f":"IF(Liste_pièces!K378=\"\",\"\",Liste_pièces!K378)","v":""},{"$f":"IF(Liste_pièces!L378=\"\",\"\",Liste_pièces!L378)","v":""},{"$f":"IF(Liste_pièces!M378=\"\",\"\",Liste_pièces!M378)","v":""},0,1,0]
[{"$f":"IF(Liste_pièces!A379=\"\",\"ZZZ\",Liste_pièces!A379)","v":"ZZZ"},{"$f":"IF(Liste_pièces!B379=\"\",\"ZZZ\",Liste_pièces!B379)","v":"ZZZ"},{"$f":"IF(Liste_pièces!C379=\"\",\"\",Liste_pièces!C379)","v":""},{"$f":"IF(Liste_pièces!D379=\"\",\"\",Liste_pièces!D379)","v":""},{"$f":"IF(Liste_pièces!E379=\"\",\"\",Liste_pièces!E379)","v":""},{"$f":"IF(Liste_pièces!F379=\"\",\"\",Liste_pièces!F379)","v":""},{"$f":"IF(Liste_pièces!G379=\"\",\"\",Liste_pièces!G379)","v":""},{"$f":"IF(Liste_pièces!H379=\"\",\"\",Liste_pièces!H379)","v":""},{"$f":"IF(Liste_pièces!I379=\"\",\"\",Liste_pièces!I379)","v":""},{"$f":"IF(Liste_pièces!J379=\"\",\"\",Liste_pièces!J379)","v":""},{"$f":"IF(Liste_pièces!K379=\"\",\"\",Liste_pièces!K379)","v":""},{"$f":"IF(Liste_pièces!L379=\"\",\"\",Liste_pièces!L379)","v":""},{"$f":"IF(Liste_pièces!M379=\"\",\"\",Liste_pièces!M379)","v":""},0,1,0]
[{"$f":"IF(Liste_pièces!A380=\"\",\"ZZZ\",Liste_pièces!A380)","v":"ZZZ"},{"$f":"IF(Liste_pièces!B380=\"\",\"ZZZ\",Liste_pièces!B380)","v":"ZZZ"},{"$f":"IF(Liste_pièces!C380=\"\",\"\",Liste_pièces!C380)","v":""},{"$f":"IF(Liste_pièces!D380=\"\",\"\",Liste_pièces!D380)","v":""},{"$f":"IF(Liste_pièces!E380=\"\",\"\",Liste_pièces!E380)","v":""},{"$f":"IF(Liste_pièces!F380=\"\",\"\",Liste_pièces!F380)","v":""},{"$f":"IF(Liste_pièces!G380=\"\",\"\",Liste_pièces!G380)","v":""},{"$f":"IF(Liste_pièces!H380=\"\",\"\",Liste_pièces!H380)","v":""},{"$f":"IF(Liste_pièces!I380=\"\",\"\",Liste_pièces!I380)","v":""},{"$f":"IF(Liste_pièces!J380=\"\",\"\",Liste_pièces!J380)","v":""},{"$f":"IF(Liste_pièces!K380=\"\",\"\",Liste_pièces!K380)","v":""},{"$f":"IF(Liste_pièces!L380=\"\",\"\",Liste_pièces!L380)","v":""},{"$f":"IF(Liste_pièces!M380=\"\",\"\",Liste_pièces!M380)","v":""},0,1,0]
[{"$f":"IF(Liste_pièces!A381=\"\",\"ZZZ\",Liste_pièces!A381)","v":"ZZZ"},{"$f":"IF(Liste_pièces!B381=\"\",\"ZZZ\",Liste_pièces!B381)","v":"ZZZ"},{"$f":"IF(Liste_pièces!C381=\"\",\"\",Liste_pièces!C381)","v":""},{"$f":"IF(Liste_pièces!D381=\"\",\"\",Liste_pièces!D381)","v":""},{"$f":"IF(Liste_pièces!E381=\"\",\"\",Liste_pièces!E381)","v":""},{"$f":"IF(Liste_pièces!F381=\"\",\"\",Liste_pièces!F381)","v":""},{"$f":"IF(Liste_pièces!G381=\"\",\"\",Liste_pièces!G381)","v":""},{"$f":"IF(Liste_pièces!H381=\"\",\"\",Liste_pièces!H381)","v":""},{"$f":"IF(Liste_pièces!I381=\"\",\"\",Liste_pièces!I381)","v":""},{"$f":"IF(Liste_pièces!J381=\"\",\"\",Liste_pièces!J381)","v":""},{"$f":"IF(Liste_pièces!K381=\"\",\"\",Liste_pièces!K381)","v":""},{"$f":"IF(Liste_pièces!L381=\"\",\"\",Liste_pièces!L381)","v":""},{"$f":"IF(Liste_pièces!M381=\"\",\"\",Liste_pièces!M381)","v":""},0,1,0]
[{"$f":"IF(Liste_pièces!A382=\"\",\"ZZZ\",Liste_pièces!A382)","v":"ZZZ"},{"$f":"IF(Liste_pièces!B382=\"\",\"ZZZ\",Liste_pièces!B382)","v":"ZZZ"},{"$f":"IF(Liste_pièces!C382=\"\",\"\",Liste_pièces!C382)","v":""},{"$f":"IF(Liste_pièces!D382=\"\",\"\",Liste_pièces!D382)","v":""},{"$f":"IF(Liste_pièces!E382=\"\",\"\",Liste_pièces!E382)","v":""},{"$f":"IF(Liste_pièces!F382=\"\",\"\",Liste_pièces!F382)","v":""},{"$f":"IF(Liste_pièces!G382=\"\",\"\",Liste_pièces!G382)","v":""},{"$f":"IF(Liste_pièces!H382=\"\",\"\",Liste_pièces!H382)","v":""},{"$f":"IF(Liste_pièces!I382=\"\",\"\",Liste_pièces!I382)","v":""},{"$f":"IF(Liste_pièces!J382=\"\",\"\",Liste_pièces!J382)","v":""},{"$f":"IF(Liste_pièces!K382=\"\",\"\",Liste_pièces!K382)","v":""},{"$f":"IF(Liste_pièces!L382=\"\",\"\",Liste_pièces!L382)","v":""},{"$f":"IF(Liste_pièces!M382=\"\",\"\",Liste_pièces!M382)","v":""},0,1,0]
[{"$f":"IF(Liste_pièces!A383=\"\",\"ZZZ\",Liste_pièces!A383)","v":"ZZZ"},{"$f":"IF(Liste_pièces!B383=\"\",\"ZZZ\",Liste_pièces!B383)","v":"ZZZ"},{"$f":"IF(Liste_pièces!C383=\"\",\"\",Liste_pièces!C383)","v":""},{"$f":"IF(Liste_pièces!D383=\"\",\"\",Liste_pièces!D383)","v":""},{"$f":"IF(Liste_pièces!E383=\"\",\"\",Liste_pièces!E383)","v":""},{"$f":"IF(Liste_pièces!F383=\"\",\"\",Liste_pièces!F383)","v":""},{"$f":"IF(Liste_pièces!G383=\"\",\"\",Liste_pièces!G383)","v":""},{"$f":"IF(Liste_pièces!H383=\"\",\"\",Liste_pièces!H383)","v":""},{"$f":"IF(Liste_pièces!I383=\"\",\"\",Liste_pièces!I383)","v":""},{"$f":"IF(Liste_pièces!J383=\"\",\"\",Liste_pièces!J383)","v":""},{"$f":"IF(Liste_pièces!K383=\"\",\"\",Liste_pièces!K383)","v":""},{"$f":"IF(Liste_pièces!L383=\"\",\"\",Liste_pièces!L383)","v":""},{"$f":"IF(Liste_pièces!M383=\"\",\"\",Liste_pièces!M383)","v":""},0,1,0]
[{"$f":"IF(Liste_pièces!A384=\"\",\"ZZZ\",Liste_pièces!A384)","v":"ZZZ"},{"$f":"IF(Liste_pièces!B384=\"\",\"ZZZ\",Liste_pièces!B384)","v":"ZZZ"},{"$f":"IF(Liste_pièces!C384=\"\",\"\",Liste_pièces!C384)","v":""},{"$f":"IF(Liste_pièces!D384=\"\",\"\",Liste_pièces!D384)","v":""},{"$f":"IF(Liste_pièces!E384=\"\",\"\",Liste_pièces!E384)","v":""},{"$f":"IF(Liste_pièces!F384=\"\",\"\",Liste_pièces!F384)","v":""},{"$f":"IF(Liste_pièces!G384=\"\",\"\",Liste_pièces!G384)","v":""},{"$f":"IF(Liste_pièces!H384=\"\",\"\",Liste_pièces!H384)","v":""},{"$f":"IF(Liste_pièces!I384=\"\",\"\",Liste_pièces!I384)","v":""},{"$f":"IF(Liste_pièces!J384=\"\",\"\",Liste_pièces!J384)","v":""},{"$f":"IF(Liste_pièces!K384=\"\",\"\",Liste_pièces!K384)","v":""},{"$f":"IF(Liste_pièces!L384=\"\",\"\",Liste_pièces!L384)","v":""},{"$f":"IF(Liste_pièces!M384=\"\",\"\",Liste_pièces!M384)","v":""},0,1,0]
[{"$f":"IF(Liste_pièces!A385=\"\",\"ZZZ\",Liste_pièces!A385)","v":"ZZZ"},{"$f":"IF(Liste_pièces!B385=\"\",\"ZZZ\",Liste_pièces!B385)","v":"ZZZ"},{"$f":"IF(Liste_pièces!C385=\"\",\"\",Liste_pièces!C385)","v":""},{"$f":"IF(Liste_pièces!D385=\"\",\"\",Liste_pièces!D385)","v":""},{"$f":"IF(Liste_pièces!E385=\"\",\"\",Liste_pièces!E385)","v":""},{"$f":"IF(Liste_pièces!F385=\"\",\"\",Liste_pièces!F385)","v":""},{"$f":"IF(Liste_pièces!G385=\"\",\"\",Liste_pièces!G385)","v":""},{"$f":"IF(Liste_pièces!H385=\"\",\"\",Liste_pièces!H385)","v":""},{"$f":"IF(Liste_pièces!I385=\"\",\"\",Liste_pièces!I385)","v":""},{"$f":"IF(Liste_pièces!J385=\"\",\"\",Liste_pièces!J385)","v":""},{"$f":"IF(Liste_pièces!K385=\"\",\"\",Liste_pièces!K385)","v":""},{"$f":"IF(Liste_pièces!L385=\"\",\"\",Liste_pièces!L385)","v":""},{"$f":"IF(Liste_pièces!M385=\"\",\"\",Liste_pièces!M385)","v":""},0,1,0]
[{"$f":"IF(Liste_pièces!A386=\"\",\"ZZZ\",Liste_pièces!A386)","v":"ZZZ"},{"$f":"IF(Liste_pièces!B386=\"\",\"ZZZ\",Liste_pièces!B386)","v":"ZZZ"},{"$f":"IF(Liste_pièces!C386=\"\",\"\",Liste_pièces!C386)","v":""},{"$f":"IF(Liste_pièces!D386=\"\",\"\",Liste_pièces!D386)","v":""},{"$f":"IF(Liste_pièces!E386=\"\",\"\",Liste_pièces!E386)","v":""},{"$f":"IF(Liste_pièces!F386=\"\",\"\",Liste_pièces!F386)","v":""},{"$f":"IF(Liste_pièces!G386=\"\",\"\",Liste_pièces!G386)","v":""},{"$f":"IF(Liste_pièces!H386=\"\",\"\",Liste_pièces!H386)","v":""},{"$f":"IF(Liste_pièces!I386=\"\",\"\",Liste_pièces!I386)","v":""},{"$f":"IF(Liste_pièces!J386=\"\",\"\",Liste_pièces!J386)","v":""},{"$f":"IF(Liste_pièces!K386=\"\",\"\",Liste_pièces!K386)","v":""},{"$f":"IF(Liste_pièces!L386=\"\",\"\",Liste_pièces!L386)","v":""},{"$f":"IF(Liste_pièces!M386=\"\",\"\",Liste_pièces!M386)","v":""},{"$f":"IF(B1130=\"ZZZ\",0,IF(B1130=B1129,N385,1+N385))","v":0},1,0]
[{"$f":"IF(Liste_pièces!A387=\"\",\"ZZZ\",Liste_pièces!A387)","v":"ZZZ"},{"$f":"IF(Liste_pièces!B387=\"\",\"ZZZ\",Liste_pièces!B387)","v":"ZZZ"},{"$f":"IF(Liste_pièces!C387=\"\",\"\",Liste_pièces!C387)","v":""},{"$f":"IF(Liste_pièces!D387=\"\",\"\",Liste_pièces!D387)","v":""},{"$f":"IF(Liste_pièces!E387=\"\",\"\",Liste_pièces!E387)","v":""},{"$f":"IF(Liste_pièces!F387=\"\",\"\",Liste_pièces!F387)","v":""},{"$f":"IF(Liste_pièces!G387=\"\",\"\",Liste_pièces!G387)","v":""},{"$f":"IF(Liste_pièces!H387=\"\",\"\",Liste_pièces!H387)","v":""},{"$f":"IF(Liste_pièces!I387=\"\",\"\",Liste_pièces!I387)","v":""},{"$f":"IF(Liste_pièces!J387=\"\",\"\",Liste_pièces!J387)","v":""},{"$f":"IF(Liste_pièces!K387=\"\",\"\",Liste_pièces!K387)","v":""},{"$f":"IF(Liste_pièces!L387=\"\",\"\",Liste_pièces!L387)","v":""},{"$f":"IF(Liste_pièces!M387=\"\",\"\",Liste_pièces!M387)","v":""},0,1,0]
[{"$f":"IF(Liste_pièces!A388=\"\",\"ZZZ\",Liste_pièces!A388)","v":"ZZZ"},{"$f":"IF(Liste_pièces!B388=\"\",\"ZZZ\",Liste_pièces!B388)","v":"ZZZ"},{"$f":"IF(Liste_pièces!C388=\"\",\"\",Liste_pièces!C388)","v":""},{"$f":"IF(Liste_pièces!D388=\"\",\"\",Liste_pièces!D388)","v":""},{"$f":"IF(Liste_pièces!E388=\"\",\"\",Liste_pièces!E388)","v":""},{"$f":"IF(Liste_pièces!F388=\"\",\"\",Liste_pièces!F388)","v":""},{"$f":"IF(Liste_pièces!G388=\"\",\"\",Liste_pièces!G388)","v":""},{"$f":"IF(Liste_pièces!H388=\"\",\"\",Liste_pièces!H388)","v":""},{"$f":"IF(Liste_pièces!I388=\"\",\"\",Liste_pièces!I388)","v":""},{"$f":"IF(Liste_pièces!J388=\"\",\"\",Liste_pièces!J388)","v":""},{"$f":"IF(Liste_pièces!K388=\"\",\"\",Liste_pièces!K388)","v":""},{"$f":"IF(Liste_pièces!L388=\"\",\"\",Liste_pièces!L388)","v":""},{"$f":"IF(Liste_pièces!M388=\"\",\"\",Liste_pièces!M388)","v":""},0,1,0]
[{"$f":"IF(Liste_pièces!A389=\"\",\"ZZZ\",Liste_pièces!A389)","v":"ZZZ"},{"$f":"IF(Liste_pièces!B389=\"\",\"ZZZ\",Liste_pièces!B389)","v":"ZZZ"},{"$f":"IF(Liste_pièces!C389=\"\",\"\",Liste_pièces!C389)","v":""},{"$f":"IF(Liste_pièces!D389=\"\",\"\",Liste_pièces!D389)","v":""},{"$f":"IF(Liste_pièces!E389=\"\",\"\",Liste_pièces!E389)","v":""},{"$f":"IF(Liste_pièces!F389=\"\",\"\",Liste_pièces!F389)","v":""},{"$f":"IF(Liste_pièces!G389=\"\",\"\",Liste_pièces!G389)","v":""},{"$f":"IF(Liste_pièces!H389=\"\",\"\",Liste_pièces!H389)","v":""},{"$f":"IF(Liste_pièces!I389=\"\",\"\",Liste_pièces!I389)","v":""},{"$f":"IF(Liste_pièces!J389=\"\",\"\",Liste_pièces!J389)","v":""},{"$f":"IF(Liste_pièces!K389=\"\",\"\",Liste_pièces!K389)","v":""},{"$f":"IF(Liste_pièces!L389=\"\",\"\",Liste_pièces!L389)","v":""},{"$f":"IF(Liste_pièces!M389=\"\",\"\",Liste_pièces!M389)","v":""},0,1,0]
[{"$f":"IF(Liste_pièces!A390=\"\",\"ZZZ\",Liste_pièces!A390)","v":"ZZZ"},{"$f":"IF(Liste_pièces!B390=\"\",\"ZZZ\",Liste_pièces!B390)","v":"ZZZ"},{"$f":"IF(Liste_pièces!C390=\"\",\"\",Liste_pièces!C390)","v":""},{"$f":"IF(Liste_pièces!D390=\"\",\"\",Liste_pièces!D390)","v":""},{"$f":"IF(Liste_pièces!E390=\"\",\"\",Liste_pièces!E390)","v":""},{"$f":"IF(Liste_pièces!F390=\"\",\"\",Liste_pièces!F390)","v":""},{"$f":"IF(Liste_pièces!G390=\"\",\"\",Liste_pièces!G390)","v":""},{"$f":"IF(Liste_pièces!H390=\"\",\"\",Liste_pièces!H390)","v":""},{"$f":"IF(Liste_pièces!I390=\"\",\"\",Liste_pièces!I390)","v":""},{"$f":"IF(Liste_pièces!J390=\"\",\"\",Liste_pièces!J390)","v":""},{"$f":"IF(Liste_pièces!K390=\"\",\"\",Liste_pièces!K390)","v":""},{"$f":"IF(Liste_pièces!L390=\"\",\"\",Liste_pièces!L390)","v":""},{"$f":"IF(Liste_pièces!M390=\"\",\"\",Liste_pièces!M390)","v":""},0,1,0]
[{"$f":"IF(Liste_pièces!A391=\"\",\"ZZZ\",Liste_pièces!A391)","v":"ZZZ"},{"$f":"IF(Liste_pièces!B391=\"\",\"ZZZ\",Liste_pièces!B391)","v":"ZZZ"},{"$f":"IF(Liste_pièces!C391=\"\",\"\",Liste_pièces!C391)","v":""},{"$f":"IF(Liste_pièces!D391=\"\",\"\",Liste_pièces!D391)","v":""},{"$f":"IF(Liste_pièces!E391=\"\",\"\",Liste_pièces!E391)","v":""},{"$f":"IF(Liste_pièces!F391=\"\",\"\",Liste_pièces!F391)","v":""},{"$f":"IF(Liste_pièces!G391=\"\",\"\",Liste_pièces!G391)","v":""},{"$f":"IF(Liste_pièces!H391=\"\",\"\",Liste_pièces!H391)","v":""},{"$f":"IF(Liste_pièces!I391=\"\",\"\",Liste_pièces!I391)","v":""},{"$f":"IF(Liste_pièces!J391=\"\",\"\",Liste_pièces!J391)","v":""},{"$f":"IF(Liste_pièces!K391=\"\",\"\",Liste_pièces!K391)","v":""},{"$f":"IF(Liste_pièces!L391=\"\",\"\",Liste_pièces!L391)","v":""},{"$f":"IF(Liste_pièces!M391=\"\",\"\",Liste_pièces!M391)","v":""},0,1,{"$f":"IF(N391=0,0,IF(N391<>N390,MAX(N391+O390,P390+1),IF(O390=O391,P390,P390+O391)))","v":0}]
[{"$f":"IF(Liste_pièces!A392=\"\",\"ZZZ\",Liste_pièces!A392)","v":"ZZZ"},{"$f":"IF(Liste_pièces!B392=\"\",\"ZZZ\",Liste_pièces!B392)","v":"ZZZ"},{"$f":"IF(Liste_pièces!C392=\"\",\"\",Liste_pièces!C392)","v":""},{"$f":"IF(Liste_pièces!D392=\"\",\"\",Liste_pièces!D392)","v":""},{"$f":"IF(Liste_pièces!E392=\"\",\"\",Liste_pièces!E392)","v":""},{"$f":"IF(Liste_pièces!F392=\"\",\"\",Liste_pièces!F392)","v":""},{"$f":"IF(Liste_pièces!G392=\"\",\"\",Liste_pièces!G392)","v":""},{"$f":"IF(Liste_pièces!H392=\"\",\"\",Liste_pièces!H392)","v":""},{"$f":"IF(Liste_pièces!I392=\"\",\"\",Liste_pièces!I392)","v":""},{"$f":"IF(Liste_pièces!J392=\"\",\"\",Liste_pièces!J392)","v":""},{"$f":"IF(Liste_pièces!K392=\"\",\"\",Liste_pièces!K392)","v":""},{"$f":"IF(Liste_pièces!L392=\"\",\"\",Liste_pièces!L392)","v":""},{"$f":"IF(Liste_pièces!M392=\"\",\"\",Liste_pièces!M392)","v":""},0,1,0]
[{"$f":"IF(Liste_pièces!A393=\"\",\"ZZZ\",Liste_pièces!A393)","v":"ZZZ"},{"$f":"IF(Liste_pièces!B393=\"\",\"ZZZ\",Liste_pièces!B393)","v":"ZZZ"},{"$f":"IF(Liste_pièces!C393=\"\",\"\",Liste_pièces!C393)","v":""},{"$f":"IF(Liste_pièces!D393=\"\",\"\",Liste_pièces!D393)","v":""},{"$f":"IF(Liste_pièces!E393=\"\",\"\",Liste_pièces!E393)","v":""},{"$f":"IF(Liste_pièces!F393=\"\",\"\",Liste_pièces!F393)","v":""},{"$f":"IF(Liste_pièces!G393=\"\",\"\",Liste_pièces!G393)","v":""},{"$f":"IF(Liste_pièces!H393=\"\",\"\",Liste_pièces!H393)","v":""},{"$f":"IF(Liste_pièces!I393=\"\",\"\",Liste_pièces!I393)","v":""},{"$f":"IF(Liste_pièces!J393=\"\",\"\",Liste_pièces!J393)","v":""},{"$f":"IF(Liste_pièces!K393=\"\",\"\",Liste_pièces!K393)","v":""},{"$f":"IF(Liste_pièces!L393=\"\",\"\",Liste_pièces!L393)","v":""},{"$f":"IF(Liste_pièces!M393=\"\",\"\",Liste_pièces!M393)","v":""},0,1,0]
[{"$f":"IF(Liste_pièces!A394=\"\",\"ZZZ\",Liste_pièces!A394)","v":"ZZZ"},{"$f":"IF(Liste_pièces!B394=\"\",\"ZZZ\",Liste_pièces!B394)","v":"ZZZ"},{"$f":"IF(Liste_pièces!C394=\"\",\"\",Liste_pièces!C394)","v":""},{"$f":"IF(Liste_pièces!D394=\"\",\"\",Liste_pièces!D394)","v":""},{"$f":"IF(Liste_pièces!E394=\"\",\"\",Liste_pièces!E394)","v":""},{"$f":"IF(Liste_pièces!F394=\"\",\"\",Liste_pièces!F394)","v":""},{"$f":"IF(Liste_pièces!G394=\"\",\"\",Liste_pièces!G394)","v":""},{"$f":"IF(Liste_pièces!H394=\"\",\"\",Liste_pièces!H394)","v":""},{"$f":"IF(Liste_pièces!I394=\"\",\"\",Liste_pièces!I394)","v":""},{"$f":"IF(Liste_pièces!J394=\"\",\"\",Liste_pièces!J394)","v":""},{"$f":"IF(Liste_pièces!K394=\"\",\"\",Liste_pièces!K394)","v":""},{"$f":"IF(Liste_pièces!L394=\"\",\"\",Liste_pièces!L394)","v":""},{"$f":"IF(Liste_pièces!M394=\"\",\"\",Liste_pièces!M394)","v":""},0,1,0]
[{"$f":"IF(Liste_pièces!A395=\"\",\"ZZZ\",Liste_pièces!A395)","v":"ZZZ"},{"$f":"IF(Liste_pièces!B395=\"\",\"ZZZ\",Liste_pièces!B395)","v":"ZZZ"},{"$f":"IF(Liste_pièces!C395=\"\",\"\",Liste_pièces!C395)","v":""},{"$f":"IF(Liste_pièces!D395=\"\",\"\",Liste_pièces!D395)","v":""},{"$f":"IF(Liste_pièces!E395=\"\",\"\",Liste_pièces!E395)","v":""},{"$f":"IF(Liste_pièces!F395=\"\",\"\",Liste_pièces!F395)","v":""},{"$f":"IF(Liste_pièces!G395=\"\",\"\",Liste_pièces!G395)","v":""},{"$f":"IF(Liste_pièces!H395=\"\",\"\",Liste_pièces!H395)","v":""},{"$f":"IF(Liste_pièces!I395=\"\",\"\",Liste_pièces!I395)","v":""},{"$f":"IF(Liste_pièces!J395=\"\",\"\",Liste_pièces!J395)","v":""},{"$f":"IF(Liste_pièces!K395=\"\",\"\",Liste_pièces!K395)","v":""},{"$f":"IF(Liste_pièces!L395=\"\",\"\",Liste_pièces!L395)","v":""},{"$f":"IF(Liste_pièces!M395=\"\",\"\",Liste_pièces!M395)","v":""},0,1,0]
[{"$f":"IF(Liste_pièces!A396=\"\",\"ZZZ\",Liste_pièces!A396)","v":"ZZZ"},{"$f":"IF(Liste_pièces!B396=\"\",\"ZZZ\",Liste_pièces!B396)","v":"ZZZ"},{"$f":"IF(Liste_pièces!C396=\"\",\"\",Liste_pièces!C396)","v":""},{"$f":"IF(Liste_pièces!D396=\"\",\"\",Liste_pièces!D396)","v":""},{"$f":"IF(Liste_pièces!E396=\"\",\"\",Liste_pièces!E396)","v":""},{"$f":"IF(Liste_pièces!F396=\"\",\"\",Liste_pièces!F396)","v":""},{"$f":"IF(Liste_pièces!G396=\"\",\"\",Liste_pièces!G396)","v":""},{"$f":"IF(Liste_pièces!H396=\"\",\"\",Liste_pièces!H396)","v":""},{"$f":"IF(Liste_pièces!I396=\"\",\"\",Liste_pièces!I396)","v":""},{"$f":"IF(Liste_pièces!J396=\"\",\"\",Liste_pièces!J396)","v":""},{"$f":"IF(Liste_pièces!K396=\"\",\"\",Liste_pièces!K396)","v":""},{"$f":"IF(Liste_pièces!L396=\"\",\"\",Liste_pièces!L396)","v":""},{"$f":"IF(Liste_pièces!M396=\"\",\"\",Liste_pièces!M396)","v":""},0,1,0]
[{"$f":"IF(Liste_pièces!A397=\"\",\"ZZZ\",Liste_pièces!A397)","v":"ZZZ"},{"$f":"IF(Liste_pièces!B397=\"\",\"ZZZ\",Liste_pièces!B397)","v":"ZZZ"},{"$f":"IF(Liste_pièces!C397=\"\",\"\",Liste_pièces!C397)","v":""},{"$f":"IF(Liste_pièces!D397=\"\",\"\",Liste_pièces!D397)","v":""},{"$f":"IF(Liste_pièces!E397=\"\",\"\",Liste_pièces!E397)","v":""},{"$f":"IF(Liste_pièces!F397=\"\",\"\",Liste_pièces!F397)","v":""},{"$f":"IF(Liste_pièces!G397=\"\",\"\",Liste_pièces!G397)","v":""},{"$f":"IF(Liste_pièces!H397=\"\",\"\",Liste_pièces!H397)","v":""},{"$f":"IF(Liste_pièces!I397=\"\",\"\",Liste_pièces!I397)","v":""},{"$f":"IF(Liste_pièces!J397=\"\",\"\",Liste_pièces!J397)","v":""},{"$f":"IF(Liste_pièces!K397=\"\",\"\",Liste_pièces!K397)","v":""},{"$f":"IF(Liste_pièces!L397=\"\",\"\",Liste_pièces!L397)","v":""},{"$f":"IF(Liste_pièces!M397=\"\",\"\",Liste_pièces!M397)","v":""},0,1,0]
[{"$f":"IF(Liste_pièces!A398=\"\",\"ZZZ\",Liste_pièces!A398)","v":"ZZZ"},{"$f":"IF(Liste_pièces!B398=\"\",\"ZZZ\",Liste_pièces!B398)","v":"ZZZ"},{"$f":"IF(Liste_pièces!C398=\"\",\"\",Liste_pièces!C398)","v":""},{"$f":"IF(Liste_pièces!D398=\"\",\"\",Liste_pièces!D398)","v":""},{"$f":"IF(Liste_pièces!E398=\"\",\"\",Liste_pièces!E398)","v":""},{"$f":"IF(Liste_pièces!F398=\"\",\"\",Liste_pièces!F398)","v":""},{"$f":"IF(Liste_pièces!G398=\"\",\"\",Liste_pièces!G398)","v":""},{"$f":"IF(Liste_pièces!H398=\"\",\"\",Liste_pièces!H398)","v":""},{"$f":"IF(Liste_pièces!I398=\"\",\"\",Liste_pièces!I398)","v":""},{"$f":"IF(Liste_pièces!J398=\"\",\"\",Liste_pièces!J398)","v":""},{"$f":"IF(Liste_pièces!K398=\"\",\"\",Liste_pièces!K398)","v":""},{"$f":"IF(Liste_pièces!L398=\"\",\"\",Liste_pièces!L398)","v":""},{"$f":"IF(Liste_pièces!M398=\"\",\"\",Liste_pièces!M398)","v":""},0,1,0]
[{"$f":"IF(Liste_pièces!A399=\"\",\"ZZZ\",Liste_pièces!A399)","v":"ZZZ"},{"$f":"IF(Liste_pièces!B399=\"\",\"ZZZ\",Liste_pièces!B399)","v":"ZZZ"},{"$f":"IF(Liste_pièces!C399=\"\",\"\",Liste_pièces!C399)","v":""},{"$f":"IF(Liste_pièces!D399=\"\",\"\",Liste_pièces!D399)","v":""},{"$f":"IF(Liste_pièces!E399=\"\",\"\",Liste_pièces!E399)","v":""},{"$f":"IF(Liste_pièces!F399=\"\",\"\",Liste_pièces!F399)","v":""},{"$f":"IF(Liste_pièces!G399=\"\",\"\",Liste_pièces!G399)","v":""},{"$f":"IF(Liste_pièces!H399=\"\",\"\",Liste_pièces!H399)","v":""},{"$f":"IF(Liste_pièces!I399=\"\",\"\",Liste_pièces!I399)","v":""},{"$f":"IF(Liste_pièces!J399=\"\",\"\",Liste_pièces!J399)","v":""},{"$f":"IF(Liste_pièces!K399=\"\",\"\",Liste_pièces!K399)","v":""},{"$f":"IF(Liste_pièces!L399=\"\",\"\",Liste_pièces!L399)","v":""},{"$f":"IF(Liste_pièces!M399=\"\",\"\",Liste_pièces!M399)","v":""},0,1,0]
[{"$f":"IF(Liste_pièces!A400=\"\",\"ZZZ\",Liste_pièces!A400)","v":"ZZZ"},{"$f":"IF(Liste_pièces!B400=\"\",\"ZZZ\",Liste_pièces!B400)","v":"ZZZ"},{"$f":"IF(Liste_pièces!C400=\"\",\"\",Liste_pièces!C400)","v":""},{"$f":"IF(Liste_pièces!D400=\"\",\"\",Liste_pièces!D400)","v":""},{"$f":"IF(Liste_pièces!E400=\"\",\"\",Liste_pièces!E400)","v":""},{"$f":"IF(Liste_pièces!F400=\"\",\"\",Liste_pièces!F400)","v":""},{"$f":"IF(Liste_pièces!G400=\"\",\"\",Liste_pièces!G400)","v":""},{"$f":"IF(Liste_pièces!H400=\"\",\"\",Liste_pièces!H400)","v":""},{"$f":"IF(Liste_pièces!I400=\"\",\"\",Liste_pièces!I400)","v":""},{"$f":"IF(Liste_pièces!J400=\"\",\"\",Liste_pièces!J400)","v":""},{"$f":"IF(Liste_pièces!K400=\"\",\"\",Liste_pièces!K400)","v":""},{"$f":"IF(Liste_pièces!L400=\"\",\"\",Liste_pièces!L400)","v":""},{"$f":"IF(Liste_pièces!M400=\"\",\"\",Liste_pièces!M400)","v":""},0,1,0]
[{"$f":"IF(Liste_pièces!A401=\"\",\"ZZZ\",Liste_pièces!A401)","v":"ZZZ"},{"$f":"IF(Liste_pièces!B401=\"\",\"ZZZ\",Liste_pièces!B401)","v":"ZZZ"},{"$f":"IF(Liste_pièces!C401=\"\",\"\",Liste_pièces!C401)","v":""},{"$f":"IF(Liste_pièces!D401=\"\",\"\",Liste_pièces!D401)","v":""},{"$f":"IF(Liste_pièces!E401=\"\",\"\",Liste_pièces!E401)","v":""},{"$f":"IF(Liste_pièces!F401=\"\",\"\",Liste_pièces!F401)","v":""},{"$f":"IF(Liste_pièces!G401=\"\",\"\",Liste_pièces!G401)","v":""},{"$f":"IF(Liste_pièces!H401=\"\",\"\",Liste_pièces!H401)","v":""},{"$f":"IF(Liste_pièces!I401=\"\",\"\",Liste_pièces!I401)","v":""},{"$f":"IF(Liste_pièces!J401=\"\",\"\",Liste_pièces!J401)","v":""},{"$f":"IF(Liste_pièces!K401=\"\",\"\",Liste_pièces!K401)","v":""},{"$f":"IF(Liste_pièces!L401=\"\",\"\",Liste_pièces!L401)","v":""},{"$f":"IF(Liste_pièces!M401=\"\",\"\",Liste_pièces!M401)","v":""},0,1,0]
[{"$f":"IF(Liste_pièces!A402=\"\",\"ZZZ\",Liste_pièces!A402)","v":"ZZZ"},{"$f":"IF(Liste_pièces!B402=\"\",\"ZZZ\",Liste_pièces!B402)","v":"ZZZ"},{"$f":"IF(Liste_pièces!C402=\"\",\"\",Liste_pièces!C402)","v":""},{"$f":"IF(Liste_pièces!D402=\"\",\"\",Liste_pièces!D402)","v":""},{"$f":"IF(Liste_pièces!E402=\"\",\"\",Liste_pièces!E402)","v":""},{"$f":"IF(Liste_pièces!F402=\"\",\"\",Liste_pièces!F402)","v":""},{"$f":"IF(Liste_pièces!G402=\"\",\"\",Liste_pièces!G402)","v":""},{"$f":"IF(Liste_pièces!H402=\"\",\"\",Liste_pièces!H402)","v":""},{"$f":"IF(Liste_pièces!I402=\"\",\"\",Liste_pièces!I402)","v":""},{"$f":"IF(Liste_pièces!J402=\"\",\"\",Liste_pièces!J402)","v":""},{"$f":"IF(Liste_pièces!K402=\"\",\"\",Liste_pièces!K402)","v":""},{"$f":"IF(Liste_pièces!L402=\"\",\"\",Liste_pièces!L402)","v":""},{"$f":"IF(Liste_pièces!M402=\"\",\"\",Liste_pièces!M402)","v":""},0,1,0]
[{"$f":"IF(Liste_pièces!A403=\"\",\"ZZZ\",Liste_pièces!A403)","v":"ZZZ"},{"$f":"IF(Liste_pièces!B403=\"\",\"ZZZ\",Liste_pièces!B403)","v":"ZZZ"},{"$f":"IF(Liste_pièces!C403=\"\",\"\",Liste_pièces!C403)","v":""},{"$f":"IF(Liste_pièces!D403=\"\",\"\",Liste_pièces!D403)","v":""},{"$f":"IF(Liste_pièces!E403=\"\",\"\",Liste_pièces!E403)","v":""},{"$f":"IF(Liste_pièces!F403=\"\",\"\",Liste_pièces!F403)","v":""},{"$f":"IF(Liste_pièces!G403=\"\",\"\",Liste_pièces!G403)","v":""},{"$f":"IF(Liste_pièces!H403=\"\",\"\",Liste_pièces!H403)","v":""},{"$f":"IF(Liste_pièces!I403=\"\",\"\",Liste_pièces!I403)","v":""},{"$f":"IF(Liste_pièces!J403=\"\",\"\",Liste_pièces!J403)","v":""},{"$f":"IF(Liste_pièces!K403=\"\",\"\",Liste_pièces!K403)","v":""},{"$f":"IF(Liste_pièces!L403=\"\",\"\",Liste_pièces!L403)","v":""},{"$f":"IF(Liste_pièces!M403=\"\",\"\",Liste_pièces!M403)","v":""},0,1,0]
[{"$f":"IF(Liste_pièces!A404=\"\",\"ZZZ\",Liste_pièces!A404)","v":"ZZZ"},{"$f":"IF(Liste_pièces!B404=\"\",\"ZZZ\",Liste_pièces!B404)","v":"ZZZ"},{"$f":"IF(Liste_pièces!C404=\"\",\"\",Liste_pièces!C404)","v":""},{"$f":"IF(Liste_pièces!D404=\"\",\"\",Liste_pièces!D404)","v":""},{"$f":"IF(Liste_pièces!E404=\"\",\"\",Liste_pièces!E404)","v":""},{"$f":"IF(Liste_pièces!F404=\"\",\"\",Liste_pièces!F404)","v":""},{"$f":"IF(Liste_pièces!G404=\"\",\"\",Liste_pièces!G404)","v":""},{"$f":"IF(Liste_pièces!H404=\"\",\"\",Liste_pièces!H404)","v":""},{"$f":"IF(Liste_pièces!I404=\"\",\"\",Liste_pièces!I404)","v":""},{"$f":"IF(Liste_pièces!J404=\"\",\"\",Liste_pièces!J404)","v":""},{"$f":"IF(Liste_pièces!K404=\"\",\"\",Liste_pièces!K404)","v":""},{"$f":"IF(Liste_pièces!L404=\"\",\"\",Liste_pièces!L404)","v":""},{"$f":"IF(Liste_pièces!M404=\"\",\"\",Liste_pièces!M404)","v":""},0,1,0]
[{"$f":"IF(Liste_pièces!A405=\"\",\"ZZZ\",Liste_pièces!A405)","v":"ZZZ"},{"$f":"IF(Liste_pièces!B405=\"\",\"ZZZ\",Liste_pièces!B405)","v":"ZZZ"},{"$f":"IF(Liste_pièces!C405=\"\",\"\",Liste_pièces!C405)","v":""},{"$f":"IF(Liste_pièces!D405=\"\",\"\",Liste_pièces!D405)","v":""},{"$f":"IF(Liste_pièces!E405=\"\",\"\",Liste_pièces!E405)","v":""},{"$f":"IF(Liste_pièces!F405=\"\",\"\",Liste_pièces!F405)","v":""},{"$f":"IF(Liste_pièces!G405=\"\",\"\",Liste_pièces!G405)","v":""},{"$f":"IF(Liste_pièces!H405=\"\",\"\",Liste_pièces!H405)","v":""},{"$f":"IF(Liste_pièces!I405=\"\",\"\",Liste_pièces!I405)","v":""},{"$f":"IF(Liste_pièces!J405=\"\",\"\",Liste_pièces!J405)","v":""},{"$f":"IF(Liste_pièces!K405=\"\",\"\",Liste_pièces!K405)","v":""},{"$f":"IF(Liste_pièces!L405=\"\",\"\",Liste_pièces!L405)","v":""},{"$f":"IF(Liste_pièces!M405=\"\",\"\",Liste_pièces!M405)","v":""},0,1,0]
[{"$f":"IF(Liste_pièces!A406=\"\",\"ZZZ\",Liste_pièces!A406)","v":"ZZZ"},{"$f":"IF(Liste_pièces!B406=\"\",\"ZZZ\",Liste_pièces!B406)","v":"ZZZ"},{"$f":"IF(Liste_pièces!C406=\"\",\"\",Liste_pièces!C406)","v":""},{"$f":"IF(Liste_pièces!D406=\"\",\"\",Liste_pièces!D406)","v":""},{"$f":"IF(Liste_pièces!E406=\"\",\"\",Liste_pièces!E406)","v":""},{"$f":"IF(Liste_pièces!F406=\"\",\"\",Liste_pièces!F406)","v":""},{"$f":"IF(Liste_pièces!G406=\"\",\"\",Liste_pièces!G406)","v":""},{"$f":"IF(Liste_pièces!H406=\"\",\"\",Liste_pièces!H406)","v":""},{"$f":"IF(Liste_pièces!I406=\"\",\"\",Liste_pièces!I406)","v":""},{"$f":"IF(Liste_pièces!J406=\"\",\"\",Liste_pièces!J406)","v":""},{"$f":"IF(Liste_pièces!K406=\"\",\"\",Liste_pièces!K406)","v":""},{"$f":"IF(Liste_pièces!L406=\"\",\"\",Liste_pièces!L406)","v":""},{"$f":"IF(Liste_pièces!M406=\"\",\"\",Liste_pièces!M406)","v":""},0,1,0]
[{"$f":"IF(Liste_pièces!A407=\"\",\"ZZZ\",Liste_pièces!A407)","v":"ZZZ"},{"$f":"IF(Liste_pièces!B407=\"\",\"ZZZ\",Liste_pièces!B407)","v":"ZZZ"},{"$f":"IF(Liste_pièces!C407=\"\",\"\",Liste_pièces!C407)","v":""},{"$f":"IF(Liste_pièces!D407=\"\",\"\",Liste_pièces!D407)","v":""},{"$f":"IF(Liste_pièces!E407=\"\",\"\",Liste_pièces!E407)","v":""},{"$f":"IF(Liste_pièces!F407=\"\",\"\",Liste_pièces!F407)","v":""},{"$f":"IF(Liste_pièces!G407=\"\",\"\",Liste_pièces!G407)","v":""},{"$f":"IF(Liste_pièces!H407=\"\",\"\",Liste_pièces!H407)","v":""},{"$f":"IF(Liste_pièces!I407=\"\",\"\",Liste_pièces!I407)","v":""},{"$f":"IF(Liste_pièces!J407=\"\",\"\",Liste_pièces!J407)","v":""},{"$f":"IF(Liste_pièces!K407=\"\",\"\",Liste_pièces!K407)","v":""},{"$f":"IF(Liste_pièces!L407=\"\",\"\",Liste_pièces!L407)","v":""},{"$f":"IF(Liste_pièces!M407=\"\",\"\",Liste_pièces!M407)","v":""},0,1,0]
[{"$f":"IF(Liste_pièces!A408=\"\",\"ZZZ\",Liste_pièces!A408)","v":"ZZZ"},{"$f":"IF(Liste_pièces!B408=\"\",\"ZZZ\",Liste_pièces!B408)","v":"ZZZ"},{"$f":"IF(Liste_pièces!C408=\"\",\"\",Liste_pièces!C408)","v":""},{"$f":"IF(Liste_pièces!D408=\"\",\"\",Liste_pièces!D408)","v":""},{"$f":"IF(Liste_pièces!E408=\"\",\"\",Liste_pièces!E408)","v":""},{"$f":"IF(Liste_pièces!F408=\"\",\"\",Liste_pièces!F408)","v":""},{"$f":"IF(Liste_pièces!G408=\"\",\"\",Liste_pièces!G408)","v":""},{"$f":"IF(Liste_pièces!H408=\"\",\"\",Liste_pièces!H408)","v":""},{"$f":"IF(Liste_pièces!I408=\"\",\"\",Liste_pièces!I408)","v":""},{"$f":"IF(Liste_pièces!J408=\"\",\"\",Liste_pièces!J408)","v":""},{"$f":"IF(Liste_pièces!K408=\"\",\"\",Liste_pièces!K408)","v":""},{"$f":"IF(Liste_pièces!L408=\"\",\"\",Liste_pièces!L408)","v":""},{"$f":"IF(Liste_pièces!M408=\"\",\"\",Liste_pièces!M408)","v":""},0,1,0]
[{"$f":"IF(Liste_pièces!A409=\"\",\"ZZZ\",Liste_pièces!A409)","v":"ZZZ"},{"$f":"IF(Liste_pièces!B409=\"\",\"ZZZ\",Liste_pièces!B409)","v":"ZZZ"},{"$f":"IF(Liste_pièces!C409=\"\",\"\",Liste_pièces!C409)","v":""},{"$f":"IF(Liste_pièces!D409=\"\",\"\",Liste_pièces!D409)","v":""},{"$f":"IF(Liste_pièces!E409=\"\",\"\",Liste_pièces!E409)","v":""},{"$f":"IF(Liste_pièces!F409=\"\",\"\",Liste_pièces!F409)","v":""},{"$f":"IF(Liste_pièces!G409=\"\",\"\",Liste_pièces!G409)","v":""},{"$f":"IF(Liste_pièces!H409=\"\",\"\",Liste_pièces!H409)","v":""},{"$f":"IF(Liste_pièces!I409=\"\",\"\",Liste_pièces!I409)","v":""},{"$f":"IF(Liste_pièces!J409=\"\",\"\",Liste_pièces!J409)","v":""},{"$f":"IF(Liste_pièces!K409=\"\",\"\",Liste_pièces!K409)","v":""},{"$f":"IF(Liste_pièces!L409=\"\",\"\",Liste_pièces!L409)","v":""},{"$f":"IF(Liste_pièces!M409=\"\",\"\",Liste_pièces!M409)","v":""},0,1,0]
[{"$f":"IF(Liste_pièces!A410=\"\",\"ZZZ\",Liste_pièces!A410)","v":"ZZZ"},{"$f":"IF(Liste_pièces!B410=\"\",\"ZZZ\",Liste_pièces!B410)","v":"ZZZ"},{"$f":"IF(Liste_pièces!C410=\"\",\"\",Liste_pièces!C410)","v":""},{"$f":"IF(Liste_pièces!D410=\"\",\"\",Liste_pièces!D410)","v":""},{"$f":"IF(Liste_pièces!E410=\"\",\"\",Liste_pièces!E410)","v":""},{"$f":"IF(Liste_pièces!F410=\"\",\"\",Liste_pièces!F410)","v":""},{"$f":"IF(Liste_pièces!G410=\"\",\"\",Liste_pièces!G410)","v":""},{"$f":"IF(Liste_pièces!H410=\"\",\"\",Liste_pièces!H410)","v":""},{"$f":"IF(Liste_pièces!I410=\"\",\"\",Liste_pièces!I410)","v":""},{"$f":"IF(Liste_pièces!J410=\"\",\"\",Liste_pièces!J410)","v":""},{"$f":"IF(Liste_pièces!K410=\"\",\"\",Liste_pièces!K410)","v":""},{"$f":"IF(Liste_pièces!L410=\"\",\"\",Liste_pièces!L410)","v":""},{"$f":"IF(Liste_pièces!M410=\"\",\"\",Liste_pièces!M410)","v":""},0,1,0]
[{"$f":"IF(Liste_pièces!A411=\"\",\"ZZZ\",Liste_pièces!A411)","v":"ZZZ"},{"$f":"IF(Liste_pièces!B411=\"\",\"ZZZ\",Liste_pièces!B411)","v":"ZZZ"},{"$f":"IF(Liste_pièces!C411=\"\",\"\",Liste_pièces!C411)","v":""},{"$f":"IF(Liste_pièces!D411=\"\",\"\",Liste_pièces!D411)","v":""},{"$f":"IF(Liste_pièces!E411=\"\",\"\",Liste_pièces!E411)","v":""},{"$f":"IF(Liste_pièces!F411=\"\",\"\",Liste_pièces!F411)","v":""},{"$f":"IF(Liste_pièces!G411=\"\",\"\",Liste_pièces!G411)","v":""},{"$f":"IF(Liste_pièces!H411=\"\",\"\",Liste_pièces!H411)","v":""},{"$f":"IF(Liste_pièces!I411=\"\",\"\",Liste_pièces!I411)","v":""},{"$f":"IF(Liste_pièces!J411=\"\",\"\",Liste_pièces!J411)","v":""},{"$f":"IF(Liste_pièces!K411=\"\",\"\",Liste_pièces!K411)","v":""},{"$f":"IF(Liste_pièces!L411=\"\",\"\",Liste_pièces!L411)","v":""},{"$f":"IF(Liste_pièces!M411=\"\",\"\",Liste_pièces!M411)","v":""},0,1,0]
[{"$f":"IF(Liste_pièces!A412=\"\",\"ZZZ\",Liste_pièces!A412)","v":"ZZZ"},{"$f":"IF(Liste_pièces!B412=\"\",\"ZZZ\",Liste_pièces!B412)","v":"ZZZ"},{"$f":"IF(Liste_pièces!C412=\"\",\"\",Liste_pièces!C412)","v":""},{"$f":"IF(Liste_pièces!D412=\"\",\"\",Liste_pièces!D412)","v":""},{"$f":"IF(Liste_pièces!E412=\"\",\"\",Liste_pièces!E412)","v":""},{"$f":"IF(Liste_pièces!F412=\"\",\"\",Liste_pièces!F412)","v":""},{"$f":"IF(Liste_pièces!G412=\"\",\"\",Liste_pièces!G412)","v":""},{"$f":"IF(Liste_pièces!H412=\"\",\"\",Liste_pièces!H412)","v":""},{"$f":"IF(Liste_pièces!I412=\"\",\"\",Liste_pièces!I412)","v":""},{"$f":"IF(Liste_pièces!J412=\"\",\"\",Liste_pièces!J412)","v":""},{"$f":"IF(Liste_pièces!K412=\"\",\"\",Liste_pièces!K412)","v":""},{"$f":"IF(Liste_pièces!L412=\"\",\"\",Liste_pièces!L412)","v":""},{"$f":"IF(Liste_pièces!M412=\"\",\"\",Liste_pièces!M412)","v":""},0,1,0]
[{"$f":"IF(Liste_pièces!A413=\"\",\"ZZZ\",Liste_pièces!A413)","v":"ZZZ"},{"$f":"IF(Liste_pièces!B413=\"\",\"ZZZ\",Liste_pièces!B413)","v":"ZZZ"},{"$f":"IF(Liste_pièces!C413=\"\",\"\",Liste_pièces!C413)","v":""},{"$f":"IF(Liste_pièces!D413=\"\",\"\",Liste_pièces!D413)","v":""},{"$f":"IF(Liste_pièces!E413=\"\",\"\",Liste_pièces!E413)","v":""},{"$f":"IF(Liste_pièces!F413=\"\",\"\",Liste_pièces!F413)","v":""},{"$f":"IF(Liste_pièces!G413=\"\",\"\",Liste_pièces!G413)","v":""},{"$f":"IF(Liste_pièces!H413=\"\",\"\",Liste_pièces!H413)","v":""},{"$f":"IF(Liste_pièces!I413=\"\",\"\",Liste_pièces!I413)","v":""},{"$f":"IF(Liste_pièces!J413=\"\",\"\",Liste_pièces!J413)","v":""},{"$f":"IF(Liste_pièces!K413=\"\",\"\",Liste_pièces!K413)","v":""},{"$f":"IF(Liste_pièces!L413=\"\",\"\",Liste_pièces!L413)","v":""},{"$f":"IF(Liste_pièces!M413=\"\",\"\",Liste_pièces!M413)","v":""},0,1,0]
[{"$f":"IF(Liste_pièces!A414=\"\",\"ZZZ\",Liste_pièces!A414)","v":"ZZZ"},{"$f":"IF(Liste_pièces!B414=\"\",\"ZZZ\",Liste_pièces!B414)","v":"ZZZ"},{"$f":"IF(Liste_pièces!C414=\"\",\"\",Liste_pièces!C414)","v":""},{"$f":"IF(Liste_pièces!D414=\"\",\"\",Liste_pièces!D414)","v":""},{"$f":"IF(Liste_pièces!E414=\"\",\"\",Liste_pièces!E414)","v":""},{"$f":"IF(Liste_pièces!F414=\"\",\"\",Liste_pièces!F414)","v":""},{"$f":"IF(Liste_pièces!G414=\"\",\"\",Liste_pièces!G414)","v":""},{"$f":"IF(Liste_pièces!H414=\"\",\"\",Liste_pièces!H414)","v":""},{"$f":"IF(Liste_pièces!I414=\"\",\"\",Liste_pièces!I414)","v":""},{"$f":"IF(Liste_pièces!J414=\"\",\"\",Liste_pièces!J414)","v":""},{"$f":"IF(Liste_pièces!K414=\"\",\"\",Liste_pièces!K414)","v":""},{"$f":"IF(Liste_pièces!L414=\"\",\"\",Liste_pièces!L414)","v":""},{"$f":"IF(Liste_pièces!M414=\"\",\"\",Liste_pièces!M414)","v":""},0,1,0]
[{"$f":"IF(Liste_pièces!A415=\"\",\"ZZZ\",Liste_pièces!A415)","v":"ZZZ"},{"$f":"IF(Liste_pièces!B415=\"\",\"ZZZ\",Liste_pièces!B415)","v":"ZZZ"},{"$f":"IF(Liste_pièces!C415=\"\",\"\",Liste_pièces!C415)","v":""},{"$f":"IF(Liste_pièces!D415=\"\",\"\",Liste_pièces!D415)","v":""},{"$f":"IF(Liste_pièces!E415=\"\",\"\",Liste_pièces!E415)","v":""},{"$f":"IF(Liste_pièces!F415=\"\",\"\",Liste_pièces!F415)","v":""},{"$f":"IF(Liste_pièces!G415=\"\",\"\",Liste_pièces!G415)","v":""},{"$f":"IF(Liste_pièces!H415=\"\",\"\",Liste_pièces!H415)","v":""},{"$f":"IF(Liste_pièces!I415=\"\",\"\",Liste_pièces!I415)","v":""},{"$f":"IF(Liste_pièces!J415=\"\",\"\",Liste_pièces!J415)","v":""},{"$f":"IF(Liste_pièces!K415=\"\",\"\",Liste_pièces!K415)","v":""},{"$f":"IF(Liste_pièces!L415=\"\",\"\",Liste_pièces!L415)","v":""},{"$f":"IF(Liste_pièces!M415=\"\",\"\",Liste_pièces!M415)","v":""},0,1,0]
[{"$f":"IF(Liste_pièces!A416=\"\",\"ZZZ\",Liste_pièces!A416)","v":"ZZZ"},{"$f":"IF(Liste_pièces!B416=\"\",\"ZZZ\",Liste_pièces!B416)","v":"ZZZ"},{"$f":"IF(Liste_pièces!C416=\"\",\"\",Liste_pièces!C416)","v":""},{"$f":"IF(Liste_pièces!D416=\"\",\"\",Liste_pièces!D416)","v":""},{"$f":"IF(Liste_pièces!E416=\"\",\"\",Liste_pièces!E416)","v":""},{"$f":"IF(Liste_pièces!F416=\"\",\"\",Liste_pièces!F416)","v":""},{"$f":"IF(Liste_pièces!G416=\"\",\"\",Liste_pièces!G416)","v":""},{"$f":"IF(Liste_pièces!H416=\"\",\"\",Liste_pièces!H416)","v":""},{"$f":"IF(Liste_pièces!I416=\"\",\"\",Liste_pièces!I416)","v":""},{"$f":"IF(Liste_pièces!J416=\"\",\"\",Liste_pièces!J416)","v":""},{"$f":"IF(Liste_pièces!K416=\"\",\"\",Liste_pièces!K416)","v":""},{"$f":"IF(Liste_pièces!L416=\"\",\"\",Liste_pièces!L416)","v":""},{"$f":"IF(Liste_pièces!M416=\"\",\"\",Liste_pièces!M416)","v":""},0,1,0]
[{"$f":"IF(Liste_pièces!A417=\"\",\"ZZZ\",Liste_pièces!A417)","v":"ZZZ"},{"$f":"IF(Liste_pièces!B417=\"\",\"ZZZ\",Liste_pièces!B417)","v":"ZZZ"},{"$f":"IF(Liste_pièces!C417=\"\",\"\",Liste_pièces!C417)","v":""},{"$f":"IF(Liste_pièces!D417=\"\",\"\",Liste_pièces!D417)","v":""},{"$f":"IF(Liste_pièces!E417=\"\",\"\",Liste_pièces!E417)","v":""},{"$f":"IF(Liste_pièces!F417=\"\",\"\",Liste_pièces!F417)","v":""},{"$f":"IF(Liste_pièces!G417=\"\",\"\",Liste_pièces!G417)","v":""},{"$f":"IF(Liste_pièces!H417=\"\",\"\",Liste_pièces!H417)","v":""},{"$f":"IF(Liste_pièces!I417=\"\",\"\",Liste_pièces!I417)","v":""},{"$f":"IF(Liste_pièces!J417=\"\",\"\",Liste_pièces!J417)","v":""},{"$f":"IF(Liste_pièces!K417=\"\",\"\",Liste_pièces!K417)","v":""},{"$f":"IF(Liste_pièces!L417=\"\",\"\",Liste_pièces!L417)","v":""},{"$f":"IF(Liste_pièces!M417=\"\",\"\",Liste_pièces!M417)","v":""},0,1,0]
[{"$f":"IF(Liste_pièces!A418=\"\",\"ZZZ\",Liste_pièces!A418)","v":"ZZZ"},{"$f":"IF(Liste_pièces!B418=\"\",\"ZZZ\",Liste_pièces!B418)","v":"ZZZ"},{"$f":"IF(Liste_pièces!C418=\"\",\"\",Liste_pièces!C418)","v":""},{"$f":"IF(Liste_pièces!D418=\"\",\"\",Liste_pièces!D418)","v":""},{"$f":"IF(Liste_pièces!E418=\"\",\"\",Liste_pièces!E418)","v":""},{"$f":"IF(Liste_pièces!F418=\"\",\"\",Liste_pièces!F418)","v":""},{"$f":"IF(Liste_pièces!G418=\"\",\"\",Liste_pièces!G418)","v":""},{"$f":"IF(Liste_pièces!H418=\"\",\"\",Liste_pièces!H418)","v":""},{"$f":"IF(Liste_pièces!I418=\"\",\"\",Liste_pièces!I418)","v":""},{"$f":"IF(Liste_pièces!J418=\"\",\"\",Liste_pièces!J418)","v":""},{"$f":"IF(Liste_pièces!K418=\"\",\"\",Liste_pièces!K418)","v":""},{"$f":"IF(Liste_pièces!L418=\"\",\"\",Liste_pièces!L418)","v":""},{"$f":"IF(Liste_pièces!M418=\"\",\"\",Liste_pièces!M418)","v":""},0,1,0]
[{"$f":"IF(Liste_pièces!A419=\"\",\"ZZZ\",Liste_pièces!A419)","v":"ZZZ"},{"$f":"IF(Liste_pièces!B419=\"\",\"ZZZ\",Liste_pièces!B419)","v":"ZZZ"},{"$f":"IF(Liste_pièces!C419=\"\",\"\",Liste_pièces!C419)","v":""},{"$f":"IF(Liste_pièces!D419=\"\",\"\",Liste_pièces!D419)","v":""},{"$f":"IF(Liste_pièces!E419=\"\",\"\",Liste_pièces!E419)","v":""},{"$f":"IF(Liste_pièces!F419=\"\",\"\",Liste_pièces!F419)","v":""},{"$f":"IF(Liste_pièces!G419=\"\",\"\",Liste_pièces!G419)","v":""},{"$f":"IF(Liste_pièces!H419=\"\",\"\",Liste_pièces!H419)","v":""},{"$f":"IF(Liste_pièces!I419=\"\",\"\",Liste_pièces!I419)","v":""},{"$f":"IF(Liste_pièces!J419=\"\",\"\",Liste_pièces!J419)","v":""},{"$f":"IF(Liste_pièces!K419=\"\",\"\",Liste_pièces!K419)","v":""},{"$f":"IF(Liste_pièces!L419=\"\",\"\",Liste_pièces!L419)","v":""},{"$f":"IF(Liste_pièces!M419=\"\",\"\",Liste_pièces!M419)","v":""},0,1,0]
[{"$f":"IF(Liste_pièces!A420=\"\",\"ZZZ\",Liste_pièces!A420)","v":"ZZZ"},{"$f":"IF(Liste_pièces!B420=\"\",\"ZZZ\",Liste_pièces!B420)","v":"ZZZ"},{"$f":"IF(Liste_pièces!C420=\"\",\"\",Liste_pièces!C420)","v":""},{"$f":"IF(Liste_pièces!D420=\"\",\"\",Liste_pièces!D420)","v":""},{"$f":"IF(Liste_pièces!E420=\"\",\"\",Liste_pièces!E420)","v":""},{"$f":"IF(Liste_pièces!F420=\"\",\"\",Liste_pièces!F420)","v":""},{"$f":"IF(Liste_pièces!G420=\"\",\"\",Liste_pièces!G420)","v":""},{"$f":"IF(Liste_pièces!H420=\"\",\"\",Liste_pièces!H420)","v":""},{"$f":"IF(Liste_pièces!I420=\"\",\"\",Liste_pièces!I420)","v":""},{"$f":"IF(Liste_pièces!J420=\"\",\"\",Liste_pièces!J420)","v":""},{"$f":"IF(Liste_pièces!K420=\"\",\"\",Liste_pièces!K420)","v":""},{"$f":"IF(Liste_pièces!L420=\"\",\"\",Liste_pièces!L420)","v":""},{"$f":"IF(Liste_pièces!M420=\"\",\"\",Liste_pièces!M420)","v":""},0,1,0]
[{"$f":"IF(Liste_pièces!A421=\"\",\"ZZZ\",Liste_pièces!A421)","v":"ZZZ"},{"$f":"IF(Liste_pièces!B421=\"\",\"ZZZ\",Liste_pièces!B421)","v":"ZZZ"},{"$f":"IF(Liste_pièces!C421=\"\",\"\",Liste_pièces!C421)","v":""},{"$f":"IF(Liste_pièces!D421=\"\",\"\",Liste_pièces!D421)","v":""},{"$f":"IF(Liste_pièces!E421=\"\",\"\",Liste_pièces!E421)","v":""},{"$f":"IF(Liste_pièces!F421=\"\",\"\",Liste_pièces!F421)","v":""},{"$f":"IF(Liste_pièces!G421=\"\",\"\",Liste_pièces!G421)","v":""},{"$f":"IF(Liste_pièces!H421=\"\",\"\",Liste_pièces!H421)","v":""},{"$f":"IF(Liste_pièces!I421=\"\",\"\",Liste_pièces!I421)","v":""},{"$f":"IF(Liste_pièces!J421=\"\",\"\",Liste_pièces!J421)","v":""},{"$f":"IF(Liste_pièces!K421=\"\",\"\",Liste_pièces!K421)","v":""},{"$f":"IF(Liste_pièces!L421=\"\",\"\",Liste_pièces!L421)","v":""},{"$f":"IF(Liste_pièces!M421=\"\",\"\",Liste_pièces!M421)","v":""},0,1,0]
[{"$f":"IF(Liste_pièces!A422=\"\",\"ZZZ\",Liste_pièces!A422)","v":"ZZZ"},{"$f":"IF(Liste_pièces!B422=\"\",\"ZZZ\",Liste_pièces!B422)","v":"ZZZ"},{"$f":"IF(Liste_pièces!C422=\"\",\"\",Liste_pièces!C422)","v":""},{"$f":"IF(Liste_pièces!D422=\"\",\"\",Liste_pièces!D422)","v":""},{"$f":"IF(Liste_pièces!E422=\"\",\"\",Liste_pièces!E422)","v":""},{"$f":"IF(Liste_pièces!F422=\"\",\"\",Liste_pièces!F422)","v":""},{"$f":"IF(Liste_pièces!G422=\"\",\"\",Liste_pièces!G422)","v":""},{"$f":"IF(Liste_pièces!H422=\"\",\"\",Liste_pièces!H422)","v":""},{"$f":"IF(Liste_pièces!I422=\"\",\"\",Liste_pièces!I422)","v":""},{"$f":"IF(Liste_pièces!J422=\"\",\"\",Liste_pièces!J422)","v":""},{"$f":"IF(Liste_pièces!K422=\"\",\"\",Liste_pièces!K422)","v":""},{"$f":"IF(Liste_pièces!L422=\"\",\"\",Liste_pièces!L422)","v":""},{"$f":"IF(Liste_pièces!M422=\"\",\"\",Liste_pièces!M422)","v":""},0,1,0]
[{"$f":"IF(Liste_pièces!A423=\"\",\"ZZZ\",Liste_pièces!A423)","v":"ZZZ"},{"$f":"IF(Liste_pièces!B423=\"\",\"ZZZ\",Liste_pièces!B423)","v":"ZZZ"},{"$f":"IF(Liste_pièces!C423=\"\",\"\",Liste_pièces!C423)","v":""},{"$f":"IF(Liste_pièces!D423=\"\",\"\",Liste_pièces!D423)","v":""},{"$f":"IF(Liste_pièces!E423=\"\",\"\",Liste_pièces!E423)","v":""},{"$f":"IF(Liste_pièces!F423=\"\",\"\",Liste_pièces!F423)","v":""},{"$f":"IF(Liste_pièces!G423=\"\",\"\",Liste_pièces!G423)","v":""},{"$f":"IF(Liste_pièces!H423=\"\",\"\",Liste_pièces!H423)","v":""},{"$f":"IF(Liste_pièces!I423=\"\",\"\",Liste_pièces!I423)","v":""},{"$f":"IF(Liste_pièces!J423=\"\",\"\",Liste_pièces!J423)","v":""},{"$f":"IF(Liste_pièces!K423=\"\",\"\",Liste_pièces!K423)","v":""},{"$f":"IF(Liste_pièces!L423=\"\",\"\",Liste_pièces!L423)","v":""},{"$f":"IF(Liste_pièces!M423=\"\",\"\",Liste_pièces!M423)","v":""},0,1,0]
[{"$f":"IF(Liste_pièces!A424=\"\",\"ZZZ\",Liste_pièces!A424)","v":"ZZZ"},{"$f":"IF(Liste_pièces!B424=\"\",\"ZZZ\",Liste_pièces!B424)","v":"ZZZ"},{"$f":"IF(Liste_pièces!C424=\"\",\"\",Liste_pièces!C424)","v":""},{"$f":"IF(Liste_pièces!D424=\"\",\"\",Liste_pièces!D424)","v":""},{"$f":"IF(Liste_pièces!E424=\"\",\"\",Liste_pièces!E424)","v":""},{"$f":"IF(Liste_pièces!F424=\"\",\"\",Liste_pièces!F424)","v":""},{"$f":"IF(Liste_pièces!G424=\"\",\"\",Liste_pièces!G424)","v":""},{"$f":"IF(Liste_pièces!H424=\"\",\"\",Liste_pièces!H424)","v":""},{"$f":"IF(Liste_pièces!I424=\"\",\"\",Liste_pièces!I424)","v":""},{"$f":"IF(Liste_pièces!J424=\"\",\"\",Liste_pièces!J424)","v":""},{"$f":"IF(Liste_pièces!K424=\"\",\"\",Liste_pièces!K424)","v":""},{"$f":"IF(Liste_pièces!L424=\"\",\"\",Liste_pièces!L424)","v":""},{"$f":"IF(Liste_pièces!M424=\"\",\"\",Liste_pièces!M424)","v":""},0,1,0]
[{"$f":"IF(Liste_pièces!A425=\"\",\"ZZZ\",Liste_pièces!A425)","v":"ZZZ"},{"$f":"IF(Liste_pièces!B425=\"\",\"ZZZ\",Liste_pièces!B425)","v":"ZZZ"},{"$f":"IF(Liste_pièces!C425=\"\",\"\",Liste_pièces!C425)","v":""},{"$f":"IF(Liste_pièces!D425=\"\",\"\",Liste_pièces!D425)","v":""},{"$f":"IF(Liste_pièces!E425=\"\",\"\",Liste_pièces!E425)","v":""},{"$f":"IF(Liste_pièces!F425=\"\",\"\",Liste_pièces!F425)","v":""},{"$f":"IF(Liste_pièces!G425=\"\",\"\",Liste_pièces!G425)","v":""},{"$f":"IF(Liste_pièces!H425=\"\",\"\",Liste_pièces!H425)","v":""},{"$f":"IF(Liste_pièces!I425=\"\",\"\",Liste_pièces!I425)","v":""},{"$f":"IF(Liste_pièces!J425=\"\",\"\",Liste_pièces!J425)","v":""},{"$f":"IF(Liste_pièces!K425=\"\",\"\",Liste_pièces!K425)","v":""},{"$f":"IF(Liste_pièces!L425=\"\",\"\",Liste_pièces!L425)","v":""},{"$f":"IF(Liste_pièces!M425=\"\",\"\",Liste_pièces!M425)","v":""},0,1,0]
[{"$f":"IF(Liste_pièces!A426=\"\",\"ZZZ\",Liste_pièces!A426)","v":"ZZZ"},{"$f":"IF(Liste_pièces!B426=\"\",\"ZZZ\",Liste_pièces!B426)","v":"ZZZ"},{"$f":"IF(Liste_pièces!C426=\"\",\"\",Liste_pièces!C426)","v":""},{"$f":"IF(Liste_pièces!D426=\"\",\"\",Liste_pièces!D426)","v":""},{"$f":"IF(Liste_pièces!E426=\"\",\"\",Liste_pièces!E426)","v":""},{"$f":"IF(Liste_pièces!F426=\"\",\"\",Liste_pièces!F426)","v":""},{"$f":"IF(Liste_pièces!G426=\"\",\"\",Liste_pièces!G426)","v":""},{"$f":"IF(Liste_pièces!H426=\"\",\"\",Liste_pièces!H426)","v":""},{"$f":"IF(Liste_pièces!I426=\"\",\"\",Liste_pièces!I426)","v":""},{"$f":"IF(Liste_pièces!J426=\"\",\"\",Liste_pièces!J426)","v":""},{"$f":"IF(Liste_pièces!K426=\"\",\"\",Liste_pièces!K426)","v":""},{"$f":"IF(Liste_pièces!L426=\"\",\"\",Liste_pièces!L426)","v":""},{"$f":"IF(Liste_pièces!M426=\"\",\"\",Liste_pièces!M426)","v":""},0,{"$f":"IF(N426*37=SUM(N389:N425),1,0)","v":1},0]
[{"$f":"IF(Liste_pièces!A427=\"\",\"ZZZ\",Liste_pièces!A427)","v":"ZZZ"},{"$f":"IF(Liste_pièces!B427=\"\",\"ZZZ\",Liste_pièces!B427)","v":"ZZZ"},{"$f":"IF(Liste_pièces!C427=\"\",\"\",Liste_pièces!C427)","v":""},{"$f":"IF(Liste_pièces!D427=\"\",\"\",Liste_pièces!D427)","v":""},{"$f":"IF(Liste_pièces!E427=\"\",\"\",Liste_pièces!E427)","v":""},{"$f":"IF(Liste_pièces!F427=\"\",\"\",Liste_pièces!F427)","v":""},{"$f":"IF(Liste_pièces!G427=\"\",\"\",Liste_pièces!G427)","v":""},{"$f":"IF(Liste_pièces!H427=\"\",\"\",Liste_pièces!H427)","v":""},{"$f":"IF(Liste_pièces!I427=\"\",\"\",Liste_pièces!I427)","v":""},{"$f":"IF(Liste_pièces!J427=\"\",\"\",Liste_pièces!J427)","v":""},{"$f":"IF(Liste_pièces!K427=\"\",\"\",Liste_pièces!K427)","v":""},{"$f":"IF(Liste_pièces!L427=\"\",\"\",Liste_pièces!L427)","v":""},{"$f":"IF(Liste_pièces!M427=\"\",\"\",Liste_pièces!M427)","v":""},0,1,0]
[{"$f":"IF(Liste_pièces!A428=\"\",\"ZZZ\",Liste_pièces!A428)","v":"ZZZ"},{"$f":"IF(Liste_pièces!B428=\"\",\"ZZZ\",Liste_pièces!B428)","v":"ZZZ"},{"$f":"IF(Liste_pièces!C428=\"\",\"\",Liste_pièces!C428)","v":""},{"$f":"IF(Liste_pièces!D428=\"\",\"\",Liste_pièces!D428)","v":""},{"$f":"IF(Liste_pièces!E428=\"\",\"\",Liste_pièces!E428)","v":""},{"$f":"IF(Liste_pièces!F428=\"\",\"\",Liste_pièces!F428)","v":""},{"$f":"IF(Liste_pièces!G428=\"\",\"\",Liste_pièces!G428)","v":""},{"$f":"IF(Liste_pièces!H428=\"\",\"\",Liste_pièces!H428)","v":""},{"$f":"IF(Liste_pièces!I428=\"\",\"\",Liste_pièces!I428)","v":""},{"$f":"IF(Liste_pièces!J428=\"\",\"\",Liste_pièces!J428)","v":""},{"$f":"IF(Liste_pièces!K428=\"\",\"\",Liste_pièces!K428)","v":""},{"$f":"IF(Liste_pièces!L428=\"\",\"\",Liste_pièces!L428)","v":""},{"$f":"IF(Liste_pièces!M428=\"\",\"\",Liste_pièces!M428)","v":""},0,1,0]
[{"$f":"IF(Liste_pièces!A429=\"\",\"ZZZ\",Liste_pièces!A429)","v":"ZZZ"},{"$f":"IF(Liste_pièces!B429=\"\",\"ZZZ\",Liste_pièces!B429)","v":"ZZZ"},{"$f":"IF(Liste_pièces!C429=\"\",\"\",Liste_pièces!C429)","v":""},{"$f":"IF(Liste_pièces!D429=\"\",\"\",Liste_pièces!D429)","v":""},{"$f":"IF(Liste_pièces!E429=\"\",\"\",Liste_pièces!E429)","v":""},{"$f":"IF(Liste_pièces!F429=\"\",\"\",Liste_pièces!F429)","v":""},{"$f":"IF(Liste_pièces!G429=\"\",\"\",Liste_pièces!G429)","v":""},{"$f":"IF(Liste_pièces!H429=\"\",\"\",Liste_pièces!H429)","v":""},{"$f":"IF(Liste_pièces!I429=\"\",\"\",Liste_pièces!I429)","v":""},{"$f":"IF(Liste_pièces!J429=\"\",\"\",Liste_pièces!J429)","v":""},{"$f":"IF(Liste_pièces!K429=\"\",\"\",Liste_pièces!K429)","v":""},{"$f":"IF(Liste_pièces!L429=\"\",\"\",Liste_pièces!L429)","v":""},{"$f":"IF(Liste_pièces!M429=\"\",\"\",Liste_pièces!M429)","v":""},0,1,0]
[{"$f":"IF(Liste_pièces!A430=\"\",\"ZZZ\",Liste_pièces!A430)","v":"ZZZ"},{"$f":"IF(Liste_pièces!B430=\"\",\"ZZZ\",Liste_pièces!B430)","v":"ZZZ"},{"$f":"IF(Liste_pièces!C430=\"\",\"\",Liste_pièces!C430)","v":""},{"$f":"IF(Liste_pièces!D430=\"\",\"\",Liste_pièces!D430)","v":""},{"$f":"IF(Liste_pièces!E430=\"\",\"\",Liste_pièces!E430)","v":""},{"$f":"IF(Liste_pièces!F430=\"\",\"\",Liste_pièces!F430)","v":""},{"$f":"IF(Liste_pièces!G430=\"\",\"\",Liste_pièces!G430)","v":""},{"$f":"IF(Liste_pièces!H430=\"\",\"\",Liste_pièces!H430)","v":""},{"$f":"IF(Liste_pièces!I430=\"\",\"\",Liste_pièces!I430)","v":""},{"$f":"IF(Liste_pièces!J430=\"\",\"\",Liste_pièces!J430)","v":""},{"$f":"IF(Liste_pièces!K430=\"\",\"\",Liste_pièces!K430)","v":""},{"$f":"IF(Liste_pièces!L430=\"\",\"\",Liste_pièces!L430)","v":""},{"$f":"IF(Liste_pièces!M430=\"\",\"\",Liste_pièces!M430)","v":""},0,1,0]
[{"$f":"IF(Liste_pièces!A431=\"\",\"ZZZ\",Liste_pièces!A431)","v":"ZZZ"},{"$f":"IF(Liste_pièces!B431=\"\",\"ZZZ\",Liste_pièces!B431)","v":"ZZZ"},{"$f":"IF(Liste_pièces!C431=\"\",\"\",Liste_pièces!C431)","v":""},{"$f":"IF(Liste_pièces!D431=\"\",\"\",Liste_pièces!D431)","v":""},{"$f":"IF(Liste_pièces!E431=\"\",\"\",Liste_pièces!E431)","v":""},{"$f":"IF(Liste_pièces!F431=\"\",\"\",Liste_pièces!F431)","v":""},{"$f":"IF(Liste_pièces!G431=\"\",\"\",Liste_pièces!G431)","v":""},{"$f":"IF(Liste_pièces!H431=\"\",\"\",Liste_pièces!H431)","v":""},{"$f":"IF(Liste_pièces!I431=\"\",\"\",Liste_pièces!I431)","v":""},{"$f":"IF(Liste_pièces!J431=\"\",\"\",Liste_pièces!J431)","v":""},{"$f":"IF(Liste_pièces!K431=\"\",\"\",Liste_pièces!K431)","v":""},{"$f":"IF(Liste_pièces!L431=\"\",\"\",Liste_pièces!L431)","v":""},{"$f":"IF(Liste_pièces!M431=\"\",\"\",Liste_pièces!M431)","v":""},0,1,0]
[{"$f":"IF(Liste_pièces!A432=\"\",\"ZZZ\",Liste_pièces!A432)","v":"ZZZ"},{"$f":"IF(Liste_pièces!B432=\"\",\"ZZZ\",Liste_pièces!B432)","v":"ZZZ"},{"$f":"IF(Liste_pièces!C432=\"\",\"\",Liste_pièces!C432)","v":""},{"$f":"IF(Liste_pièces!D432=\"\",\"\",Liste_pièces!D432)","v":""},{"$f":"IF(Liste_pièces!E432=\"\",\"\",Liste_pièces!E432)","v":""},{"$f":"IF(Liste_pièces!F432=\"\",\"\",Liste_pièces!F432)","v":""},{"$f":"IF(Liste_pièces!G432=\"\",\"\",Liste_pièces!G432)","v":""},{"$f":"IF(Liste_pièces!H432=\"\",\"\",Liste_pièces!H432)","v":""},{"$f":"IF(Liste_pièces!I432=\"\",\"\",Liste_pièces!I432)","v":""},{"$f":"IF(Liste_pièces!J432=\"\",\"\",Liste_pièces!J432)","v":""},{"$f":"IF(Liste_pièces!K432=\"\",\"\",Liste_pièces!K432)","v":""},{"$f":"IF(Liste_pièces!L432=\"\",\"\",Liste_pièces!L432)","v":""},{"$f":"IF(Liste_pièces!M432=\"\",\"\",Liste_pièces!M432)","v":""},0,1,0]
[{"$f":"IF(Liste_pièces!A433=\"\",\"ZZZ\",Liste_pièces!A433)","v":"ZZZ"},{"$f":"IF(Liste_pièces!B433=\"\",\"ZZZ\",Liste_pièces!B433)","v":"ZZZ"},{"$f":"IF(Liste_pièces!C433=\"\",\"\",Liste_pièces!C433)","v":""},{"$f":"IF(Liste_pièces!D433=\"\",\"\",Liste_pièces!D433)","v":""},{"$f":"IF(Liste_pièces!E433=\"\",\"\",Liste_pièces!E433)","v":""},{"$f":"IF(Liste_pièces!F433=\"\",\"\",Liste_pièces!F433)","v":""},{"$f":"IF(Liste_pièces!G433=\"\",\"\",Liste_pièces!G433)","v":""},{"$f":"IF(Liste_pièces!H433=\"\",\"\",Liste_pièces!H433)","v":""},{"$f":"IF(Liste_pièces!I433=\"\",\"\",Liste_pièces!I433)","v":""},{"$f":"IF(Liste_pièces!J433=\"\",\"\",Liste_pièces!J433)","v":""},{"$f":"IF(Liste_pièces!K433=\"\",\"\",Liste_pièces!K433)","v":""},{"$f":"IF(Liste_pièces!L433=\"\",\"\",Liste_pièces!L433)","v":""},{"$f":"IF(Liste_pièces!M433=\"\",\"\",Liste_pièces!M433)","v":""},0,1,0]
[{"$f":"IF(Liste_pièces!A434=\"\",\"ZZZ\",Liste_pièces!A434)","v":"ZZZ"},{"$f":"IF(Liste_pièces!B434=\"\",\"ZZZ\",Liste_pièces!B434)","v":"ZZZ"},{"$f":"IF(Liste_pièces!C434=\"\",\"\",Liste_pièces!C434)","v":""},{"$f":"IF(Liste_pièces!D434=\"\",\"\",Liste_pièces!D434)","v":""},{"$f":"IF(Liste_pièces!E434=\"\",\"\",Liste_pièces!E434)","v":""},{"$f":"IF(Liste_pièces!F434=\"\",\"\",Liste_pièces!F434)","v":""},{"$f":"IF(Liste_pièces!G434=\"\",\"\",Liste_pièces!G434)","v":""},{"$f":"IF(Liste_pièces!H434=\"\",\"\",Liste_pièces!H434)","v":""},{"$f":"IF(Liste_pièces!I434=\"\",\"\",Liste_pièces!I434)","v":""},{"$f":"IF(Liste_pièces!J434=\"\",\"\",Liste_pièces!J434)","v":""},{"$f":"IF(Liste_pièces!K434=\"\",\"\",Liste_pièces!K434)","v":""},{"$f":"IF(Liste_pièces!L434=\"\",\"\",Liste_pièces!L434)","v":""},{"$f":"IF(Liste_pièces!M434=\"\",\"\",Liste_pièces!M434)","v":""},0,1,0]
[{"$f":"IF(Liste_pièces!A435=\"\",\"ZZZ\",Liste_pièces!A435)","v":"ZZZ"},{"$f":"IF(Liste_pièces!B435=\"\",\"ZZZ\",Liste_pièces!B435)","v":"ZZZ"},{"$f":"IF(Liste_pièces!C435=\"\",\"\",Liste_pièces!C435)","v":""},{"$f":"IF(Liste_pièces!D435=\"\",\"\",Liste_pièces!D435)","v":""},{"$f":"IF(Liste_pièces!E435=\"\",\"\",Liste_pièces!E435)","v":""},{"$f":"IF(Liste_pièces!F435=\"\",\"\",Liste_pièces!F435)","v":""},{"$f":"IF(Liste_pièces!G435=\"\",\"\",Liste_pièces!G435)","v":""},{"$f":"IF(Liste_pièces!H435=\"\",\"\",Liste_pièces!H435)","v":""},{"$f":"IF(Liste_pièces!I435=\"\",\"\",Liste_pièces!I435)","v":""},{"$f":"IF(Liste_pièces!J435=\"\",\"\",Liste_pièces!J435)","v":""},{"$f":"IF(Liste_pièces!K435=\"\",\"\",Liste_pièces!K435)","v":""},{"$f":"IF(Liste_pièces!L435=\"\",\"\",Liste_pièces!L435)","v":""},{"$f":"IF(Liste_pièces!M435=\"\",\"\",Liste_pièces!M435)","v":""},0,1,0]
[{"$f":"IF(Liste_pièces!A436=\"\",\"ZZZ\",Liste_pièces!A436)","v":"ZZZ"},{"$f":"IF(Liste_pièces!B436=\"\",\"ZZZ\",Liste_pièces!B436)","v":"ZZZ"},{"$f":"IF(Liste_pièces!C436=\"\",\"\",Liste_pièces!C436)","v":""},{"$f":"IF(Liste_pièces!D436=\"\",\"\",Liste_pièces!D436)","v":""},{"$f":"IF(Liste_pièces!E436=\"\",\"\",Liste_pièces!E436)","v":""},{"$f":"IF(Liste_pièces!F436=\"\",\"\",Liste_pièces!F436)","v":""},{"$f":"IF(Liste_pièces!G436=\"\",\"\",Liste_pièces!G436)","v":""},{"$f":"IF(Liste_pièces!H436=\"\",\"\",Liste_pièces!H436)","v":""},{"$f":"IF(Liste_pièces!I436=\"\",\"\",Liste_pièces!I436)","v":""},{"$f":"IF(Liste_pièces!J436=\"\",\"\",Liste_pièces!J436)","v":""},{"$f":"IF(Liste_pièces!K436=\"\",\"\",Liste_pièces!K436)","v":""},{"$f":"IF(Liste_pièces!L436=\"\",\"\",Liste_pièces!L436)","v":""},{"$f":"IF(Liste_pièces!M436=\"\",\"\",Liste_pièces!M436)","v":""},0,1,0]
[{"$f":"IF(Liste_pièces!A437=\"\",\"ZZZ\",Liste_pièces!A437)","v":"ZZZ"},{"$f":"IF(Liste_pièces!B437=\"\",\"ZZZ\",Liste_pièces!B437)","v":"ZZZ"},{"$f":"IF(Liste_pièces!C437=\"\",\"\",Liste_pièces!C437)","v":""},{"$f":"IF(Liste_pièces!D437=\"\",\"\",Liste_pièces!D437)","v":""},{"$f":"IF(Liste_pièces!E437=\"\",\"\",Liste_pièces!E437)","v":""},{"$f":"IF(Liste_pièces!F437=\"\",\"\",Liste_pièces!F437)","v":""},{"$f":"IF(Liste_pièces!G437=\"\",\"\",Liste_pièces!G437)","v":""},{"$f":"IF(Liste_pièces!H437=\"\",\"\",Liste_pièces!H437)","v":""},{"$f":"IF(Liste_pièces!I437=\"\",\"\",Liste_pièces!I437)","v":""},{"$f":"IF(Liste_pièces!J437=\"\",\"\",Liste_pièces!J437)","v":""},{"$f":"IF(Liste_pièces!K437=\"\",\"\",Liste_pièces!K437)","v":""},{"$f":"IF(Liste_pièces!L437=\"\",\"\",Liste_pièces!L437)","v":""},{"$f":"IF(Liste_pièces!M437=\"\",\"\",Liste_pièces!M437)","v":""},0,1,0]
[{"$f":"IF(Liste_pièces!A438=\"\",\"ZZZ\",Liste_pièces!A438)","v":"ZZZ"},{"$f":"IF(Liste_pièces!B438=\"\",\"ZZZ\",Liste_pièces!B438)","v":"ZZZ"},{"$f":"IF(Liste_pièces!C438=\"\",\"\",Liste_pièces!C438)","v":""},{"$f":"IF(Liste_pièces!D438=\"\",\"\",Liste_pièces!D438)","v":""},{"$f":"IF(Liste_pièces!E438=\"\",\"\",Liste_pièces!E438)","v":""},{"$f":"IF(Liste_pièces!F438=\"\",\"\",Liste_pièces!F438)","v":""},{"$f":"IF(Liste_pièces!G438=\"\",\"\",Liste_pièces!G438)","v":""},{"$f":"IF(Liste_pièces!H438=\"\",\"\",Liste_pièces!H438)","v":""},{"$f":"IF(Liste_pièces!I438=\"\",\"\",Liste_pièces!I438)","v":""},{"$f":"IF(Liste_pièces!J438=\"\",\"\",Liste_pièces!J438)","v":""},{"$f":"IF(Liste_pièces!K438=\"\",\"\",Liste_pièces!K438)","v":""},{"$f":"IF(Liste_pièces!L438=\"\",\"\",Liste_pièces!L438)","v":""},{"$f":"IF(Liste_pièces!M438=\"\",\"\",Liste_pièces!M438)","v":""},0,1,0]
[{"$f":"IF(Liste_pièces!A439=\"\",\"ZZZ\",Liste_pièces!A439)","v":"ZZZ"},{"$f":"IF(Liste_pièces!B439=\"\",\"ZZZ\",Liste_pièces!B439)","v":"ZZZ"},{"$f":"IF(Liste_pièces!C439=\"\",\"\",Liste_pièces!C439)","v":""},{"$f":"IF(Liste_pièces!D439=\"\",\"\",Liste_pièces!D439)","v":""},{"$f":"IF(Liste_pièces!E439=\"\",\"\",Liste_pièces!E439)","v":""},{"$f":"IF(Liste_pièces!F439=\"\",\"\",Liste_pièces!F439)","v":""},{"$f":"IF(Liste_pièces!G439=\"\",\"\",Liste_pièces!G439)","v":""},{"$f":"IF(Liste_pièces!H439=\"\",\"\",Liste_pièces!H439)","v":""},{"$f":"IF(Liste_pièces!I439=\"\",\"\",Liste_pièces!I439)","v":""},{"$f":"IF(Liste_pièces!J439=\"\",\"\",Liste_pièces!J439)","v":""},{"$f":"IF(Liste_pièces!K439=\"\",\"\",Liste_pièces!K439)","v":""},{"$f":"IF(Liste_pièces!L439=\"\",\"\",Liste_pièces!L439)","v":""},{"$f":"IF(Liste_pièces!M439=\"\",\"\",Liste_pièces!M439)","v":""},0,1,0]
[{"$f":"IF(Liste_pièces!A440=\"\",\"ZZZ\",Liste_pièces!A440)","v":"ZZZ"},{"$f":"IF(Liste_pièces!B440=\"\",\"ZZZ\",Liste_pièces!B440)","v":"ZZZ"},{"$f":"IF(Liste_pièces!C440=\"\",\"\",Liste_pièces!C440)","v":""},{"$f":"IF(Liste_pièces!D440=\"\",\"\",Liste_pièces!D440)","v":""},{"$f":"IF(Liste_pièces!E440=\"\",\"\",Liste_pièces!E440)","v":""},{"$f":"IF(Liste_pièces!F440=\"\",\"\",Liste_pièces!F440)","v":""},{"$f":"IF(Liste_pièces!G440=\"\",\"\",Liste_pièces!G440)","v":""},{"$f":"IF(Liste_pièces!H440=\"\",\"\",Liste_pièces!H440)","v":""},{"$f":"IF(Liste_pièces!I440=\"\",\"\",Liste_pièces!I440)","v":""},{"$f":"IF(Liste_pièces!J440=\"\",\"\",Liste_pièces!J440)","v":""},{"$f":"IF(Liste_pièces!K440=\"\",\"\",Liste_pièces!K440)","v":""},{"$f":"IF(Liste_pièces!L440=\"\",\"\",Liste_pièces!L440)","v":""},{"$f":"IF(Liste_pièces!M440=\"\",\"\",Liste_pièces!M440)","v":""},0,1,0]
[{"$f":"IF(Liste_pièces!A441=\"\",\"ZZZ\",Liste_pièces!A441)","v":"ZZZ"},{"$f":"IF(Liste_pièces!B441=\"\",\"ZZZ\",Liste_pièces!B441)","v":"ZZZ"},{"$f":"IF(Liste_pièces!C441=\"\",\"\",Liste_pièces!C441)","v":""},{"$f":"IF(Liste_pièces!D441=\"\",\"\",Liste_pièces!D441)","v":""},{"$f":"IF(Liste_pièces!E441=\"\",\"\",Liste_pièces!E441)","v":""},{"$f":"IF(Liste_pièces!F441=\"\",\"\",Liste_pièces!F441)","v":""},{"$f":"IF(Liste_pièces!G441=\"\",\"\",Liste_pièces!G441)","v":""},{"$f":"IF(Liste_pièces!H441=\"\",\"\",Liste_pièces!H441)","v":""},{"$f":"IF(Liste_pièces!I441=\"\",\"\",Liste_pièces!I441)","v":""},{"$f":"IF(Liste_pièces!J441=\"\",\"\",Liste_pièces!J441)","v":""},{"$f":"IF(Liste_pièces!K441=\"\",\"\",Liste_pièces!K441)","v":""},{"$f":"IF(Liste_pièces!L441=\"\",\"\",Liste_pièces!L441)","v":""},{"$f":"IF(Liste_pièces!M441=\"\",\"\",Liste_pièces!M441)","v":""},0,1,0]
[{"$f":"IF(Liste_pièces!A442=\"\",\"ZZZ\",Liste_pièces!A442)","v":"ZZZ"},{"$f":"IF(Liste_pièces!B442=\"\",\"ZZZ\",Liste_pièces!B442)","v":"ZZZ"},{"$f":"IF(Liste_pièces!C442=\"\",\"\",Liste_pièces!C442)","v":""},{"$f":"IF(Liste_pièces!D442=\"\",\"\",Liste_pièces!D442)","v":""},{"$f":"IF(Liste_pièces!E442=\"\",\"\",Liste_pièces!E442)","v":""},{"$f":"IF(Liste_pièces!F442=\"\",\"\",Liste_pièces!F442)","v":""},{"$f":"IF(Liste_pièces!G442=\"\",\"\",Liste_pièces!G442)","v":""},{"$f":"IF(Liste_pièces!H442=\"\",\"\",Liste_pièces!H442)","v":""},{"$f":"IF(Liste_pièces!I442=\"\",\"\",Liste_pièces!I442)","v":""},{"$f":"IF(Liste_pièces!J442=\"\",\"\",Liste_pièces!J442)","v":""},{"$f":"IF(Liste_pièces!K442=\"\",\"\",Liste_pièces!K442)","v":""},{"$f":"IF(Liste_pièces!L442=\"\",\"\",Liste_pièces!L442)","v":""},{"$f":"IF(Liste_pièces!M442=\"\",\"\",Liste_pièces!M442)","v":""},0,1,0]
[{"$f":"IF(Liste_pièces!A443=\"\",\"ZZZ\",Liste_pièces!A443)","v":"ZZZ"},{"$f":"IF(Liste_pièces!B443=\"\",\"ZZZ\",Liste_pièces!B443)","v":"ZZZ"},{"$f":"IF(Liste_pièces!C443=\"\",\"\",Liste_pièces!C443)","v":""},{"$f":"IF(Liste_pièces!D443=\"\",\"\",Liste_pièces!D443)","v":""},{"$f":"IF(Liste_pièces!E443=\"\",\"\",Liste_pièces!E443)","v":""},{"$f":"IF(Liste_pièces!F443=\"\",\"\",Liste_pièces!F443)","v":""},{"$f":"IF(Liste_pièces!G443=\"\",\"\",Liste_pièces!G443)","v":""},{"$f":"IF(Liste_pièces!H443=\"\",\"\",Liste_pièces!H443)","v":""},{"$f":"IF(Liste_pièces!I443=\"\",\"\",Liste_pièces!I443)","v":""},{"$f":"IF(Liste_pièces!J443=\"\",\"\",Liste_pièces!J443)","v":""},{"$f":"IF(Liste_pièces!K443=\"\",\"\",Liste_pièces!K443)","v":""},{"$f":"IF(Liste_pièces!L443=\"\",\"\",Liste_pièces!L443)","v":""},{"$f":"IF(Liste_pièces!M443=\"\",\"\",Liste_pièces!M443)","v":""},0,1,0]
[{"$f":"IF(Liste_pièces!A444=\"\",\"ZZZ\",Liste_pièces!A444)","v":"ZZZ"},{"$f":"IF(Liste_pièces!B444=\"\",\"ZZZ\",Liste_pièces!B444)","v":"ZZZ"},{"$f":"IF(Liste_pièces!C444=\"\",\"\",Liste_pièces!C444)","v":""},{"$f":"IF(Liste_pièces!D444=\"\",\"\",Liste_pièces!D444)","v":""},{"$f":"IF(Liste_pièces!E444=\"\",\"\",Liste_pièces!E444)","v":""},{"$f":"IF(Liste_pièces!F444=\"\",\"\",Liste_pièces!F444)","v":""},{"$f":"IF(Liste_pièces!G444=\"\",\"\",Liste_pièces!G444)","v":""},{"$f":"IF(Liste_pièces!H444=\"\",\"\",Liste_pièces!H444)","v":""},{"$f":"IF(Liste_pièces!I444=\"\",\"\",Liste_pièces!I444)","v":""},{"$f":"IF(Liste_pièces!J444=\"\",\"\",Liste_pièces!J444)","v":""},{"$f":"IF(Liste_pièces!K444=\"\",\"\",Liste_pièces!K444)","v":""},{"$f":"IF(Liste_pièces!L444=\"\",\"\",Liste_pièces!L444)","v":""},{"$f":"IF(Liste_pièces!M444=\"\",\"\",Liste_pièces!M444)","v":""},0,1,0]
[{"$f":"IF(Liste_pièces!A445=\"\",\"ZZZ\",Liste_pièces!A445)","v":"ZZZ"},{"$f":"IF(Liste_pièces!B445=\"\",\"ZZZ\",Liste_pièces!B445)","v":"ZZZ"},{"$f":"IF(Liste_pièces!C445=\"\",\"\",Liste_pièces!C445)","v":""},{"$f":"IF(Liste_pièces!D445=\"\",\"\",Liste_pièces!D445)","v":""},{"$f":"IF(Liste_pièces!E445=\"\",\"\",Liste_pièces!E445)","v":""},{"$f":"IF(Liste_pièces!F445=\"\",\"\",Liste_pièces!F445)","v":""},{"$f":"IF(Liste_pièces!G445=\"\",\"\",Liste_pièces!G445)","v":""},{"$f":"IF(Liste_pièces!H445=\"\",\"\",Liste_pièces!H445)","v":""},{"$f":"IF(Liste_pièces!I445=\"\",\"\",Liste_pièces!I445)","v":""},{"$f":"IF(Liste_pièces!J445=\"\",\"\",Liste_pièces!J445)","v":""},{"$f":"IF(Liste_pièces!K445=\"\",\"\",Liste_pièces!K445)","v":""},{"$f":"IF(Liste_pièces!L445=\"\",\"\",Liste_pièces!L445)","v":""},{"$f":"IF(Liste_pièces!M445=\"\",\"\",Liste_pièces!M445)","v":""},0,1,0]
[{"$f":"IF(Liste_pièces!A446=\"\",\"ZZZ\",Liste_pièces!A446)","v":"ZZZ"},{"$f":"IF(Liste_pièces!B446=\"\",\"ZZZ\",Liste_pièces!B446)","v":"ZZZ"},{"$f":"IF(Liste_pièces!C446=\"\",\"\",Liste_pièces!C446)","v":""},{"$f":"IF(Liste_pièces!D446=\"\",\"\",Liste_pièces!D446)","v":""},{"$f":"IF(Liste_pièces!E446=\"\",\"\",Liste_pièces!E446)","v":""},{"$f":"IF(Liste_pièces!F446=\"\",\"\",Liste_pièces!F446)","v":""},{"$f":"IF(Liste_pièces!G446=\"\",\"\",Liste_pièces!G446)","v":""},{"$f":"IF(Liste_pièces!H446=\"\",\"\",Liste_pièces!H446)","v":""},{"$f":"IF(Liste_pièces!I446=\"\",\"\",Liste_pièces!I446)","v":""},{"$f":"IF(Liste_pièces!J446=\"\",\"\",Liste_pièces!J446)","v":""},{"$f":"IF(Liste_pièces!K446=\"\",\"\",Liste_pièces!K446)","v":""},{"$f":"IF(Liste_pièces!L446=\"\",\"\",Liste_pièces!L446)","v":""},{"$f":"IF(Liste_pièces!M446=\"\",\"\",Liste_pièces!M446)","v":""},0,1,0]
[{"$f":"IF(Liste_pièces!A447=\"\",\"ZZZ\",Liste_pièces!A447)","v":"ZZZ"},{"$f":"IF(Liste_pièces!B447=\"\",\"ZZZ\",Liste_pièces!B447)","v":"ZZZ"},{"$f":"IF(Liste_pièces!C447=\"\",\"\",Liste_pièces!C447)","v":""},{"$f":"IF(Liste_pièces!D447=\"\",\"\",Liste_pièces!D447)","v":""},{"$f":"IF(Liste_pièces!E447=\"\",\"\",Liste_pièces!E447)","v":""},{"$f":"IF(Liste_pièces!F447=\"\",\"\",Liste_pièces!F447)","v":""},{"$f":"IF(Liste_pièces!G447=\"\",\"\",Liste_pièces!G447)","v":""},{"$f":"IF(Liste_pièces!H447=\"\",\"\",Liste_pièces!H447)","v":""},{"$f":"IF(Liste_pièces!I447=\"\",\"\",Liste_pièces!I447)","v":""},{"$f":"IF(Liste_pièces!J447=\"\",\"\",Liste_pièces!J447)","v":""},{"$f":"IF(Liste_pièces!K447=\"\",\"\",Liste_pièces!K447)","v":""},{"$f":"IF(Liste_pièces!L447=\"\",\"\",Liste_pièces!L447)","v":""},{"$f":"IF(Liste_pièces!M447=\"\",\"\",Liste_pièces!M447)","v":""},0,1,0]
[{"$f":"IF(Liste_pièces!A448=\"\",\"ZZZ\",Liste_pièces!A448)","v":"ZZZ"},{"$f":"IF(Liste_pièces!B448=\"\",\"ZZZ\",Liste_pièces!B448)","v":"ZZZ"},{"$f":"IF(Liste_pièces!C448=\"\",\"\",Liste_pièces!C448)","v":""},{"$f":"IF(Liste_pièces!D448=\"\",\"\",Liste_pièces!D448)","v":""},{"$f":"IF(Liste_pièces!E448=\"\",\"\",Liste_pièces!E448)","v":""},{"$f":"IF(Liste_pièces!F448=\"\",\"\",Liste_pièces!F448)","v":""},{"$f":"IF(Liste_pièces!G448=\"\",\"\",Liste_pièces!G448)","v":""},{"$f":"IF(Liste_pièces!H448=\"\",\"\",Liste_pièces!H448)","v":""},{"$f":"IF(Liste_pièces!I448=\"\",\"\",Liste_pièces!I448)","v":""},{"$f":"IF(Liste_pièces!J448=\"\",\"\",Liste_pièces!J448)","v":""},{"$f":"IF(Liste_pièces!K448=\"\",\"\",Liste_pièces!K448)","v":""},{"$f":"IF(Liste_pièces!L448=\"\",\"\",Liste_pièces!L448)","v":""},{"$f":"IF(Liste_pièces!M448=\"\",\"\",Liste_pièces!M448)","v":""},0,1,0]
[{"$f":"IF(Liste_pièces!A449=\"\",\"ZZZ\",Liste_pièces!A449)","v":"ZZZ"},{"$f":"IF(Liste_pièces!B449=\"\",\"ZZZ\",Liste_pièces!B449)","v":"ZZZ"},{"$f":"IF(Liste_pièces!C449=\"\",\"\",Liste_pièces!C449)","v":""},{"$f":"IF(Liste_pièces!D449=\"\",\"\",Liste_pièces!D449)","v":""},{"$f":"IF(Liste_pièces!E449=\"\",\"\",Liste_pièces!E449)","v":""},{"$f":"IF(Liste_pièces!F449=\"\",\"\",Liste_pièces!F449)","v":""},{"$f":"IF(Liste_pièces!G449=\"\",\"\",Liste_pièces!G449)","v":""},{"$f":"IF(Liste_pièces!H449=\"\",\"\",Liste_pièces!H449)","v":""},{"$f":"IF(Liste_pièces!I449=\"\",\"\",Liste_pièces!I449)","v":""},{"$f":"IF(Liste_pièces!J449=\"\",\"\",Liste_pièces!J449)","v":""},{"$f":"IF(Liste_pièces!K449=\"\",\"\",Liste_pièces!K449)","v":""},{"$f":"IF(Liste_pièces!L449=\"\",\"\",Liste_pièces!L449)","v":""},{"$f":"IF(Liste_pièces!M449=\"\",\"\",Liste_pièces!M449)","v":""},0,1,0]
[{"$f":"IF(Liste_pièces!A450=\"\",\"ZZZ\",Liste_pièces!A450)","v":"ZZZ"},{"$f":"IF(Liste_pièces!B450=\"\",\"ZZZ\",Liste_pièces!B450)","v":"ZZZ"},{"$f":"IF(Liste_pièces!C450=\"\",\"\",Liste_pièces!C450)","v":""},{"$f":"IF(Liste_pièces!D450=\"\",\"\",Liste_pièces!D450)","v":""},{"$f":"IF(Liste_pièces!E450=\"\",\"\",Liste_pièces!E450)","v":""},{"$f":"IF(Liste_pièces!F450=\"\",\"\",Liste_pièces!F450)","v":""},{"$f":"IF(Liste_pièces!G450=\"\",\"\",Liste_pièces!G450)","v":""},{"$f":"IF(Liste_pièces!H450=\"\",\"\",Liste_pièces!H450)","v":""},{"$f":"IF(Liste_pièces!I450=\"\",\"\",Liste_pièces!I450)","v":""},{"$f":"IF(Liste_pièces!J450=\"\",\"\",Liste_pièces!J450)","v":""},{"$f":"IF(Liste_pièces!K450=\"\",\"\",Liste_pièces!K450)","v":""},{"$f":"IF(Liste_pièces!L450=\"\",\"\",Liste_pièces!L450)","v":""},{"$f":"IF(Liste_pièces!M450=\"\",\"\",Liste_pièces!M450)","v":""},{"$f":"IF(B1194=\"ZZZ\",0,IF(B1194=B1193,N449,1+N449))","v":0},1,0]
[{"$f":"IF(Liste_pièces!A451=\"\",\"ZZZ\",Liste_pièces!A451)","v":"ZZZ"},{"$f":"IF(Liste_pièces!B451=\"\",\"ZZZ\",Liste_pièces!B451)","v":"ZZZ"},{"$f":"IF(Liste_pièces!C451=\"\",\"\",Liste_pièces!C451)","v":""},{"$f":"IF(Liste_pièces!D451=\"\",\"\",Liste_pièces!D451)","v":""},{"$f":"IF(Liste_pièces!E451=\"\",\"\",Liste_pièces!E451)","v":""},{"$f":"IF(Liste_pièces!F451=\"\",\"\",Liste_pièces!F451)","v":""},{"$f":"IF(Liste_pièces!G451=\"\",\"\",Liste_pièces!G451)","v":""},{"$f":"IF(Liste_pièces!H451=\"\",\"\",Liste_pièces!H451)","v":""},{"$f":"IF(Liste_pièces!I451=\"\",\"\",Liste_pièces!I451)","v":""},{"$f":"IF(Liste_pièces!J451=\"\",\"\",Liste_pièces!J451)","v":""},{"$f":"IF(Liste_pièces!K451=\"\",\"\",Liste_pièces!K451)","v":""},{"$f":"IF(Liste_pièces!L451=\"\",\"\",Liste_pièces!L451)","v":""},{"$f":"IF(Liste_pièces!M451=\"\",\"\",Liste_pièces!M451)","v":""},0,1,0]
[{"$f":"IF(Liste_pièces!A452=\"\",\"ZZZ\",Liste_pièces!A452)","v":"ZZZ"},{"$f":"IF(Liste_pièces!B452=\"\",\"ZZZ\",Liste_pièces!B452)","v":"ZZZ"},{"$f":"IF(Liste_pièces!C452=\"\",\"\",Liste_pièces!C452)","v":""},{"$f":"IF(Liste_pièces!D452=\"\",\"\",Liste_pièces!D452)","v":""},{"$f":"IF(Liste_pièces!E452=\"\",\"\",Liste_pièces!E452)","v":""},{"$f":"IF(Liste_pièces!F452=\"\",\"\",Liste_pièces!F452)","v":""},{"$f":"IF(Liste_pièces!G452=\"\",\"\",Liste_pièces!G452)","v":""},{"$f":"IF(Liste_pièces!H452=\"\",\"\",Liste_pièces!H452)","v":""},{"$f":"IF(Liste_pièces!I452=\"\",\"\",Liste_pièces!I452)","v":""},{"$f":"IF(Liste_pièces!J452=\"\",\"\",Liste_pièces!J452)","v":""},{"$f":"IF(Liste_pièces!K452=\"\",\"\",Liste_pièces!K452)","v":""},{"$f":"IF(Liste_pièces!L452=\"\",\"\",Liste_pièces!L452)","v":""},{"$f":"IF(Liste_pièces!M452=\"\",\"\",Liste_pièces!M452)","v":""},0,1,0]
[{"$f":"IF(Liste_pièces!A453=\"\",\"ZZZ\",Liste_pièces!A453)","v":"ZZZ"},{"$f":"IF(Liste_pièces!B453=\"\",\"ZZZ\",Liste_pièces!B453)","v":"ZZZ"},{"$f":"IF(Liste_pièces!C453=\"\",\"\",Liste_pièces!C453)","v":""},{"$f":"IF(Liste_pièces!D453=\"\",\"\",Liste_pièces!D453)","v":""},{"$f":"IF(Liste_pièces!E453=\"\",\"\",Liste_pièces!E453)","v":""},{"$f":"IF(Liste_pièces!F453=\"\",\"\",Liste_pièces!F453)","v":""},{"$f":"IF(Liste_pièces!G453=\"\",\"\",Liste_pièces!G453)","v":""},{"$f":"IF(Liste_pièces!H453=\"\",\"\",Liste_pièces!H453)","v":""},{"$f":"IF(Liste_pièces!I453=\"\",\"\",Liste_pièces!I453)","v":""},{"$f":"IF(Liste_pièces!J453=\"\",\"\",Liste_pièces!J453)","v":""},{"$f":"IF(Liste_pièces!K453=\"\",\"\",Liste_pièces!K453)","v":""},{"$f":"IF(Liste_pièces!L453=\"\",\"\",Liste_pièces!L453)","v":""},{"$f":"IF(Liste_pièces!M453=\"\",\"\",Liste_pièces!M453)","v":""},0,1,0]
[{"$f":"IF(Liste_pièces!A454=\"\",\"ZZZ\",Liste_pièces!A454)","v":"ZZZ"},{"$f":"IF(Liste_pièces!B454=\"\",\"ZZZ\",Liste_pièces!B454)","v":"ZZZ"},{"$f":"IF(Liste_pièces!C454=\"\",\"\",Liste_pièces!C454)","v":""},{"$f":"IF(Liste_pièces!D454=\"\",\"\",Liste_pièces!D454)","v":""},{"$f":"IF(Liste_pièces!E454=\"\",\"\",Liste_pièces!E454)","v":""},{"$f":"IF(Liste_pièces!F454=\"\",\"\",Liste_pièces!F454)","v":""},{"$f":"IF(Liste_pièces!G454=\"\",\"\",Liste_pièces!G454)","v":""},{"$f":"IF(Liste_pièces!H454=\"\",\"\",Liste_pièces!H454)","v":""},{"$f":"IF(Liste_pièces!I454=\"\",\"\",Liste_pièces!I454)","v":""},{"$f":"IF(Liste_pièces!J454=\"\",\"\",Liste_pièces!J454)","v":""},{"$f":"IF(Liste_pièces!K454=\"\",\"\",Liste_pièces!K454)","v":""},{"$f":"IF(Liste_pièces!L454=\"\",\"\",Liste_pièces!L454)","v":""},{"$f":"IF(Liste_pièces!M454=\"\",\"\",Liste_pièces!M454)","v":""},0,1,0]
[{"$f":"IF(Liste_pièces!A455=\"\",\"ZZZ\",Liste_pièces!A455)","v":"ZZZ"},{"$f":"IF(Liste_pièces!B455=\"\",\"ZZZ\",Liste_pièces!B455)","v":"ZZZ"},{"$f":"IF(Liste_pièces!C455=\"\",\"\",Liste_pièces!C455)","v":""},{"$f":"IF(Liste_pièces!D455=\"\",\"\",Liste_pièces!D455)","v":""},{"$f":"IF(Liste_pièces!E455=\"\",\"\",Liste_pièces!E455)","v":""},{"$f":"IF(Liste_pièces!F455=\"\",\"\",Liste_pièces!F455)","v":""},{"$f":"IF(Liste_pièces!G455=\"\",\"\",Liste_pièces!G455)","v":""},{"$f":"IF(Liste_pièces!H455=\"\",\"\",Liste_pièces!H455)","v":""},{"$f":"IF(Liste_pièces!I455=\"\",\"\",Liste_pièces!I455)","v":""},{"$f":"IF(Liste_pièces!J455=\"\",\"\",Liste_pièces!J455)","v":""},{"$f":"IF(Liste_pièces!K455=\"\",\"\",Liste_pièces!K455)","v":""},{"$f":"IF(Liste_pièces!L455=\"\",\"\",Liste_pièces!L455)","v":""},{"$f":"IF(Liste_pièces!M455=\"\",\"\",Liste_pièces!M455)","v":""},0,1,{"$f":"IF(N455=0,0,IF(N455<>N454,MAX(N455+O454,P454+1),IF(O454=O455,P454,P454+O455)))","v":0}]
[{"$f":"IF(Liste_pièces!A456=\"\",\"ZZZ\",Liste_pièces!A456)","v":"ZZZ"},{"$f":"IF(Liste_pièces!B456=\"\",\"ZZZ\",Liste_pièces!B456)","v":"ZZZ"},{"$f":"IF(Liste_pièces!C456=\"\",\"\",Liste_pièces!C456)","v":""},{"$f":"IF(Liste_pièces!D456=\"\",\"\",Liste_pièces!D456)","v":""},{"$f":"IF(Liste_pièces!E456=\"\",\"\",Liste_pièces!E456)","v":""},{"$f":"IF(Liste_pièces!F456=\"\",\"\",Liste_pièces!F456)","v":""},{"$f":"IF(Liste_pièces!G456=\"\",\"\",Liste_pièces!G456)","v":""},{"$f":"IF(Liste_pièces!H456=\"\",\"\",Liste_pièces!H456)","v":""},{"$f":"IF(Liste_pièces!I456=\"\",\"\",Liste_pièces!I456)","v":""},{"$f":"IF(Liste_pièces!J456=\"\",\"\",Liste_pièces!J456)","v":""},{"$f":"IF(Liste_pièces!K456=\"\",\"\",Liste_pièces!K456)","v":""},{"$f":"IF(Liste_pièces!L456=\"\",\"\",Liste_pièces!L456)","v":""},{"$f":"IF(Liste_pièces!M456=\"\",\"\",Liste_pièces!M456)","v":""},0,1,0]
[{"$f":"IF(Liste_pièces!A457=\"\",\"ZZZ\",Liste_pièces!A457)","v":"ZZZ"},{"$f":"IF(Liste_pièces!B457=\"\",\"ZZZ\",Liste_pièces!B457)","v":"ZZZ"},{"$f":"IF(Liste_pièces!C457=\"\",\"\",Liste_pièces!C457)","v":""},{"$f":"IF(Liste_pièces!D457=\"\",\"\",Liste_pièces!D457)","v":""},{"$f":"IF(Liste_pièces!E457=\"\",\"\",Liste_pièces!E457)","v":""},{"$f":"IF(Liste_pièces!F457=\"\",\"\",Liste_pièces!F457)","v":""},{"$f":"IF(Liste_pièces!G457=\"\",\"\",Liste_pièces!G457)","v":""},{"$f":"IF(Liste_pièces!H457=\"\",\"\",Liste_pièces!H457)","v":""},{"$f":"IF(Liste_pièces!I457=\"\",\"\",Liste_pièces!I457)","v":""},{"$f":"IF(Liste_pièces!J457=\"\",\"\",Liste_pièces!J457)","v":""},{"$f":"IF(Liste_pièces!K457=\"\",\"\",Liste_pièces!K457)","v":""},{"$f":"IF(Liste_pièces!L457=\"\",\"\",Liste_pièces!L457)","v":""},{"$f":"IF(Liste_pièces!M457=\"\",\"\",Liste_pièces!M457)","v":""},0,1,0]
[{"$f":"IF(Liste_pièces!A458=\"\",\"ZZZ\",Liste_pièces!A458)","v":"ZZZ"},{"$f":"IF(Liste_pièces!B458=\"\",\"ZZZ\",Liste_pièces!B458)","v":"ZZZ"},{"$f":"IF(Liste_pièces!C458=\"\",\"\",Liste_pièces!C458)","v":""},{"$f":"IF(Liste_pièces!D458=\"\",\"\",Liste_pièces!D458)","v":""},{"$f":"IF(Liste_pièces!E458=\"\",\"\",Liste_pièces!E458)","v":""},{"$f":"IF(Liste_pièces!F458=\"\",\"\",Liste_pièces!F458)","v":""},{"$f":"IF(Liste_pièces!G458=\"\",\"\",Liste_pièces!G458)","v":""},{"$f":"IF(Liste_pièces!H458=\"\",\"\",Liste_pièces!H458)","v":""},{"$f":"IF(Liste_pièces!I458=\"\",\"\",Liste_pièces!I458)","v":""},{"$f":"IF(Liste_pièces!J458=\"\",\"\",Liste_pièces!J458)","v":""},{"$f":"IF(Liste_pièces!K458=\"\",\"\",Liste_pièces!K458)","v":""},{"$f":"IF(Liste_pièces!L458=\"\",\"\",Liste_pièces!L458)","v":""},{"$f":"IF(Liste_pièces!M458=\"\",\"\",Liste_pièces!M458)","v":""},0,1,0]
[{"$f":"IF(Liste_pièces!A459=\"\",\"ZZZ\",Liste_pièces!A459)","v":"ZZZ"},{"$f":"IF(Liste_pièces!B459=\"\",\"ZZZ\",Liste_pièces!B459)","v":"ZZZ"},{"$f":"IF(Liste_pièces!C459=\"\",\"\",Liste_pièces!C459)","v":""},{"$f":"IF(Liste_pièces!D459=\"\",\"\",Liste_pièces!D459)","v":""},{"$f":"IF(Liste_pièces!E459=\"\",\"\",Liste_pièces!E459)","v":""},{"$f":"IF(Liste_pièces!F459=\"\",\"\",Liste_pièces!F459)","v":""},{"$f":"IF(Liste_pièces!G459=\"\",\"\",Liste_pièces!G459)","v":""},{"$f":"IF(Liste_pièces!H459=\"\",\"\",Liste_pièces!H459)","v":""},{"$f":"IF(Liste_pièces!I459=\"\",\"\",Liste_pièces!I459)","v":""},{"$f":"IF(Liste_pièces!J459=\"\",\"\",Liste_pièces!J459)","v":""},{"$f":"IF(Liste_pièces!K459=\"\",\"\",Liste_pièces!K459)","v":""},{"$f":"IF(Liste_pièces!L459=\"\",\"\",Liste_pièces!L459)","v":""},{"$f":"IF(Liste_pièces!M459=\"\",\"\",Liste_pièces!M459)","v":""},0,1,0]
[{"$f":"IF(Liste_pièces!A460=\"\",\"ZZZ\",Liste_pièces!A460)","v":"ZZZ"},{"$f":"IF(Liste_pièces!B460=\"\",\"ZZZ\",Liste_pièces!B460)","v":"ZZZ"},{"$f":"IF(Liste_pièces!C460=\"\",\"\",Liste_pièces!C460)","v":""},{"$f":"IF(Liste_pièces!D460=\"\",\"\",Liste_pièces!D460)","v":""},{"$f":"IF(Liste_pièces!E460=\"\",\"\",Liste_pièces!E460)","v":""},{"$f":"IF(Liste_pièces!F460=\"\",\"\",Liste_pièces!F460)","v":""},{"$f":"IF(Liste_pièces!G460=\"\",\"\",Liste_pièces!G460)","v":""},{"$f":"IF(Liste_pièces!H460=\"\",\"\",Liste_pièces!H460)","v":""},{"$f":"IF(Liste_pièces!I460=\"\",\"\",Liste_pièces!I460)","v":""},{"$f":"IF(Liste_pièces!J460=\"\",\"\",Liste_pièces!J460)","v":""},{"$f":"IF(Liste_pièces!K460=\"\",\"\",Liste_pièces!K460)","v":""},{"$f":"IF(Liste_pièces!L460=\"\",\"\",Liste_pièces!L460)","v":""},{"$f":"IF(Liste_pièces!M460=\"\",\"\",Liste_pièces!M460)","v":""},0,1,0]
[{"$f":"IF(Liste_pièces!A461=\"\",\"ZZZ\",Liste_pièces!A461)","v":"ZZZ"},{"$f":"IF(Liste_pièces!B461=\"\",\"ZZZ\",Liste_pièces!B461)","v":"ZZZ"},{"$f":"IF(Liste_pièces!C461=\"\",\"\",Liste_pièces!C461)","v":""},{"$f":"IF(Liste_pièces!D461=\"\",\"\",Liste_pièces!D461)","v":""},{"$f":"IF(Liste_pièces!E461=\"\",\"\",Liste_pièces!E461)","v":""},{"$f":"IF(Liste_pièces!F461=\"\",\"\",Liste_pièces!F461)","v":""},{"$f":"IF(Liste_pièces!G461=\"\",\"\",Liste_pièces!G461)","v":""},{"$f":"IF(Liste_pièces!H461=\"\",\"\",Liste_pièces!H461)","v":""},{"$f":"IF(Liste_pièces!I461=\"\",\"\",Liste_pièces!I461)","v":""},{"$f":"IF(Liste_pièces!J461=\"\",\"\",Liste_pièces!J461)","v":""},{"$f":"IF(Liste_pièces!K461=\"\",\"\",Liste_pièces!K461)","v":""},{"$f":"IF(Liste_pièces!L461=\"\",\"\",Liste_pièces!L461)","v":""},{"$f":"IF(Liste_pièces!M461=\"\",\"\",Liste_pièces!M461)","v":""},0,1,0]
[{"$f":"IF(Liste_pièces!A462=\"\",\"ZZZ\",Liste_pièces!A462)","v":"ZZZ"},{"$f":"IF(Liste_pièces!B462=\"\",\"ZZZ\",Liste_pièces!B462)","v":"ZZZ"},{"$f":"IF(Liste_pièces!C462=\"\",\"\",Liste_pièces!C462)","v":""},{"$f":"IF(Liste_pièces!D462=\"\",\"\",Liste_pièces!D462)","v":""},{"$f":"IF(Liste_pièces!E462=\"\",\"\",Liste_pièces!E462)","v":""},{"$f":"IF(Liste_pièces!F462=\"\",\"\",Liste_pièces!F462)","v":""},{"$f":"IF(Liste_pièces!G462=\"\",\"\",Liste_pièces!G462)","v":""},{"$f":"IF(Liste_pièces!H462=\"\",\"\",Liste_pièces!H462)","v":""},{"$f":"IF(Liste_pièces!I462=\"\",\"\",Liste_pièces!I462)","v":""},{"$f":"IF(Liste_pièces!J462=\"\",\"\",Liste_pièces!J462)","v":""},{"$f":"IF(Liste_pièces!K462=\"\",\"\",Liste_pièces!K462)","v":""},{"$f":"IF(Liste_pièces!L462=\"\",\"\",Liste_pièces!L462)","v":""},{"$f":"IF(Liste_pièces!M462=\"\",\"\",Liste_pièces!M462)","v":""},0,1,0]
[{"$f":"IF(Liste_pièces!A463=\"\",\"ZZZ\",Liste_pièces!A463)","v":"ZZZ"},{"$f":"IF(Liste_pièces!B463=\"\",\"ZZZ\",Liste_pièces!B463)","v":"ZZZ"},{"$f":"IF(Liste_pièces!C463=\"\",\"\",Liste_pièces!C463)","v":""},{"$f":"IF(Liste_pièces!D463=\"\",\"\",Liste_pièces!D463)","v":""},{"$f":"IF(Liste_pièces!E463=\"\",\"\",Liste_pièces!E463)","v":""},{"$f":"IF(Liste_pièces!F463=\"\",\"\",Liste_pièces!F463)","v":""},{"$f":"IF(Liste_pièces!G463=\"\",\"\",Liste_pièces!G463)","v":""},{"$f":"IF(Liste_pièces!H463=\"\",\"\",Liste_pièces!H463)","v":""},{"$f":"IF(Liste_pièces!I463=\"\",\"\",Liste_pièces!I463)","v":""},{"$f":"IF(Liste_pièces!J463=\"\",\"\",Liste_pièces!J463)","v":""},{"$f":"IF(Liste_pièces!K463=\"\",\"\",Liste_pièces!K463)","v":""},{"$f":"IF(Liste_pièces!L463=\"\",\"\",Liste_pièces!L463)","v":""},{"$f":"IF(Liste_pièces!M463=\"\",\"\",Liste_pièces!M463)","v":""},0,1,0]
[{"$f":"IF(Liste_pièces!A464=\"\",\"ZZZ\",Liste_pièces!A464)","v":"ZZZ"},{"$f":"IF(Liste_pièces!B464=\"\",\"ZZZ\",Liste_pièces!B464)","v":"ZZZ"},{"$f":"IF(Liste_pièces!C464=\"\",\"\",Liste_pièces!C464)","v":""},{"$f":"IF(Liste_pièces!D464=\"\",\"\",Liste_pièces!D464)","v":""},{"$f":"IF(Liste_pièces!E464=\"\",\"\",Liste_pièces!E464)","v":""},{"$f":"IF(Liste_pièces!F464=\"\",\"\",Liste_pièces!F464)","v":""},{"$f":"IF(Liste_pièces!G464=\"\",\"\",Liste_pièces!G464)","v":""},{"$f":"IF(Liste_pièces!H464=\"\",\"\",Liste_pièces!H464)","v":""},{"$f":"IF(Liste_pièces!I464=\"\",\"\",Liste_pièces!I464)","v":""},{"$f":"IF(Liste_pièces!J464=\"\",\"\",Liste_pièces!J464)","v":""},{"$f":"IF(Liste_pièces!K464=\"\",\"\",Liste_pièces!K464)","v":""},{"$f":"IF(Liste_pièces!L464=\"\",\"\",Liste_pièces!L464)","v":""},{"$f":"IF(Liste_pièces!M464=\"\",\"\",Liste_pièces!M464)","v":""},0,1,0]
[{"$f":"IF(Liste_pièces!A465=\"\",\"ZZZ\",Liste_pièces!A465)","v":"ZZZ"},{"$f":"IF(Liste_pièces!B465=\"\",\"ZZZ\",Liste_pièces!B465)","v":"ZZZ"},{"$f":"IF(Liste_pièces!C465=\"\",\"\",Liste_pièces!C465)","v":""},{"$f":"IF(Liste_pièces!D465=\"\",\"\",Liste_pièces!D465)","v":""},{"$f":"IF(Liste_pièces!E465=\"\",\"\",Liste_pièces!E465)","v":""},{"$f":"IF(Liste_pièces!F465=\"\",\"\",Liste_pièces!F465)","v":""},{"$f":"IF(Liste_pièces!G465=\"\",\"\",Liste_pièces!G465)","v":""},{"$f":"IF(Liste_pièces!H465=\"\",\"\",Liste_pièces!H465)","v":""},{"$f":"IF(Liste_pièces!I465=\"\",\"\",Liste_pièces!I465)","v":""},{"$f":"IF(Liste_pièces!J465=\"\",\"\",Liste_pièces!J465)","v":""},{"$f":"IF(Liste_pièces!K465=\"\",\"\",Liste_pièces!K465)","v":""},{"$f":"IF(Liste_pièces!L465=\"\",\"\",Liste_pièces!L465)","v":""},{"$f":"IF(Liste_pièces!M465=\"\",\"\",Liste_pièces!M465)","v":""},0,1,0]
[{"$f":"IF(Liste_pièces!A466=\"\",\"ZZZ\",Liste_pièces!A466)","v":"ZZZ"},{"$f":"IF(Liste_pièces!B466=\"\",\"ZZZ\",Liste_pièces!B466)","v":"ZZZ"},{"$f":"IF(Liste_pièces!C466=\"\",\"\",Liste_pièces!C466)","v":""},{"$f":"IF(Liste_pièces!D466=\"\",\"\",Liste_pièces!D466)","v":""},{"$f":"IF(Liste_pièces!E466=\"\",\"\",Liste_pièces!E466)","v":""},{"$f":"IF(Liste_pièces!F466=\"\",\"\",Liste_pièces!F466)","v":""},{"$f":"IF(Liste_pièces!G466=\"\",\"\",Liste_pièces!G466)","v":""},{"$f":"IF(Liste_pièces!H466=\"\",\"\",Liste_pièces!H466)","v":""},{"$f":"IF(Liste_pièces!I466=\"\",\"\",Liste_pièces!I466)","v":""},{"$f":"IF(Liste_pièces!J466=\"\",\"\",Liste_pièces!J466)","v":""},{"$f":"IF(Liste_pièces!K466=\"\",\"\",Liste_pièces!K466)","v":""},{"$f":"IF(Liste_pièces!L466=\"\",\"\",Liste_pièces!L466)","v":""},{"$f":"IF(Liste_pièces!M466=\"\",\"\",Liste_pièces!M466)","v":""},0,1,0]
[{"$f":"IF(Liste_pièces!A467=\"\",\"ZZZ\",Liste_pièces!A467)","v":"ZZZ"},{"$f":"IF(Liste_pièces!B467=\"\",\"ZZZ\",Liste_pièces!B467)","v":"ZZZ"},{"$f":"IF(Liste_pièces!C467=\"\",\"\",Liste_pièces!C467)","v":""},{"$f":"IF(Liste_pièces!D467=\"\",\"\",Liste_pièces!D467)","v":""},{"$f":"IF(Liste_pièces!E467=\"\",\"\",Liste_pièces!E467)","v":""},{"$f":"IF(Liste_pièces!F467=\"\",\"\",Liste_pièces!F467)","v":""},{"$f":"IF(Liste_pièces!G467=\"\",\"\",Liste_pièces!G467)","v":""},{"$f":"IF(Liste_pièces!H467=\"\",\"\",Liste_pièces!H467)","v":""},{"$f":"IF(Liste_pièces!I467=\"\",\"\",Liste_pièces!I467)","v":""},{"$f":"IF(Liste_pièces!J467=\"\",\"\",Liste_pièces!J467)","v":""},{"$f":"IF(Liste_pièces!K467=\"\",\"\",Liste_pièces!K467)","v":""},{"$f":"IF(Liste_pièces!L467=\"\",\"\",Liste_pièces!L467)","v":""},{"$f":"IF(Liste_pièces!M467=\"\",\"\",Liste_pièces!M467)","v":""},0,1,0]
[{"$f":"IF(Liste_pièces!A468=\"\",\"ZZZ\",Liste_pièces!A468)","v":"ZZZ"},{"$f":"IF(Liste_pièces!B468=\"\",\"ZZZ\",Liste_pièces!B468)","v":"ZZZ"},{"$f":"IF(Liste_pièces!C468=\"\",\"\",Liste_pièces!C468)","v":""},{"$f":"IF(Liste_pièces!D468=\"\",\"\",Liste_pièces!D468)","v":""},{"$f":"IF(Liste_pièces!E468=\"\",\"\",Liste_pièces!E468)","v":""},{"$f":"IF(Liste_pièces!F468=\"\",\"\",Liste_pièces!F468)","v":""},{"$f":"IF(Liste_pièces!G468=\"\",\"\",Liste_pièces!G468)","v":""},{"$f":"IF(Liste_pièces!H468=\"\",\"\",Liste_pièces!H468)","v":""},{"$f":"IF(Liste_pièces!I468=\"\",\"\",Liste_pièces!I468)","v":""},{"$f":"IF(Liste_pièces!J468=\"\",\"\",Liste_pièces!J468)","v":""},{"$f":"IF(Liste_pièces!K468=\"\",\"\",Liste_pièces!K468)","v":""},{"$f":"IF(Liste_pièces!L468=\"\",\"\",Liste_pièces!L468)","v":""},{"$f":"IF(Liste_pièces!M468=\"\",\"\",Liste_pièces!M468)","v":""},0,1,0]
[{"$f":"IF(Liste_pièces!A469=\"\",\"ZZZ\",Liste_pièces!A469)","v":"ZZZ"},{"$f":"IF(Liste_pièces!B469=\"\",\"ZZZ\",Liste_pièces!B469)","v":"ZZZ"},{"$f":"IF(Liste_pièces!C469=\"\",\"\",Liste_pièces!C469)","v":""},{"$f":"IF(Liste_pièces!D469=\"\",\"\",Liste_pièces!D469)","v":""},{"$f":"IF(Liste_pièces!E469=\"\",\"\",Liste_pièces!E469)","v":""},{"$f":"IF(Liste_pièces!F469=\"\",\"\",Liste_pièces!F469)","v":""},{"$f":"IF(Liste_pièces!G469=\"\",\"\",Liste_pièces!G469)","v":""},{"$f":"IF(Liste_pièces!H469=\"\",\"\",Liste_pièces!H469)","v":""},{"$f":"IF(Liste_pièces!I469=\"\",\"\",Liste_pièces!I469)","v":""},{"$f":"IF(Liste_pièces!J469=\"\",\"\",Liste_pièces!J469)","v":""},{"$f":"IF(Liste_pièces!K469=\"\",\"\",Liste_pièces!K469)","v":""},{"$f":"IF(Liste_pièces!L469=\"\",\"\",Liste_pièces!L469)","v":""},{"$f":"IF(Liste_pièces!M469=\"\",\"\",Liste_pièces!M469)","v":""},0,1,0]
[{"$f":"IF(Liste_pièces!A470=\"\",\"ZZZ\",Liste_pièces!A470)","v":"ZZZ"},{"$f":"IF(Liste_pièces!B470=\"\",\"ZZZ\",Liste_pièces!B470)","v":"ZZZ"},{"$f":"IF(Liste_pièces!C470=\"\",\"\",Liste_pièces!C470)","v":""},{"$f":"IF(Liste_pièces!D470=\"\",\"\",Liste_pièces!D470)","v":""},{"$f":"IF(Liste_pièces!E470=\"\",\"\",Liste_pièces!E470)","v":""},{"$f":"IF(Liste_pièces!F470=\"\",\"\",Liste_pièces!F470)","v":""},{"$f":"IF(Liste_pièces!G470=\"\",\"\",Liste_pièces!G470)","v":""},{"$f":"IF(Liste_pièces!H470=\"\",\"\",Liste_pièces!H470)","v":""},{"$f":"IF(Liste_pièces!I470=\"\",\"\",Liste_pièces!I470)","v":""},{"$f":"IF(Liste_pièces!J470=\"\",\"\",Liste_pièces!J470)","v":""},{"$f":"IF(Liste_pièces!K470=\"\",\"\",Liste_pièces!K470)","v":""},{"$f":"IF(Liste_pièces!L470=\"\",\"\",Liste_pièces!L470)","v":""},{"$f":"IF(Liste_pièces!M470=\"\",\"\",Liste_pièces!M470)","v":""},0,1,0]
[{"$f":"IF(Liste_pièces!A471=\"\",\"ZZZ\",Liste_pièces!A471)","v":"ZZZ"},{"$f":"IF(Liste_pièces!B471=\"\",\"ZZZ\",Liste_pièces!B471)","v":"ZZZ"},{"$f":"IF(Liste_pièces!C471=\"\",\"\",Liste_pièces!C471)","v":""},{"$f":"IF(Liste_pièces!D471=\"\",\"\",Liste_pièces!D471)","v":""},{"$f":"IF(Liste_pièces!E471=\"\",\"\",Liste_pièces!E471)","v":""},{"$f":"IF(Liste_pièces!F471=\"\",\"\",Liste_pièces!F471)","v":""},{"$f":"IF(Liste_pièces!G471=\"\",\"\",Liste_pièces!G471)","v":""},{"$f":"IF(Liste_pièces!H471=\"\",\"\",Liste_pièces!H471)","v":""},{"$f":"IF(Liste_pièces!I471=\"\",\"\",Liste_pièces!I471)","v":""},{"$f":"IF(Liste_pièces!J471=\"\",\"\",Liste_pièces!J471)","v":""},{"$f":"IF(Liste_pièces!K471=\"\",\"\",Liste_pièces!K471)","v":""},{"$f":"IF(Liste_pièces!L471=\"\",\"\",Liste_pièces!L471)","v":""},{"$f":"IF(Liste_pièces!M471=\"\",\"\",Liste_pièces!M471)","v":""},0,1,0]
[{"$f":"IF(Liste_pièces!A472=\"\",\"ZZZ\",Liste_pièces!A472)","v":"ZZZ"},{"$f":"IF(Liste_pièces!B472=\"\",\"ZZZ\",Liste_pièces!B472)","v":"ZZZ"},{"$f":"IF(Liste_pièces!C472=\"\",\"\",Liste_pièces!C472)","v":""},{"$f":"IF(Liste_pièces!D472=\"\",\"\",Liste_pièces!D472)","v":""},{"$f":"IF(Liste_pièces!E472=\"\",\"\",Liste_pièces!E472)","v":""},{"$f":"IF(Liste_pièces!F472=\"\",\"\",Liste_pièces!F472)","v":""},{"$f":"IF(Liste_pièces!G472=\"\",\"\",Liste_pièces!G472)","v":""},{"$f":"IF(Liste_pièces!H472=\"\",\"\",Liste_pièces!H472)","v":""},{"$f":"IF(Liste_pièces!I472=\"\",\"\",Liste_pièces!I472)","v":""},{"$f":"IF(Liste_pièces!J472=\"\",\"\",Liste_pièces!J472)","v":""},{"$f":"IF(Liste_pièces!K472=\"\",\"\",Liste_pièces!K472)","v":""},{"$f":"IF(Liste_pièces!L472=\"\",\"\",Liste_pièces!L472)","v":""},{"$f":"IF(Liste_pièces!M472=\"\",\"\",Liste_pièces!M472)","v":""},0,1,0]
[{"$f":"IF(Liste_pièces!A473=\"\",\"ZZZ\",Liste_pièces!A473)","v":"ZZZ"},{"$f":"IF(Liste_pièces!B473=\"\",\"ZZZ\",Liste_pièces!B473)","v":"ZZZ"},{"$f":"IF(Liste_pièces!C473=\"\",\"\",Liste_pièces!C473)","v":""},{"$f":"IF(Liste_pièces!D473=\"\",\"\",Liste_pièces!D473)","v":""},{"$f":"IF(Liste_pièces!E473=\"\",\"\",Liste_pièces!E473)","v":""},{"$f":"IF(Liste_pièces!F473=\"\",\"\",Liste_pièces!F473)","v":""},{"$f":"IF(Liste_pièces!G473=\"\",\"\",Liste_pièces!G473)","v":""},{"$f":"IF(Liste_pièces!H473=\"\",\"\",Liste_pièces!H473)","v":""},{"$f":"IF(Liste_pièces!I473=\"\",\"\",Liste_pièces!I473)","v":""},{"$f":"IF(Liste_pièces!J473=\"\",\"\",Liste_pièces!J473)","v":""},{"$f":"IF(Liste_pièces!K473=\"\",\"\",Liste_pièces!K473)","v":""},{"$f":"IF(Liste_pièces!L473=\"\",\"\",Liste_pièces!L473)","v":""},{"$f":"IF(Liste_pièces!M473=\"\",\"\",Liste_pièces!M473)","v":""},0,1,0]
[{"$f":"IF(Liste_pièces!A474=\"\",\"ZZZ\",Liste_pièces!A474)","v":"ZZZ"},{"$f":"IF(Liste_pièces!B474=\"\",\"ZZZ\",Liste_pièces!B474)","v":"ZZZ"},{"$f":"IF(Liste_pièces!C474=\"\",\"\",Liste_pièces!C474)","v":""},{"$f":"IF(Liste_pièces!D474=\"\",\"\",Liste_pièces!D474)","v":""},{"$f":"IF(Liste_pièces!E474=\"\",\"\",Liste_pièces!E474)","v":""},{"$f":"IF(Liste_pièces!F474=\"\",\"\",Liste_pièces!F474)","v":""},{"$f":"IF(Liste_pièces!G474=\"\",\"\",Liste_pièces!G474)","v":""},{"$f":"IF(Liste_pièces!H474=\"\",\"\",Liste_pièces!H474)","v":""},{"$f":"IF(Liste_pièces!I474=\"\",\"\",Liste_pièces!I474)","v":""},{"$f":"IF(Liste_pièces!J474=\"\",\"\",Liste_pièces!J474)","v":""},{"$f":"IF(Liste_pièces!K474=\"\",\"\",Liste_pièces!K474)","v":""},{"$f":"IF(Liste_pièces!L474=\"\",\"\",Liste_pièces!L474)","v":""},{"$f":"IF(Liste_pièces!M474=\"\",\"\",Liste_pièces!M474)","v":""},0,1,0]
[{"$f":"IF(Liste_pièces!A475=\"\",\"ZZZ\",Liste_pièces!A475)","v":"ZZZ"},{"$f":"IF(Liste_pièces!B475=\"\",\"ZZZ\",Liste_pièces!B475)","v":"ZZZ"},{"$f":"IF(Liste_pièces!C475=\"\",\"\",Liste_pièces!C475)","v":""},{"$f":"IF(Liste_pièces!D475=\"\",\"\",Liste_pièces!D475)","v":""},{"$f":"IF(Liste_pièces!E475=\"\",\"\",Liste_pièces!E475)","v":""},{"$f":"IF(Liste_pièces!F475=\"\",\"\",Liste_pièces!F475)","v":""},{"$f":"IF(Liste_pièces!G475=\"\",\"\",Liste_pièces!G475)","v":""},{"$f":"IF(Liste_pièces!H475=\"\",\"\",Liste_pièces!H475)","v":""},{"$f":"IF(Liste_pièces!I475=\"\",\"\",Liste_pièces!I475)","v":""},{"$f":"IF(Liste_pièces!J475=\"\",\"\",Liste_pièces!J475)","v":""},{"$f":"IF(Liste_pièces!K475=\"\",\"\",Liste_pièces!K475)","v":""},{"$f":"IF(Liste_pièces!L475=\"\",\"\",Liste_pièces!L475)","v":""},{"$f":"IF(Liste_pièces!M475=\"\",\"\",Liste_pièces!M475)","v":""},0,1,0]
[{"$f":"IF(Liste_pièces!A476=\"\",\"ZZZ\",Liste_pièces!A476)","v":"ZZZ"},{"$f":"IF(Liste_pièces!B476=\"\",\"ZZZ\",Liste_pièces!B476)","v":"ZZZ"},{"$f":"IF(Liste_pièces!C476=\"\",\"\",Liste_pièces!C476)","v":""},{"$f":"IF(Liste_pièces!D476=\"\",\"\",Liste_pièces!D476)","v":""},{"$f":"IF(Liste_pièces!E476=\"\",\"\",Liste_pièces!E476)","v":""},{"$f":"IF(Liste_pièces!F476=\"\",\"\",Liste_pièces!F476)","v":""},{"$f":"IF(Liste_pièces!G476=\"\",\"\",Liste_pièces!G476)","v":""},{"$f":"IF(Liste_pièces!H476=\"\",\"\",Liste_pièces!H476)","v":""},{"$f":"IF(Liste_pièces!I476=\"\",\"\",Liste_pièces!I476)","v":""},{"$f":"IF(Liste_pièces!J476=\"\",\"\",Liste_pièces!J476)","v":""},{"$f":"IF(Liste_pièces!K476=\"\",\"\",Liste_pièces!K476)","v":""},{"$f":"IF(Liste_pièces!L476=\"\",\"\",Liste_pièces!L476)","v":""},{"$f":"IF(Liste_pièces!M476=\"\",\"\",Liste_pièces!M476)","v":""},0,1,0]
[{"$f":"IF(Liste_pièces!A477=\"\",\"ZZZ\",Liste_pièces!A477)","v":"ZZZ"},{"$f":"IF(Liste_pièces!B477=\"\",\"ZZZ\",Liste_pièces!B477)","v":"ZZZ"},{"$f":"IF(Liste_pièces!C477=\"\",\"\",Liste_pièces!C477)","v":""},{"$f":"IF(Liste_pièces!D477=\"\",\"\",Liste_pièces!D477)","v":""},{"$f":"IF(Liste_pièces!E477=\"\",\"\",Liste_pièces!E477)","v":""},{"$f":"IF(Liste_pièces!F477=\"\",\"\",Liste_pièces!F477)","v":""},{"$f":"IF(Liste_pièces!G477=\"\",\"\",Liste_pièces!G477)","v":""},{"$f":"IF(Liste_pièces!H477=\"\",\"\",Liste_pièces!H477)","v":""},{"$f":"IF(Liste_pièces!I477=\"\",\"\",Liste_pièces!I477)","v":""},{"$f":"IF(Liste_pièces!J477=\"\",\"\",Liste_pièces!J477)","v":""},{"$f":"IF(Liste_pièces!K477=\"\",\"\",Liste_pièces!K477)","v":""},{"$f":"IF(Liste_pièces!L477=\"\",\"\",Liste_pièces!L477)","v":""},{"$f":"IF(Liste_pièces!M477=\"\",\"\",Liste_pièces!M477)","v":""},0,1,0]
[{"$f":"IF(Liste_pièces!A478=\"\",\"ZZZ\",Liste_pièces!A478)","v":"ZZZ"},{"$f":"IF(Liste_pièces!B478=\"\",\"ZZZ\",Liste_pièces!B478)","v":"ZZZ"},{"$f":"IF(Liste_pièces!C478=\"\",\"\",Liste_pièces!C478)","v":""},{"$f":"IF(Liste_pièces!D478=\"\",\"\",Liste_pièces!D478)","v":""},{"$f":"IF(Liste_pièces!E478=\"\",\"\",Liste_pièces!E478)","v":""},{"$f":"IF(Liste_pièces!F478=\"\",\"\",Liste_pièces!F478)","v":""},{"$f":"IF(Liste_pièces!G478=\"\",\"\",Liste_pièces!G478)","v":""},{"$f":"IF(Liste_pièces!H478=\"\",\"\",Liste_pièces!H478)","v":""},{"$f":"IF(Liste_pièces!I478=\"\",\"\",Liste_pièces!I478)","v":""},{"$f":"IF(Liste_pièces!J478=\"\",\"\",Liste_pièces!J478)","v":""},{"$f":"IF(Liste_pièces!K478=\"\",\"\",Liste_pièces!K478)","v":""},{"$f":"IF(Liste_pièces!L478=\"\",\"\",Liste_pièces!L478)","v":""},{"$f":"IF(Liste_pièces!M478=\"\",\"\",Liste_pièces!M478)","v":""},0,1,0]
[{"$f":"IF(Liste_pièces!A479=\"\",\"ZZZ\",Liste_pièces!A479)","v":"ZZZ"},{"$f":"IF(Liste_pièces!B479=\"\",\"ZZZ\",Liste_pièces!B479)","v":"ZZZ"},{"$f":"IF(Liste_pièces!C479=\"\",\"\",Liste_pièces!C479)","v":""},{"$f":"IF(Liste_pièces!D479=\"\",\"\",Liste_pièces!D479)","v":""},{"$f":"IF(Liste_pièces!E479=\"\",\"\",Liste_pièces!E479)","v":""},{"$f":"IF(Liste_pièces!F479=\"\",\"\",Liste_pièces!F479)","v":""},{"$f":"IF(Liste_pièces!G479=\"\",\"\",Liste_pièces!G479)","v":""},{"$f":"IF(Liste_pièces!H479=\"\",\"\",Liste_pièces!H479)","v":""},{"$f":"IF(Liste_pièces!I479=\"\",\"\",Liste_pièces!I479)","v":""},{"$f":"IF(Liste_pièces!J479=\"\",\"\",Liste_pièces!J479)","v":""},{"$f":"IF(Liste_pièces!K479=\"\",\"\",Liste_pièces!K479)","v":""},{"$f":"IF(Liste_pièces!L479=\"\",\"\",Liste_pièces!L479)","v":""},{"$f":"IF(Liste_pièces!M479=\"\",\"\",Liste_pièces!M479)","v":""},0,1,0]
[{"$f":"IF(Liste_pièces!A480=\"\",\"ZZZ\",Liste_pièces!A480)","v":"ZZZ"},{"$f":"IF(Liste_pièces!B480=\"\",\"ZZZ\",Liste_pièces!B480)","v":"ZZZ"},{"$f":"IF(Liste_pièces!C480=\"\",\"\",Liste_pièces!C480)","v":""},{"$f":"IF(Liste_pièces!D480=\"\",\"\",Liste_pièces!D480)","v":""},{"$f":"IF(Liste_pièces!E480=\"\",\"\",Liste_pièces!E480)","v":""},{"$f":"IF(Liste_pièces!F480=\"\",\"\",Liste_pièces!F480)","v":""},{"$f":"IF(Liste_pièces!G480=\"\",\"\",Liste_pièces!G480)","v":""},{"$f":"IF(Liste_pièces!H480=\"\",\"\",Liste_pièces!H480)","v":""},{"$f":"IF(Liste_pièces!I480=\"\",\"\",Liste_pièces!I480)","v":""},{"$f":"IF(Liste_pièces!J480=\"\",\"\",Liste_pièces!J480)","v":""},{"$f":"IF(Liste_pièces!K480=\"\",\"\",Liste_pièces!K480)","v":""},{"$f":"IF(Liste_pièces!L480=\"\",\"\",Liste_pièces!L480)","v":""},{"$f":"IF(Liste_pièces!M480=\"\",\"\",Liste_pièces!M480)","v":""},0,1,0]
[{"$f":"IF(Liste_pièces!A481=\"\",\"ZZZ\",Liste_pièces!A481)","v":"ZZZ"},{"$f":"IF(Liste_pièces!B481=\"\",\"ZZZ\",Liste_pièces!B481)","v":"ZZZ"},{"$f":"IF(Liste_pièces!C481=\"\",\"\",Liste_pièces!C481)","v":""},{"$f":"IF(Liste_pièces!D481=\"\",\"\",Liste_pièces!D481)","v":""},{"$f":"IF(Liste_pièces!E481=\"\",\"\",Liste_pièces!E481)","v":""},{"$f":"IF(Liste_pièces!F481=\"\",\"\",Liste_pièces!F481)","v":""},{"$f":"IF(Liste_pièces!G481=\"\",\"\",Liste_pièces!G481)","v":""},{"$f":"IF(Liste_pièces!H481=\"\",\"\",Liste_pièces!H481)","v":""},{"$f":"IF(Liste_pièces!I481=\"\",\"\",Liste_pièces!I481)","v":""},{"$f":"IF(Liste_pièces!J481=\"\",\"\",Liste_pièces!J481)","v":""},{"$f":"IF(Liste_pièces!K481=\"\",\"\",Liste_pièces!K481)","v":""},{"$f":"IF(Liste_pièces!L481=\"\",\"\",Liste_pièces!L481)","v":""},{"$f":"IF(Liste_pièces!M481=\"\",\"\",Liste_pièces!M481)","v":""},0,1,0]
[{"$f":"IF(Liste_pièces!A482=\"\",\"ZZZ\",Liste_pièces!A482)","v":"ZZZ"},{"$f":"IF(Liste_pièces!B482=\"\",\"ZZZ\",Liste_pièces!B482)","v":"ZZZ"},{"$f":"IF(Liste_pièces!C482=\"\",\"\",Liste_pièces!C482)","v":""},{"$f":"IF(Liste_pièces!D482=\"\",\"\",Liste_pièces!D482)","v":""},{"$f":"IF(Liste_pièces!E482=\"\",\"\",Liste_pièces!E482)","v":""},{"$f":"IF(Liste_pièces!F482=\"\",\"\",Liste_pièces!F482)","v":""},{"$f":"IF(Liste_pièces!G482=\"\",\"\",Liste_pièces!G482)","v":""},{"$f":"IF(Liste_pièces!H482=\"\",\"\",Liste_pièces!H482)","v":""},{"$f":"IF(Liste_pièces!I482=\"\",\"\",Liste_pièces!I482)","v":""},{"$f":"IF(Liste_pièces!J482=\"\",\"\",Liste_pièces!J482)","v":""},{"$f":"IF(Liste_pièces!K482=\"\",\"\",Liste_pièces!K482)","v":""},{"$f":"IF(Liste_pièces!L482=\"\",\"\",Liste_pièces!L482)","v":""},{"$f":"IF(Liste_pièces!M482=\"\",\"\",Liste_pièces!M482)","v":""},0,1,0]
[{"$f":"IF(Liste_pièces!A483=\"\",\"ZZZ\",Liste_pièces!A483)","v":"ZZZ"},{"$f":"IF(Liste_pièces!B483=\"\",\"ZZZ\",Liste_pièces!B483)","v":"ZZZ"},{"$f":"IF(Liste_pièces!C483=\"\",\"\",Liste_pièces!C483)","v":""},{"$f":"IF(Liste_pièces!D483=\"\",\"\",Liste_pièces!D483)","v":""},{"$f":"IF(Liste_pièces!E483=\"\",\"\",Liste_pièces!E483)","v":""},{"$f":"IF(Liste_pièces!F483=\"\",\"\",Liste_pièces!F483)","v":""},{"$f":"IF(Liste_pièces!G483=\"\",\"\",Liste_pièces!G483)","v":""},{"$f":"IF(Liste_pièces!H483=\"\",\"\",Liste_pièces!H483)","v":""},{"$f":"IF(Liste_pièces!I483=\"\",\"\",Liste_pièces!I483)","v":""},{"$f":"IF(Liste_pièces!J483=\"\",\"\",Liste_pièces!J483)","v":""},{"$f":"IF(Liste_pièces!K483=\"\",\"\",Liste_pièces!K483)","v":""},{"$f":"IF(Liste_pièces!L483=\"\",\"\",Liste_pièces!L483)","v":""},{"$f":"IF(Liste_pièces!M483=\"\",\"\",Liste_pièces!M483)","v":""},0,1,0]
[{"$f":"IF(Liste_pièces!A484=\"\",\"ZZZ\",Liste_pièces!A484)","v":"ZZZ"},{"$f":"IF(Liste_pièces!B484=\"\",\"ZZZ\",Liste_pièces!B484)","v":"ZZZ"},{"$f":"IF(Liste_pièces!C484=\"\",\"\",Liste_pièces!C484)","v":""},{"$f":"IF(Liste_pièces!D484=\"\",\"\",Liste_pièces!D484)","v":""},{"$f":"IF(Liste_pièces!E484=\"\",\"\",Liste_pièces!E484)","v":""},{"$f":"IF(Liste_pièces!F484=\"\",\"\",Liste_pièces!F484)","v":""},{"$f":"IF(Liste_pièces!G484=\"\",\"\",Liste_pièces!G484)","v":""},{"$f":"IF(Liste_pièces!H484=\"\",\"\",Liste_pièces!H484)","v":""},{"$f":"IF(Liste_pièces!I484=\"\",\"\",Liste_pièces!I484)","v":""},{"$f":"IF(Liste_pièces!J484=\"\",\"\",Liste_pièces!J484)","v":""},{"$f":"IF(Liste_pièces!K484=\"\",\"\",Liste_pièces!K484)","v":""},{"$f":"IF(Liste_pièces!L484=\"\",\"\",Liste_pièces!L484)","v":""},{"$f":"IF(Liste_pièces!M484=\"\",\"\",Liste_pièces!M484)","v":""},0,1,0]
[{"$f":"IF(Liste_pièces!A485=\"\",\"ZZZ\",Liste_pièces!A485)","v":"ZZZ"},{"$f":"IF(Liste_pièces!B485=\"\",\"ZZZ\",Liste_pièces!B485)","v":"ZZZ"},{"$f":"IF(Liste_pièces!C485=\"\",\"\",Liste_pièces!C485)","v":""},{"$f":"IF(Liste_pièces!D485=\"\",\"\",Liste_pièces!D485)","v":""},{"$f":"IF(Liste_pièces!E485=\"\",\"\",Liste_pièces!E485)","v":""},{"$f":"IF(Liste_pièces!F485=\"\",\"\",Liste_pièces!F485)","v":""},{"$f":"IF(Liste_pièces!G485=\"\",\"\",Liste_pièces!G485)","v":""},{"$f":"IF(Liste_pièces!H485=\"\",\"\",Liste_pièces!H485)","v":""},{"$f":"IF(Liste_pièces!I485=\"\",\"\",Liste_pièces!I485)","v":""},{"$f":"IF(Liste_pièces!J485=\"\",\"\",Liste_pièces!J485)","v":""},{"$f":"IF(Liste_pièces!K485=\"\",\"\",Liste_pièces!K485)","v":""},{"$f":"IF(Liste_pièces!L485=\"\",\"\",Liste_pièces!L485)","v":""},{"$f":"IF(Liste_pièces!M485=\"\",\"\",Liste_pièces!M485)","v":""},0,1,0]
[{"$f":"IF(Liste_pièces!A486=\"\",\"ZZZ\",Liste_pièces!A486)","v":"ZZZ"},{"$f":"IF(Liste_pièces!B486=\"\",\"ZZZ\",Liste_pièces!B486)","v":"ZZZ"},{"$f":"IF(Liste_pièces!C486=\"\",\"\",Liste_pièces!C486)","v":""},{"$f":"IF(Liste_pièces!D486=\"\",\"\",Liste_pièces!D486)","v":""},{"$f":"IF(Liste_pièces!E486=\"\",\"\",Liste_pièces!E486)","v":""},{"$f":"IF(Liste_pièces!F486=\"\",\"\",Liste_pièces!F486)","v":""},{"$f":"IF(Liste_pièces!G486=\"\",\"\",Liste_pièces!G486)","v":""},{"$f":"IF(Liste_pièces!H486=\"\",\"\",Liste_pièces!H486)","v":""},{"$f":"IF(Liste_pièces!I486=\"\",\"\",Liste_pièces!I486)","v":""},{"$f":"IF(Liste_pièces!J486=\"\",\"\",Liste_pièces!J486)","v":""},{"$f":"IF(Liste_pièces!K486=\"\",\"\",Liste_pièces!K486)","v":""},{"$f":"IF(Liste_pièces!L486=\"\",\"\",Liste_pièces!L486)","v":""},{"$f":"IF(Liste_pièces!M486=\"\",\"\",Liste_pièces!M486)","v":""},0,1,0]
[{"$f":"IF(Liste_pièces!A487=\"\",\"ZZZ\",Liste_pièces!A487)","v":"ZZZ"},{"$f":"IF(Liste_pièces!B487=\"\",\"ZZZ\",Liste_pièces!B487)","v":"ZZZ"},{"$f":"IF(Liste_pièces!C487=\"\",\"\",Liste_pièces!C487)","v":""},{"$f":"IF(Liste_pièces!D487=\"\",\"\",Liste_pièces!D487)","v":""},{"$f":"IF(Liste_pièces!E487=\"\",\"\",Liste_pièces!E487)","v":""},{"$f":"IF(Liste_pièces!F487=\"\",\"\",Liste_pièces!F487)","v":""},{"$f":"IF(Liste_pièces!G487=\"\",\"\",Liste_pièces!G487)","v":""},{"$f":"IF(Liste_pièces!H487=\"\",\"\",Liste_pièces!H487)","v":""},{"$f":"IF(Liste_pièces!I487=\"\",\"\",Liste_pièces!I487)","v":""},{"$f":"IF(Liste_pièces!J487=\"\",\"\",Liste_pièces!J487)","v":""},{"$f":"IF(Liste_pièces!K487=\"\",\"\",Liste_pièces!K487)","v":""},{"$f":"IF(Liste_pièces!L487=\"\",\"\",Liste_pièces!L487)","v":""},{"$f":"IF(Liste_pièces!M487=\"\",\"\",Liste_pièces!M487)","v":""},0,1,0]
[{"$f":"IF(Liste_pièces!A488=\"\",\"ZZZ\",Liste_pièces!A488)","v":"ZZZ"},{"$f":"IF(Liste_pièces!B488=\"\",\"ZZZ\",Liste_pièces!B488)","v":"ZZZ"},{"$f":"IF(Liste_pièces!C488=\"\",\"\",Liste_pièces!C488)","v":""},{"$f":"IF(Liste_pièces!D488=\"\",\"\",Liste_pièces!D488)","v":""},{"$f":"IF(Liste_pièces!E488=\"\",\"\",Liste_pièces!E488)","v":""},{"$f":"IF(Liste_pièces!F488=\"\",\"\",Liste_pièces!F488)","v":""},{"$f":"IF(Liste_pièces!G488=\"\",\"\",Liste_pièces!G488)","v":""},{"$f":"IF(Liste_pièces!H488=\"\",\"\",Liste_pièces!H488)","v":""},{"$f":"IF(Liste_pièces!I488=\"\",\"\",Liste_pièces!I488)","v":""},{"$f":"IF(Liste_pièces!J488=\"\",\"\",Liste_pièces!J488)","v":""},{"$f":"IF(Liste_pièces!K488=\"\",\"\",Liste_pièces!K488)","v":""},{"$f":"IF(Liste_pièces!L488=\"\",\"\",Liste_pièces!L488)","v":""},{"$f":"IF(Liste_pièces!M488=\"\",\"\",Liste_pièces!M488)","v":""},0,1,0]
[{"$f":"IF(Liste_pièces!A489=\"\",\"ZZZ\",Liste_pièces!A489)","v":"ZZZ"},{"$f":"IF(Liste_pièces!B489=\"\",\"ZZZ\",Liste_pièces!B489)","v":"ZZZ"},{"$f":"IF(Liste_pièces!C489=\"\",\"\",Liste_pièces!C489)","v":""},{"$f":"IF(Liste_pièces!D489=\"\",\"\",Liste_pièces!D489)","v":""},{"$f":"IF(Liste_pièces!E489=\"\",\"\",Liste_pièces!E489)","v":""},{"$f":"IF(Liste_pièces!F489=\"\",\"\",Liste_pièces!F489)","v":""},{"$f":"IF(Liste_pièces!G489=\"\",\"\",Liste_pièces!G489)","v":""},{"$f":"IF(Liste_pièces!H489=\"\",\"\",Liste_pièces!H489)","v":""},{"$f":"IF(Liste_pièces!I489=\"\",\"\",Liste_pièces!I489)","v":""},{"$f":"IF(Liste_pièces!J489=\"\",\"\",Liste_pièces!J489)","v":""},{"$f":"IF(Liste_pièces!K489=\"\",\"\",Liste_pièces!K489)","v":""},{"$f":"IF(Liste_pièces!L489=\"\",\"\",Liste_pièces!L489)","v":""},{"$f":"IF(Liste_pièces!M489=\"\",\"\",Liste_pièces!M489)","v":""},0,1,0]
[{"$f":"IF(Liste_pièces!A490=\"\",\"ZZZ\",Liste_pièces!A490)","v":"ZZZ"},{"$f":"IF(Liste_pièces!B490=\"\",\"ZZZ\",Liste_pièces!B490)","v":"ZZZ"},{"$f":"IF(Liste_pièces!C490=\"\",\"\",Liste_pièces!C490)","v":""},{"$f":"IF(Liste_pièces!D490=\"\",\"\",Liste_pièces!D490)","v":""},{"$f":"IF(Liste_pièces!E490=\"\",\"\",Liste_pièces!E490)","v":""},{"$f":"IF(Liste_pièces!F490=\"\",\"\",Liste_pièces!F490)","v":""},{"$f":"IF(Liste_pièces!G490=\"\",\"\",Liste_pièces!G490)","v":""},{"$f":"IF(Liste_pièces!H490=\"\",\"\",Liste_pièces!H490)","v":""},{"$f":"IF(Liste_pièces!I490=\"\",\"\",Liste_pièces!I490)","v":""},{"$f":"IF(Liste_pièces!J490=\"\",\"\",Liste_pièces!J490)","v":""},{"$f":"IF(Liste_pièces!K490=\"\",\"\",Liste_pièces!K490)","v":""},{"$f":"IF(Liste_pièces!L490=\"\",\"\",Liste_pièces!L490)","v":""},{"$f":"IF(Liste_pièces!M490=\"\",\"\",Liste_pièces!M490)","v":""},0,{"$f":"IF(N490*37=SUM(N453:N489),1,0)","v":1},0]
[{"$f":"IF(Liste_pièces!A491=\"\",\"ZZZ\",Liste_pièces!A491)","v":"ZZZ"},{"$f":"IF(Liste_pièces!B491=\"\",\"ZZZ\",Liste_pièces!B491)","v":"ZZZ"},{"$f":"IF(Liste_pièces!C491=\"\",\"\",Liste_pièces!C491)","v":""},{"$f":"IF(Liste_pièces!D491=\"\",\"\",Liste_pièces!D491)","v":""},{"$f":"IF(Liste_pièces!E491=\"\",\"\",Liste_pièces!E491)","v":""},{"$f":"IF(Liste_pièces!F491=\"\",\"\",Liste_pièces!F491)","v":""},{"$f":"IF(Liste_pièces!G491=\"\",\"\",Liste_pièces!G491)","v":""},{"$f":"IF(Liste_pièces!H491=\"\",\"\",Liste_pièces!H491)","v":""},{"$f":"IF(Liste_pièces!I491=\"\",\"\",Liste_pièces!I491)","v":""},{"$f":"IF(Liste_pièces!J491=\"\",\"\",Liste_pièces!J491)","v":""},{"$f":"IF(Liste_pièces!K491=\"\",\"\",Liste_pièces!K491)","v":""},{"$f":"IF(Liste_pièces!L491=\"\",\"\",Liste_pièces!L491)","v":""},{"$f":"IF(Liste_pièces!M491=\"\",\"\",Liste_pièces!M491)","v":""},0,1,0]
[{"$f":"IF(Liste_pièces!A492=\"\",\"ZZZ\",Liste_pièces!A492)","v":"ZZZ"},{"$f":"IF(Liste_pièces!B492=\"\",\"ZZZ\",Liste_pièces!B492)","v":"ZZZ"},{"$f":"IF(Liste_pièces!C492=\"\",\"\",Liste_pièces!C492)","v":""},{"$f":"IF(Liste_pièces!D492=\"\",\"\",Liste_pièces!D492)","v":""},{"$f":"IF(Liste_pièces!E492=\"\",\"\",Liste_pièces!E492)","v":""},{"$f":"IF(Liste_pièces!F492=\"\",\"\",Liste_pièces!F492)","v":""},{"$f":"IF(Liste_pièces!G492=\"\",\"\",Liste_pièces!G492)","v":""},{"$f":"IF(Liste_pièces!H492=\"\",\"\",Liste_pièces!H492)","v":""},{"$f":"IF(Liste_pièces!I492=\"\",\"\",Liste_pièces!I492)","v":""},{"$f":"IF(Liste_pièces!J492=\"\",\"\",Liste_pièces!J492)","v":""},{"$f":"IF(Liste_pièces!K492=\"\",\"\",Liste_pièces!K492)","v":""},{"$f":"IF(Liste_pièces!L492=\"\",\"\",Liste_pièces!L492)","v":""},{"$f":"IF(Liste_pièces!M492=\"\",\"\",Liste_pièces!M492)","v":""},0,1,0]
[{"$f":"IF(Liste_pièces!A493=\"\",\"ZZZ\",Liste_pièces!A493)","v":"ZZZ"},{"$f":"IF(Liste_pièces!B493=\"\",\"ZZZ\",Liste_pièces!B493)","v":"ZZZ"},{"$f":"IF(Liste_pièces!C493=\"\",\"\",Liste_pièces!C493)","v":""},{"$f":"IF(Liste_pièces!D493=\"\",\"\",Liste_pièces!D493)","v":""},{"$f":"IF(Liste_pièces!E493=\"\",\"\",Liste_pièces!E493)","v":""},{"$f":"IF(Liste_pièces!F493=\"\",\"\",Liste_pièces!F493)","v":""},{"$f":"IF(Liste_pièces!G493=\"\",\"\",Liste_pièces!G493)","v":""},{"$f":"IF(Liste_pièces!H493=\"\",\"\",Liste_pièces!H493)","v":""},{"$f":"IF(Liste_pièces!I493=\"\",\"\",Liste_pièces!I493)","v":""},{"$f":"IF(Liste_pièces!J493=\"\",\"\",Liste_pièces!J493)","v":""},{"$f":"IF(Liste_pièces!K493=\"\",\"\",Liste_pièces!K493)","v":""},{"$f":"IF(Liste_pièces!L493=\"\",\"\",Liste_pièces!L493)","v":""},{"$f":"IF(Liste_pièces!M493=\"\",\"\",Liste_pièces!M493)","v":""},0,1,0]
[{"$f":"IF(Liste_pièces!A494=\"\",\"ZZZ\",Liste_pièces!A494)","v":"ZZZ"},{"$f":"IF(Liste_pièces!B494=\"\",\"ZZZ\",Liste_pièces!B494)","v":"ZZZ"},{"$f":"IF(Liste_pièces!C494=\"\",\"\",Liste_pièces!C494)","v":""},{"$f":"IF(Liste_pièces!D494=\"\",\"\",Liste_pièces!D494)","v":""},{"$f":"IF(Liste_pièces!E494=\"\",\"\",Liste_pièces!E494)","v":""},{"$f":"IF(Liste_pièces!F494=\"\",\"\",Liste_pièces!F494)","v":""},{"$f":"IF(Liste_pièces!G494=\"\",\"\",Liste_pièces!G494)","v":""},{"$f":"IF(Liste_pièces!H494=\"\",\"\",Liste_pièces!H494)","v":""},{"$f":"IF(Liste_pièces!I494=\"\",\"\",Liste_pièces!I494)","v":""},{"$f":"IF(Liste_pièces!J494=\"\",\"\",Liste_pièces!J494)","v":""},{"$f":"IF(Liste_pièces!K494=\"\",\"\",Liste_pièces!K494)","v":""},{"$f":"IF(Liste_pièces!L494=\"\",\"\",Liste_pièces!L494)","v":""},{"$f":"IF(Liste_pièces!M494=\"\",\"\",Liste_pièces!M494)","v":""},0,1,0]
[{"$f":"IF(Liste_pièces!A495=\"\",\"ZZZ\",Liste_pièces!A495)","v":"ZZZ"},{"$f":"IF(Liste_pièces!B495=\"\",\"ZZZ\",Liste_pièces!B495)","v":"ZZZ"},{"$f":"IF(Liste_pièces!C495=\"\",\"\",Liste_pièces!C495)","v":""},{"$f":"IF(Liste_pièces!D495=\"\",\"\",Liste_pièces!D495)","v":""},{"$f":"IF(Liste_pièces!E495=\"\",\"\",Liste_pièces!E495)","v":""},{"$f":"IF(Liste_pièces!F495=\"\",\"\",Liste_pièces!F495)","v":""},{"$f":"IF(Liste_pièces!G495=\"\",\"\",Liste_pièces!G495)","v":""},{"$f":"IF(Liste_pièces!H495=\"\",\"\",Liste_pièces!H495)","v":""},{"$f":"IF(Liste_pièces!I495=\"\",\"\",Liste_pièces!I495)","v":""},{"$f":"IF(Liste_pièces!J495=\"\",\"\",Liste_pièces!J495)","v":""},{"$f":"IF(Liste_pièces!K495=\"\",\"\",Liste_pièces!K495)","v":""},{"$f":"IF(Liste_pièces!L495=\"\",\"\",Liste_pièces!L495)","v":""},{"$f":"IF(Liste_pièces!M495=\"\",\"\",Liste_pièces!M495)","v":""},0,1,0]
[{"$f":"IF(Liste_pièces!A496=\"\",\"ZZZ\",Liste_pièces!A496)","v":"ZZZ"},{"$f":"IF(Liste_pièces!B496=\"\",\"ZZZ\",Liste_pièces!B496)","v":"ZZZ"},{"$f":"IF(Liste_pièces!C496=\"\",\"\",Liste_pièces!C496)","v":""},{"$f":"IF(Liste_pièces!D496=\"\",\"\",Liste_pièces!D496)","v":""},{"$f":"IF(Liste_pièces!E496=\"\",\"\",Liste_pièces!E496)","v":""},{"$f":"IF(Liste_pièces!F496=\"\",\"\",Liste_pièces!F496)","v":""},{"$f":"IF(Liste_pièces!G496=\"\",\"\",Liste_pièces!G496)","v":""},{"$f":"IF(Liste_pièces!H496=\"\",\"\",Liste_pièces!H496)","v":""},{"$f":"IF(Liste_pièces!I496=\"\",\"\",Liste_pièces!I496)","v":""},{"$f":"IF(Liste_pièces!J496=\"\",\"\",Liste_pièces!J496)","v":""},{"$f":"IF(Liste_pièces!K496=\"\",\"\",Liste_pièces!K496)","v":""},{"$f":"IF(Liste_pièces!L496=\"\",\"\",Liste_pièces!L496)","v":""},{"$f":"IF(Liste_pièces!M496=\"\",\"\",Liste_pièces!M496)","v":""},0,1,0]
[{"$f":"IF(Liste_pièces!A497=\"\",\"ZZZ\",Liste_pièces!A497)","v":"ZZZ"},{"$f":"IF(Liste_pièces!B497=\"\",\"ZZZ\",Liste_pièces!B497)","v":"ZZZ"},{"$f":"IF(Liste_pièces!C497=\"\",\"\",Liste_pièces!C497)","v":""},{"$f":"IF(Liste_pièces!D497=\"\",\"\",Liste_pièces!D497)","v":""},{"$f":"IF(Liste_pièces!E497=\"\",\"\",Liste_pièces!E497)","v":""},{"$f":"IF(Liste_pièces!F497=\"\",\"\",Liste_pièces!F497)","v":""},{"$f":"IF(Liste_pièces!G497=\"\",\"\",Liste_pièces!G497)","v":""},{"$f":"IF(Liste_pièces!H497=\"\",\"\",Liste_pièces!H497)","v":""},{"$f":"IF(Liste_pièces!I497=\"\",\"\",Liste_pièces!I497)","v":""},{"$f":"IF(Liste_pièces!J497=\"\",\"\",Liste_pièces!J497)","v":""},{"$f":"IF(Liste_pièces!K497=\"\",\"\",Liste_pièces!K497)","v":""},{"$f":"IF(Liste_pièces!L497=\"\",\"\",Liste_pièces!L497)","v":""},{"$f":"IF(Liste_pièces!M497=\"\",\"\",Liste_pièces!M497)","v":""},0,1,0]
[{"$f":"IF(Liste_pièces!A498=\"\",\"ZZZ\",Liste_pièces!A498)","v":"ZZZ"},{"$f":"IF(Liste_pièces!B498=\"\",\"ZZZ\",Liste_pièces!B498)","v":"ZZZ"},{"$f":"IF(Liste_pièces!C498=\"\",\"\",Liste_pièces!C498)","v":""},{"$f":"IF(Liste_pièces!D498=\"\",\"\",Liste_pièces!D498)","v":""},{"$f":"IF(Liste_pièces!E498=\"\",\"\",Liste_pièces!E498)","v":""},{"$f":"IF(Liste_pièces!F498=\"\",\"\",Liste_pièces!F498)","v":""},{"$f":"IF(Liste_pièces!G498=\"\",\"\",Liste_pièces!G498)","v":""},{"$f":"IF(Liste_pièces!H498=\"\",\"\",Liste_pièces!H498)","v":""},{"$f":"IF(Liste_pièces!I498=\"\",\"\",Liste_pièces!I498)","v":""},{"$f":"IF(Liste_pièces!J498=\"\",\"\",Liste_pièces!J498)","v":""},{"$f":"IF(Liste_pièces!K498=\"\",\"\",Liste_pièces!K498)","v":""},{"$f":"IF(Liste_pièces!L498=\"\",\"\",Liste_pièces!L498)","v":""},{"$f":"IF(Liste_pièces!M498=\"\",\"\",Liste_pièces!M498)","v":""},0,1,0]
[{"$f":"IF(Liste_pièces!A499=\"\",\"ZZZ\",Liste_pièces!A499)","v":"ZZZ"},{"$f":"IF(Liste_pièces!B499=\"\",\"ZZZ\",Liste_pièces!B499)","v":"ZZZ"},{"$f":"IF(Liste_pièces!C499=\"\",\"\",Liste_pièces!C499)","v":""},{"$f":"IF(Liste_pièces!D499=\"\",\"\",Liste_pièces!D499)","v":""},{"$f":"IF(Liste_pièces!E499=\"\",\"\",Liste_pièces!E499)","v":""},{"$f":"IF(Liste_pièces!F499=\"\",\"\",Liste_pièces!F499)","v":""},{"$f":"IF(Liste_pièces!G499=\"\",\"\",Liste_pièces!G499)","v":""},{"$f":"IF(Liste_pièces!H499=\"\",\"\",Liste_pièces!H499)","v":""},{"$f":"IF(Liste_pièces!I499=\"\",\"\",Liste_pièces!I499)","v":""},{"$f":"IF(Liste_pièces!J499=\"\",\"\",Liste_pièces!J499)","v":""},{"$f":"IF(Liste_pièces!K499=\"\",\"\",Liste_pièces!K499)","v":""},{"$f":"IF(Liste_pièces!L499=\"\",\"\",Liste_pièces!L499)","v":""},{"$f":"IF(Liste_pièces!M499=\"\",\"\",Liste_pièces!M499)","v":""},0,1,0]
[{"$f":"IF(Liste_pièces!A500=\"\",\"ZZZ\",Liste_pièces!A500)","v":"ZZZ"},{"$f":"IF(Liste_pièces!B500=\"\",\"ZZZ\",Liste_pièces!B500)","v":"ZZZ"},{"$f":"IF(Liste_pièces!C500=\"\",\"\",Liste_pièces!C500)","v":""},{"$f":"IF(Liste_pièces!D500=\"\",\"\",Liste_pièces!D500)","v":""},{"$f":"IF(Liste_pièces!E500=\"\",\"\",Liste_pièces!E500)","v":""},{"$f":"IF(Liste_pièces!F500=\"\",\"\",Liste_pièces!F500)","v":""},{"$f":"IF(Liste_pièces!G500=\"\",\"\",Liste_pièces!G500)","v":""},{"$f":"IF(Liste_pièces!H500=\"\",\"\",Liste_pièces!H500)","v":""},{"$f":"IF(Liste_pièces!I500=\"\",\"\",Liste_pièces!I500)","v":""},{"$f":"IF(Liste_pièces!J500=\"\",\"\",Liste_pièces!J500)","v":""},{"$f":"IF(Liste_pièces!K500=\"\",\"\",Liste_pièces!K500)","v":""},{"$f":"IF(Liste_pièces!L500=\"\",\"\",Liste_pièces!L500)","v":""},{"$f":"IF(Liste_pièces!M500=\"\",\"\",Liste_pièces!M500)","v":""},0,1,0]
[{"$f":"IF(Liste_pièces!A501=\"\",\"ZZZ\",Liste_pièces!A501)","v":"ZZZ"},{"$f":"IF(Liste_pièces!B501=\"\",\"ZZZ\",Liste_pièces!B501)","v":"ZZZ"},{"$f":"IF(Liste_pièces!C501=\"\",\"\",Liste_pièces!C501)","v":""},{"$f":"IF(Liste_pièces!D501=\"\",\"\",Liste_pièces!D501)","v":""},{"$f":"IF(Liste_pièces!E501=\"\",\"\",Liste_pièces!E501)","v":""},{"$f":"IF(Liste_pièces!F501=\"\",\"\",Liste_pièces!F501)","v":""},{"$f":"IF(Liste_pièces!G501=\"\",\"\",Liste_pièces!G501)","v":""},{"$f":"IF(Liste_pièces!H501=\"\",\"\",Liste_pièces!H501)","v":""},{"$f":"IF(Liste_pièces!I501=\"\",\"\",Liste_pièces!I501)","v":""},{"$f":"IF(Liste_pièces!J501=\"\",\"\",Liste_pièces!J501)","v":""},{"$f":"IF(Liste_pièces!K501=\"\",\"\",Liste_pièces!K501)","v":""},{"$f":"IF(Liste_pièces!L501=\"\",\"\",Liste_pièces!L501)","v":""},{"$f":"IF(Liste_pièces!M501=\"\",\"\",Liste_pièces!M501)","v":""},0,1,0]
[{"$f":"IF(Liste_pièces!A502=\"\",\"ZZZ\",Liste_pièces!A502)","v":"ZZZ"},{"$f":"IF(Liste_pièces!B502=\"\",\"ZZZ\",Liste_pièces!B502)","v":"ZZZ"},{"$f":"IF(Liste_pièces!C502=\"\",\"\",Liste_pièces!C502)","v":""},{"$f":"IF(Liste_pièces!D502=\"\",\"\",Liste_pièces!D502)","v":""},{"$f":"IF(Liste_pièces!E502=\"\",\"\",Liste_pièces!E502)","v":""},{"$f":"IF(Liste_pièces!F502=\"\",\"\",Liste_pièces!F502)","v":""},{"$f":"IF(Liste_pièces!G502=\"\",\"\",Liste_pièces!G502)","v":""},{"$f":"IF(Liste_pièces!H502=\"\",\"\",Liste_pièces!H502)","v":""},{"$f":"IF(Liste_pièces!I502=\"\",\"\",Liste_pièces!I502)","v":""},{"$f":"IF(Liste_pièces!J502=\"\",\"\",Liste_pièces!J502)","v":""},{"$f":"IF(Liste_pièces!K502=\"\",\"\",Liste_pièces!K502)","v":""},{"$f":"IF(Liste_pièces!L502=\"\",\"\",Liste_pièces!L502)","v":""},{"$f":"IF(Liste_pièces!M502=\"\",\"\",Liste_pièces!M502)","v":""},0,1,0]
[{"$f":"IF(Liste_pièces!A503=\"\",\"ZZZ\",Liste_pièces!A503)","v":"ZZZ"},{"$f":"IF(Liste_pièces!B503=\"\",\"ZZZ\",Liste_pièces!B503)","v":"ZZZ"},{"$f":"IF(Liste_pièces!C503=\"\",\"\",Liste_pièces!C503)","v":""},{"$f":"IF(Liste_pièces!D503=\"\",\"\",Liste_pièces!D503)","v":""},{"$f":"IF(Liste_pièces!E503=\"\",\"\",Liste_pièces!E503)","v":""},{"$f":"IF(Liste_pièces!F503=\"\",\"\",Liste_pièces!F503)","v":""},{"$f":"IF(Liste_pièces!G503=\"\",\"\",Liste_pièces!G503)","v":""},{"$f":"IF(Liste_pièces!H503=\"\",\"\",Liste_pièces!H503)","v":""},{"$f":"IF(Liste_pièces!I503=\"\",\"\",Liste_pièces!I503)","v":""},{"$f":"IF(Liste_pièces!J503=\"\",\"\",Liste_pièces!J503)","v":""},{"$f":"IF(Liste_pièces!K503=\"\",\"\",Liste_pièces!K503)","v":""},{"$f":"IF(Liste_pièces!L503=\"\",\"\",Liste_pièces!L503)","v":""},{"$f":"IF(Liste_pièces!M503=\"\",\"\",Liste_pièces!M503)","v":""},0,1,0]
[{"$f":"IF(Liste_pièces!A504=\"\",\"ZZZ\",Liste_pièces!A504)","v":"ZZZ"},{"$f":"IF(Liste_pièces!B504=\"\",\"ZZZ\",Liste_pièces!B504)","v":"ZZZ"},{"$f":"IF(Liste_pièces!C504=\"\",\"\",Liste_pièces!C504)","v":""},{"$f":"IF(Liste_pièces!D504=\"\",\"\",Liste_pièces!D504)","v":""},{"$f":"IF(Liste_pièces!E504=\"\",\"\",Liste_pièces!E504)","v":""},{"$f":"IF(Liste_pièces!F504=\"\",\"\",Liste_pièces!F504)","v":""},{"$f":"IF(Liste_pièces!G504=\"\",\"\",Liste_pièces!G504)","v":""},{"$f":"IF(Liste_pièces!H504=\"\",\"\",Liste_pièces!H504)","v":""},{"$f":"IF(Liste_pièces!I504=\"\",\"\",Liste_pièces!I504)","v":""},{"$f":"IF(Liste_pièces!J504=\"\",\"\",Liste_pièces!J504)","v":""},{"$f":"IF(Liste_pièces!K504=\"\",\"\",Liste_pièces!K504)","v":""},{"$f":"IF(Liste_pièces!L504=\"\",\"\",Liste_pièces!L504)","v":""},{"$f":"IF(Liste_pièces!M504=\"\",\"\",Liste_pièces!M504)","v":""},0,1,0]
[{"$f":"IF(Liste_pièces!A505=\"\",\"ZZZ\",Liste_pièces!A505)","v":"ZZZ"},{"$f":"IF(Liste_pièces!B505=\"\",\"ZZZ\",Liste_pièces!B505)","v":"ZZZ"},{"$f":"IF(Liste_pièces!C505=\"\",\"\",Liste_pièces!C505)","v":""},{"$f":"IF(Liste_pièces!D505=\"\",\"\",Liste_pièces!D505)","v":""},{"$f":"IF(Liste_pièces!E505=\"\",\"\",Liste_pièces!E505)","v":""},{"$f":"IF(Liste_pièces!F505=\"\",\"\",Liste_pièces!F505)","v":""},{"$f":"IF(Liste_pièces!G505=\"\",\"\",Liste_pièces!G505)","v":""},{"$f":"IF(Liste_pièces!H505=\"\",\"\",Liste_pièces!H505)","v":""},{"$f":"IF(Liste_pièces!I505=\"\",\"\",Liste_pièces!I505)","v":""},{"$f":"IF(Liste_pièces!J505=\"\",\"\",Liste_pièces!J505)","v":""},{"$f":"IF(Liste_pièces!K505=\"\",\"\",Liste_pièces!K505)","v":""},{"$f":"IF(Liste_pièces!L505=\"\",\"\",Liste_pièces!L505)","v":""},{"$f":"IF(Liste_pièces!M505=\"\",\"\",Liste_pièces!M505)","v":""},0,1,0]
[{"$f":"IF(Liste_pièces!A506=\"\",\"ZZZ\",Liste_pièces!A506)","v":"ZZZ"},{"$f":"IF(Liste_pièces!B506=\"\",\"ZZZ\",Liste_pièces!B506)","v":"ZZZ"},{"$f":"IF(Liste_pièces!C506=\"\",\"\",Liste_pièces!C506)","v":""},{"$f":"IF(Liste_pièces!D506=\"\",\"\",Liste_pièces!D506)","v":""},{"$f":"IF(Liste_pièces!E506=\"\",\"\",Liste_pièces!E506)","v":""},{"$f":"IF(Liste_pièces!F506=\"\",\"\",Liste_pièces!F506)","v":""},{"$f":"IF(Liste_pièces!G506=\"\",\"\",Liste_pièces!G506)","v":""},{"$f":"IF(Liste_pièces!H506=\"\",\"\",Liste_pièces!H506)","v":""},{"$f":"IF(Liste_pièces!I506=\"\",\"\",Liste_pièces!I506)","v":""},{"$f":"IF(Liste_pièces!J506=\"\",\"\",Liste_pièces!J506)","v":""},{"$f":"IF(Liste_pièces!K506=\"\",\"\",Liste_pièces!K506)","v":""},{"$f":"IF(Liste_pièces!L506=\"\",\"\",Liste_pièces!L506)","v":""},{"$f":"IF(Liste_pièces!M506=\"\",\"\",Liste_pièces!M506)","v":""},0,1,0]
[{"$f":"IF(Liste_pièces!A507=\"\",\"ZZZ\",Liste_pièces!A507)","v":"ZZZ"},{"$f":"IF(Liste_pièces!B507=\"\",\"ZZZ\",Liste_pièces!B507)","v":"ZZZ"},{"$f":"IF(Liste_pièces!C507=\"\",\"\",Liste_pièces!C507)","v":""},{"$f":"IF(Liste_pièces!D507=\"\",\"\",Liste_pièces!D507)","v":""},{"$f":"IF(Liste_pièces!E507=\"\",\"\",Liste_pièces!E507)","v":""},{"$f":"IF(Liste_pièces!F507=\"\",\"\",Liste_pièces!F507)","v":""},{"$f":"IF(Liste_pièces!G507=\"\",\"\",Liste_pièces!G507)","v":""},{"$f":"IF(Liste_pièces!H507=\"\",\"\",Liste_pièces!H507)","v":""},{"$f":"IF(Liste_pièces!I507=\"\",\"\",Liste_pièces!I507)","v":""},{"$f":"IF(Liste_pièces!J507=\"\",\"\",Liste_pièces!J507)","v":""},{"$f":"IF(Liste_pièces!K507=\"\",\"\",Liste_pièces!K507)","v":""},{"$f":"IF(Liste_pièces!L507=\"\",\"\",Liste_pièces!L507)","v":""},{"$f":"IF(Liste_pièces!M507=\"\",\"\",Liste_pièces!M507)","v":""},0,1,0]
[{"$f":"IF(Liste_pièces!A508=\"\",\"ZZZ\",Liste_pièces!A508)","v":"ZZZ"},{"$f":"IF(Liste_pièces!B508=\"\",\"ZZZ\",Liste_pièces!B508)","v":"ZZZ"},{"$f":"IF(Liste_pièces!C508=\"\",\"\",Liste_pièces!C508)","v":""},{"$f":"IF(Liste_pièces!D508=\"\",\"\",Liste_pièces!D508)","v":""},{"$f":"IF(Liste_pièces!E508=\"\",\"\",Liste_pièces!E508)","v":""},{"$f":"IF(Liste_pièces!F508=\"\",\"\",Liste_pièces!F508)","v":""},{"$f":"IF(Liste_pièces!G508=\"\",\"\",Liste_pièces!G508)","v":""},{"$f":"IF(Liste_pièces!H508=\"\",\"\",Liste_pièces!H508)","v":""},{"$f":"IF(Liste_pièces!I508=\"\",\"\",Liste_pièces!I508)","v":""},{"$f":"IF(Liste_pièces!J508=\"\",\"\",Liste_pièces!J508)","v":""},{"$f":"IF(Liste_pièces!K508=\"\",\"\",Liste_pièces!K508)","v":""},{"$f":"IF(Liste_pièces!L508=\"\",\"\",Liste_pièces!L508)","v":""},{"$f":"IF(Liste_pièces!M508=\"\",\"\",Liste_pièces!M508)","v":""},0,1,0]
[{"$f":"IF(Liste_pièces!A509=\"\",\"ZZZ\",Liste_pièces!A509)","v":"ZZZ"},{"$f":"IF(Liste_pièces!B509=\"\",\"ZZZ\",Liste_pièces!B509)","v":"ZZZ"},{"$f":"IF(Liste_pièces!C509=\"\",\"\",Liste_pièces!C509)","v":""},{"$f":"IF(Liste_pièces!D509=\"\",\"\",Liste_pièces!D509)","v":""},{"$f":"IF(Liste_pièces!E509=\"\",\"\",Liste_pièces!E509)","v":""},{"$f":"IF(Liste_pièces!F509=\"\",\"\",Liste_pièces!F509)","v":""},{"$f":"IF(Liste_pièces!G509=\"\",\"\",Liste_pièces!G509)","v":""},{"$f":"IF(Liste_pièces!H509=\"\",\"\",Liste_pièces!H509)","v":""},{"$f":"IF(Liste_pièces!I509=\"\",\"\",Liste_pièces!I509)","v":""},{"$f":"IF(Liste_pièces!J509=\"\",\"\",Liste_pièces!J509)","v":""},{"$f":"IF(Liste_pièces!K509=\"\",\"\",Liste_pièces!K509)","v":""},{"$f":"IF(Liste_pièces!L509=\"\",\"\",Liste_pièces!L509)","v":""},{"$f":"IF(Liste_pièces!M509=\"\",\"\",Liste_pièces!M509)","v":""},0,1,0]
[{"$f":"IF(Liste_pièces!A510=\"\",\"ZZZ\",Liste_pièces!A510)","v":"ZZZ"},{"$f":"IF(Liste_pièces!B510=\"\",\"ZZZ\",Liste_pièces!B510)","v":"ZZZ"},{"$f":"IF(Liste_pièces!C510=\"\",\"\",Liste_pièces!C510)","v":""},{"$f":"IF(Liste_pièces!D510=\"\",\"\",Liste_pièces!D510)","v":""},{"$f":"IF(Liste_pièces!E510=\"\",\"\",Liste_pièces!E510)","v":""},{"$f":"IF(Liste_pièces!F510=\"\",\"\",Liste_pièces!F510)","v":""},{"$f":"IF(Liste_pièces!G510=\"\",\"\",Liste_pièces!G510)","v":""},{"$f":"IF(Liste_pièces!H510=\"\",\"\",Liste_pièces!H510)","v":""},{"$f":"IF(Liste_pièces!I510=\"\",\"\",Liste_pièces!I510)","v":""},{"$f":"IF(Liste_pièces!J510=\"\",\"\",Liste_pièces!J510)","v":""},{"$f":"IF(Liste_pièces!K510=\"\",\"\",Liste_pièces!K510)","v":""},{"$f":"IF(Liste_pièces!L510=\"\",\"\",Liste_pièces!L510)","v":""},{"$f":"IF(Liste_pièces!M510=\"\",\"\",Liste_pièces!M510)","v":""},0,1,0]
[{"$f":"IF(Liste_pièces!A511=\"\",\"ZZZ\",Liste_pièces!A511)","v":"ZZZ"},{"$f":"IF(Liste_pièces!B511=\"\",\"ZZZ\",Liste_pièces!B511)","v":"ZZZ"},{"$f":"IF(Liste_pièces!C511=\"\",\"\",Liste_pièces!C511)","v":""},{"$f":"IF(Liste_pièces!D511=\"\",\"\",Liste_pièces!D511)","v":""},{"$f":"IF(Liste_pièces!E511=\"\",\"\",Liste_pièces!E511)","v":""},{"$f":"IF(Liste_pièces!F511=\"\",\"\",Liste_pièces!F511)","v":""},{"$f":"IF(Liste_pièces!G511=\"\",\"\",Liste_pièces!G511)","v":""},{"$f":"IF(Liste_pièces!H511=\"\",\"\",Liste_pièces!H511)","v":""},{"$f":"IF(Liste_pièces!I511=\"\",\"\",Liste_pièces!I511)","v":""},{"$f":"IF(Liste_pièces!J511=\"\",\"\",Liste_pièces!J511)","v":""},{"$f":"IF(Liste_pièces!K511=\"\",\"\",Liste_pièces!K511)","v":""},{"$f":"IF(Liste_pièces!L511=\"\",\"\",Liste_pièces!L511)","v":""},{"$f":"IF(Liste_pièces!M511=\"\",\"\",Liste_pièces!M511)","v":""},0,1,0]
[{"$f":"IF(Liste_pièces!A512=\"\",\"ZZZ\",Liste_pièces!A512)","v":"ZZZ"},{"$f":"IF(Liste_pièces!B512=\"\",\"ZZZ\",Liste_pièces!B512)","v":"ZZZ"},{"$f":"IF(Liste_pièces!C512=\"\",\"\",Liste_pièces!C512)","v":""},{"$f":"IF(Liste_pièces!D512=\"\",\"\",Liste_pièces!D512)","v":""},{"$f":"IF(Liste_pièces!E512=\"\",\"\",Liste_pièces!E512)","v":""},{"$f":"IF(Liste_pièces!F512=\"\",\"\",Liste_pièces!F512)","v":""},{"$f":"IF(Liste_pièces!G512=\"\",\"\",Liste_pièces!G512)","v":""},{"$f":"IF(Liste_pièces!H512=\"\",\"\",Liste_pièces!H512)","v":""},{"$f":"IF(Liste_pièces!I512=\"\",\"\",Liste_pièces!I512)","v":""},{"$f":"IF(Liste_pièces!J512=\"\",\"\",Liste_pièces!J512)","v":""},{"$f":"IF(Liste_pièces!K512=\"\",\"\",Liste_pièces!K512)","v":""},{"$f":"IF(Liste_pièces!L512=\"\",\"\",Liste_pièces!L512)","v":""},{"$f":"IF(Liste_pièces!M512=\"\",\"\",Liste_pièces!M512)","v":""},0,1,0]
[{"$f":"IF(Liste_pièces!A513=\"\",\"ZZZ\",Liste_pièces!A513)","v":"ZZZ"},{"$f":"IF(Liste_pièces!B513=\"\",\"ZZZ\",Liste_pièces!B513)","v":"ZZZ"},{"$f":"IF(Liste_pièces!C513=\"\",\"\",Liste_pièces!C513)","v":""},{"$f":"IF(Liste_pièces!D513=\"\",\"\",Liste_pièces!D513)","v":""},{"$f":"IF(Liste_pièces!E513=\"\",\"\",Liste_pièces!E513)","v":""},{"$f":"IF(Liste_pièces!F513=\"\",\"\",Liste_pièces!F513)","v":""},{"$f":"IF(Liste_pièces!G513=\"\",\"\",Liste_pièces!G513)","v":""},{"$f":"IF(Liste_pièces!H513=\"\",\"\",Liste_pièces!H513)","v":""},{"$f":"IF(Liste_pièces!I513=\"\",\"\",Liste_pièces!I513)","v":""},{"$f":"IF(Liste_pièces!J513=\"\",\"\",Liste_pièces!J513)","v":""},{"$f":"IF(Liste_pièces!K513=\"\",\"\",Liste_pièces!K513)","v":""},{"$f":"IF(Liste_pièces!L513=\"\",\"\",Liste_pièces!L513)","v":""},{"$f":"IF(Liste_pièces!M513=\"\",\"\",Liste_pièces!M513)","v":""},0,1,0]
[{"$f":"IF(Liste_pièces!A514=\"\",\"ZZZ\",Liste_pièces!A514)","v":"ZZZ"},{"$f":"IF(Liste_pièces!B514=\"\",\"ZZZ\",Liste_pièces!B514)","v":"ZZZ"},{"$f":"IF(Liste_pièces!C514=\"\",\"\",Liste_pièces!C514)","v":""},{"$f":"IF(Liste_pièces!D514=\"\",\"\",Liste_pièces!D514)","v":""},{"$f":"IF(Liste_pièces!E514=\"\",\"\",Liste_pièces!E514)","v":""},{"$f":"IF(Liste_pièces!F514=\"\",\"\",Liste_pièces!F514)","v":""},{"$f":"IF(Liste_pièces!G514=\"\",\"\",Liste_pièces!G514)","v":""},{"$f":"IF(Liste_pièces!H514=\"\",\"\",Liste_pièces!H514)","v":""},{"$f":"IF(Liste_pièces!I514=\"\",\"\",Liste_pièces!I514)","v":""},{"$f":"IF(Liste_pièces!J514=\"\",\"\",Liste_pièces!J514)","v":""},{"$f":"IF(Liste_pièces!K514=\"\",\"\",Liste_pièces!K514)","v":""},{"$f":"IF(Liste_pièces!L514=\"\",\"\",Liste_pièces!L514)","v":""},{"$f":"IF(Liste_pièces!M514=\"\",\"\",Liste_pièces!M514)","v":""},{"$f":"IF(B1258=\"ZZZ\",0,IF(B1258=B1257,N513,1+N513))","v":0},1,0]
[{"$f":"IF(Liste_pièces!A515=\"\",\"ZZZ\",Liste_pièces!A515)","v":"ZZZ"},{"$f":"IF(Liste_pièces!B515=\"\",\"ZZZ\",Liste_pièces!B515)","v":"ZZZ"},{"$f":"IF(Liste_pièces!C515=\"\",\"\",Liste_pièces!C515)","v":""},{"$f":"IF(Liste_pièces!D515=\"\",\"\",Liste_pièces!D515)","v":""},{"$f":"IF(Liste_pièces!E515=\"\",\"\",Liste_pièces!E515)","v":""},{"$f":"IF(Liste_pièces!F515=\"\",\"\",Liste_pièces!F515)","v":""},{"$f":"IF(Liste_pièces!G515=\"\",\"\",Liste_pièces!G515)","v":""},{"$f":"IF(Liste_pièces!H515=\"\",\"\",Liste_pièces!H515)","v":""},{"$f":"IF(Liste_pièces!I515=\"\",\"\",Liste_pièces!I515)","v":""},{"$f":"IF(Liste_pièces!J515=\"\",\"\",Liste_pièces!J515)","v":""},{"$f":"IF(Liste_pièces!K515=\"\",\"\",Liste_pièces!K515)","v":""},{"$f":"IF(Liste_pièces!L515=\"\",\"\",Liste_pièces!L515)","v":""},{"$f":"IF(Liste_pièces!M515=\"\",\"\",Liste_pièces!M515)","v":""},0,1,0]
[{"$f":"IF(Liste_pièces!A516=\"\",\"ZZZ\",Liste_pièces!A516)","v":"ZZZ"},{"$f":"IF(Liste_pièces!B516=\"\",\"ZZZ\",Liste_pièces!B516)","v":"ZZZ"},{"$f":"IF(Liste_pièces!C516=\"\",\"\",Liste_pièces!C516)","v":""},{"$f":"IF(Liste_pièces!D516=\"\",\"\",Liste_pièces!D516)","v":""},{"$f":"IF(Liste_pièces!E516=\"\",\"\",Liste_pièces!E516)","v":""},{"$f":"IF(Liste_pièces!F516=\"\",\"\",Liste_pièces!F516)","v":""},{"$f":"IF(Liste_pièces!G516=\"\",\"\",Liste_pièces!G516)","v":""},{"$f":"IF(Liste_pièces!H516=\"\",\"\",Liste_pièces!H516)","v":""},{"$f":"IF(Liste_pièces!I516=\"\",\"\",Liste_pièces!I516)","v":""},{"$f":"IF(Liste_pièces!J516=\"\",\"\",Liste_pièces!J516)","v":""},{"$f":"IF(Liste_pièces!K516=\"\",\"\",Liste_pièces!K516)","v":""},{"$f":"IF(Liste_pièces!L516=\"\",\"\",Liste_pièces!L516)","v":""},{"$f":"IF(Liste_pièces!M516=\"\",\"\",Liste_pièces!M516)","v":""},0,1,0]
[{"$f":"IF(Liste_pièces!A517=\"\",\"ZZZ\",Liste_pièces!A517)","v":"ZZZ"},{"$f":"IF(Liste_pièces!B517=\"\",\"ZZZ\",Liste_pièces!B517)","v":"ZZZ"},{"$f":"IF(Liste_pièces!C517=\"\",\"\",Liste_pièces!C517)","v":""},{"$f":"IF(Liste_pièces!D517=\"\",\"\",Liste_pièces!D517)","v":""},{"$f":"IF(Liste_pièces!E517=\"\",\"\",Liste_pièces!E517)","v":""},{"$f":"IF(Liste_pièces!F517=\"\",\"\",Liste_pièces!F517)","v":""},{"$f":"IF(Liste_pièces!G517=\"\",\"\",Liste_pièces!G517)","v":""},{"$f":"IF(Liste_pièces!H517=\"\",\"\",Liste_pièces!H517)","v":""},{"$f":"IF(Liste_pièces!I517=\"\",\"\",Liste_pièces!I517)","v":""},{"$f":"IF(Liste_pièces!J517=\"\",\"\",Liste_pièces!J517)","v":""},{"$f":"IF(Liste_pièces!K517=\"\",\"\",Liste_pièces!K517)","v":""},{"$f":"IF(Liste_pièces!L517=\"\",\"\",Liste_pièces!L517)","v":""},{"$f":"IF(Liste_pièces!M517=\"\",\"\",Liste_pièces!M517)","v":""},0,1,0]
[{"$f":"IF(Liste_pièces!A518=\"\",\"ZZZ\",Liste_pièces!A518)","v":"ZZZ"},{"$f":"IF(Liste_pièces!B518=\"\",\"ZZZ\",Liste_pièces!B518)","v":"ZZZ"},{"$f":"IF(Liste_pièces!C518=\"\",\"\",Liste_pièces!C518)","v":""},{"$f":"IF(Liste_pièces!D518=\"\",\"\",Liste_pièces!D518)","v":""},{"$f":"IF(Liste_pièces!E518=\"\",\"\",Liste_pièces!E518)","v":""},{"$f":"IF(Liste_pièces!F518=\"\",\"\",Liste_pièces!F518)","v":""},{"$f":"IF(Liste_pièces!G518=\"\",\"\",Liste_pièces!G518)","v":""},{"$f":"IF(Liste_pièces!H518=\"\",\"\",Liste_pièces!H518)","v":""},{"$f":"IF(Liste_pièces!I518=\"\",\"\",Liste_pièces!I518)","v":""},{"$f":"IF(Liste_pièces!J518=\"\",\"\",Liste_pièces!J518)","v":""},{"$f":"IF(Liste_pièces!K518=\"\",\"\",Liste_pièces!K518)","v":""},{"$f":"IF(Liste_pièces!L518=\"\",\"\",Liste_pièces!L518)","v":""},{"$f":"IF(Liste_pièces!M518=\"\",\"\",Liste_pièces!M518)","v":""},0,1,0]
[{"$f":"IF(Liste_pièces!A519=\"\",\"ZZZ\",Liste_pièces!A519)","v":"ZZZ"},{"$f":"IF(Liste_pièces!B519=\"\",\"ZZZ\",Liste_pièces!B519)","v":"ZZZ"},{"$f":"IF(Liste_pièces!C519=\"\",\"\",Liste_pièces!C519)","v":""},{"$f":"IF(Liste_pièces!D519=\"\",\"\",Liste_pièces!D519)","v":""},{"$f":"IF(Liste_pièces!E519=\"\",\"\",Liste_pièces!E519)","v":""},{"$f":"IF(Liste_pièces!F519=\"\",\"\",Liste_pièces!F519)","v":""},{"$f":"IF(Liste_pièces!G519=\"\",\"\",Liste_pièces!G519)","v":""},{"$f":"IF(Liste_pièces!H519=\"\",\"\",Liste_pièces!H519)","v":""},{"$f":"IF(Liste_pièces!I519=\"\",\"\",Liste_pièces!I519)","v":""},{"$f":"IF(Liste_pièces!J519=\"\",\"\",Liste_pièces!J519)","v":""},{"$f":"IF(Liste_pièces!K519=\"\",\"\",Liste_pièces!K519)","v":""},{"$f":"IF(Liste_pièces!L519=\"\",\"\",Liste_pièces!L519)","v":""},{"$f":"IF(Liste_pièces!M519=\"\",\"\",Liste_pièces!M519)","v":""},0,1,{"$f":"IF(N519=0,0,IF(N519<>N518,MAX(N519+O518,P518+1),IF(O518=O519,P518,P518+O519)))","v":0}]
[{"$f":"IF(Liste_pièces!A520=\"\",\"ZZZ\",Liste_pièces!A520)","v":"ZZZ"},{"$f":"IF(Liste_pièces!B520=\"\",\"ZZZ\",Liste_pièces!B520)","v":"ZZZ"},{"$f":"IF(Liste_pièces!C520=\"\",\"\",Liste_pièces!C520)","v":""},{"$f":"IF(Liste_pièces!D520=\"\",\"\",Liste_pièces!D520)","v":""},{"$f":"IF(Liste_pièces!E520=\"\",\"\",Liste_pièces!E520)","v":""},{"$f":"IF(Liste_pièces!F520=\"\",\"\",Liste_pièces!F520)","v":""},{"$f":"IF(Liste_pièces!G520=\"\",\"\",Liste_pièces!G520)","v":""},{"$f":"IF(Liste_pièces!H520=\"\",\"\",Liste_pièces!H520)","v":""},{"$f":"IF(Liste_pièces!I520=\"\",\"\",Liste_pièces!I520)","v":""},{"$f":"IF(Liste_pièces!J520=\"\",\"\",Liste_pièces!J520)","v":""},{"$f":"IF(Liste_pièces!K520=\"\",\"\",Liste_pièces!K520)","v":""},{"$f":"IF(Liste_pièces!L520=\"\",\"\",Liste_pièces!L520)","v":""},{"$f":"IF(Liste_pièces!M520=\"\",\"\",Liste_pièces!M520)","v":""},0,1,0]
[{"$f":"IF(Liste_pièces!A521=\"\",\"ZZZ\",Liste_pièces!A521)","v":"ZZZ"},{"$f":"IF(Liste_pièces!B521=\"\",\"ZZZ\",Liste_pièces!B521)","v":"ZZZ"},{"$f":"IF(Liste_pièces!C521=\"\",\"\",Liste_pièces!C521)","v":""},{"$f":"IF(Liste_pièces!D521=\"\",\"\",Liste_pièces!D521)","v":""},{"$f":"IF(Liste_pièces!E521=\"\",\"\",Liste_pièces!E521)","v":""},{"$f":"IF(Liste_pièces!F521=\"\",\"\",Liste_pièces!F521)","v":""},{"$f":"IF(Liste_pièces!G521=\"\",\"\",Liste_pièces!G521)","v":""},{"$f":"IF(Liste_pièces!H521=\"\",\"\",Liste_pièces!H521)","v":""},{"$f":"IF(Liste_pièces!I521=\"\",\"\",Liste_pièces!I521)","v":""},{"$f":"IF(Liste_pièces!J521=\"\",\"\",Liste_pièces!J521)","v":""},{"$f":"IF(Liste_pièces!K521=\"\",\"\",Liste_pièces!K521)","v":""},{"$f":"IF(Liste_pièces!L521=\"\",\"\",Liste_pièces!L521)","v":""},{"$f":"IF(Liste_pièces!M521=\"\",\"\",Liste_pièces!M521)","v":""},0,1,0]
[{"$f":"IF(Liste_pièces!A522=\"\",\"ZZZ\",Liste_pièces!A522)","v":"ZZZ"},{"$f":"IF(Liste_pièces!B522=\"\",\"ZZZ\",Liste_pièces!B522)","v":"ZZZ"},{"$f":"IF(Liste_pièces!C522=\"\",\"\",Liste_pièces!C522)","v":""},{"$f":"IF(Liste_pièces!D522=\"\",\"\",Liste_pièces!D522)","v":""},{"$f":"IF(Liste_pièces!E522=\"\",\"\",Liste_pièces!E522)","v":""},{"$f":"IF(Liste_pièces!F522=\"\",\"\",Liste_pièces!F522)","v":""},{"$f":"IF(Liste_pièces!G522=\"\",\"\",Liste_pièces!G522)","v":""},{"$f":"IF(Liste_pièces!H522=\"\",\"\",Liste_pièces!H522)","v":""},{"$f":"IF(Liste_pièces!I522=\"\",\"\",Liste_pièces!I522)","v":""},{"$f":"IF(Liste_pièces!J522=\"\",\"\",Liste_pièces!J522)","v":""},{"$f":"IF(Liste_pièces!K522=\"\",\"\",Liste_pièces!K522)","v":""},{"$f":"IF(Liste_pièces!L522=\"\",\"\",Liste_pièces!L522)","v":""},{"$f":"IF(Liste_pièces!M522=\"\",\"\",Liste_pièces!M522)","v":""},0,1,0]
[{"$f":"IF(Liste_pièces!A523=\"\",\"ZZZ\",Liste_pièces!A523)","v":"ZZZ"},{"$f":"IF(Liste_pièces!B523=\"\",\"ZZZ\",Liste_pièces!B523)","v":"ZZZ"},{"$f":"IF(Liste_pièces!C523=\"\",\"\",Liste_pièces!C523)","v":""},{"$f":"IF(Liste_pièces!D523=\"\",\"\",Liste_pièces!D523)","v":""},{"$f":"IF(Liste_pièces!E523=\"\",\"\",Liste_pièces!E523)","v":""},{"$f":"IF(Liste_pièces!F523=\"\",\"\",Liste_pièces!F523)","v":""},{"$f":"IF(Liste_pièces!G523=\"\",\"\",Liste_pièces!G523)","v":""},{"$f":"IF(Liste_pièces!H523=\"\",\"\",Liste_pièces!H523)","v":""},{"$f":"IF(Liste_pièces!I523=\"\",\"\",Liste_pièces!I523)","v":""},{"$f":"IF(Liste_pièces!J523=\"\",\"\",Liste_pièces!J523)","v":""},{"$f":"IF(Liste_pièces!K523=\"\",\"\",Liste_pièces!K523)","v":""},{"$f":"IF(Liste_pièces!L523=\"\",\"\",Liste_pièces!L523)","v":""},{"$f":"IF(Liste_pièces!M523=\"\",\"\",Liste_pièces!M523)","v":""},0,1,0]
[{"$f":"IF(Liste_pièces!A524=\"\",\"ZZZ\",Liste_pièces!A524)","v":"ZZZ"},{"$f":"IF(Liste_pièces!B524=\"\",\"ZZZ\",Liste_pièces!B524)","v":"ZZZ"},{"$f":"IF(Liste_pièces!C524=\"\",\"\",Liste_pièces!C524)","v":""},{"$f":"IF(Liste_pièces!D524=\"\",\"\",Liste_pièces!D524)","v":""},{"$f":"IF(Liste_pièces!E524=\"\",\"\",Liste_pièces!E524)","v":""},{"$f":"IF(Liste_pièces!F524=\"\",\"\",Liste_pièces!F524)","v":""},{"$f":"IF(Liste_pièces!G524=\"\",\"\",Liste_pièces!G524)","v":""},{"$f":"IF(Liste_pièces!H524=\"\",\"\",Liste_pièces!H524)","v":""},{"$f":"IF(Liste_pièces!I524=\"\",\"\",Liste_pièces!I524)","v":""},{"$f":"IF(Liste_pièces!J524=\"\",\"\",Liste_pièces!J524)","v":""},{"$f":"IF(Liste_pièces!K524=\"\",\"\",Liste_pièces!K524)","v":""},{"$f":"IF(Liste_pièces!L524=\"\",\"\",Liste_pièces!L524)","v":""},{"$f":"IF(Liste_pièces!M524=\"\",\"\",Liste_pièces!M524)","v":""},0,1,0]
[{"$f":"IF(Liste_pièces!A525=\"\",\"ZZZ\",Liste_pièces!A525)","v":"ZZZ"},{"$f":"IF(Liste_pièces!B525=\"\",\"ZZZ\",Liste_pièces!B525)","v":"ZZZ"},{"$f":"IF(Liste_pièces!C525=\"\",\"\",Liste_pièces!C525)","v":""},{"$f":"IF(Liste_pièces!D525=\"\",\"\",Liste_pièces!D525)","v":""},{"$f":"IF(Liste_pièces!E525=\"\",\"\",Liste_pièces!E525)","v":""},{"$f":"IF(Liste_pièces!F525=\"\",\"\",Liste_pièces!F525)","v":""},{"$f":"IF(Liste_pièces!G525=\"\",\"\",Liste_pièces!G525)","v":""},{"$f":"IF(Liste_pièces!H525=\"\",\"\",Liste_pièces!H525)","v":""},{"$f":"IF(Liste_pièces!I525=\"\",\"\",Liste_pièces!I525)","v":""},{"$f":"IF(Liste_pièces!J525=\"\",\"\",Liste_pièces!J525)","v":""},{"$f":"IF(Liste_pièces!K525=\"\",\"\",Liste_pièces!K525)","v":""},{"$f":"IF(Liste_pièces!L525=\"\",\"\",Liste_pièces!L525)","v":""},{"$f":"IF(Liste_pièces!M525=\"\",\"\",Liste_pièces!M525)","v":""},0,1,0]
[{"$f":"IF(Liste_pièces!A526=\"\",\"ZZZ\",Liste_pièces!A526)","v":"ZZZ"},{"$f":"IF(Liste_pièces!B526=\"\",\"ZZZ\",Liste_pièces!B526)","v":"ZZZ"},{"$f":"IF(Liste_pièces!C526=\"\",\"\",Liste_pièces!C526)","v":""},{"$f":"IF(Liste_pièces!D526=\"\",\"\",Liste_pièces!D526)","v":""},{"$f":"IF(Liste_pièces!E526=\"\",\"\",Liste_pièces!E526)","v":""},{"$f":"IF(Liste_pièces!F526=\"\",\"\",Liste_pièces!F526)","v":""},{"$f":"IF(Liste_pièces!G526=\"\",\"\",Liste_pièces!G526)","v":""},{"$f":"IF(Liste_pièces!H526=\"\",\"\",Liste_pièces!H526)","v":""},{"$f":"IF(Liste_pièces!I526=\"\",\"\",Liste_pièces!I526)","v":""},{"$f":"IF(Liste_pièces!J526=\"\",\"\",Liste_pièces!J526)","v":""},{"$f":"IF(Liste_pièces!K526=\"\",\"\",Liste_pièces!K526)","v":""},{"$f":"IF(Liste_pièces!L526=\"\",\"\",Liste_pièces!L526)","v":""},{"$f":"IF(Liste_pièces!M526=\"\",\"\",Liste_pièces!M526)","v":""},0,1,0]
[{"$f":"IF(Liste_pièces!A527=\"\",\"ZZZ\",Liste_pièces!A527)","v":"ZZZ"},{"$f":"IF(Liste_pièces!B527=\"\",\"ZZZ\",Liste_pièces!B527)","v":"ZZZ"},{"$f":"IF(Liste_pièces!C527=\"\",\"\",Liste_pièces!C527)","v":""},{"$f":"IF(Liste_pièces!D527=\"\",\"\",Liste_pièces!D527)","v":""},{"$f":"IF(Liste_pièces!E527=\"\",\"\",Liste_pièces!E527)","v":""},{"$f":"IF(Liste_pièces!F527=\"\",\"\",Liste_pièces!F527)","v":""},{"$f":"IF(Liste_pièces!G527=\"\",\"\",Liste_pièces!G527)","v":""},{"$f":"IF(Liste_pièces!H527=\"\",\"\",Liste_pièces!H527)","v":""},{"$f":"IF(Liste_pièces!I527=\"\",\"\",Liste_pièces!I527)","v":""},{"$f":"IF(Liste_pièces!J527=\"\",\"\",Liste_pièces!J527)","v":""},{"$f":"IF(Liste_pièces!K527=\"\",\"\",Liste_pièces!K527)","v":""},{"$f":"IF(Liste_pièces!L527=\"\",\"\",Liste_pièces!L527)","v":""},{"$f":"IF(Liste_pièces!M527=\"\",\"\",Liste_pièces!M527)","v":""},0,1,0]
[{"$f":"IF(Liste_pièces!A528=\"\",\"ZZZ\",Liste_pièces!A528)","v":"ZZZ"},{"$f":"IF(Liste_pièces!B528=\"\",\"ZZZ\",Liste_pièces!B528)","v":"ZZZ"},{"$f":"IF(Liste_pièces!C528=\"\",\"\",Liste_pièces!C528)","v":""},{"$f":"IF(Liste_pièces!D528=\"\",\"\",Liste_pièces!D528)","v":""},{"$f":"IF(Liste_pièces!E528=\"\",\"\",Liste_pièces!E528)","v":""},{"$f":"IF(Liste_pièces!F528=\"\",\"\",Liste_pièces!F528)","v":""},{"$f":"IF(Liste_pièces!G528=\"\",\"\",Liste_pièces!G528)","v":""},{"$f":"IF(Liste_pièces!H528=\"\",\"\",Liste_pièces!H528)","v":""},{"$f":"IF(Liste_pièces!I528=\"\",\"\",Liste_pièces!I528)","v":""},{"$f":"IF(Liste_pièces!J528=\"\",\"\",Liste_pièces!J528)","v":""},{"$f":"IF(Liste_pièces!K528=\"\",\"\",Liste_pièces!K528)","v":""},{"$f":"IF(Liste_pièces!L528=\"\",\"\",Liste_pièces!L528)","v":""},{"$f":"IF(Liste_pièces!M528=\"\",\"\",Liste_pièces!M528)","v":""},0,1,0]
[{"$f":"IF(Liste_pièces!A529=\"\",\"ZZZ\",Liste_pièces!A529)","v":"ZZZ"},{"$f":"IF(Liste_pièces!B529=\"\",\"ZZZ\",Liste_pièces!B529)","v":"ZZZ"},{"$f":"IF(Liste_pièces!C529=\"\",\"\",Liste_pièces!C529)","v":""},{"$f":"IF(Liste_pièces!D529=\"\",\"\",Liste_pièces!D529)","v":""},{"$f":"IF(Liste_pièces!E529=\"\",\"\",Liste_pièces!E529)","v":""},{"$f":"IF(Liste_pièces!F529=\"\",\"\",Liste_pièces!F529)","v":""},{"$f":"IF(Liste_pièces!G529=\"\",\"\",Liste_pièces!G529)","v":""},{"$f":"IF(Liste_pièces!H529=\"\",\"\",Liste_pièces!H529)","v":""},{"$f":"IF(Liste_pièces!I529=\"\",\"\",Liste_pièces!I529)","v":""},{"$f":"IF(Liste_pièces!J529=\"\",\"\",Liste_pièces!J529)","v":""},{"$f":"IF(Liste_pièces!K529=\"\",\"\",Liste_pièces!K529)","v":""},{"$f":"IF(Liste_pièces!L529=\"\",\"\",Liste_pièces!L529)","v":""},{"$f":"IF(Liste_pièces!M529=\"\",\"\",Liste_pièces!M529)","v":""},0,1,0]
[{"$f":"IF(Liste_pièces!A530=\"\",\"ZZZ\",Liste_pièces!A530)","v":"ZZZ"},{"$f":"IF(Liste_pièces!B530=\"\",\"ZZZ\",Liste_pièces!B530)","v":"ZZZ"},{"$f":"IF(Liste_pièces!C530=\"\",\"\",Liste_pièces!C530)","v":""},{"$f":"IF(Liste_pièces!D530=\"\",\"\",Liste_pièces!D530)","v":""},{"$f":"IF(Liste_pièces!E530=\"\",\"\",Liste_pièces!E530)","v":""},{"$f":"IF(Liste_pièces!F530=\"\",\"\",Liste_pièces!F530)","v":""},{"$f":"IF(Liste_pièces!G530=\"\",\"\",Liste_pièces!G530)","v":""},{"$f":"IF(Liste_pièces!H530=\"\",\"\",Liste_pièces!H530)","v":""},{"$f":"IF(Liste_pièces!I530=\"\",\"\",Liste_pièces!I530)","v":""},{"$f":"IF(Liste_pièces!J530=\"\",\"\",Liste_pièces!J530)","v":""},{"$f":"IF(Liste_pièces!K530=\"\",\"\",Liste_pièces!K530)","v":""},{"$f":"IF(Liste_pièces!L530=\"\",\"\",Liste_pièces!L530)","v":""},{"$f":"IF(Liste_pièces!M530=\"\",\"\",Liste_pièces!M530)","v":""},0,1,0]
[{"$f":"IF(Liste_pièces!A531=\"\",\"ZZZ\",Liste_pièces!A531)","v":"ZZZ"},{"$f":"IF(Liste_pièces!B531=\"\",\"ZZZ\",Liste_pièces!B531)","v":"ZZZ"},{"$f":"IF(Liste_pièces!C531=\"\",\"\",Liste_pièces!C531)","v":""},{"$f":"IF(Liste_pièces!D531=\"\",\"\",Liste_pièces!D531)","v":""},{"$f":"IF(Liste_pièces!E531=\"\",\"\",Liste_pièces!E531)","v":""},{"$f":"IF(Liste_pièces!F531=\"\",\"\",Liste_pièces!F531)","v":""},{"$f":"IF(Liste_pièces!G531=\"\",\"\",Liste_pièces!G531)","v":""},{"$f":"IF(Liste_pièces!H531=\"\",\"\",Liste_pièces!H531)","v":""},{"$f":"IF(Liste_pièces!I531=\"\",\"\",Liste_pièces!I531)","v":""},{"$f":"IF(Liste_pièces!J531=\"\",\"\",Liste_pièces!J531)","v":""},{"$f":"IF(Liste_pièces!K531=\"\",\"\",Liste_pièces!K531)","v":""},{"$f":"IF(Liste_pièces!L531=\"\",\"\",Liste_pièces!L531)","v":""},{"$f":"IF(Liste_pièces!M531=\"\",\"\",Liste_pièces!M531)","v":""},0,1,0]
[{"$f":"IF(Liste_pièces!A532=\"\",\"ZZZ\",Liste_pièces!A532)","v":"ZZZ"},{"$f":"IF(Liste_pièces!B532=\"\",\"ZZZ\",Liste_pièces!B532)","v":"ZZZ"},{"$f":"IF(Liste_pièces!C532=\"\",\"\",Liste_pièces!C532)","v":""},{"$f":"IF(Liste_pièces!D532=\"\",\"\",Liste_pièces!D532)","v":""},{"$f":"IF(Liste_pièces!E532=\"\",\"\",Liste_pièces!E532)","v":""},{"$f":"IF(Liste_pièces!F532=\"\",\"\",Liste_pièces!F532)","v":""},{"$f":"IF(Liste_pièces!G532=\"\",\"\",Liste_pièces!G532)","v":""},{"$f":"IF(Liste_pièces!H532=\"\",\"\",Liste_pièces!H532)","v":""},{"$f":"IF(Liste_pièces!I532=\"\",\"\",Liste_pièces!I532)","v":""},{"$f":"IF(Liste_pièces!J532=\"\",\"\",Liste_pièces!J532)","v":""},{"$f":"IF(Liste_pièces!K532=\"\",\"\",Liste_pièces!K532)","v":""},{"$f":"IF(Liste_pièces!L532=\"\",\"\",Liste_pièces!L532)","v":""},{"$f":"IF(Liste_pièces!M532=\"\",\"\",Liste_pièces!M532)","v":""},0,1,0]
[{"$f":"IF(Liste_pièces!A533=\"\",\"ZZZ\",Liste_pièces!A533)","v":"ZZZ"},{"$f":"IF(Liste_pièces!B533=\"\",\"ZZZ\",Liste_pièces!B533)","v":"ZZZ"},{"$f":"IF(Liste_pièces!C533=\"\",\"\",Liste_pièces!C533)","v":""},{"$f":"IF(Liste_pièces!D533=\"\",\"\",Liste_pièces!D533)","v":""},{"$f":"IF(Liste_pièces!E533=\"\",\"\",Liste_pièces!E533)","v":""},{"$f":"IF(Liste_pièces!F533=\"\",\"\",Liste_pièces!F533)","v":""},{"$f":"IF(Liste_pièces!G533=\"\",\"\",Liste_pièces!G533)","v":""},{"$f":"IF(Liste_pièces!H533=\"\",\"\",Liste_pièces!H533)","v":""},{"$f":"IF(Liste_pièces!I533=\"\",\"\",Liste_pièces!I533)","v":""},{"$f":"IF(Liste_pièces!J533=\"\",\"\",Liste_pièces!J533)","v":""},{"$f":"IF(Liste_pièces!K533=\"\",\"\",Liste_pièces!K533)","v":""},{"$f":"IF(Liste_pièces!L533=\"\",\"\",Liste_pièces!L533)","v":""},{"$f":"IF(Liste_pièces!M533=\"\",\"\",Liste_pièces!M533)","v":""},0,1,0]
[{"$f":"IF(Liste_pièces!A534=\"\",\"ZZZ\",Liste_pièces!A534)","v":"ZZZ"},{"$f":"IF(Liste_pièces!B534=\"\",\"ZZZ\",Liste_pièces!B534)","v":"ZZZ"},{"$f":"IF(Liste_pièces!C534=\"\",\"\",Liste_pièces!C534)","v":""},{"$f":"IF(Liste_pièces!D534=\"\",\"\",Liste_pièces!D534)","v":""},{"$f":"IF(Liste_pièces!E534=\"\",\"\",Liste_pièces!E534)","v":""},{"$f":"IF(Liste_pièces!F534=\"\",\"\",Liste_pièces!F534)","v":""},{"$f":"IF(Liste_pièces!G534=\"\",\"\",Liste_pièces!G534)","v":""},{"$f":"IF(Liste_pièces!H534=\"\",\"\",Liste_pièces!H534)","v":""},{"$f":"IF(Liste_pièces!I534=\"\",\"\",Liste_pièces!I534)","v":""},{"$f":"IF(Liste_pièces!J534=\"\",\"\",Liste_pièces!J534)","v":""},{"$f":"IF(Liste_pièces!K534=\"\",\"\",Liste_pièces!K534)","v":""},{"$f":"IF(Liste_pièces!L534=\"\",\"\",Liste_pièces!L534)","v":""},{"$f":"IF(Liste_pièces!M534=\"\",\"\",Liste_pièces!M534)","v":""},0,1,0]
[{"$f":"IF(Liste_pièces!A535=\"\",\"ZZZ\",Liste_pièces!A535)","v":"ZZZ"},{"$f":"IF(Liste_pièces!B535=\"\",\"ZZZ\",Liste_pièces!B535)","v":"ZZZ"},{"$f":"IF(Liste_pièces!C535=\"\",\"\",Liste_pièces!C535)","v":""},{"$f":"IF(Liste_pièces!D535=\"\",\"\",Liste_pièces!D535)","v":""},{"$f":"IF(Liste_pièces!E535=\"\",\"\",Liste_pièces!E535)","v":""},{"$f":"IF(Liste_pièces!F535=\"\",\"\",Liste_pièces!F535)","v":""},{"$f":"IF(Liste_pièces!G535=\"\",\"\",Liste_pièces!G535)","v":""},{"$f":"IF(Liste_pièces!H535=\"\",\"\",Liste_pièces!H535)","v":""},{"$f":"IF(Liste_pièces!I535=\"\",\"\",Liste_pièces!I535)","v":""},{"$f":"IF(Liste_pièces!J535=\"\",\"\",Liste_pièces!J535)","v":""},{"$f":"IF(Liste_pièces!K535=\"\",\"\",Liste_pièces!K535)","v":""},{"$f":"IF(Liste_pièces!L535=\"\",\"\",Liste_pièces!L535)","v":""},{"$f":"IF(Liste_pièces!M535=\"\",\"\",Liste_pièces!M535)","v":""},0,1,0]
[{"$f":"IF(Liste_pièces!A536=\"\",\"ZZZ\",Liste_pièces!A536)","v":"ZZZ"},{"$f":"IF(Liste_pièces!B536=\"\",\"ZZZ\",Liste_pièces!B536)","v":"ZZZ"},{"$f":"IF(Liste_pièces!C536=\"\",\"\",Liste_pièces!C536)","v":""},{"$f":"IF(Liste_pièces!D536=\"\",\"\",Liste_pièces!D536)","v":""},{"$f":"IF(Liste_pièces!E536=\"\",\"\",Liste_pièces!E536)","v":""},{"$f":"IF(Liste_pièces!F536=\"\",\"\",Liste_pièces!F536)","v":""},{"$f":"IF(Liste_pièces!G536=\"\",\"\",Liste_pièces!G536)","v":""},{"$f":"IF(Liste_pièces!H536=\"\",\"\",Liste_pièces!H536)","v":""},{"$f":"IF(Liste_pièces!I536=\"\",\"\",Liste_pièces!I536)","v":""},{"$f":"IF(Liste_pièces!J536=\"\",\"\",Liste_pièces!J536)","v":""},{"$f":"IF(Liste_pièces!K536=\"\",\"\",Liste_pièces!K536)","v":""},{"$f":"IF(Liste_pièces!L536=\"\",\"\",Liste_pièces!L536)","v":""},{"$f":"IF(Liste_pièces!M536=\"\",\"\",Liste_pièces!M536)","v":""},0,1,0]
[{"$f":"IF(Liste_pièces!A537=\"\",\"ZZZ\",Liste_pièces!A537)","v":"ZZZ"},{"$f":"IF(Liste_pièces!B537=\"\",\"ZZZ\",Liste_pièces!B537)","v":"ZZZ"},{"$f":"IF(Liste_pièces!C537=\"\",\"\",Liste_pièces!C537)","v":""},{"$f":"IF(Liste_pièces!D537=\"\",\"\",Liste_pièces!D537)","v":""},{"$f":"IF(Liste_pièces!E537=\"\",\"\",Liste_pièces!E537)","v":""},{"$f":"IF(Liste_pièces!F537=\"\",\"\",Liste_pièces!F537)","v":""},{"$f":"IF(Liste_pièces!G537=\"\",\"\",Liste_pièces!G537)","v":""},{"$f":"IF(Liste_pièces!H537=\"\",\"\",Liste_pièces!H537)","v":""},{"$f":"IF(Liste_pièces!I537=\"\",\"\",Liste_pièces!I537)","v":""},{"$f":"IF(Liste_pièces!J537=\"\",\"\",Liste_pièces!J537)","v":""},{"$f":"IF(Liste_pièces!K537=\"\",\"\",Liste_pièces!K537)","v":""},{"$f":"IF(Liste_pièces!L537=\"\",\"\",Liste_pièces!L537)","v":""},{"$f":"IF(Liste_pièces!M537=\"\",\"\",Liste_pièces!M537)","v":""},0,1,0]
[{"$f":"IF(Liste_pièces!A538=\"\",\"ZZZ\",Liste_pièces!A538)","v":"ZZZ"},{"$f":"IF(Liste_pièces!B538=\"\",\"ZZZ\",Liste_pièces!B538)","v":"ZZZ"},{"$f":"IF(Liste_pièces!C538=\"\",\"\",Liste_pièces!C538)","v":""},{"$f":"IF(Liste_pièces!D538=\"\",\"\",Liste_pièces!D538)","v":""},{"$f":"IF(Liste_pièces!E538=\"\",\"\",Liste_pièces!E538)","v":""},{"$f":"IF(Liste_pièces!F538=\"\",\"\",Liste_pièces!F538)","v":""},{"$f":"IF(Liste_pièces!G538=\"\",\"\",Liste_pièces!G538)","v":""},{"$f":"IF(Liste_pièces!H538=\"\",\"\",Liste_pièces!H538)","v":""},{"$f":"IF(Liste_pièces!I538=\"\",\"\",Liste_pièces!I538)","v":""},{"$f":"IF(Liste_pièces!J538=\"\",\"\",Liste_pièces!J538)","v":""},{"$f":"IF(Liste_pièces!K538=\"\",\"\",Liste_pièces!K538)","v":""},{"$f":"IF(Liste_pièces!L538=\"\",\"\",Liste_pièces!L538)","v":""},{"$f":"IF(Liste_pièces!M538=\"\",\"\",Liste_pièces!M538)","v":""},0,1,0]
[{"$f":"IF(Liste_pièces!A539=\"\",\"ZZZ\",Liste_pièces!A539)","v":"ZZZ"},{"$f":"IF(Liste_pièces!B539=\"\",\"ZZZ\",Liste_pièces!B539)","v":"ZZZ"},{"$f":"IF(Liste_pièces!C539=\"\",\"\",Liste_pièces!C539)","v":""},{"$f":"IF(Liste_pièces!D539=\"\",\"\",Liste_pièces!D539)","v":""},{"$f":"IF(Liste_pièces!E539=\"\",\"\",Liste_pièces!E539)","v":""},{"$f":"IF(Liste_pièces!F539=\"\",\"\",Liste_pièces!F539)","v":""},{"$f":"IF(Liste_pièces!G539=\"\",\"\",Liste_pièces!G539)","v":""},{"$f":"IF(Liste_pièces!H539=\"\",\"\",Liste_pièces!H539)","v":""},{"$f":"IF(Liste_pièces!I539=\"\",\"\",Liste_pièces!I539)","v":""},{"$f":"IF(Liste_pièces!J539=\"\",\"\",Liste_pièces!J539)","v":""},{"$f":"IF(Liste_pièces!K539=\"\",\"\",Liste_pièces!K539)","v":""},{"$f":"IF(Liste_pièces!L539=\"\",\"\",Liste_pièces!L539)","v":""},{"$f":"IF(Liste_pièces!M539=\"\",\"\",Liste_pièces!M539)","v":""},0,1,0]
[{"$f":"IF(Liste_pièces!A540=\"\",\"ZZZ\",Liste_pièces!A540)","v":"ZZZ"},{"$f":"IF(Liste_pièces!B540=\"\",\"ZZZ\",Liste_pièces!B540)","v":"ZZZ"},{"$f":"IF(Liste_pièces!C540=\"\",\"\",Liste_pièces!C540)","v":""},{"$f":"IF(Liste_pièces!D540=\"\",\"\",Liste_pièces!D540)","v":""},{"$f":"IF(Liste_pièces!E540=\"\",\"\",Liste_pièces!E540)","v":""},{"$f":"IF(Liste_pièces!F540=\"\",\"\",Liste_pièces!F540)","v":""},{"$f":"IF(Liste_pièces!G540=\"\",\"\",Liste_pièces!G540)","v":""},{"$f":"IF(Liste_pièces!H540=\"\",\"\",Liste_pièces!H540)","v":""},{"$f":"IF(Liste_pièces!I540=\"\",\"\",Liste_pièces!I540)","v":""},{"$f":"IF(Liste_pièces!J540=\"\",\"\",Liste_pièces!J540)","v":""},{"$f":"IF(Liste_pièces!K540=\"\",\"\",Liste_pièces!K540)","v":""},{"$f":"IF(Liste_pièces!L540=\"\",\"\",Liste_pièces!L540)","v":""},{"$f":"IF(Liste_pièces!M540=\"\",\"\",Liste_pièces!M540)","v":""},0,1,0]
[{"$f":"IF(Liste_pièces!A541=\"\",\"ZZZ\",Liste_pièces!A541)","v":"ZZZ"},{"$f":"IF(Liste_pièces!B541=\"\",\"ZZZ\",Liste_pièces!B541)","v":"ZZZ"},{"$f":"IF(Liste_pièces!C541=\"\",\"\",Liste_pièces!C541)","v":""},{"$f":"IF(Liste_pièces!D541=\"\",\"\",Liste_pièces!D541)","v":""},{"$f":"IF(Liste_pièces!E541=\"\",\"\",Liste_pièces!E541)","v":""},{"$f":"IF(Liste_pièces!F541=\"\",\"\",Liste_pièces!F541)","v":""},{"$f":"IF(Liste_pièces!G541=\"\",\"\",Liste_pièces!G541)","v":""},{"$f":"IF(Liste_pièces!H541=\"\",\"\",Liste_pièces!H541)","v":""},{"$f":"IF(Liste_pièces!I541=\"\",\"\",Liste_pièces!I541)","v":""},{"$f":"IF(Liste_pièces!J541=\"\",\"\",Liste_pièces!J541)","v":""},{"$f":"IF(Liste_pièces!K541=\"\",\"\",Liste_pièces!K541)","v":""},{"$f":"IF(Liste_pièces!L541=\"\",\"\",Liste_pièces!L541)","v":""},{"$f":"IF(Liste_pièces!M541=\"\",\"\",Liste_pièces!M541)","v":""},0,1,0]
[{"$f":"IF(Liste_pièces!A542=\"\",\"ZZZ\",Liste_pièces!A542)","v":"ZZZ"},{"$f":"IF(Liste_pièces!B542=\"\",\"ZZZ\",Liste_pièces!B542)","v":"ZZZ"},{"$f":"IF(Liste_pièces!C542=\"\",\"\",Liste_pièces!C542)","v":""},{"$f":"IF(Liste_pièces!D542=\"\",\"\",Liste_pièces!D542)","v":""},{"$f":"IF(Liste_pièces!E542=\"\",\"\",Liste_pièces!E542)","v":""},{"$f":"IF(Liste_pièces!F542=\"\",\"\",Liste_pièces!F542)","v":""},{"$f":"IF(Liste_pièces!G542=\"\",\"\",Liste_pièces!G542)","v":""},{"$f":"IF(Liste_pièces!H542=\"\",\"\",Liste_pièces!H542)","v":""},{"$f":"IF(Liste_pièces!I542=\"\",\"\",Liste_pièces!I542)","v":""},{"$f":"IF(Liste_pièces!J542=\"\",\"\",Liste_pièces!J542)","v":""},{"$f":"IF(Liste_pièces!K542=\"\",\"\",Liste_pièces!K542)","v":""},{"$f":"IF(Liste_pièces!L542=\"\",\"\",Liste_pièces!L542)","v":""},{"$f":"IF(Liste_pièces!M542=\"\",\"\",Liste_pièces!M542)","v":""},0,1,0]
[{"$f":"IF(Liste_pièces!A543=\"\",\"ZZZ\",Liste_pièces!A543)","v":"ZZZ"},{"$f":"IF(Liste_pièces!B543=\"\",\"ZZZ\",Liste_pièces!B543)","v":"ZZZ"},{"$f":"IF(Liste_pièces!C543=\"\",\"\",Liste_pièces!C543)","v":""},{"$f":"IF(Liste_pièces!D543=\"\",\"\",Liste_pièces!D543)","v":""},{"$f":"IF(Liste_pièces!E543=\"\",\"\",Liste_pièces!E543)","v":""},{"$f":"IF(Liste_pièces!F543=\"\",\"\",Liste_pièces!F543)","v":""},{"$f":"IF(Liste_pièces!G543=\"\",\"\",Liste_pièces!G543)","v":""},{"$f":"IF(Liste_pièces!H543=\"\",\"\",Liste_pièces!H543)","v":""},{"$f":"IF(Liste_pièces!I543=\"\",\"\",Liste_pièces!I543)","v":""},{"$f":"IF(Liste_pièces!J543=\"\",\"\",Liste_pièces!J543)","v":""},{"$f":"IF(Liste_pièces!K543=\"\",\"\",Liste_pièces!K543)","v":""},{"$f":"IF(Liste_pièces!L543=\"\",\"\",Liste_pièces!L543)","v":""},{"$f":"IF(Liste_pièces!M543=\"\",\"\",Liste_pièces!M543)","v":""},0,1,0]
[{"$f":"IF(Liste_pièces!A544=\"\",\"ZZZ\",Liste_pièces!A544)","v":"ZZZ"},{"$f":"IF(Liste_pièces!B544=\"\",\"ZZZ\",Liste_pièces!B544)","v":"ZZZ"},{"$f":"IF(Liste_pièces!C544=\"\",\"\",Liste_pièces!C544)","v":""},{"$f":"IF(Liste_pièces!D544=\"\",\"\",Liste_pièces!D544)","v":""},{"$f":"IF(Liste_pièces!E544=\"\",\"\",Liste_pièces!E544)","v":""},{"$f":"IF(Liste_pièces!F544=\"\",\"\",Liste_pièces!F544)","v":""},{"$f":"IF(Liste_pièces!G544=\"\",\"\",Liste_pièces!G544)","v":""},{"$f":"IF(Liste_pièces!H544=\"\",\"\",Liste_pièces!H544)","v":""},{"$f":"IF(Liste_pièces!I544=\"\",\"\",Liste_pièces!I544)","v":""},{"$f":"IF(Liste_pièces!J544=\"\",\"\",Liste_pièces!J544)","v":""},{"$f":"IF(Liste_pièces!K544=\"\",\"\",Liste_pièces!K544)","v":""},{"$f":"IF(Liste_pièces!L544=\"\",\"\",Liste_pièces!L544)","v":""},{"$f":"IF(Liste_pièces!M544=\"\",\"\",Liste_pièces!M544)","v":""},0,1,0]
[{"$f":"IF(Liste_pièces!A545=\"\",\"ZZZ\",Liste_pièces!A545)","v":"ZZZ"},{"$f":"IF(Liste_pièces!B545=\"\",\"ZZZ\",Liste_pièces!B545)","v":"ZZZ"},{"$f":"IF(Liste_pièces!C545=\"\",\"\",Liste_pièces!C545)","v":""},{"$f":"IF(Liste_pièces!D545=\"\",\"\",Liste_pièces!D545)","v":""},{"$f":"IF(Liste_pièces!E545=\"\",\"\",Liste_pièces!E545)","v":""},{"$f":"IF(Liste_pièces!F545=\"\",\"\",Liste_pièces!F545)","v":""},{"$f":"IF(Liste_pièces!G545=\"\",\"\",Liste_pièces!G545)","v":""},{"$f":"IF(Liste_pièces!H545=\"\",\"\",Liste_pièces!H545)","v":""},{"$f":"IF(Liste_pièces!I545=\"\",\"\",Liste_pièces!I545)","v":""},{"$f":"IF(Liste_pièces!J545=\"\",\"\",Liste_pièces!J545)","v":""},{"$f":"IF(Liste_pièces!K545=\"\",\"\",Liste_pièces!K545)","v":""},{"$f":"IF(Liste_pièces!L545=\"\",\"\",Liste_pièces!L545)","v":""},{"$f":"IF(Liste_pièces!M545=\"\",\"\",Liste_pièces!M545)","v":""},0,1,0]
[{"$f":"IF(Liste_pièces!A546=\"\",\"ZZZ\",Liste_pièces!A546)","v":"ZZZ"},{"$f":"IF(Liste_pièces!B546=\"\",\"ZZZ\",Liste_pièces!B546)","v":"ZZZ"},{"$f":"IF(Liste_pièces!C546=\"\",\"\",Liste_pièces!C546)","v":""},{"$f":"IF(Liste_pièces!D546=\"\",\"\",Liste_pièces!D546)","v":""},{"$f":"IF(Liste_pièces!E546=\"\",\"\",Liste_pièces!E546)","v":""},{"$f":"IF(Liste_pièces!F546=\"\",\"\",Liste_pièces!F546)","v":""},{"$f":"IF(Liste_pièces!G546=\"\",\"\",Liste_pièces!G546)","v":""},{"$f":"IF(Liste_pièces!H546=\"\",\"\",Liste_pièces!H546)","v":""},{"$f":"IF(Liste_pièces!I546=\"\",\"\",Liste_pièces!I546)","v":""},{"$f":"IF(Liste_pièces!J546=\"\",\"\",Liste_pièces!J546)","v":""},{"$f":"IF(Liste_pièces!K546=\"\",\"\",Liste_pièces!K546)","v":""},{"$f":"IF(Liste_pièces!L546=\"\",\"\",Liste_pièces!L546)","v":""},{"$f":"IF(Liste_pièces!M546=\"\",\"\",Liste_pièces!M546)","v":""},0,1,0]
[{"$f":"IF(Liste_pièces!A547=\"\",\"ZZZ\",Liste_pièces!A547)","v":"ZZZ"},{"$f":"IF(Liste_pièces!B547=\"\",\"ZZZ\",Liste_pièces!B547)","v":"ZZZ"},{"$f":"IF(Liste_pièces!C547=\"\",\"\",Liste_pièces!C547)","v":""},{"$f":"IF(Liste_pièces!D547=\"\",\"\",Liste_pièces!D547)","v":""},{"$f":"IF(Liste_pièces!E547=\"\",\"\",Liste_pièces!E547)","v":""},{"$f":"IF(Liste_pièces!F547=\"\",\"\",Liste_pièces!F547)","v":""},{"$f":"IF(Liste_pièces!G547=\"\",\"\",Liste_pièces!G547)","v":""},{"$f":"IF(Liste_pièces!H547=\"\",\"\",Liste_pièces!H547)","v":""},{"$f":"IF(Liste_pièces!I547=\"\",\"\",Liste_pièces!I547)","v":""},{"$f":"IF(Liste_pièces!J547=\"\",\"\",Liste_pièces!J547)","v":""},{"$f":"IF(Liste_pièces!K547=\"\",\"\",Liste_pièces!K547)","v":""},{"$f":"IF(Liste_pièces!L547=\"\",\"\",Liste_pièces!L547)","v":""},{"$f":"IF(Liste_pièces!M547=\"\",\"\",Liste_pièces!M547)","v":""},0,1,0]
[{"$f":"IF(Liste_pièces!A548=\"\",\"ZZZ\",Liste_pièces!A548)","v":"ZZZ"},{"$f":"IF(Liste_pièces!B548=\"\",\"ZZZ\",Liste_pièces!B548)","v":"ZZZ"},{"$f":"IF(Liste_pièces!C548=\"\",\"\",Liste_pièces!C548)","v":""},{"$f":"IF(Liste_pièces!D548=\"\",\"\",Liste_pièces!D548)","v":""},{"$f":"IF(Liste_pièces!E548=\"\",\"\",Liste_pièces!E548)","v":""},{"$f":"IF(Liste_pièces!F548=\"\",\"\",Liste_pièces!F548)","v":""},{"$f":"IF(Liste_pièces!G548=\"\",\"\",Liste_pièces!G548)","v":""},{"$f":"IF(Liste_pièces!H548=\"\",\"\",Liste_pièces!H548)","v":""},{"$f":"IF(Liste_pièces!I548=\"\",\"\",Liste_pièces!I548)","v":""},{"$f":"IF(Liste_pièces!J548=\"\",\"\",Liste_pièces!J548)","v":""},{"$f":"IF(Liste_pièces!K548=\"\",\"\",Liste_pièces!K548)","v":""},{"$f":"IF(Liste_pièces!L548=\"\",\"\",Liste_pièces!L548)","v":""},{"$f":"IF(Liste_pièces!M548=\"\",\"\",Liste_pièces!M548)","v":""},0,1,0]
[{"$f":"IF(Liste_pièces!A549=\"\",\"ZZZ\",Liste_pièces!A549)","v":"ZZZ"},{"$f":"IF(Liste_pièces!B549=\"\",\"ZZZ\",Liste_pièces!B549)","v":"ZZZ"},{"$f":"IF(Liste_pièces!C549=\"\",\"\",Liste_pièces!C549)","v":""},{"$f":"IF(Liste_pièces!D549=\"\",\"\",Liste_pièces!D549)","v":""},{"$f":"IF(Liste_pièces!E549=\"\",\"\",Liste_pièces!E549)","v":""},{"$f":"IF(Liste_pièces!F549=\"\",\"\",Liste_pièces!F549)","v":""},{"$f":"IF(Liste_pièces!G549=\"\",\"\",Liste_pièces!G549)","v":""},{"$f":"IF(Liste_pièces!H549=\"\",\"\",Liste_pièces!H549)","v":""},{"$f":"IF(Liste_pièces!I549=\"\",\"\",Liste_pièces!I549)","v":""},{"$f":"IF(Liste_pièces!J549=\"\",\"\",Liste_pièces!J549)","v":""},{"$f":"IF(Liste_pièces!K549=\"\",\"\",Liste_pièces!K549)","v":""},{"$f":"IF(Liste_pièces!L549=\"\",\"\",Liste_pièces!L549)","v":""},{"$f":"IF(Liste_pièces!M549=\"\",\"\",Liste_pièces!M549)","v":""},0,1,0]
[{"$f":"IF(Liste_pièces!A550=\"\",\"ZZZ\",Liste_pièces!A550)","v":"ZZZ"},{"$f":"IF(Liste_pièces!B550=\"\",\"ZZZ\",Liste_pièces!B550)","v":"ZZZ"},{"$f":"IF(Liste_pièces!C550=\"\",\"\",Liste_pièces!C550)","v":""},{"$f":"IF(Liste_pièces!D550=\"\",\"\",Liste_pièces!D550)","v":""},{"$f":"IF(Liste_pièces!E550=\"\",\"\",Liste_pièces!E550)","v":""},{"$f":"IF(Liste_pièces!F550=\"\",\"\",Liste_pièces!F550)","v":""},{"$f":"IF(Liste_pièces!G550=\"\",\"\",Liste_pièces!G550)","v":""},{"$f":"IF(Liste_pièces!H550=\"\",\"\",Liste_pièces!H550)","v":""},{"$f":"IF(Liste_pièces!I550=\"\",\"\",Liste_pièces!I550)","v":""},{"$f":"IF(Liste_pièces!J550=\"\",\"\",Liste_pièces!J550)","v":""},{"$f":"IF(Liste_pièces!K550=\"\",\"\",Liste_pièces!K550)","v":""},{"$f":"IF(Liste_pièces!L550=\"\",\"\",Liste_pièces!L550)","v":""},{"$f":"IF(Liste_pièces!M550=\"\",\"\",Liste_pièces!M550)","v":""},0,1,0]
[{"$f":"IF(Liste_pièces!A551=\"\",\"ZZZ\",Liste_pièces!A551)","v":"ZZZ"},{"$f":"IF(Liste_pièces!B551=\"\",\"ZZZ\",Liste_pièces!B551)","v":"ZZZ"},{"$f":"IF(Liste_pièces!C551=\"\",\"\",Liste_pièces!C551)","v":""},{"$f":"IF(Liste_pièces!D551=\"\",\"\",Liste_pièces!D551)","v":""},{"$f":"IF(Liste_pièces!E551=\"\",\"\",Liste_pièces!E551)","v":""},{"$f":"IF(Liste_pièces!F551=\"\",\"\",Liste_pièces!F551)","v":""},{"$f":"IF(Liste_pièces!G551=\"\",\"\",Liste_pièces!G551)","v":""},{"$f":"IF(Liste_pièces!H551=\"\",\"\",Liste_pièces!H551)","v":""},{"$f":"IF(Liste_pièces!I551=\"\",\"\",Liste_pièces!I551)","v":""},{"$f":"IF(Liste_pièces!J551=\"\",\"\",Liste_pièces!J551)","v":""},{"$f":"IF(Liste_pièces!K551=\"\",\"\",Liste_pièces!K551)","v":""},{"$f":"IF(Liste_pièces!L551=\"\",\"\",Liste_pièces!L551)","v":""},{"$f":"IF(Liste_pièces!M551=\"\",\"\",Liste_pièces!M551)","v":""},0,1,0]
[{"$f":"IF(Liste_pièces!A552=\"\",\"ZZZ\",Liste_pièces!A552)","v":"ZZZ"},{"$f":"IF(Liste_pièces!B552=\"\",\"ZZZ\",Liste_pièces!B552)","v":"ZZZ"},{"$f":"IF(Liste_pièces!C552=\"\",\"\",Liste_pièces!C552)","v":""},{"$f":"IF(Liste_pièces!D552=\"\",\"\",Liste_pièces!D552)","v":""},{"$f":"IF(Liste_pièces!E552=\"\",\"\",Liste_pièces!E552)","v":""},{"$f":"IF(Liste_pièces!F552=\"\",\"\",Liste_pièces!F552)","v":""},{"$f":"IF(Liste_pièces!G552=\"\",\"\",Liste_pièces!G552)","v":""},{"$f":"IF(Liste_pièces!H552=\"\",\"\",Liste_pièces!H552)","v":""},{"$f":"IF(Liste_pièces!I552=\"\",\"\",Liste_pièces!I552)","v":""},{"$f":"IF(Liste_pièces!J552=\"\",\"\",Liste_pièces!J552)","v":""},{"$f":"IF(Liste_pièces!K552=\"\",\"\",Liste_pièces!K552)","v":""},{"$f":"IF(Liste_pièces!L552=\"\",\"\",Liste_pièces!L552)","v":""},{"$f":"IF(Liste_pièces!M552=\"\",\"\",Liste_pièces!M552)","v":""},0,1,0]
[{"$f":"IF(Liste_pièces!A553=\"\",\"ZZZ\",Liste_pièces!A553)","v":"ZZZ"},{"$f":"IF(Liste_pièces!B553=\"\",\"ZZZ\",Liste_pièces!B553)","v":"ZZZ"},{"$f":"IF(Liste_pièces!C553=\"\",\"\",Liste_pièces!C553)","v":""},{"$f":"IF(Liste_pièces!D553=\"\",\"\",Liste_pièces!D553)","v":""},{"$f":"IF(Liste_pièces!E553=\"\",\"\",Liste_pièces!E553)","v":""},{"$f":"IF(Liste_pièces!F553=\"\",\"\",Liste_pièces!F553)","v":""},{"$f":"IF(Liste_pièces!G553=\"\",\"\",Liste_pièces!G553)","v":""},{"$f":"IF(Liste_pièces!H553=\"\",\"\",Liste_pièces!H553)","v":""},{"$f":"IF(Liste_pièces!I553=\"\",\"\",Liste_pièces!I553)","v":""},{"$f":"IF(Liste_pièces!J553=\"\",\"\",Liste_pièces!J553)","v":""},{"$f":"IF(Liste_pièces!K553=\"\",\"\",Liste_pièces!K553)","v":""},{"$f":"IF(Liste_pièces!L553=\"\",\"\",Liste_pièces!L553)","v":""},{"$f":"IF(Liste_pièces!M553=\"\",\"\",Liste_pièces!M553)","v":""},0,1,0]
[{"$f":"IF(Liste_pièces!A554=\"\",\"ZZZ\",Liste_pièces!A554)","v":"ZZZ"},{"$f":"IF(Liste_pièces!B554=\"\",\"ZZZ\",Liste_pièces!B554)","v":"ZZZ"},{"$f":"IF(Liste_pièces!C554=\"\",\"\",Liste_pièces!C554)","v":""},{"$f":"IF(Liste_pièces!D554=\"\",\"\",Liste_pièces!D554)","v":""},{"$f":"IF(Liste_pièces!E554=\"\",\"\",Liste_pièces!E554)","v":""},{"$f":"IF(Liste_pièces!F554=\"\",\"\",Liste_pièces!F554)","v":""},{"$f":"IF(Liste_pièces!G554=\"\",\"\",Liste_pièces!G554)","v":""},{"$f":"IF(Liste_pièces!H554=\"\",\"\",Liste_pièces!H554)","v":""},{"$f":"IF(Liste_pièces!I554=\"\",\"\",Liste_pièces!I554)","v":""},{"$f":"IF(Liste_pièces!J554=\"\",\"\",Liste_pièces!J554)","v":""},{"$f":"IF(Liste_pièces!K554=\"\",\"\",Liste_pièces!K554)","v":""},{"$f":"IF(Liste_pièces!L554=\"\",\"\",Liste_pièces!L554)","v":""},{"$f":"IF(Liste_pièces!M554=\"\",\"\",Liste_pièces!M554)","v":""},0,{"$f":"IF(N554*37=SUM(N517:N553),1,0)","v":1},0]
[{"$f":"IF(Liste_pièces!A555=\"\",\"ZZZ\",Liste_pièces!A555)","v":"ZZZ"},{"$f":"IF(Liste_pièces!B555=\"\",\"ZZZ\",Liste_pièces!B555)","v":"ZZZ"},{"$f":"IF(Liste_pièces!C555=\"\",\"\",Liste_pièces!C555)","v":""},{"$f":"IF(Liste_pièces!D555=\"\",\"\",Liste_pièces!D555)","v":""},{"$f":"IF(Liste_pièces!E555=\"\",\"\",Liste_pièces!E555)","v":""},{"$f":"IF(Liste_pièces!F555=\"\",\"\",Liste_pièces!F555)","v":""},{"$f":"IF(Liste_pièces!G555=\"\",\"\",Liste_pièces!G555)","v":""},{"$f":"IF(Liste_pièces!H555=\"\",\"\",Liste_pièces!H555)","v":""},{"$f":"IF(Liste_pièces!I555=\"\",\"\",Liste_pièces!I555)","v":""},{"$f":"IF(Liste_pièces!J555=\"\",\"\",Liste_pièces!J555)","v":""},{"$f":"IF(Liste_pièces!K555=\"\",\"\",Liste_pièces!K555)","v":""},{"$f":"IF(Liste_pièces!L555=\"\",\"\",Liste_pièces!L555)","v":""},{"$f":"IF(Liste_pièces!M555=\"\",\"\",Liste_pièces!M555)","v":""},0,1,0]
[{"$f":"IF(Liste_pièces!A556=\"\",\"ZZZ\",Liste_pièces!A556)","v":"ZZZ"},{"$f":"IF(Liste_pièces!B556=\"\",\"ZZZ\",Liste_pièces!B556)","v":"ZZZ"},{"$f":"IF(Liste_pièces!C556=\"\",\"\",Liste_pièces!C556)","v":""},{"$f":"IF(Liste_pièces!D556=\"\",\"\",Liste_pièces!D556)","v":""},{"$f":"IF(Liste_pièces!E556=\"\",\"\",Liste_pièces!E556)","v":""},{"$f":"IF(Liste_pièces!F556=\"\",\"\",Liste_pièces!F556)","v":""},{"$f":"IF(Liste_pièces!G556=\"\",\"\",Liste_pièces!G556)","v":""},{"$f":"IF(Liste_pièces!H556=\"\",\"\",Liste_pièces!H556)","v":""},{"$f":"IF(Liste_pièces!I556=\"\",\"\",Liste_pièces!I556)","v":""},{"$f":"IF(Liste_pièces!J556=\"\",\"\",Liste_pièces!J556)","v":""},{"$f":"IF(Liste_pièces!K556=\"\",\"\",Liste_pièces!K556)","v":""},{"$f":"IF(Liste_pièces!L556=\"\",\"\",Liste_pièces!L556)","v":""},{"$f":"IF(Liste_pièces!M556=\"\",\"\",Liste_pièces!M556)","v":""},0,1,0]
[{"$f":"IF(Liste_pièces!A557=\"\",\"ZZZ\",Liste_pièces!A557)","v":"ZZZ"},{"$f":"IF(Liste_pièces!B557=\"\",\"ZZZ\",Liste_pièces!B557)","v":"ZZZ"},{"$f":"IF(Liste_pièces!C557=\"\",\"\",Liste_pièces!C557)","v":""},{"$f":"IF(Liste_pièces!D557=\"\",\"\",Liste_pièces!D557)","v":""},{"$f":"IF(Liste_pièces!E557=\"\",\"\",Liste_pièces!E557)","v":""},{"$f":"IF(Liste_pièces!F557=\"\",\"\",Liste_pièces!F557)","v":""},{"$f":"IF(Liste_pièces!G557=\"\",\"\",Liste_pièces!G557)","v":""},{"$f":"IF(Liste_pièces!H557=\"\",\"\",Liste_pièces!H557)","v":""},{"$f":"IF(Liste_pièces!I557=\"\",\"\",Liste_pièces!I557)","v":""},{"$f":"IF(Liste_pièces!J557=\"\",\"\",Liste_pièces!J557)","v":""},{"$f":"IF(Liste_pièces!K557=\"\",\"\",Liste_pièces!K557)","v":""},{"$f":"IF(Liste_pièces!L557=\"\",\"\",Liste_pièces!L557)","v":""},{"$f":"IF(Liste_pièces!M557=\"\",\"\",Liste_pièces!M557)","v":""},0,1,0]
[{"$f":"IF(Liste_pièces!A558=\"\",\"ZZZ\",Liste_pièces!A558)","v":"ZZZ"},{"$f":"IF(Liste_pièces!B558=\"\",\"ZZZ\",Liste_pièces!B558)","v":"ZZZ"},{"$f":"IF(Liste_pièces!C558=\"\",\"\",Liste_pièces!C558)","v":""},{"$f":"IF(Liste_pièces!D558=\"\",\"\",Liste_pièces!D558)","v":""},{"$f":"IF(Liste_pièces!E558=\"\",\"\",Liste_pièces!E558)","v":""},{"$f":"IF(Liste_pièces!F558=\"\",\"\",Liste_pièces!F558)","v":""},{"$f":"IF(Liste_pièces!G558=\"\",\"\",Liste_pièces!G558)","v":""},{"$f":"IF(Liste_pièces!H558=\"\",\"\",Liste_pièces!H558)","v":""},{"$f":"IF(Liste_pièces!I558=\"\",\"\",Liste_pièces!I558)","v":""},{"$f":"IF(Liste_pièces!J558=\"\",\"\",Liste_pièces!J558)","v":""},{"$f":"IF(Liste_pièces!K558=\"\",\"\",Liste_pièces!K558)","v":""},{"$f":"IF(Liste_pièces!L558=\"\",\"\",Liste_pièces!L558)","v":""},{"$f":"IF(Liste_pièces!M558=\"\",\"\",Liste_pièces!M558)","v":""},0,1,0]
[{"$f":"IF(Liste_pièces!A559=\"\",\"ZZZ\",Liste_pièces!A559)","v":"ZZZ"},{"$f":"IF(Liste_pièces!B559=\"\",\"ZZZ\",Liste_pièces!B559)","v":"ZZZ"},{"$f":"IF(Liste_pièces!C559=\"\",\"\",Liste_pièces!C559)","v":""},{"$f":"IF(Liste_pièces!D559=\"\",\"\",Liste_pièces!D559)","v":""},{"$f":"IF(Liste_pièces!E559=\"\",\"\",Liste_pièces!E559)","v":""},{"$f":"IF(Liste_pièces!F559=\"\",\"\",Liste_pièces!F559)","v":""},{"$f":"IF(Liste_pièces!G559=\"\",\"\",Liste_pièces!G559)","v":""},{"$f":"IF(Liste_pièces!H559=\"\",\"\",Liste_pièces!H559)","v":""},{"$f":"IF(Liste_pièces!I559=\"\",\"\",Liste_pièces!I559)","v":""},{"$f":"IF(Liste_pièces!J559=\"\",\"\",Liste_pièces!J559)","v":""},{"$f":"IF(Liste_pièces!K559=\"\",\"\",Liste_pièces!K559)","v":""},{"$f":"IF(Liste_pièces!L559=\"\",\"\",Liste_pièces!L559)","v":""},{"$f":"IF(Liste_pièces!M559=\"\",\"\",Liste_pièces!M559)","v":""},0,1,0]
[{"$f":"IF(Liste_pièces!A560=\"\",\"ZZZ\",Liste_pièces!A560)","v":"ZZZ"},{"$f":"IF(Liste_pièces!B560=\"\",\"ZZZ\",Liste_pièces!B560)","v":"ZZZ"},{"$f":"IF(Liste_pièces!C560=\"\",\"\",Liste_pièces!C560)","v":""},{"$f":"IF(Liste_pièces!D560=\"\",\"\",Liste_pièces!D560)","v":""},{"$f":"IF(Liste_pièces!E560=\"\",\"\",Liste_pièces!E560)","v":""},{"$f":"IF(Liste_pièces!F560=\"\",\"\",Liste_pièces!F560)","v":""},{"$f":"IF(Liste_pièces!G560=\"\",\"\",Liste_pièces!G560)","v":""},{"$f":"IF(Liste_pièces!H560=\"\",\"\",Liste_pièces!H560)","v":""},{"$f":"IF(Liste_pièces!I560=\"\",\"\",Liste_pièces!I560)","v":""},{"$f":"IF(Liste_pièces!J560=\"\",\"\",Liste_pièces!J560)","v":""},{"$f":"IF(Liste_pièces!K560=\"\",\"\",Liste_pièces!K560)","v":""},{"$f":"IF(Liste_pièces!L560=\"\",\"\",Liste_pièces!L560)","v":""},{"$f":"IF(Liste_pièces!M560=\"\",\"\",Liste_pièces!M560)","v":""},0,1,0]
[{"$f":"IF(Liste_pièces!A561=\"\",\"ZZZ\",Liste_pièces!A561)","v":"ZZZ"},{"$f":"IF(Liste_pièces!B561=\"\",\"ZZZ\",Liste_pièces!B561)","v":"ZZZ"},{"$f":"IF(Liste_pièces!C561=\"\",\"\",Liste_pièces!C561)","v":""},{"$f":"IF(Liste_pièces!D561=\"\",\"\",Liste_pièces!D561)","v":""},{"$f":"IF(Liste_pièces!E561=\"\",\"\",Liste_pièces!E561)","v":""},{"$f":"IF(Liste_pièces!F561=\"\",\"\",Liste_pièces!F561)","v":""},{"$f":"IF(Liste_pièces!G561=\"\",\"\",Liste_pièces!G561)","v":""},{"$f":"IF(Liste_pièces!H561=\"\",\"\",Liste_pièces!H561)","v":""},{"$f":"IF(Liste_pièces!I561=\"\",\"\",Liste_pièces!I561)","v":""},{"$f":"IF(Liste_pièces!J561=\"\",\"\",Liste_pièces!J561)","v":""},{"$f":"IF(Liste_pièces!K561=\"\",\"\",Liste_pièces!K561)","v":""},{"$f":"IF(Liste_pièces!L561=\"\",\"\",Liste_pièces!L561)","v":""},{"$f":"IF(Liste_pièces!M561=\"\",\"\",Liste_pièces!M561)","v":""},0,1,0]
[{"$f":"IF(Liste_pièces!A562=\"\",\"ZZZ\",Liste_pièces!A562)","v":"ZZZ"},{"$f":"IF(Liste_pièces!B562=\"\",\"ZZZ\",Liste_pièces!B562)","v":"ZZZ"},{"$f":"IF(Liste_pièces!C562=\"\",\"\",Liste_pièces!C562)","v":""},{"$f":"IF(Liste_pièces!D562=\"\",\"\",Liste_pièces!D562)","v":""},{"$f":"IF(Liste_pièces!E562=\"\",\"\",Liste_pièces!E562)","v":""},{"$f":"IF(Liste_pièces!F562=\"\",\"\",Liste_pièces!F562)","v":""},{"$f":"IF(Liste_pièces!G562=\"\",\"\",Liste_pièces!G562)","v":""},{"$f":"IF(Liste_pièces!H562=\"\",\"\",Liste_pièces!H562)","v":""},{"$f":"IF(Liste_pièces!I562=\"\",\"\",Liste_pièces!I562)","v":""},{"$f":"IF(Liste_pièces!J562=\"\",\"\",Liste_pièces!J562)","v":""},{"$f":"IF(Liste_pièces!K562=\"\",\"\",Liste_pièces!K562)","v":""},{"$f":"IF(Liste_pièces!L562=\"\",\"\",Liste_pièces!L562)","v":""},{"$f":"IF(Liste_pièces!M562=\"\",\"\",Liste_pièces!M562)","v":""},0,1,0]
[{"$f":"IF(Liste_pièces!A563=\"\",\"ZZZ\",Liste_pièces!A563)","v":"ZZZ"},{"$f":"IF(Liste_pièces!B563=\"\",\"ZZZ\",Liste_pièces!B563)","v":"ZZZ"},{"$f":"IF(Liste_pièces!C563=\"\",\"\",Liste_pièces!C563)","v":""},{"$f":"IF(Liste_pièces!D563=\"\",\"\",Liste_pièces!D563)","v":""},{"$f":"IF(Liste_pièces!E563=\"\",\"\",Liste_pièces!E563)","v":""},{"$f":"IF(Liste_pièces!F563=\"\",\"\",Liste_pièces!F563)","v":""},{"$f":"IF(Liste_pièces!G563=\"\",\"\",Liste_pièces!G563)","v":""},{"$f":"IF(Liste_pièces!H563=\"\",\"\",Liste_pièces!H563)","v":""},{"$f":"IF(Liste_pièces!I563=\"\",\"\",Liste_pièces!I563)","v":""},{"$f":"IF(Liste_pièces!J563=\"\",\"\",Liste_pièces!J563)","v":""},{"$f":"IF(Liste_pièces!K563=\"\",\"\",Liste_pièces!K563)","v":""},{"$f":"IF(Liste_pièces!L563=\"\",\"\",Liste_pièces!L563)","v":""},{"$f":"IF(Liste_pièces!M563=\"\",\"\",Liste_pièces!M563)","v":""},0,1,0]
[{"$f":"IF(Liste_pièces!A564=\"\",\"ZZZ\",Liste_pièces!A564)","v":"ZZZ"},{"$f":"IF(Liste_pièces!B564=\"\",\"ZZZ\",Liste_pièces!B564)","v":"ZZZ"},{"$f":"IF(Liste_pièces!C564=\"\",\"\",Liste_pièces!C564)","v":""},{"$f":"IF(Liste_pièces!D564=\"\",\"\",Liste_pièces!D564)","v":""},{"$f":"IF(Liste_pièces!E564=\"\",\"\",Liste_pièces!E564)","v":""},{"$f":"IF(Liste_pièces!F564=\"\",\"\",Liste_pièces!F564)","v":""},{"$f":"IF(Liste_pièces!G564=\"\",\"\",Liste_pièces!G564)","v":""},{"$f":"IF(Liste_pièces!H564=\"\",\"\",Liste_pièces!H564)","v":""},{"$f":"IF(Liste_pièces!I564=\"\",\"\",Liste_pièces!I564)","v":""},{"$f":"IF(Liste_pièces!J564=\"\",\"\",Liste_pièces!J564)","v":""},{"$f":"IF(Liste_pièces!K564=\"\",\"\",Liste_pièces!K564)","v":""},{"$f":"IF(Liste_pièces!L564=\"\",\"\",Liste_pièces!L564)","v":""},{"$f":"IF(Liste_pièces!M564=\"\",\"\",Liste_pièces!M564)","v":""},0,1,0]
[{"$f":"IF(Liste_pièces!A565=\"\",\"ZZZ\",Liste_pièces!A565)","v":"ZZZ"},{"$f":"IF(Liste_pièces!B565=\"\",\"ZZZ\",Liste_pièces!B565)","v":"ZZZ"},{"$f":"IF(Liste_pièces!C565=\"\",\"\",Liste_pièces!C565)","v":""},{"$f":"IF(Liste_pièces!D565=\"\",\"\",Liste_pièces!D565)","v":""},{"$f":"IF(Liste_pièces!E565=\"\",\"\",Liste_pièces!E565)","v":""},{"$f":"IF(Liste_pièces!F565=\"\",\"\",Liste_pièces!F565)","v":""},{"$f":"IF(Liste_pièces!G565=\"\",\"\",Liste_pièces!G565)","v":""},{"$f":"IF(Liste_pièces!H565=\"\",\"\",Liste_pièces!H565)","v":""},{"$f":"IF(Liste_pièces!I565=\"\",\"\",Liste_pièces!I565)","v":""},{"$f":"IF(Liste_pièces!J565=\"\",\"\",Liste_pièces!J565)","v":""},{"$f":"IF(Liste_pièces!K565=\"\",\"\",Liste_pièces!K565)","v":""},{"$f":"IF(Liste_pièces!L565=\"\",\"\",Liste_pièces!L565)","v":""},{"$f":"IF(Liste_pièces!M565=\"\",\"\",Liste_pièces!M565)","v":""},0,1,0]
[{"$f":"IF(Liste_pièces!A566=\"\",\"ZZZ\",Liste_pièces!A566)","v":"ZZZ"},{"$f":"IF(Liste_pièces!B566=\"\",\"ZZZ\",Liste_pièces!B566)","v":"ZZZ"},{"$f":"IF(Liste_pièces!C566=\"\",\"\",Liste_pièces!C566)","v":""},{"$f":"IF(Liste_pièces!D566=\"\",\"\",Liste_pièces!D566)","v":""},{"$f":"IF(Liste_pièces!E566=\"\",\"\",Liste_pièces!E566)","v":""},{"$f":"IF(Liste_pièces!F566=\"\",\"\",Liste_pièces!F566)","v":""},{"$f":"IF(Liste_pièces!G566=\"\",\"\",Liste_pièces!G566)","v":""},{"$f":"IF(Liste_pièces!H566=\"\",\"\",Liste_pièces!H566)","v":""},{"$f":"IF(Liste_pièces!I566=\"\",\"\",Liste_pièces!I566)","v":""},{"$f":"IF(Liste_pièces!J566=\"\",\"\",Liste_pièces!J566)","v":""},{"$f":"IF(Liste_pièces!K566=\"\",\"\",Liste_pièces!K566)","v":""},{"$f":"IF(Liste_pièces!L566=\"\",\"\",Liste_pièces!L566)","v":""},{"$f":"IF(Liste_pièces!M566=\"\",\"\",Liste_pièces!M566)","v":""},0,1,0]
[{"$f":"IF(Liste_pièces!A567=\"\",\"ZZZ\",Liste_pièces!A567)","v":"ZZZ"},{"$f":"IF(Liste_pièces!B567=\"\",\"ZZZ\",Liste_pièces!B567)","v":"ZZZ"},{"$f":"IF(Liste_pièces!C567=\"\",\"\",Liste_pièces!C567)","v":""},{"$f":"IF(Liste_pièces!D567=\"\",\"\",Liste_pièces!D567)","v":""},{"$f":"IF(Liste_pièces!E567=\"\",\"\",Liste_pièces!E567)","v":""},{"$f":"IF(Liste_pièces!F567=\"\",\"\",Liste_pièces!F567)","v":""},{"$f":"IF(Liste_pièces!G567=\"\",\"\",Liste_pièces!G567)","v":""},{"$f":"IF(Liste_pièces!H567=\"\",\"\",Liste_pièces!H567)","v":""},{"$f":"IF(Liste_pièces!I567=\"\",\"\",Liste_pièces!I567)","v":""},{"$f":"IF(Liste_pièces!J567=\"\",\"\",Liste_pièces!J567)","v":""},{"$f":"IF(Liste_pièces!K567=\"\",\"\",Liste_pièces!K567)","v":""},{"$f":"IF(Liste_pièces!L567=\"\",\"\",Liste_pièces!L567)","v":""},{"$f":"IF(Liste_pièces!M567=\"\",\"\",Liste_pièces!M567)","v":""},0,1,0]
[{"$f":"IF(Liste_pièces!A568=\"\",\"ZZZ\",Liste_pièces!A568)","v":"ZZZ"},{"$f":"IF(Liste_pièces!B568=\"\",\"ZZZ\",Liste_pièces!B568)","v":"ZZZ"},{"$f":"IF(Liste_pièces!C568=\"\",\"\",Liste_pièces!C568)","v":""},{"$f":"IF(Liste_pièces!D568=\"\",\"\",Liste_pièces!D568)","v":""},{"$f":"IF(Liste_pièces!E568=\"\",\"\",Liste_pièces!E568)","v":""},{"$f":"IF(Liste_pièces!F568=\"\",\"\",Liste_pièces!F568)","v":""},{"$f":"IF(Liste_pièces!G568=\"\",\"\",Liste_pièces!G568)","v":""},{"$f":"IF(Liste_pièces!H568=\"\",\"\",Liste_pièces!H568)","v":""},{"$f":"IF(Liste_pièces!I568=\"\",\"\",Liste_pièces!I568)","v":""},{"$f":"IF(Liste_pièces!J568=\"\",\"\",Liste_pièces!J568)","v":""},{"$f":"IF(Liste_pièces!K568=\"\",\"\",Liste_pièces!K568)","v":""},{"$f":"IF(Liste_pièces!L568=\"\",\"\",Liste_pièces!L568)","v":""},{"$f":"IF(Liste_pièces!M568=\"\",\"\",Liste_pièces!M568)","v":""},0,1,0]
[{"$f":"IF(Liste_pièces!A569=\"\",\"ZZZ\",Liste_pièces!A569)","v":"ZZZ"},{"$f":"IF(Liste_pièces!B569=\"\",\"ZZZ\",Liste_pièces!B569)","v":"ZZZ"},{"$f":"IF(Liste_pièces!C569=\"\",\"\",Liste_pièces!C569)","v":""},{"$f":"IF(Liste_pièces!D569=\"\",\"\",Liste_pièces!D569)","v":""},{"$f":"IF(Liste_pièces!E569=\"\",\"\",Liste_pièces!E569)","v":""},{"$f":"IF(Liste_pièces!F569=\"\",\"\",Liste_pièces!F569)","v":""},{"$f":"IF(Liste_pièces!G569=\"\",\"\",Liste_pièces!G569)","v":""},{"$f":"IF(Liste_pièces!H569=\"\",\"\",Liste_pièces!H569)","v":""},{"$f":"IF(Liste_pièces!I569=\"\",\"\",Liste_pièces!I569)","v":""},{"$f":"IF(Liste_pièces!J569=\"\",\"\",Liste_pièces!J569)","v":""},{"$f":"IF(Liste_pièces!K569=\"\",\"\",Liste_pièces!K569)","v":""},{"$f":"IF(Liste_pièces!L569=\"\",\"\",Liste_pièces!L569)","v":""},{"$f":"IF(Liste_pièces!M569=\"\",\"\",Liste_pièces!M569)","v":""},0,1,0]
[{"$f":"IF(Liste_pièces!A570=\"\",\"ZZZ\",Liste_pièces!A570)","v":"ZZZ"},{"$f":"IF(Liste_pièces!B570=\"\",\"ZZZ\",Liste_pièces!B570)","v":"ZZZ"},{"$f":"IF(Liste_pièces!C570=\"\",\"\",Liste_pièces!C570)","v":""},{"$f":"IF(Liste_pièces!D570=\"\",\"\",Liste_pièces!D570)","v":""},{"$f":"IF(Liste_pièces!E570=\"\",\"\",Liste_pièces!E570)","v":""},{"$f":"IF(Liste_pièces!F570=\"\",\"\",Liste_pièces!F570)","v":""},{"$f":"IF(Liste_pièces!G570=\"\",\"\",Liste_pièces!G570)","v":""},{"$f":"IF(Liste_pièces!H570=\"\",\"\",Liste_pièces!H570)","v":""},{"$f":"IF(Liste_pièces!I570=\"\",\"\",Liste_pièces!I570)","v":""},{"$f":"IF(Liste_pièces!J570=\"\",\"\",Liste_pièces!J570)","v":""},{"$f":"IF(Liste_pièces!K570=\"\",\"\",Liste_pièces!K570)","v":""},{"$f":"IF(Liste_pièces!L570=\"\",\"\",Liste_pièces!L570)","v":""},{"$f":"IF(Liste_pièces!M570=\"\",\"\",Liste_pièces!M570)","v":""},0,1,0]
[{"$f":"IF(Liste_pièces!A571=\"\",\"ZZZ\",Liste_pièces!A571)","v":"ZZZ"},{"$f":"IF(Liste_pièces!B571=\"\",\"ZZZ\",Liste_pièces!B571)","v":"ZZZ"},{"$f":"IF(Liste_pièces!C571=\"\",\"\",Liste_pièces!C571)","v":""},{"$f":"IF(Liste_pièces!D571=\"\",\"\",Liste_pièces!D571)","v":""},{"$f":"IF(Liste_pièces!E571=\"\",\"\",Liste_pièces!E571)","v":""},{"$f":"IF(Liste_pièces!F571=\"\",\"\",Liste_pièces!F571)","v":""},{"$f":"IF(Liste_pièces!G571=\"\",\"\",Liste_pièces!G571)","v":""},{"$f":"IF(Liste_pièces!H571=\"\",\"\",Liste_pièces!H571)","v":""},{"$f":"IF(Liste_pièces!I571=\"\",\"\",Liste_pièces!I571)","v":""},{"$f":"IF(Liste_pièces!J571=\"\",\"\",Liste_pièces!J571)","v":""},{"$f":"IF(Liste_pièces!K571=\"\",\"\",Liste_pièces!K571)","v":""},{"$f":"IF(Liste_pièces!L571=\"\",\"\",Liste_pièces!L571)","v":""},{"$f":"IF(Liste_pièces!M571=\"\",\"\",Liste_pièces!M571)","v":""},0,1,0]
[{"$f":"IF(Liste_pièces!A572=\"\",\"ZZZ\",Liste_pièces!A572)","v":"ZZZ"},{"$f":"IF(Liste_pièces!B572=\"\",\"ZZZ\",Liste_pièces!B572)","v":"ZZZ"},{"$f":"IF(Liste_pièces!C572=\"\",\"\",Liste_pièces!C572)","v":""},{"$f":"IF(Liste_pièces!D572=\"\",\"\",Liste_pièces!D572)","v":""},{"$f":"IF(Liste_pièces!E572=\"\",\"\",Liste_pièces!E572)","v":""},{"$f":"IF(Liste_pièces!F572=\"\",\"\",Liste_pièces!F572)","v":""},{"$f":"IF(Liste_pièces!G572=\"\",\"\",Liste_pièces!G572)","v":""},{"$f":"IF(Liste_pièces!H572=\"\",\"\",Liste_pièces!H572)","v":""},{"$f":"IF(Liste_pièces!I572=\"\",\"\",Liste_pièces!I572)","v":""},{"$f":"IF(Liste_pièces!J572=\"\",\"\",Liste_pièces!J572)","v":""},{"$f":"IF(Liste_pièces!K572=\"\",\"\",Liste_pièces!K572)","v":""},{"$f":"IF(Liste_pièces!L572=\"\",\"\",Liste_pièces!L572)","v":""},{"$f":"IF(Liste_pièces!M572=\"\",\"\",Liste_pièces!M572)","v":""},0,1,0]
[{"$f":"IF(Liste_pièces!A573=\"\",\"ZZZ\",Liste_pièces!A573)","v":"ZZZ"},{"$f":"IF(Liste_pièces!B573=\"\",\"ZZZ\",Liste_pièces!B573)","v":"ZZZ"},{"$f":"IF(Liste_pièces!C573=\"\",\"\",Liste_pièces!C573)","v":""},{"$f":"IF(Liste_pièces!D573=\"\",\"\",Liste_pièces!D573)","v":""},{"$f":"IF(Liste_pièces!E573=\"\",\"\",Liste_pièces!E573)","v":""},{"$f":"IF(Liste_pièces!F573=\"\",\"\",Liste_pièces!F573)","v":""},{"$f":"IF(Liste_pièces!G573=\"\",\"\",Liste_pièces!G573)","v":""},{"$f":"IF(Liste_pièces!H573=\"\",\"\",Liste_pièces!H573)","v":""},{"$f":"IF(Liste_pièces!I573=\"\",\"\",Liste_pièces!I573)","v":""},{"$f":"IF(Liste_pièces!J573=\"\",\"\",Liste_pièces!J573)","v":""},{"$f":"IF(Liste_pièces!K573=\"\",\"\",Liste_pièces!K573)","v":""},{"$f":"IF(Liste_pièces!L573=\"\",\"\",Liste_pièces!L573)","v":""},{"$f":"IF(Liste_pièces!M573=\"\",\"\",Liste_pièces!M573)","v":""},0,1,0]
[{"$f":"IF(Liste_pièces!A574=\"\",\"ZZZ\",Liste_pièces!A574)","v":"ZZZ"},{"$f":"IF(Liste_pièces!B574=\"\",\"ZZZ\",Liste_pièces!B574)","v":"ZZZ"},{"$f":"IF(Liste_pièces!C574=\"\",\"\",Liste_pièces!C574)","v":""},{"$f":"IF(Liste_pièces!D574=\"\",\"\",Liste_pièces!D574)","v":""},{"$f":"IF(Liste_pièces!E574=\"\",\"\",Liste_pièces!E574)","v":""},{"$f":"IF(Liste_pièces!F574=\"\",\"\",Liste_pièces!F574)","v":""},{"$f":"IF(Liste_pièces!G574=\"\",\"\",Liste_pièces!G574)","v":""},{"$f":"IF(Liste_pièces!H574=\"\",\"\",Liste_pièces!H574)","v":""},{"$f":"IF(Liste_pièces!I574=\"\",\"\",Liste_pièces!I574)","v":""},{"$f":"IF(Liste_pièces!J574=\"\",\"\",Liste_pièces!J574)","v":""},{"$f":"IF(Liste_pièces!K574=\"\",\"\",Liste_pièces!K574)","v":""},{"$f":"IF(Liste_pièces!L574=\"\",\"\",Liste_pièces!L574)","v":""},{"$f":"IF(Liste_pièces!M574=\"\",\"\",Liste_pièces!M574)","v":""},0,1,0]
[{"$f":"IF(Liste_pièces!A575=\"\",\"ZZZ\",Liste_pièces!A575)","v":"ZZZ"},{"$f":"IF(Liste_pièces!B575=\"\",\"ZZZ\",Liste_pièces!B575)","v":"ZZZ"},{"$f":"IF(Liste_pièces!C575=\"\",\"\",Liste_pièces!C575)","v":""},{"$f":"IF(Liste_pièces!D575=\"\",\"\",Liste_pièces!D575)","v":""},{"$f":"IF(Liste_pièces!E575=\"\",\"\",Liste_pièces!E575)","v":""},{"$f":"IF(Liste_pièces!F575=\"\",\"\",Liste_pièces!F575)","v":""},{"$f":"IF(Liste_pièces!G575=\"\",\"\",Liste_pièces!G575)","v":""},{"$f":"IF(Liste_pièces!H575=\"\",\"\",Liste_pièces!H575)","v":""},{"$f":"IF(Liste_pièces!I575=\"\",\"\",Liste_pièces!I575)","v":""},{"$f":"IF(Liste_pièces!J575=\"\",\"\",Liste_pièces!J575)","v":""},{"$f":"IF(Liste_pièces!K575=\"\",\"\",Liste_pièces!K575)","v":""},{"$f":"IF(Liste_pièces!L575=\"\",\"\",Liste_pièces!L575)","v":""},{"$f":"IF(Liste_pièces!M575=\"\",\"\",Liste_pièces!M575)","v":""},0,1,0]
[{"$f":"IF(Liste_pièces!A576=\"\",\"ZZZ\",Liste_pièces!A576)","v":"ZZZ"},{"$f":"IF(Liste_pièces!B576=\"\",\"ZZZ\",Liste_pièces!B576)","v":"ZZZ"},{"$f":"IF(Liste_pièces!C576=\"\",\"\",Liste_pièces!C576)","v":""},{"$f":"IF(Liste_pièces!D576=\"\",\"\",Liste_pièces!D576)","v":""},{"$f":"IF(Liste_pièces!E576=\"\",\"\",Liste_pièces!E576)","v":""},{"$f":"IF(Liste_pièces!F576=\"\",\"\",Liste_pièces!F576)","v":""},{"$f":"IF(Liste_pièces!G576=\"\",\"\",Liste_pièces!G576)","v":""},{"$f":"IF(Liste_pièces!H576=\"\",\"\",Liste_pièces!H576)","v":""},{"$f":"IF(Liste_pièces!I576=\"\",\"\",Liste_pièces!I576)","v":""},{"$f":"IF(Liste_pièces!J576=\"\",\"\",Liste_pièces!J576)","v":""},{"$f":"IF(Liste_pièces!K576=\"\",\"\",Liste_pièces!K576)","v":""},{"$f":"IF(Liste_pièces!L576=\"\",\"\",Liste_pièces!L576)","v":""},{"$f":"IF(Liste_pièces!M576=\"\",\"\",Liste_pièces!M576)","v":""},0,1,0]
[{"$f":"IF(Liste_pièces!A577=\"\",\"ZZZ\",Liste_pièces!A577)","v":"ZZZ"},{"$f":"IF(Liste_pièces!B577=\"\",\"ZZZ\",Liste_pièces!B577)","v":"ZZZ"},{"$f":"IF(Liste_pièces!C577=\"\",\"\",Liste_pièces!C577)","v":""},{"$f":"IF(Liste_pièces!D577=\"\",\"\",Liste_pièces!D577)","v":""},{"$f":"IF(Liste_pièces!E577=\"\",\"\",Liste_pièces!E577)","v":""},{"$f":"IF(Liste_pièces!F577=\"\",\"\",Liste_pièces!F577)","v":""},{"$f":"IF(Liste_pièces!G577=\"\",\"\",Liste_pièces!G577)","v":""},{"$f":"IF(Liste_pièces!H577=\"\",\"\",Liste_pièces!H577)","v":""},{"$f":"IF(Liste_pièces!I577=\"\",\"\",Liste_pièces!I577)","v":""},{"$f":"IF(Liste_pièces!J577=\"\",\"\",Liste_pièces!J577)","v":""},{"$f":"IF(Liste_pièces!K577=\"\",\"\",Liste_pièces!K577)","v":""},{"$f":"IF(Liste_pièces!L577=\"\",\"\",Liste_pièces!L577)","v":""},{"$f":"IF(Liste_pièces!M577=\"\",\"\",Liste_pièces!M577)","v":""},0,1,0]
[{"$f":"IF(Liste_pièces!A578=\"\",\"ZZZ\",Liste_pièces!A578)","v":"ZZZ"},{"$f":"IF(Liste_pièces!B578=\"\",\"ZZZ\",Liste_pièces!B578)","v":"ZZZ"},{"$f":"IF(Liste_pièces!C578=\"\",\"\",Liste_pièces!C578)","v":""},{"$f":"IF(Liste_pièces!D578=\"\",\"\",Liste_pièces!D578)","v":""},{"$f":"IF(Liste_pièces!E578=\"\",\"\",Liste_pièces!E578)","v":""},{"$f":"IF(Liste_pièces!F578=\"\",\"\",Liste_pièces!F578)","v":""},{"$f":"IF(Liste_pièces!G578=\"\",\"\",Liste_pièces!G578)","v":""},{"$f":"IF(Liste_pièces!H578=\"\",\"\",Liste_pièces!H578)","v":""},{"$f":"IF(Liste_pièces!I578=\"\",\"\",Liste_pièces!I578)","v":""},{"$f":"IF(Liste_pièces!J578=\"\",\"\",Liste_pièces!J578)","v":""},{"$f":"IF(Liste_pièces!K578=\"\",\"\",Liste_pièces!K578)","v":""},{"$f":"IF(Liste_pièces!L578=\"\",\"\",Liste_pièces!L578)","v":""},{"$f":"IF(Liste_pièces!M578=\"\",\"\",Liste_pièces!M578)","v":""},{"$f":"IF(B1322=\"ZZZ\",0,IF(B1322=B1321,N577,1+N577))","v":0},1,0]
[{"$f":"IF(Liste_pièces!A579=\"\",\"ZZZ\",Liste_pièces!A579)","v":"ZZZ"},{"$f":"IF(Liste_pièces!B579=\"\",\"ZZZ\",Liste_pièces!B579)","v":"ZZZ"},{"$f":"IF(Liste_pièces!C579=\"\",\"\",Liste_pièces!C579)","v":""},{"$f":"IF(Liste_pièces!D579=\"\",\"\",Liste_pièces!D579)","v":""},{"$f":"IF(Liste_pièces!E579=\"\",\"\",Liste_pièces!E579)","v":""},{"$f":"IF(Liste_pièces!F579=\"\",\"\",Liste_pièces!F579)","v":""},{"$f":"IF(Liste_pièces!G579=\"\",\"\",Liste_pièces!G579)","v":""},{"$f":"IF(Liste_pièces!H579=\"\",\"\",Liste_pièces!H579)","v":""},{"$f":"IF(Liste_pièces!I579=\"\",\"\",Liste_pièces!I579)","v":""},{"$f":"IF(Liste_pièces!J579=\"\",\"\",Liste_pièces!J579)","v":""},{"$f":"IF(Liste_pièces!K579=\"\",\"\",Liste_pièces!K579)","v":""},{"$f":"IF(Liste_pièces!L579=\"\",\"\",Liste_pièces!L579)","v":""},{"$f":"IF(Liste_pièces!M579=\"\",\"\",Liste_pièces!M579)","v":""},0,1,0]
[{"$f":"IF(Liste_pièces!A580=\"\",\"ZZZ\",Liste_pièces!A580)","v":"ZZZ"},{"$f":"IF(Liste_pièces!B580=\"\",\"ZZZ\",Liste_pièces!B580)","v":"ZZZ"},{"$f":"IF(Liste_pièces!C580=\"\",\"\",Liste_pièces!C580)","v":""},{"$f":"IF(Liste_pièces!D580=\"\",\"\",Liste_pièces!D580)","v":""},{"$f":"IF(Liste_pièces!E580=\"\",\"\",Liste_pièces!E580)","v":""},{"$f":"IF(Liste_pièces!F580=\"\",\"\",Liste_pièces!F580)","v":""},{"$f":"IF(Liste_pièces!G580=\"\",\"\",Liste_pièces!G580)","v":""},{"$f":"IF(Liste_pièces!H580=\"\",\"\",Liste_pièces!H580)","v":""},{"$f":"IF(Liste_pièces!I580=\"\",\"\",Liste_pièces!I580)","v":""},{"$f":"IF(Liste_pièces!J580=\"\",\"\",Liste_pièces!J580)","v":""},{"$f":"IF(Liste_pièces!K580=\"\",\"\",Liste_pièces!K580)","v":""},{"$f":"IF(Liste_pièces!L580=\"\",\"\",Liste_pièces!L580)","v":""},{"$f":"IF(Liste_pièces!M580=\"\",\"\",Liste_pièces!M580)","v":""},0,1,0]
[{"$f":"IF(Liste_pièces!A581=\"\",\"ZZZ\",Liste_pièces!A581)","v":"ZZZ"},{"$f":"IF(Liste_pièces!B581=\"\",\"ZZZ\",Liste_pièces!B581)","v":"ZZZ"},{"$f":"IF(Liste_pièces!C581=\"\",\"\",Liste_pièces!C581)","v":""},{"$f":"IF(Liste_pièces!D581=\"\",\"\",Liste_pièces!D581)","v":""},{"$f":"IF(Liste_pièces!E581=\"\",\"\",Liste_pièces!E581)","v":""},{"$f":"IF(Liste_pièces!F581=\"\",\"\",Liste_pièces!F581)","v":""},{"$f":"IF(Liste_pièces!G581=\"\",\"\",Liste_pièces!G581)","v":""},{"$f":"IF(Liste_pièces!H581=\"\",\"\",Liste_pièces!H581)","v":""},{"$f":"IF(Liste_pièces!I581=\"\",\"\",Liste_pièces!I581)","v":""},{"$f":"IF(Liste_pièces!J581=\"\",\"\",Liste_pièces!J581)","v":""},{"$f":"IF(Liste_pièces!K581=\"\",\"\",Liste_pièces!K581)","v":""},{"$f":"IF(Liste_pièces!L581=\"\",\"\",Liste_pièces!L581)","v":""},{"$f":"IF(Liste_pièces!M581=\"\",\"\",Liste_pièces!M581)","v":""},0,1,0]
[{"$f":"IF(Liste_pièces!A582=\"\",\"ZZZ\",Liste_pièces!A582)","v":"ZZZ"},{"$f":"IF(Liste_pièces!B582=\"\",\"ZZZ\",Liste_pièces!B582)","v":"ZZZ"},{"$f":"IF(Liste_pièces!C582=\"\",\"\",Liste_pièces!C582)","v":""},{"$f":"IF(Liste_pièces!D582=\"\",\"\",Liste_pièces!D582)","v":""},{"$f":"IF(Liste_pièces!E582=\"\",\"\",Liste_pièces!E582)","v":""},{"$f":"IF(Liste_pièces!F582=\"\",\"\",Liste_pièces!F582)","v":""},{"$f":"IF(Liste_pièces!G582=\"\",\"\",Liste_pièces!G582)","v":""},{"$f":"IF(Liste_pièces!H582=\"\",\"\",Liste_pièces!H582)","v":""},{"$f":"IF(Liste_pièces!I582=\"\",\"\",Liste_pièces!I582)","v":""},{"$f":"IF(Liste_pièces!J582=\"\",\"\",Liste_pièces!J582)","v":""},{"$f":"IF(Liste_pièces!K582=\"\",\"\",Liste_pièces!K582)","v":""},{"$f":"IF(Liste_pièces!L582=\"\",\"\",Liste_pièces!L582)","v":""},{"$f":"IF(Liste_pièces!M582=\"\",\"\",Liste_pièces!M582)","v":""},0,1,0]
[{"$f":"IF(Liste_pièces!A583=\"\",\"ZZZ\",Liste_pièces!A583)","v":"ZZZ"},{"$f":"IF(Liste_pièces!B583=\"\",\"ZZZ\",Liste_pièces!B583)","v":"ZZZ"},{"$f":"IF(Liste_pièces!C583=\"\",\"\",Liste_pièces!C583)","v":""},{"$f":"IF(Liste_pièces!D583=\"\",\"\",Liste_pièces!D583)","v":""},{"$f":"IF(Liste_pièces!E583=\"\",\"\",Liste_pièces!E583)","v":""},{"$f":"IF(Liste_pièces!F583=\"\",\"\",Liste_pièces!F583)","v":""},{"$f":"IF(Liste_pièces!G583=\"\",\"\",Liste_pièces!G583)","v":""},{"$f":"IF(Liste_pièces!H583=\"\",\"\",Liste_pièces!H583)","v":""},{"$f":"IF(Liste_pièces!I583=\"\",\"\",Liste_pièces!I583)","v":""},{"$f":"IF(Liste_pièces!J583=\"\",\"\",Liste_pièces!J583)","v":""},{"$f":"IF(Liste_pièces!K583=\"\",\"\",Liste_pièces!K583)","v":""},{"$f":"IF(Liste_pièces!L583=\"\",\"\",Liste_pièces!L583)","v":""},{"$f":"IF(Liste_pièces!M583=\"\",\"\",Liste_pièces!M583)","v":""},0,1,{"$f":"IF(N583=0,0,IF(N583<>N582,MAX(N583+O582,P582+1),IF(O582=O583,P582,P582+O583)))","v":0}]
[{"$f":"IF(Liste_pièces!A584=\"\",\"ZZZ\",Liste_pièces!A584)","v":"ZZZ"},{"$f":"IF(Liste_pièces!B584=\"\",\"ZZZ\",Liste_pièces!B584)","v":"ZZZ"},{"$f":"IF(Liste_pièces!C584=\"\",\"\",Liste_pièces!C584)","v":""},{"$f":"IF(Liste_pièces!D584=\"\",\"\",Liste_pièces!D584)","v":""},{"$f":"IF(Liste_pièces!E584=\"\",\"\",Liste_pièces!E584)","v":""},{"$f":"IF(Liste_pièces!F584=\"\",\"\",Liste_pièces!F584)","v":""},{"$f":"IF(Liste_pièces!G584=\"\",\"\",Liste_pièces!G584)","v":""},{"$f":"IF(Liste_pièces!H584=\"\",\"\",Liste_pièces!H584)","v":""},{"$f":"IF(Liste_pièces!I584=\"\",\"\",Liste_pièces!I584)","v":""},{"$f":"IF(Liste_pièces!J584=\"\",\"\",Liste_pièces!J584)","v":""},{"$f":"IF(Liste_pièces!K584=\"\",\"\",Liste_pièces!K584)","v":""},{"$f":"IF(Liste_pièces!L584=\"\",\"\",Liste_pièces!L584)","v":""},{"$f":"IF(Liste_pièces!M584=\"\",\"\",Liste_pièces!M584)","v":""},0,1,0]
[{"$f":"IF(Liste_pièces!A585=\"\",\"ZZZ\",Liste_pièces!A585)","v":"ZZZ"},{"$f":"IF(Liste_pièces!B585=\"\",\"ZZZ\",Liste_pièces!B585)","v":"ZZZ"},{"$f":"IF(Liste_pièces!C585=\"\",\"\",Liste_pièces!C585)","v":""},{"$f":"IF(Liste_pièces!D585=\"\",\"\",Liste_pièces!D585)","v":""},{"$f":"IF(Liste_pièces!E585=\"\",\"\",Liste_pièces!E585)","v":""},{"$f":"IF(Liste_pièces!F585=\"\",\"\",Liste_pièces!F585)","v":""},{"$f":"IF(Liste_pièces!G585=\"\",\"\",Liste_pièces!G585)","v":""},{"$f":"IF(Liste_pièces!H585=\"\",\"\",Liste_pièces!H585)","v":""},{"$f":"IF(Liste_pièces!I585=\"\",\"\",Liste_pièces!I585)","v":""},{"$f":"IF(Liste_pièces!J585=\"\",\"\",Liste_pièces!J585)","v":""},{"$f":"IF(Liste_pièces!K585=\"\",\"\",Liste_pièces!K585)","v":""},{"$f":"IF(Liste_pièces!L585=\"\",\"\",Liste_pièces!L585)","v":""},{"$f":"IF(Liste_pièces!M585=\"\",\"\",Liste_pièces!M585)","v":""},0,1,0]
[{"$f":"IF(Liste_pièces!A586=\"\",\"ZZZ\",Liste_pièces!A586)","v":"ZZZ"},{"$f":"IF(Liste_pièces!B586=\"\",\"ZZZ\",Liste_pièces!B586)","v":"ZZZ"},{"$f":"IF(Liste_pièces!C586=\"\",\"\",Liste_pièces!C586)","v":""},{"$f":"IF(Liste_pièces!D586=\"\",\"\",Liste_pièces!D586)","v":""},{"$f":"IF(Liste_pièces!E586=\"\",\"\",Liste_pièces!E586)","v":""},{"$f":"IF(Liste_pièces!F586=\"\",\"\",Liste_pièces!F586)","v":""},{"$f":"IF(Liste_pièces!G586=\"\",\"\",Liste_pièces!G586)","v":""},{"$f":"IF(Liste_pièces!H586=\"\",\"\",Liste_pièces!H586)","v":""},{"$f":"IF(Liste_pièces!I586=\"\",\"\",Liste_pièces!I586)","v":""},{"$f":"IF(Liste_pièces!J586=\"\",\"\",Liste_pièces!J586)","v":""},{"$f":"IF(Liste_pièces!K586=\"\",\"\",Liste_pièces!K586)","v":""},{"$f":"IF(Liste_pièces!L586=\"\",\"\",Liste_pièces!L586)","v":""},{"$f":"IF(Liste_pièces!M586=\"\",\"\",Liste_pièces!M586)","v":""},0,1,0]
[{"$f":"IF(Liste_pièces!A587=\"\",\"ZZZ\",Liste_pièces!A587)","v":"ZZZ"},{"$f":"IF(Liste_pièces!B587=\"\",\"ZZZ\",Liste_pièces!B587)","v":"ZZZ"},{"$f":"IF(Liste_pièces!C587=\"\",\"\",Liste_pièces!C587)","v":""},{"$f":"IF(Liste_pièces!D587=\"\",\"\",Liste_pièces!D587)","v":""},{"$f":"IF(Liste_pièces!E587=\"\",\"\",Liste_pièces!E587)","v":""},{"$f":"IF(Liste_pièces!F587=\"\",\"\",Liste_pièces!F587)","v":""},{"$f":"IF(Liste_pièces!G587=\"\",\"\",Liste_pièces!G587)","v":""},{"$f":"IF(Liste_pièces!H587=\"\",\"\",Liste_pièces!H587)","v":""},{"$f":"IF(Liste_pièces!I587=\"\",\"\",Liste_pièces!I587)","v":""},{"$f":"IF(Liste_pièces!J587=\"\",\"\",Liste_pièces!J587)","v":""},{"$f":"IF(Liste_pièces!K587=\"\",\"\",Liste_pièces!K587)","v":""},{"$f":"IF(Liste_pièces!L587=\"\",\"\",Liste_pièces!L587)","v":""},{"$f":"IF(Liste_pièces!M587=\"\",\"\",Liste_pièces!M587)","v":""},0,1,0]
[{"$f":"IF(Liste_pièces!A588=\"\",\"ZZZ\",Liste_pièces!A588)","v":"ZZZ"},{"$f":"IF(Liste_pièces!B588=\"\",\"ZZZ\",Liste_pièces!B588)","v":"ZZZ"},{"$f":"IF(Liste_pièces!C588=\"\",\"\",Liste_pièces!C588)","v":""},{"$f":"IF(Liste_pièces!D588=\"\",\"\",Liste_pièces!D588)","v":""},{"$f":"IF(Liste_pièces!E588=\"\",\"\",Liste_pièces!E588)","v":""},{"$f":"IF(Liste_pièces!F588=\"\",\"\",Liste_pièces!F588)","v":""},{"$f":"IF(Liste_pièces!G588=\"\",\"\",Liste_pièces!G588)","v":""},{"$f":"IF(Liste_pièces!H588=\"\",\"\",Liste_pièces!H588)","v":""},{"$f":"IF(Liste_pièces!I588=\"\",\"\",Liste_pièces!I588)","v":""},{"$f":"IF(Liste_pièces!J588=\"\",\"\",Liste_pièces!J588)","v":""},{"$f":"IF(Liste_pièces!K588=\"\",\"\",Liste_pièces!K588)","v":""},{"$f":"IF(Liste_pièces!L588=\"\",\"\",Liste_pièces!L588)","v":""},{"$f":"IF(Liste_pièces!M588=\"\",\"\",Liste_pièces!M588)","v":""},0,1,0]
[{"$f":"IF(Liste_pièces!A589=\"\",\"ZZZ\",Liste_pièces!A589)","v":"ZZZ"},{"$f":"IF(Liste_pièces!B589=\"\",\"ZZZ\",Liste_pièces!B589)","v":"ZZZ"},{"$f":"IF(Liste_pièces!C589=\"\",\"\",Liste_pièces!C589)","v":""},{"$f":"IF(Liste_pièces!D589=\"\",\"\",Liste_pièces!D589)","v":""},{"$f":"IF(Liste_pièces!E589=\"\",\"\",Liste_pièces!E589)","v":""},{"$f":"IF(Liste_pièces!F589=\"\",\"\",Liste_pièces!F589)","v":""},{"$f":"IF(Liste_pièces!G589=\"\",\"\",Liste_pièces!G589)","v":""},{"$f":"IF(Liste_pièces!H589=\"\",\"\",Liste_pièces!H589)","v":""},{"$f":"IF(Liste_pièces!I589=\"\",\"\",Liste_pièces!I589)","v":""},{"$f":"IF(Liste_pièces!J589=\"\",\"\",Liste_pièces!J589)","v":""},{"$f":"IF(Liste_pièces!K589=\"\",\"\",Liste_pièces!K589)","v":""},{"$f":"IF(Liste_pièces!L589=\"\",\"\",Liste_pièces!L589)","v":""},{"$f":"IF(Liste_pièces!M589=\"\",\"\",Liste_pièces!M589)","v":""},0,1,0]
[{"$f":"IF(Liste_pièces!A590=\"\",\"ZZZ\",Liste_pièces!A590)","v":"ZZZ"},{"$f":"IF(Liste_pièces!B590=\"\",\"ZZZ\",Liste_pièces!B590)","v":"ZZZ"},{"$f":"IF(Liste_pièces!C590=\"\",\"\",Liste_pièces!C590)","v":""},{"$f":"IF(Liste_pièces!D590=\"\",\"\",Liste_pièces!D590)","v":""},{"$f":"IF(Liste_pièces!E590=\"\",\"\",Liste_pièces!E590)","v":""},{"$f":"IF(Liste_pièces!F590=\"\",\"\",Liste_pièces!F590)","v":""},{"$f":"IF(Liste_pièces!G590=\"\",\"\",Liste_pièces!G590)","v":""},{"$f":"IF(Liste_pièces!H590=\"\",\"\",Liste_pièces!H590)","v":""},{"$f":"IF(Liste_pièces!I590=\"\",\"\",Liste_pièces!I590)","v":""},{"$f":"IF(Liste_pièces!J590=\"\",\"\",Liste_pièces!J590)","v":""},{"$f":"IF(Liste_pièces!K590=\"\",\"\",Liste_pièces!K590)","v":""},{"$f":"IF(Liste_pièces!L590=\"\",\"\",Liste_pièces!L590)","v":""},{"$f":"IF(Liste_pièces!M590=\"\",\"\",Liste_pièces!M590)","v":""},0,1,0]
[{"$f":"IF(Liste_pièces!A591=\"\",\"ZZZ\",Liste_pièces!A591)","v":"ZZZ"},{"$f":"IF(Liste_pièces!B591=\"\",\"ZZZ\",Liste_pièces!B591)","v":"ZZZ"},{"$f":"IF(Liste_pièces!C591=\"\",\"\",Liste_pièces!C591)","v":""},{"$f":"IF(Liste_pièces!D591=\"\",\"\",Liste_pièces!D591)","v":""},{"$f":"IF(Liste_pièces!E591=\"\",\"\",Liste_pièces!E591)","v":""},{"$f":"IF(Liste_pièces!F591=\"\",\"\",Liste_pièces!F591)","v":""},{"$f":"IF(Liste_pièces!G591=\"\",\"\",Liste_pièces!G591)","v":""},{"$f":"IF(Liste_pièces!H591=\"\",\"\",Liste_pièces!H591)","v":""},{"$f":"IF(Liste_pièces!I591=\"\",\"\",Liste_pièces!I591)","v":""},{"$f":"IF(Liste_pièces!J591=\"\",\"\",Liste_pièces!J591)","v":""},{"$f":"IF(Liste_pièces!K591=\"\",\"\",Liste_pièces!K591)","v":""},{"$f":"IF(Liste_pièces!L591=\"\",\"\",Liste_pièces!L591)","v":""},{"$f":"IF(Liste_pièces!M591=\"\",\"\",Liste_pièces!M591)","v":""},0,1,0]
[{"$f":"IF(Liste_pièces!A592=\"\",\"ZZZ\",Liste_pièces!A592)","v":"ZZZ"},{"$f":"IF(Liste_pièces!B592=\"\",\"ZZZ\",Liste_pièces!B592)","v":"ZZZ"},{"$f":"IF(Liste_pièces!C592=\"\",\"\",Liste_pièces!C592)","v":""},{"$f":"IF(Liste_pièces!D592=\"\",\"\",Liste_pièces!D592)","v":""},{"$f":"IF(Liste_pièces!E592=\"\",\"\",Liste_pièces!E592)","v":""},{"$f":"IF(Liste_pièces!F592=\"\",\"\",Liste_pièces!F592)","v":""},{"$f":"IF(Liste_pièces!G592=\"\",\"\",Liste_pièces!G592)","v":""},{"$f":"IF(Liste_pièces!H592=\"\",\"\",Liste_pièces!H592)","v":""},{"$f":"IF(Liste_pièces!I592=\"\",\"\",Liste_pièces!I592)","v":""},{"$f":"IF(Liste_pièces!J592=\"\",\"\",Liste_pièces!J592)","v":""},{"$f":"IF(Liste_pièces!K592=\"\",\"\",Liste_pièces!K592)","v":""},{"$f":"IF(Liste_pièces!L592=\"\",\"\",Liste_pièces!L592)","v":""},{"$f":"IF(Liste_pièces!M592=\"\",\"\",Liste_pièces!M592)","v":""},0,1,0]
[{"$f":"IF(Liste_pièces!A593=\"\",\"ZZZ\",Liste_pièces!A593)","v":"ZZZ"},{"$f":"IF(Liste_pièces!B593=\"\",\"ZZZ\",Liste_pièces!B593)","v":"ZZZ"},{"$f":"IF(Liste_pièces!C593=\"\",\"\",Liste_pièces!C593)","v":""},{"$f":"IF(Liste_pièces!D593=\"\",\"\",Liste_pièces!D593)","v":""},{"$f":"IF(Liste_pièces!E593=\"\",\"\",Liste_pièces!E593)","v":""},{"$f":"IF(Liste_pièces!F593=\"\",\"\",Liste_pièces!F593)","v":""},{"$f":"IF(Liste_pièces!G593=\"\",\"\",Liste_pièces!G593)","v":""},{"$f":"IF(Liste_pièces!H593=\"\",\"\",Liste_pièces!H593)","v":""},{"$f":"IF(Liste_pièces!I593=\"\",\"\",Liste_pièces!I593)","v":""},{"$f":"IF(Liste_pièces!J593=\"\",\"\",Liste_pièces!J593)","v":""},{"$f":"IF(Liste_pièces!K593=\"\",\"\",Liste_pièces!K593)","v":""},{"$f":"IF(Liste_pièces!L593=\"\",\"\",Liste_pièces!L593)","v":""},{"$f":"IF(Liste_pièces!M593=\"\",\"\",Liste_pièces!M593)","v":""},0,1,0]
[{"$f":"IF(Liste_pièces!A594=\"\",\"ZZZ\",Liste_pièces!A594)","v":"ZZZ"},{"$f":"IF(Liste_pièces!B594=\"\",\"ZZZ\",Liste_pièces!B594)","v":"ZZZ"},{"$f":"IF(Liste_pièces!C594=\"\",\"\",Liste_pièces!C594)","v":""},{"$f":"IF(Liste_pièces!D594=\"\",\"\",Liste_pièces!D594)","v":""},{"$f":"IF(Liste_pièces!E594=\"\",\"\",Liste_pièces!E594)","v":""},{"$f":"IF(Liste_pièces!F594=\"\",\"\",Liste_pièces!F594)","v":""},{"$f":"IF(Liste_pièces!G594=\"\",\"\",Liste_pièces!G594)","v":""},{"$f":"IF(Liste_pièces!H594=\"\",\"\",Liste_pièces!H594)","v":""},{"$f":"IF(Liste_pièces!I594=\"\",\"\",Liste_pièces!I594)","v":""},{"$f":"IF(Liste_pièces!J594=\"\",\"\",Liste_pièces!J594)","v":""},{"$f":"IF(Liste_pièces!K594=\"\",\"\",Liste_pièces!K594)","v":""},{"$f":"IF(Liste_pièces!L594=\"\",\"\",Liste_pièces!L594)","v":""},{"$f":"IF(Liste_pièces!M594=\"\",\"\",Liste_pièces!M594)","v":""},0,1,0]
[{"$f":"IF(Liste_pièces!A595=\"\",\"ZZZ\",Liste_pièces!A595)","v":"ZZZ"},{"$f":"IF(Liste_pièces!B595=\"\",\"ZZZ\",Liste_pièces!B595)","v":"ZZZ"},{"$f":"IF(Liste_pièces!C595=\"\",\"\",Liste_pièces!C595)","v":""},{"$f":"IF(Liste_pièces!D595=\"\",\"\",Liste_pièces!D595)","v":""},{"$f":"IF(Liste_pièces!E595=\"\",\"\",Liste_pièces!E595)","v":""},{"$f":"IF(Liste_pièces!F595=\"\",\"\",Liste_pièces!F595)","v":""},{"$f":"IF(Liste_pièces!G595=\"\",\"\",Liste_pièces!G595)","v":""},{"$f":"IF(Liste_pièces!H595=\"\",\"\",Liste_pièces!H595)","v":""},{"$f":"IF(Liste_pièces!I595=\"\",\"\",Liste_pièces!I595)","v":""},{"$f":"IF(Liste_pièces!J595=\"\",\"\",Liste_pièces!J595)","v":""},{"$f":"IF(Liste_pièces!K595=\"\",\"\",Liste_pièces!K595)","v":""},{"$f":"IF(Liste_pièces!L595=\"\",\"\",Liste_pièces!L595)","v":""},{"$f":"IF(Liste_pièces!M595=\"\",\"\",Liste_pièces!M595)","v":""},0,1,0]
[{"$f":"IF(Liste_pièces!A596=\"\",\"ZZZ\",Liste_pièces!A596)","v":"ZZZ"},{"$f":"IF(Liste_pièces!B596=\"\",\"ZZZ\",Liste_pièces!B596)","v":"ZZZ"},{"$f":"IF(Liste_pièces!C596=\"\",\"\",Liste_pièces!C596)","v":""},{"$f":"IF(Liste_pièces!D596=\"\",\"\",Liste_pièces!D596)","v":""},{"$f":"IF(Liste_pièces!E596=\"\",\"\",Liste_pièces!E596)","v":""},{"$f":"IF(Liste_pièces!F596=\"\",\"\",Liste_pièces!F596)","v":""},{"$f":"IF(Liste_pièces!G596=\"\",\"\",Liste_pièces!G596)","v":""},{"$f":"IF(Liste_pièces!H596=\"\",\"\",Liste_pièces!H596)","v":""},{"$f":"IF(Liste_pièces!I596=\"\",\"\",Liste_pièces!I596)","v":""},{"$f":"IF(Liste_pièces!J596=\"\",\"\",Liste_pièces!J596)","v":""},{"$f":"IF(Liste_pièces!K596=\"\",\"\",Liste_pièces!K596)","v":""},{"$f":"IF(Liste_pièces!L596=\"\",\"\",Liste_pièces!L596)","v":""},{"$f":"IF(Liste_pièces!M596=\"\",\"\",Liste_pièces!M596)","v":""},0,1,0]
[{"$f":"IF(Liste_pièces!A597=\"\",\"ZZZ\",Liste_pièces!A597)","v":"ZZZ"},{"$f":"IF(Liste_pièces!B597=\"\",\"ZZZ\",Liste_pièces!B597)","v":"ZZZ"},{"$f":"IF(Liste_pièces!C597=\"\",\"\",Liste_pièces!C597)","v":""},{"$f":"IF(Liste_pièces!D597=\"\",\"\",Liste_pièces!D597)","v":""},{"$f":"IF(Liste_pièces!E597=\"\",\"\",Liste_pièces!E597)","v":""},{"$f":"IF(Liste_pièces!F597=\"\",\"\",Liste_pièces!F597)","v":""},{"$f":"IF(Liste_pièces!G597=\"\",\"\",Liste_pièces!G597)","v":""},{"$f":"IF(Liste_pièces!H597=\"\",\"\",Liste_pièces!H597)","v":""},{"$f":"IF(Liste_pièces!I597=\"\",\"\",Liste_pièces!I597)","v":""},{"$f":"IF(Liste_pièces!J597=\"\",\"\",Liste_pièces!J597)","v":""},{"$f":"IF(Liste_pièces!K597=\"\",\"\",Liste_pièces!K597)","v":""},{"$f":"IF(Liste_pièces!L597=\"\",\"\",Liste_pièces!L597)","v":""},{"$f":"IF(Liste_pièces!M597=\"\",\"\",Liste_pièces!M597)","v":""},0,1,0]
[{"$f":"IF(Liste_pièces!A598=\"\",\"ZZZ\",Liste_pièces!A598)","v":"ZZZ"},{"$f":"IF(Liste_pièces!B598=\"\",\"ZZZ\",Liste_pièces!B598)","v":"ZZZ"},{"$f":"IF(Liste_pièces!C598=\"\",\"\",Liste_pièces!C598)","v":""},{"$f":"IF(Liste_pièces!D598=\"\",\"\",Liste_pièces!D598)","v":""},{"$f":"IF(Liste_pièces!E598=\"\",\"\",Liste_pièces!E598)","v":""},{"$f":"IF(Liste_pièces!F598=\"\",\"\",Liste_pièces!F598)","v":""},{"$f":"IF(Liste_pièces!G598=\"\",\"\",Liste_pièces!G598)","v":""},{"$f":"IF(Liste_pièces!H598=\"\",\"\",Liste_pièces!H598)","v":""},{"$f":"IF(Liste_pièces!I598=\"\",\"\",Liste_pièces!I598)","v":""},{"$f":"IF(Liste_pièces!J598=\"\",\"\",Liste_pièces!J598)","v":""},{"$f":"IF(Liste_pièces!K598=\"\",\"\",Liste_pièces!K598)","v":""},{"$f":"IF(Liste_pièces!L598=\"\",\"\",Liste_pièces!L598)","v":""},{"$f":"IF(Liste_pièces!M598=\"\",\"\",Liste_pièces!M598)","v":""},0,1,0]
[{"$f":"IF(Liste_pièces!A599=\"\",\"ZZZ\",Liste_pièces!A599)","v":"ZZZ"},{"$f":"IF(Liste_pièces!B599=\"\",\"ZZZ\",Liste_pièces!B599)","v":"ZZZ"},{"$f":"IF(Liste_pièces!C599=\"\",\"\",Liste_pièces!C599)","v":""},{"$f":"IF(Liste_pièces!D599=\"\",\"\",Liste_pièces!D599)","v":""},{"$f":"IF(Liste_pièces!E599=\"\",\"\",Liste_pièces!E599)","v":""},{"$f":"IF(Liste_pièces!F599=\"\",\"\",Liste_pièces!F599)","v":""},{"$f":"IF(Liste_pièces!G599=\"\",\"\",Liste_pièces!G599)","v":""},{"$f":"IF(Liste_pièces!H599=\"\",\"\",Liste_pièces!H599)","v":""},{"$f":"IF(Liste_pièces!I599=\"\",\"\",Liste_pièces!I599)","v":""},{"$f":"IF(Liste_pièces!J599=\"\",\"\",Liste_pièces!J599)","v":""},{"$f":"IF(Liste_pièces!K599=\"\",\"\",Liste_pièces!K599)","v":""},{"$f":"IF(Liste_pièces!L599=\"\",\"\",Liste_pièces!L599)","v":""},{"$f":"IF(Liste_pièces!M599=\"\",\"\",Liste_pièces!M599)","v":""},0,1,0]
[{"$f":"IF(Liste_pièces!A600=\"\",\"ZZZ\",Liste_pièces!A600)","v":"ZZZ"},{"$f":"IF(Liste_pièces!B600=\"\",\"ZZZ\",Liste_pièces!B600)","v":"ZZZ"},{"$f":"IF(Liste_pièces!C600=\"\",\"\",Liste_pièces!C600)","v":""},{"$f":"IF(Liste_pièces!D600=\"\",\"\",Liste_pièces!D600)","v":""},{"$f":"IF(Liste_pièces!E600=\"\",\"\",Liste_pièces!E600)","v":""},{"$f":"IF(Liste_pièces!F600=\"\",\"\",Liste_pièces!F600)","v":""},{"$f":"IF(Liste_pièces!G600=\"\",\"\",Liste_pièces!G600)","v":""},{"$f":"IF(Liste_pièces!H600=\"\",\"\",Liste_pièces!H600)","v":""},{"$f":"IF(Liste_pièces!I600=\"\",\"\",Liste_pièces!I600)","v":""},{"$f":"IF(Liste_pièces!J600=\"\",\"\",Liste_pièces!J600)","v":""},{"$f":"IF(Liste_pièces!K600=\"\",\"\",Liste_pièces!K600)","v":""},{"$f":"IF(Liste_pièces!L600=\"\",\"\",Liste_pièces!L600)","v":""},{"$f":"IF(Liste_pièces!M600=\"\",\"\",Liste_pièces!M600)","v":""},0,1,0]
[{"$f":"IF(Liste_pièces!A601=\"\",\"ZZZ\",Liste_pièces!A601)","v":"ZZZ"},{"$f":"IF(Liste_pièces!B601=\"\",\"ZZZ\",Liste_pièces!B601)","v":"ZZZ"},{"$f":"IF(Liste_pièces!C601=\"\",\"\",Liste_pièces!C601)","v":""},{"$f":"IF(Liste_pièces!D601=\"\",\"\",Liste_pièces!D601)","v":""},{"$f":"IF(Liste_pièces!E601=\"\",\"\",Liste_pièces!E601)","v":""},{"$f":"IF(Liste_pièces!F601=\"\",\"\",Liste_pièces!F601)","v":""},{"$f":"IF(Liste_pièces!G601=\"\",\"\",Liste_pièces!G601)","v":""},{"$f":"IF(Liste_pièces!H601=\"\",\"\",Liste_pièces!H601)","v":""},{"$f":"IF(Liste_pièces!I601=\"\",\"\",Liste_pièces!I601)","v":""},{"$f":"IF(Liste_pièces!J601=\"\",\"\",Liste_pièces!J601)","v":""},{"$f":"IF(Liste_pièces!K601=\"\",\"\",Liste_pièces!K601)","v":""},{"$f":"IF(Liste_pièces!L601=\"\",\"\",Liste_pièces!L601)","v":""},{"$f":"IF(Liste_pièces!M601=\"\",\"\",Liste_pièces!M601)","v":""},0,1,0]
[{"$f":"IF(Liste_pièces!A602=\"\",\"ZZZ\",Liste_pièces!A602)","v":"ZZZ"},{"$f":"IF(Liste_pièces!B602=\"\",\"ZZZ\",Liste_pièces!B602)","v":"ZZZ"},{"$f":"IF(Liste_pièces!C602=\"\",\"\",Liste_pièces!C602)","v":""},{"$f":"IF(Liste_pièces!D602=\"\",\"\",Liste_pièces!D602)","v":""},{"$f":"IF(Liste_pièces!E602=\"\",\"\",Liste_pièces!E602)","v":""},{"$f":"IF(Liste_pièces!F602=\"\",\"\",Liste_pièces!F602)","v":""},{"$f":"IF(Liste_pièces!G602=\"\",\"\",Liste_pièces!G602)","v":""},{"$f":"IF(Liste_pièces!H602=\"\",\"\",Liste_pièces!H602)","v":""},{"$f":"IF(Liste_pièces!I602=\"\",\"\",Liste_pièces!I602)","v":""},{"$f":"IF(Liste_pièces!J602=\"\",\"\",Liste_pièces!J602)","v":""},{"$f":"IF(Liste_pièces!K602=\"\",\"\",Liste_pièces!K602)","v":""},{"$f":"IF(Liste_pièces!L602=\"\",\"\",Liste_pièces!L602)","v":""},{"$f":"IF(Liste_pièces!M602=\"\",\"\",Liste_pièces!M602)","v":""},0,1,0]
[{"$f":"IF(Liste_pièces!A603=\"\",\"ZZZ\",Liste_pièces!A603)","v":"ZZZ"},{"$f":"IF(Liste_pièces!B603=\"\",\"ZZZ\",Liste_pièces!B603)","v":"ZZZ"},{"$f":"IF(Liste_pièces!C603=\"\",\"\",Liste_pièces!C603)","v":""},{"$f":"IF(Liste_pièces!D603=\"\",\"\",Liste_pièces!D603)","v":""},{"$f":"IF(Liste_pièces!E603=\"\",\"\",Liste_pièces!E603)","v":""},{"$f":"IF(Liste_pièces!F603=\"\",\"\",Liste_pièces!F603)","v":""},{"$f":"IF(Liste_pièces!G603=\"\",\"\",Liste_pièces!G603)","v":""},{"$f":"IF(Liste_pièces!H603=\"\",\"\",Liste_pièces!H603)","v":""},{"$f":"IF(Liste_pièces!I603=\"\",\"\",Liste_pièces!I603)","v":""},{"$f":"IF(Liste_pièces!J603=\"\",\"\",Liste_pièces!J603)","v":""},{"$f":"IF(Liste_pièces!K603=\"\",\"\",Liste_pièces!K603)","v":""},{"$f":"IF(Liste_pièces!L603=\"\",\"\",Liste_pièces!L603)","v":""},{"$f":"IF(Liste_pièces!M603=\"\",\"\",Liste_pièces!M603)","v":""},0,1,0]
[{"$f":"IF(Liste_pièces!A604=\"\",\"ZZZ\",Liste_pièces!A604)","v":"ZZZ"},{"$f":"IF(Liste_pièces!B604=\"\",\"ZZZ\",Liste_pièces!B604)","v":"ZZZ"},{"$f":"IF(Liste_pièces!C604=\"\",\"\",Liste_pièces!C604)","v":""},{"$f":"IF(Liste_pièces!D604=\"\",\"\",Liste_pièces!D604)","v":""},{"$f":"IF(Liste_pièces!E604=\"\",\"\",Liste_pièces!E604)","v":""},{"$f":"IF(Liste_pièces!F604=\"\",\"\",Liste_pièces!F604)","v":""},{"$f":"IF(Liste_pièces!G604=\"\",\"\",Liste_pièces!G604)","v":""},{"$f":"IF(Liste_pièces!H604=\"\",\"\",Liste_pièces!H604)","v":""},{"$f":"IF(Liste_pièces!I604=\"\",\"\",Liste_pièces!I604)","v":""},{"$f":"IF(Liste_pièces!J604=\"\",\"\",Liste_pièces!J604)","v":""},{"$f":"IF(Liste_pièces!K604=\"\",\"\",Liste_pièces!K604)","v":""},{"$f":"IF(Liste_pièces!L604=\"\",\"\",Liste_pièces!L604)","v":""},{"$f":"IF(Liste_pièces!M604=\"\",\"\",Liste_pièces!M604)","v":""},0,1,0]
[{"$f":"IF(Liste_pièces!A605=\"\",\"ZZZ\",Liste_pièces!A605)","v":"ZZZ"},{"$f":"IF(Liste_pièces!B605=\"\",\"ZZZ\",Liste_pièces!B605)","v":"ZZZ"},{"$f":"IF(Liste_pièces!C605=\"\",\"\",Liste_pièces!C605)","v":""},{"$f":"IF(Liste_pièces!D605=\"\",\"\",Liste_pièces!D605)","v":""},{"$f":"IF(Liste_pièces!E605=\"\",\"\",Liste_pièces!E605)","v":""},{"$f":"IF(Liste_pièces!F605=\"\",\"\",Liste_pièces!F605)","v":""},{"$f":"IF(Liste_pièces!G605=\"\",\"\",Liste_pièces!G605)","v":""},{"$f":"IF(Liste_pièces!H605=\"\",\"\",Liste_pièces!H605)","v":""},{"$f":"IF(Liste_pièces!I605=\"\",\"\",Liste_pièces!I605)","v":""},{"$f":"IF(Liste_pièces!J605=\"\",\"\",Liste_pièces!J605)","v":""},{"$f":"IF(Liste_pièces!K605=\"\",\"\",Liste_pièces!K605)","v":""},{"$f":"IF(Liste_pièces!L605=\"\",\"\",Liste_pièces!L605)","v":""},{"$f":"IF(Liste_pièces!M605=\"\",\"\",Liste_pièces!M605)","v":""},0,1,0]
[{"$f":"IF(Liste_pièces!A606=\"\",\"ZZZ\",Liste_pièces!A606)","v":"ZZZ"},{"$f":"IF(Liste_pièces!B606=\"\",\"ZZZ\",Liste_pièces!B606)","v":"ZZZ"},{"$f":"IF(Liste_pièces!C606=\"\",\"\",Liste_pièces!C606)","v":""},{"$f":"IF(Liste_pièces!D606=\"\",\"\",Liste_pièces!D606)","v":""},{"$f":"IF(Liste_pièces!E606=\"\",\"\",Liste_pièces!E606)","v":""},{"$f":"IF(Liste_pièces!F606=\"\",\"\",Liste_pièces!F606)","v":""},{"$f":"IF(Liste_pièces!G606=\"\",\"\",Liste_pièces!G606)","v":""},{"$f":"IF(Liste_pièces!H606=\"\",\"\",Liste_pièces!H606)","v":""},{"$f":"IF(Liste_pièces!I606=\"\",\"\",Liste_pièces!I606)","v":""},{"$f":"IF(Liste_pièces!J606=\"\",\"\",Liste_pièces!J606)","v":""},{"$f":"IF(Liste_pièces!K606=\"\",\"\",Liste_pièces!K606)","v":""},{"$f":"IF(Liste_pièces!L606=\"\",\"\",Liste_pièces!L606)","v":""},{"$f":"IF(Liste_pièces!M606=\"\",\"\",Liste_pièces!M606)","v":""},0,1,0]
[{"$f":"IF(Liste_pièces!A607=\"\",\"ZZZ\",Liste_pièces!A607)","v":"ZZZ"},{"$f":"IF(Liste_pièces!B607=\"\",\"ZZZ\",Liste_pièces!B607)","v":"ZZZ"},{"$f":"IF(Liste_pièces!C607=\"\",\"\",Liste_pièces!C607)","v":""},{"$f":"IF(Liste_pièces!D607=\"\",\"\",Liste_pièces!D607)","v":""},{"$f":"IF(Liste_pièces!E607=\"\",\"\",Liste_pièces!E607)","v":""},{"$f":"IF(Liste_pièces!F607=\"\",\"\",Liste_pièces!F607)","v":""},{"$f":"IF(Liste_pièces!G607=\"\",\"\",Liste_pièces!G607)","v":""},{"$f":"IF(Liste_pièces!H607=\"\",\"\",Liste_pièces!H607)","v":""},{"$f":"IF(Liste_pièces!I607=\"\",\"\",Liste_pièces!I607)","v":""},{"$f":"IF(Liste_pièces!J607=\"\",\"\",Liste_pièces!J607)","v":""},{"$f":"IF(Liste_pièces!K607=\"\",\"\",Liste_pièces!K607)","v":""},{"$f":"IF(Liste_pièces!L607=\"\",\"\",Liste_pièces!L607)","v":""},{"$f":"IF(Liste_pièces!M607=\"\",\"\",Liste_pièces!M607)","v":""},0,1,0]
[{"$f":"IF(Liste_pièces!A608=\"\",\"ZZZ\",Liste_pièces!A608)","v":"ZZZ"},{"$f":"IF(Liste_pièces!B608=\"\",\"ZZZ\",Liste_pièces!B608)","v":"ZZZ"},{"$f":"IF(Liste_pièces!C608=\"\",\"\",Liste_pièces!C608)","v":""},{"$f":"IF(Liste_pièces!D608=\"\",\"\",Liste_pièces!D608)","v":""},{"$f":"IF(Liste_pièces!E608=\"\",\"\",Liste_pièces!E608)","v":""},{"$f":"IF(Liste_pièces!F608=\"\",\"\",Liste_pièces!F608)","v":""},{"$f":"IF(Liste_pièces!G608=\"\",\"\",Liste_pièces!G608)","v":""},{"$f":"IF(Liste_pièces!H608=\"\",\"\",Liste_pièces!H608)","v":""},{"$f":"IF(Liste_pièces!I608=\"\",\"\",Liste_pièces!I608)","v":""},{"$f":"IF(Liste_pièces!J608=\"\",\"\",Liste_pièces!J608)","v":""},{"$f":"IF(Liste_pièces!K608=\"\",\"\",Liste_pièces!K608)","v":""},{"$f":"IF(Liste_pièces!L608=\"\",\"\",Liste_pièces!L608)","v":""},{"$f":"IF(Liste_pièces!M608=\"\",\"\",Liste_pièces!M608)","v":""},0,1,0]
[{"$f":"IF(Liste_pièces!A609=\"\",\"ZZZ\",Liste_pièces!A609)","v":"ZZZ"},{"$f":"IF(Liste_pièces!B609=\"\",\"ZZZ\",Liste_pièces!B609)","v":"ZZZ"},{"$f":"IF(Liste_pièces!C609=\"\",\"\",Liste_pièces!C609)","v":""},{"$f":"IF(Liste_pièces!D609=\"\",\"\",Liste_pièces!D609)","v":""},{"$f":"IF(Liste_pièces!E609=\"\",\"\",Liste_pièces!E609)","v":""},{"$f":"IF(Liste_pièces!F609=\"\",\"\",Liste_pièces!F609)","v":""},{"$f":"IF(Liste_pièces!G609=\"\",\"\",Liste_pièces!G609)","v":""},{"$f":"IF(Liste_pièces!H609=\"\",\"\",Liste_pièces!H609)","v":""},{"$f":"IF(Liste_pièces!I609=\"\",\"\",Liste_pièces!I609)","v":""},{"$f":"IF(Liste_pièces!J609=\"\",\"\",Liste_pièces!J609)","v":""},{"$f":"IF(Liste_pièces!K609=\"\",\"\",Liste_pièces!K609)","v":""},{"$f":"IF(Liste_pièces!L609=\"\",\"\",Liste_pièces!L609)","v":""},{"$f":"IF(Liste_pièces!M609=\"\",\"\",Liste_pièces!M609)","v":""},0,1,0]
[{"$f":"IF(Liste_pièces!A610=\"\",\"ZZZ\",Liste_pièces!A610)","v":"ZZZ"},{"$f":"IF(Liste_pièces!B610=\"\",\"ZZZ\",Liste_pièces!B610)","v":"ZZZ"},{"$f":"IF(Liste_pièces!C610=\"\",\"\",Liste_pièces!C610)","v":""},{"$f":"IF(Liste_pièces!D610=\"\",\"\",Liste_pièces!D610)","v":""},{"$f":"IF(Liste_pièces!E610=\"\",\"\",Liste_pièces!E610)","v":""},{"$f":"IF(Liste_pièces!F610=\"\",\"\",Liste_pièces!F610)","v":""},{"$f":"IF(Liste_pièces!G610=\"\",\"\",Liste_pièces!G610)","v":""},{"$f":"IF(Liste_pièces!H610=\"\",\"\",Liste_pièces!H610)","v":""},{"$f":"IF(Liste_pièces!I610=\"\",\"\",Liste_pièces!I610)","v":""},{"$f":"IF(Liste_pièces!J610=\"\",\"\",Liste_pièces!J610)","v":""},{"$f":"IF(Liste_pièces!K610=\"\",\"\",Liste_pièces!K610)","v":""},{"$f":"IF(Liste_pièces!L610=\"\",\"\",Liste_pièces!L610)","v":""},{"$f":"IF(Liste_pièces!M610=\"\",\"\",Liste_pièces!M610)","v":""},0,1,0]
[{"$f":"IF(Liste_pièces!A611=\"\",\"ZZZ\",Liste_pièces!A611)","v":"ZZZ"},{"$f":"IF(Liste_pièces!B611=\"\",\"ZZZ\",Liste_pièces!B611)","v":"ZZZ"},{"$f":"IF(Liste_pièces!C611=\"\",\"\",Liste_pièces!C611)","v":""},{"$f":"IF(Liste_pièces!D611=\"\",\"\",Liste_pièces!D611)","v":""},{"$f":"IF(Liste_pièces!E611=\"\",\"\",Liste_pièces!E611)","v":""},{"$f":"IF(Liste_pièces!F611=\"\",\"\",Liste_pièces!F611)","v":""},{"$f":"IF(Liste_pièces!G611=\"\",\"\",Liste_pièces!G611)","v":""},{"$f":"IF(Liste_pièces!H611=\"\",\"\",Liste_pièces!H611)","v":""},{"$f":"IF(Liste_pièces!I611=\"\",\"\",Liste_pièces!I611)","v":""},{"$f":"IF(Liste_pièces!J611=\"\",\"\",Liste_pièces!J611)","v":""},{"$f":"IF(Liste_pièces!K611=\"\",\"\",Liste_pièces!K611)","v":""},{"$f":"IF(Liste_pièces!L611=\"\",\"\",Liste_pièces!L611)","v":""},{"$f":"IF(Liste_pièces!M611=\"\",\"\",Liste_pièces!M611)","v":""},0,1,0]
[{"$f":"IF(Liste_pièces!A612=\"\",\"ZZZ\",Liste_pièces!A612)","v":"ZZZ"},{"$f":"IF(Liste_pièces!B612=\"\",\"ZZZ\",Liste_pièces!B612)","v":"ZZZ"},{"$f":"IF(Liste_pièces!C612=\"\",\"\",Liste_pièces!C612)","v":""},{"$f":"IF(Liste_pièces!D612=\"\",\"\",Liste_pièces!D612)","v":""},{"$f":"IF(Liste_pièces!E612=\"\",\"\",Liste_pièces!E612)","v":""},{"$f":"IF(Liste_pièces!F612=\"\",\"\",Liste_pièces!F612)","v":""},{"$f":"IF(Liste_pièces!G612=\"\",\"\",Liste_pièces!G612)","v":""},{"$f":"IF(Liste_pièces!H612=\"\",\"\",Liste_pièces!H612)","v":""},{"$f":"IF(Liste_pièces!I612=\"\",\"\",Liste_pièces!I612)","v":""},{"$f":"IF(Liste_pièces!J612=\"\",\"\",Liste_pièces!J612)","v":""},{"$f":"IF(Liste_pièces!K612=\"\",\"\",Liste_pièces!K612)","v":""},{"$f":"IF(Liste_pièces!L612=\"\",\"\",Liste_pièces!L612)","v":""},{"$f":"IF(Liste_pièces!M612=\"\",\"\",Liste_pièces!M612)","v":""},0,1,0]
[{"$f":"IF(Liste_pièces!A613=\"\",\"ZZZ\",Liste_pièces!A613)","v":"ZZZ"},{"$f":"IF(Liste_pièces!B613=\"\",\"ZZZ\",Liste_pièces!B613)","v":"ZZZ"},{"$f":"IF(Liste_pièces!C613=\"\",\"\",Liste_pièces!C613)","v":""},{"$f":"IF(Liste_pièces!D613=\"\",\"\",Liste_pièces!D613)","v":""},{"$f":"IF(Liste_pièces!E613=\"\",\"\",Liste_pièces!E613)","v":""},{"$f":"IF(Liste_pièces!F613=\"\",\"\",Liste_pièces!F613)","v":""},{"$f":"IF(Liste_pièces!G613=\"\",\"\",Liste_pièces!G613)","v":""},{"$f":"IF(Liste_pièces!H613=\"\",\"\",Liste_pièces!H613)","v":""},{"$f":"IF(Liste_pièces!I613=\"\",\"\",Liste_pièces!I613)","v":""},{"$f":"IF(Liste_pièces!J613=\"\",\"\",Liste_pièces!J613)","v":""},{"$f":"IF(Liste_pièces!K613=\"\",\"\",Liste_pièces!K613)","v":""},{"$f":"IF(Liste_pièces!L613=\"\",\"\",Liste_pièces!L613)","v":""},{"$f":"IF(Liste_pièces!M613=\"\",\"\",Liste_pièces!M613)","v":""},0,1,0]
[{"$f":"IF(Liste_pièces!A614=\"\",\"ZZZ\",Liste_pièces!A614)","v":"ZZZ"},{"$f":"IF(Liste_pièces!B614=\"\",\"ZZZ\",Liste_pièces!B614)","v":"ZZZ"},{"$f":"IF(Liste_pièces!C614=\"\",\"\",Liste_pièces!C614)","v":""},{"$f":"IF(Liste_pièces!D614=\"\",\"\",Liste_pièces!D614)","v":""},{"$f":"IF(Liste_pièces!E614=\"\",\"\",Liste_pièces!E614)","v":""},{"$f":"IF(Liste_pièces!F614=\"\",\"\",Liste_pièces!F614)","v":""},{"$f":"IF(Liste_pièces!G614=\"\",\"\",Liste_pièces!G614)","v":""},{"$f":"IF(Liste_pièces!H614=\"\",\"\",Liste_pièces!H614)","v":""},{"$f":"IF(Liste_pièces!I614=\"\",\"\",Liste_pièces!I614)","v":""},{"$f":"IF(Liste_pièces!J614=\"\",\"\",Liste_pièces!J614)","v":""},{"$f":"IF(Liste_pièces!K614=\"\",\"\",Liste_pièces!K614)","v":""},{"$f":"IF(Liste_pièces!L614=\"\",\"\",Liste_pièces!L614)","v":""},{"$f":"IF(Liste_pièces!M614=\"\",\"\",Liste_pièces!M614)","v":""},0,1,0]
[{"$f":"IF(Liste_pièces!A615=\"\",\"ZZZ\",Liste_pièces!A615)","v":"ZZZ"},{"$f":"IF(Liste_pièces!B615=\"\",\"ZZZ\",Liste_pièces!B615)","v":"ZZZ"},{"$f":"IF(Liste_pièces!C615=\"\",\"\",Liste_pièces!C615)","v":""},{"$f":"IF(Liste_pièces!D615=\"\",\"\",Liste_pièces!D615)","v":""},{"$f":"IF(Liste_pièces!E615=\"\",\"\",Liste_pièces!E615)","v":""},{"$f":"IF(Liste_pièces!F615=\"\",\"\",Liste_pièces!F615)","v":""},{"$f":"IF(Liste_pièces!G615=\"\",\"\",Liste_pièces!G615)","v":""},{"$f":"IF(Liste_pièces!H615=\"\",\"\",Liste_pièces!H615)","v":""},{"$f":"IF(Liste_pièces!I615=\"\",\"\",Liste_pièces!I615)","v":""},{"$f":"IF(Liste_pièces!J615=\"\",\"\",Liste_pièces!J615)","v":""},{"$f":"IF(Liste_pièces!K615=\"\",\"\",Liste_pièces!K615)","v":""},{"$f":"IF(Liste_pièces!L615=\"\",\"\",Liste_pièces!L615)","v":""},{"$f":"IF(Liste_pièces!M615=\"\",\"\",Liste_pièces!M615)","v":""},0,1,0]
[{"$f":"IF(Liste_pièces!A616=\"\",\"ZZZ\",Liste_pièces!A616)","v":"ZZZ"},{"$f":"IF(Liste_pièces!B616=\"\",\"ZZZ\",Liste_pièces!B616)","v":"ZZZ"},{"$f":"IF(Liste_pièces!C616=\"\",\"\",Liste_pièces!C616)","v":""},{"$f":"IF(Liste_pièces!D616=\"\",\"\",Liste_pièces!D616)","v":""},{"$f":"IF(Liste_pièces!E616=\"\",\"\",Liste_pièces!E616)","v":""},{"$f":"IF(Liste_pièces!F616=\"\",\"\",Liste_pièces!F616)","v":""},{"$f":"IF(Liste_pièces!G616=\"\",\"\",Liste_pièces!G616)","v":""},{"$f":"IF(Liste_pièces!H616=\"\",\"\",Liste_pièces!H616)","v":""},{"$f":"IF(Liste_pièces!I616=\"\",\"\",Liste_pièces!I616)","v":""},{"$f":"IF(Liste_pièces!J616=\"\",\"\",Liste_pièces!J616)","v":""},{"$f":"IF(Liste_pièces!K616=\"\",\"\",Liste_pièces!K616)","v":""},{"$f":"IF(Liste_pièces!L616=\"\",\"\",Liste_pièces!L616)","v":""},{"$f":"IF(Liste_pièces!M616=\"\",\"\",Liste_pièces!M616)","v":""},0,1,0]
[{"$f":"IF(Liste_pièces!A617=\"\",\"ZZZ\",Liste_pièces!A617)","v":"ZZZ"},{"$f":"IF(Liste_pièces!B617=\"\",\"ZZZ\",Liste_pièces!B617)","v":"ZZZ"},{"$f":"IF(Liste_pièces!C617=\"\",\"\",Liste_pièces!C617)","v":""},{"$f":"IF(Liste_pièces!D617=\"\",\"\",Liste_pièces!D617)","v":""},{"$f":"IF(Liste_pièces!E617=\"\",\"\",Liste_pièces!E617)","v":""},{"$f":"IF(Liste_pièces!F617=\"\",\"\",Liste_pièces!F617)","v":""},{"$f":"IF(Liste_pièces!G617=\"\",\"\",Liste_pièces!G617)","v":""},{"$f":"IF(Liste_pièces!H617=\"\",\"\",Liste_pièces!H617)","v":""},{"$f":"IF(Liste_pièces!I617=\"\",\"\",Liste_pièces!I617)","v":""},{"$f":"IF(Liste_pièces!J617=\"\",\"\",Liste_pièces!J617)","v":""},{"$f":"IF(Liste_pièces!K617=\"\",\"\",Liste_pièces!K617)","v":""},{"$f":"IF(Liste_pièces!L617=\"\",\"\",Liste_pièces!L617)","v":""},{"$f":"IF(Liste_pièces!M617=\"\",\"\",Liste_pièces!M617)","v":""},0,1,0]
[{"$f":"IF(Liste_pièces!A618=\"\",\"ZZZ\",Liste_pièces!A618)","v":"ZZZ"},{"$f":"IF(Liste_pièces!B618=\"\",\"ZZZ\",Liste_pièces!B618)","v":"ZZZ"},{"$f":"IF(Liste_pièces!C618=\"\",\"\",Liste_pièces!C618)","v":""},{"$f":"IF(Liste_pièces!D618=\"\",\"\",Liste_pièces!D618)","v":""},{"$f":"IF(Liste_pièces!E618=\"\",\"\",Liste_pièces!E618)","v":""},{"$f":"IF(Liste_pièces!F618=\"\",\"\",Liste_pièces!F618)","v":""},{"$f":"IF(Liste_pièces!G618=\"\",\"\",Liste_pièces!G618)","v":""},{"$f":"IF(Liste_pièces!H618=\"\",\"\",Liste_pièces!H618)","v":""},{"$f":"IF(Liste_pièces!I618=\"\",\"\",Liste_pièces!I618)","v":""},{"$f":"IF(Liste_pièces!J618=\"\",\"\",Liste_pièces!J618)","v":""},{"$f":"IF(Liste_pièces!K618=\"\",\"\",Liste_pièces!K618)","v":""},{"$f":"IF(Liste_pièces!L618=\"\",\"\",Liste_pièces!L618)","v":""},{"$f":"IF(Liste_pièces!M618=\"\",\"\",Liste_pièces!M618)","v":""},0,{"$f":"IF(N618*37=SUM(N581:N617),1,0)","v":1},0]
[{"$f":"IF(Liste_pièces!A619=\"\",\"ZZZ\",Liste_pièces!A619)","v":"ZZZ"},{"$f":"IF(Liste_pièces!B619=\"\",\"ZZZ\",Liste_pièces!B619)","v":"ZZZ"},{"$f":"IF(Liste_pièces!C619=\"\",\"\",Liste_pièces!C619)","v":""},{"$f":"IF(Liste_pièces!D619=\"\",\"\",Liste_pièces!D619)","v":""},{"$f":"IF(Liste_pièces!E619=\"\",\"\",Liste_pièces!E619)","v":""},{"$f":"IF(Liste_pièces!F619=\"\",\"\",Liste_pièces!F619)","v":""},{"$f":"IF(Liste_pièces!G619=\"\",\"\",Liste_pièces!G619)","v":""},{"$f":"IF(Liste_pièces!H619=\"\",\"\",Liste_pièces!H619)","v":""},{"$f":"IF(Liste_pièces!I619=\"\",\"\",Liste_pièces!I619)","v":""},{"$f":"IF(Liste_pièces!J619=\"\",\"\",Liste_pièces!J619)","v":""},{"$f":"IF(Liste_pièces!K619=\"\",\"\",Liste_pièces!K619)","v":""},{"$f":"IF(Liste_pièces!L619=\"\",\"\",Liste_pièces!L619)","v":""},{"$f":"IF(Liste_pièces!M619=\"\",\"\",Liste_pièces!M619)","v":""},0,1,0]
[{"$f":"IF(Liste_pièces!A620=\"\",\"ZZZ\",Liste_pièces!A620)","v":"ZZZ"},{"$f":"IF(Liste_pièces!B620=\"\",\"ZZZ\",Liste_pièces!B620)","v":"ZZZ"},{"$f":"IF(Liste_pièces!C620=\"\",\"\",Liste_pièces!C620)","v":""},{"$f":"IF(Liste_pièces!D620=\"\",\"\",Liste_pièces!D620)","v":""},{"$f":"IF(Liste_pièces!E620=\"\",\"\",Liste_pièces!E620)","v":""},{"$f":"IF(Liste_pièces!F620=\"\",\"\",Liste_pièces!F620)","v":""},{"$f":"IF(Liste_pièces!G620=\"\",\"\",Liste_pièces!G620)","v":""},{"$f":"IF(Liste_pièces!H620=\"\",\"\",Liste_pièces!H620)","v":""},{"$f":"IF(Liste_pièces!I620=\"\",\"\",Liste_pièces!I620)","v":""},{"$f":"IF(Liste_pièces!J620=\"\",\"\",Liste_pièces!J620)","v":""},{"$f":"IF(Liste_pièces!K620=\"\",\"\",Liste_pièces!K620)","v":""},{"$f":"IF(Liste_pièces!L620=\"\",\"\",Liste_pièces!L620)","v":""},{"$f":"IF(Liste_pièces!M620=\"\",\"\",Liste_pièces!M620)","v":""},0,1,0]
[{"$f":"IF(Liste_pièces!A621=\"\",\"ZZZ\",Liste_pièces!A621)","v":"ZZZ"},{"$f":"IF(Liste_pièces!B621=\"\",\"ZZZ\",Liste_pièces!B621)","v":"ZZZ"},{"$f":"IF(Liste_pièces!C621=\"\",\"\",Liste_pièces!C621)","v":""},{"$f":"IF(Liste_pièces!D621=\"\",\"\",Liste_pièces!D621)","v":""},{"$f":"IF(Liste_pièces!E621=\"\",\"\",Liste_pièces!E621)","v":""},{"$f":"IF(Liste_pièces!F621=\"\",\"\",Liste_pièces!F621)","v":""},{"$f":"IF(Liste_pièces!G621=\"\",\"\",Liste_pièces!G621)","v":""},{"$f":"IF(Liste_pièces!H621=\"\",\"\",Liste_pièces!H621)","v":""},{"$f":"IF(Liste_pièces!I621=\"\",\"\",Liste_pièces!I621)","v":""},{"$f":"IF(Liste_pièces!J621=\"\",\"\",Liste_pièces!J621)","v":""},{"$f":"IF(Liste_pièces!K621=\"\",\"\",Liste_pièces!K621)","v":""},{"$f":"IF(Liste_pièces!L621=\"\",\"\",Liste_pièces!L621)","v":""},{"$f":"IF(Liste_pièces!M621=\"\",\"\",Liste_pièces!M621)","v":""},0,1,0]
[{"$f":"IF(Liste_pièces!A622=\"\",\"ZZZ\",Liste_pièces!A622)","v":"ZZZ"},{"$f":"IF(Liste_pièces!B622=\"\",\"ZZZ\",Liste_pièces!B622)","v":"ZZZ"},{"$f":"IF(Liste_pièces!C622=\"\",\"\",Liste_pièces!C622)","v":""},{"$f":"IF(Liste_pièces!D622=\"\",\"\",Liste_pièces!D622)","v":""},{"$f":"IF(Liste_pièces!E622=\"\",\"\",Liste_pièces!E622)","v":""},{"$f":"IF(Liste_pièces!F622=\"\",\"\",Liste_pièces!F622)","v":""},{"$f":"IF(Liste_pièces!G622=\"\",\"\",Liste_pièces!G622)","v":""},{"$f":"IF(Liste_pièces!H622=\"\",\"\",Liste_pièces!H622)","v":""},{"$f":"IF(Liste_pièces!I622=\"\",\"\",Liste_pièces!I622)","v":""},{"$f":"IF(Liste_pièces!J622=\"\",\"\",Liste_pièces!J622)","v":""},{"$f":"IF(Liste_pièces!K622=\"\",\"\",Liste_pièces!K622)","v":""},{"$f":"IF(Liste_pièces!L622=\"\",\"\",Liste_pièces!L622)","v":""},{"$f":"IF(Liste_pièces!M622=\"\",\"\",Liste_pièces!M622)","v":""},0,1,0]
[{"$f":"IF(Liste_pièces!A623=\"\",\"ZZZ\",Liste_pièces!A623)","v":"ZZZ"},{"$f":"IF(Liste_pièces!B623=\"\",\"ZZZ\",Liste_pièces!B623)","v":"ZZZ"},{"$f":"IF(Liste_pièces!C623=\"\",\"\",Liste_pièces!C623)","v":""},{"$f":"IF(Liste_pièces!D623=\"\",\"\",Liste_pièces!D623)","v":""},{"$f":"IF(Liste_pièces!E623=\"\",\"\",Liste_pièces!E623)","v":""},{"$f":"IF(Liste_pièces!F623=\"\",\"\",Liste_pièces!F623)","v":""},{"$f":"IF(Liste_pièces!G623=\"\",\"\",Liste_pièces!G623)","v":""},{"$f":"IF(Liste_pièces!H623=\"\",\"\",Liste_pièces!H623)","v":""},{"$f":"IF(Liste_pièces!I623=\"\",\"\",Liste_pièces!I623)","v":""},{"$f":"IF(Liste_pièces!J623=\"\",\"\",Liste_pièces!J623)","v":""},{"$f":"IF(Liste_pièces!K623=\"\",\"\",Liste_pièces!K623)","v":""},{"$f":"IF(Liste_pièces!L623=\"\",\"\",Liste_pièces!L623)","v":""},{"$f":"IF(Liste_pièces!M623=\"\",\"\",Liste_pièces!M623)","v":""},0,1,0]
[{"$f":"IF(Liste_pièces!A624=\"\",\"ZZZ\",Liste_pièces!A624)","v":"ZZZ"},{"$f":"IF(Liste_pièces!B624=\"\",\"ZZZ\",Liste_pièces!B624)","v":"ZZZ"},{"$f":"IF(Liste_pièces!C624=\"\",\"\",Liste_pièces!C624)","v":""},{"$f":"IF(Liste_pièces!D624=\"\",\"\",Liste_pièces!D624)","v":""},{"$f":"IF(Liste_pièces!E624=\"\",\"\",Liste_pièces!E624)","v":""},{"$f":"IF(Liste_pièces!F624=\"\",\"\",Liste_pièces!F624)","v":""},{"$f":"IF(Liste_pièces!G624=\"\",\"\",Liste_pièces!G624)","v":""},{"$f":"IF(Liste_pièces!H624=\"\",\"\",Liste_pièces!H624)","v":""},{"$f":"IF(Liste_pièces!I624=\"\",\"\",Liste_pièces!I624)","v":""},{"$f":"IF(Liste_pièces!J624=\"\",\"\",Liste_pièces!J624)","v":""},{"$f":"IF(Liste_pièces!K624=\"\",\"\",Liste_pièces!K624)","v":""},{"$f":"IF(Liste_pièces!L624=\"\",\"\",Liste_pièces!L624)","v":""},{"$f":"IF(Liste_pièces!M624=\"\",\"\",Liste_pièces!M624)","v":""},0,1,0]
[{"$f":"IF(Liste_pièces!A625=\"\",\"ZZZ\",Liste_pièces!A625)","v":"ZZZ"},{"$f":"IF(Liste_pièces!B625=\"\",\"ZZZ\",Liste_pièces!B625)","v":"ZZZ"},{"$f":"IF(Liste_pièces!C625=\"\",\"\",Liste_pièces!C625)","v":""},{"$f":"IF(Liste_pièces!D625=\"\",\"\",Liste_pièces!D625)","v":""},{"$f":"IF(Liste_pièces!E625=\"\",\"\",Liste_pièces!E625)","v":""},{"$f":"IF(Liste_pièces!F625=\"\",\"\",Liste_pièces!F625)","v":""},{"$f":"IF(Liste_pièces!G625=\"\",\"\",Liste_pièces!G625)","v":""},{"$f":"IF(Liste_pièces!H625=\"\",\"\",Liste_pièces!H625)","v":""},{"$f":"IF(Liste_pièces!I625=\"\",\"\",Liste_pièces!I625)","v":""},{"$f":"IF(Liste_pièces!J625=\"\",\"\",Liste_pièces!J625)","v":""},{"$f":"IF(Liste_pièces!K625=\"\",\"\",Liste_pièces!K625)","v":""},{"$f":"IF(Liste_pièces!L625=\"\",\"\",Liste_pièces!L625)","v":""},{"$f":"IF(Liste_pièces!M625=\"\",\"\",Liste_pièces!M625)","v":""},0,1,0]
[{"$f":"IF(Liste_pièces!A626=\"\",\"ZZZ\",Liste_pièces!A626)","v":"ZZZ"},{"$f":"IF(Liste_pièces!B626=\"\",\"ZZZ\",Liste_pièces!B626)","v":"ZZZ"},{"$f":"IF(Liste_pièces!C626=\"\",\"\",Liste_pièces!C626)","v":""},{"$f":"IF(Liste_pièces!D626=\"\",\"\",Liste_pièces!D626)","v":""},{"$f":"IF(Liste_pièces!E626=\"\",\"\",Liste_pièces!E626)","v":""},{"$f":"IF(Liste_pièces!F626=\"\",\"\",Liste_pièces!F626)","v":""},{"$f":"IF(Liste_pièces!G626=\"\",\"\",Liste_pièces!G626)","v":""},{"$f":"IF(Liste_pièces!H626=\"\",\"\",Liste_pièces!H626)","v":""},{"$f":"IF(Liste_pièces!I626=\"\",\"\",Liste_pièces!I626)","v":""},{"$f":"IF(Liste_pièces!J626=\"\",\"\",Liste_pièces!J626)","v":""},{"$f":"IF(Liste_pièces!K626=\"\",\"\",Liste_pièces!K626)","v":""},{"$f":"IF(Liste_pièces!L626=\"\",\"\",Liste_pièces!L626)","v":""},{"$f":"IF(Liste_pièces!M626=\"\",\"\",Liste_pièces!M626)","v":""},0,1,0]
[{"$f":"IF(Liste_pièces!A627=\"\",\"ZZZ\",Liste_pièces!A627)","v":"ZZZ"},{"$f":"IF(Liste_pièces!B627=\"\",\"ZZZ\",Liste_pièces!B627)","v":"ZZZ"},{"$f":"IF(Liste_pièces!C627=\"\",\"\",Liste_pièces!C627)","v":""},{"$f":"IF(Liste_pièces!D627=\"\",\"\",Liste_pièces!D627)","v":""},{"$f":"IF(Liste_pièces!E627=\"\",\"\",Liste_pièces!E627)","v":""},{"$f":"IF(Liste_pièces!F627=\"\",\"\",Liste_pièces!F627)","v":""},{"$f":"IF(Liste_pièces!G627=\"\",\"\",Liste_pièces!G627)","v":""},{"$f":"IF(Liste_pièces!H627=\"\",\"\",Liste_pièces!H627)","v":""},{"$f":"IF(Liste_pièces!I627=\"\",\"\",Liste_pièces!I627)","v":""},{"$f":"IF(Liste_pièces!J627=\"\",\"\",Liste_pièces!J627)","v":""},{"$f":"IF(Liste_pièces!K627=\"\",\"\",Liste_pièces!K627)","v":""},{"$f":"IF(Liste_pièces!L627=\"\",\"\",Liste_pièces!L627)","v":""},{"$f":"IF(Liste_pièces!M627=\"\",\"\",Liste_pièces!M627)","v":""},0,1,0]
[{"$f":"IF(Liste_pièces!A628=\"\",\"ZZZ\",Liste_pièces!A628)","v":"ZZZ"},{"$f":"IF(Liste_pièces!B628=\"\",\"ZZZ\",Liste_pièces!B628)","v":"ZZZ"},{"$f":"IF(Liste_pièces!C628=\"\",\"\",Liste_pièces!C628)","v":""},{"$f":"IF(Liste_pièces!D628=\"\",\"\",Liste_pièces!D628)","v":""},{"$f":"IF(Liste_pièces!E628=\"\",\"\",Liste_pièces!E628)","v":""},{"$f":"IF(Liste_pièces!F628=\"\",\"\",Liste_pièces!F628)","v":""},{"$f":"IF(Liste_pièces!G628=\"\",\"\",Liste_pièces!G628)","v":""},{"$f":"IF(Liste_pièces!H628=\"\",\"\",Liste_pièces!H628)","v":""},{"$f":"IF(Liste_pièces!I628=\"\",\"\",Liste_pièces!I628)","v":""},{"$f":"IF(Liste_pièces!J628=\"\",\"\",Liste_pièces!J628)","v":""},{"$f":"IF(Liste_pièces!K628=\"\",\"\",Liste_pièces!K628)","v":""},{"$f":"IF(Liste_pièces!L628=\"\",\"\",Liste_pièces!L628)","v":""},{"$f":"IF(Liste_pièces!M628=\"\",\"\",Liste_pièces!M628)","v":""},0,1,0]
[{"$f":"IF(Liste_pièces!A629=\"\",\"ZZZ\",Liste_pièces!A629)","v":"ZZZ"},{"$f":"IF(Liste_pièces!B629=\"\",\"ZZZ\",Liste_pièces!B629)","v":"ZZZ"},{"$f":"IF(Liste_pièces!C629=\"\",\"\",Liste_pièces!C629)","v":""},{"$f":"IF(Liste_pièces!D629=\"\",\"\",Liste_pièces!D629)","v":""},{"$f":"IF(Liste_pièces!E629=\"\",\"\",Liste_pièces!E629)","v":""},{"$f":"IF(Liste_pièces!F629=\"\",\"\",Liste_pièces!F629)","v":""},{"$f":"IF(Liste_pièces!G629=\"\",\"\",Liste_pièces!G629)","v":""},{"$f":"IF(Liste_pièces!H629=\"\",\"\",Liste_pièces!H629)","v":""},{"$f":"IF(Liste_pièces!I629=\"\",\"\",Liste_pièces!I629)","v":""},{"$f":"IF(Liste_pièces!J629=\"\",\"\",Liste_pièces!J629)","v":""},{"$f":"IF(Liste_pièces!K629=\"\",\"\",Liste_pièces!K629)","v":""},{"$f":"IF(Liste_pièces!L629=\"\",\"\",Liste_pièces!L629)","v":""},{"$f":"IF(Liste_pièces!M629=\"\",\"\",Liste_pièces!M629)","v":""},0,1,0]
[{"$f":"IF(Liste_pièces!A630=\"\",\"ZZZ\",Liste_pièces!A630)","v":"ZZZ"},{"$f":"IF(Liste_pièces!B630=\"\",\"ZZZ\",Liste_pièces!B630)","v":"ZZZ"},{"$f":"IF(Liste_pièces!C630=\"\",\"\",Liste_pièces!C630)","v":""},{"$f":"IF(Liste_pièces!D630=\"\",\"\",Liste_pièces!D630)","v":""},{"$f":"IF(Liste_pièces!E630=\"\",\"\",Liste_pièces!E630)","v":""},{"$f":"IF(Liste_pièces!F630=\"\",\"\",Liste_pièces!F630)","v":""},{"$f":"IF(Liste_pièces!G630=\"\",\"\",Liste_pièces!G630)","v":""},{"$f":"IF(Liste_pièces!H630=\"\",\"\",Liste_pièces!H630)","v":""},{"$f":"IF(Liste_pièces!I630=\"\",\"\",Liste_pièces!I630)","v":""},{"$f":"IF(Liste_pièces!J630=\"\",\"\",Liste_pièces!J630)","v":""},{"$f":"IF(Liste_pièces!K630=\"\",\"\",Liste_pièces!K630)","v":""},{"$f":"IF(Liste_pièces!L630=\"\",\"\",Liste_pièces!L630)","v":""},{"$f":"IF(Liste_pièces!M630=\"\",\"\",Liste_pièces!M630)","v":""},0,1,0]
[{"$f":"IF(Liste_pièces!A631=\"\",\"ZZZ\",Liste_pièces!A631)","v":"ZZZ"},{"$f":"IF(Liste_pièces!B631=\"\",\"ZZZ\",Liste_pièces!B631)","v":"ZZZ"},{"$f":"IF(Liste_pièces!C631=\"\",\"\",Liste_pièces!C631)","v":""},{"$f":"IF(Liste_pièces!D631=\"\",\"\",Liste_pièces!D631)","v":""},{"$f":"IF(Liste_pièces!E631=\"\",\"\",Liste_pièces!E631)","v":""},{"$f":"IF(Liste_pièces!F631=\"\",\"\",Liste_pièces!F631)","v":""},{"$f":"IF(Liste_pièces!G631=\"\",\"\",Liste_pièces!G631)","v":""},{"$f":"IF(Liste_pièces!H631=\"\",\"\",Liste_pièces!H631)","v":""},{"$f":"IF(Liste_pièces!I631=\"\",\"\",Liste_pièces!I631)","v":""},{"$f":"IF(Liste_pièces!J631=\"\",\"\",Liste_pièces!J631)","v":""},{"$f":"IF(Liste_pièces!K631=\"\",\"\",Liste_pièces!K631)","v":""},{"$f":"IF(Liste_pièces!L631=\"\",\"\",Liste_pièces!L631)","v":""},{"$f":"IF(Liste_pièces!M631=\"\",\"\",Liste_pièces!M631)","v":""},0,1,0]
[{"$f":"IF(Liste_pièces!A632=\"\",\"ZZZ\",Liste_pièces!A632)","v":"ZZZ"},{"$f":"IF(Liste_pièces!B632=\"\",\"ZZZ\",Liste_pièces!B632)","v":"ZZZ"},{"$f":"IF(Liste_pièces!C632=\"\",\"\",Liste_pièces!C632)","v":""},{"$f":"IF(Liste_pièces!D632=\"\",\"\",Liste_pièces!D632)","v":""},{"$f":"IF(Liste_pièces!E632=\"\",\"\",Liste_pièces!E632)","v":""},{"$f":"IF(Liste_pièces!F632=\"\",\"\",Liste_pièces!F632)","v":""},{"$f":"IF(Liste_pièces!G632=\"\",\"\",Liste_pièces!G632)","v":""},{"$f":"IF(Liste_pièces!H632=\"\",\"\",Liste_pièces!H632)","v":""},{"$f":"IF(Liste_pièces!I632=\"\",\"\",Liste_pièces!I632)","v":""},{"$f":"IF(Liste_pièces!J632=\"\",\"\",Liste_pièces!J632)","v":""},{"$f":"IF(Liste_pièces!K632=\"\",\"\",Liste_pièces!K632)","v":""},{"$f":"IF(Liste_pièces!L632=\"\",\"\",Liste_pièces!L632)","v":""},{"$f":"IF(Liste_pièces!M632=\"\",\"\",Liste_pièces!M632)","v":""},0,1,0]
[{"$f":"IF(Liste_pièces!A633=\"\",\"ZZZ\",Liste_pièces!A633)","v":"ZZZ"},{"$f":"IF(Liste_pièces!B633=\"\",\"ZZZ\",Liste_pièces!B633)","v":"ZZZ"},{"$f":"IF(Liste_pièces!C633=\"\",\"\",Liste_pièces!C633)","v":""},{"$f":"IF(Liste_pièces!D633=\"\",\"\",Liste_pièces!D633)","v":""},{"$f":"IF(Liste_pièces!E633=\"\",\"\",Liste_pièces!E633)","v":""},{"$f":"IF(Liste_pièces!F633=\"\",\"\",Liste_pièces!F633)","v":""},{"$f":"IF(Liste_pièces!G633=\"\",\"\",Liste_pièces!G633)","v":""},{"$f":"IF(Liste_pièces!H633=\"\",\"\",Liste_pièces!H633)","v":""},{"$f":"IF(Liste_pièces!I633=\"\",\"\",Liste_pièces!I633)","v":""},{"$f":"IF(Liste_pièces!J633=\"\",\"\",Liste_pièces!J633)","v":""},{"$f":"IF(Liste_pièces!K633=\"\",\"\",Liste_pièces!K633)","v":""},{"$f":"IF(Liste_pièces!L633=\"\",\"\",Liste_pièces!L633)","v":""},{"$f":"IF(Liste_pièces!M633=\"\",\"\",Liste_pièces!M633)","v":""},0,1,0]
[{"$f":"IF(Liste_pièces!A634=\"\",\"ZZZ\",Liste_pièces!A634)","v":"ZZZ"},{"$f":"IF(Liste_pièces!B634=\"\",\"ZZZ\",Liste_pièces!B634)","v":"ZZZ"},{"$f":"IF(Liste_pièces!C634=\"\",\"\",Liste_pièces!C634)","v":""},{"$f":"IF(Liste_pièces!D634=\"\",\"\",Liste_pièces!D634)","v":""},{"$f":"IF(Liste_pièces!E634=\"\",\"\",Liste_pièces!E634)","v":""},{"$f":"IF(Liste_pièces!F634=\"\",\"\",Liste_pièces!F634)","v":""},{"$f":"IF(Liste_pièces!G634=\"\",\"\",Liste_pièces!G634)","v":""},{"$f":"IF(Liste_pièces!H634=\"\",\"\",Liste_pièces!H634)","v":""},{"$f":"IF(Liste_pièces!I634=\"\",\"\",Liste_pièces!I634)","v":""},{"$f":"IF(Liste_pièces!J634=\"\",\"\",Liste_pièces!J634)","v":""},{"$f":"IF(Liste_pièces!K634=\"\",\"\",Liste_pièces!K634)","v":""},{"$f":"IF(Liste_pièces!L634=\"\",\"\",Liste_pièces!L634)","v":""},{"$f":"IF(Liste_pièces!M634=\"\",\"\",Liste_pièces!M634)","v":""},0,1,0]
[{"$f":"IF(Liste_pièces!A635=\"\",\"ZZZ\",Liste_pièces!A635)","v":"ZZZ"},{"$f":"IF(Liste_pièces!B635=\"\",\"ZZZ\",Liste_pièces!B635)","v":"ZZZ"},{"$f":"IF(Liste_pièces!C635=\"\",\"\",Liste_pièces!C635)","v":""},{"$f":"IF(Liste_pièces!D635=\"\",\"\",Liste_pièces!D635)","v":""},{"$f":"IF(Liste_pièces!E635=\"\",\"\",Liste_pièces!E635)","v":""},{"$f":"IF(Liste_pièces!F635=\"\",\"\",Liste_pièces!F635)","v":""},{"$f":"IF(Liste_pièces!G635=\"\",\"\",Liste_pièces!G635)","v":""},{"$f":"IF(Liste_pièces!H635=\"\",\"\",Liste_pièces!H635)","v":""},{"$f":"IF(Liste_pièces!I635=\"\",\"\",Liste_pièces!I635)","v":""},{"$f":"IF(Liste_pièces!J635=\"\",\"\",Liste_pièces!J635)","v":""},{"$f":"IF(Liste_pièces!K635=\"\",\"\",Liste_pièces!K635)","v":""},{"$f":"IF(Liste_pièces!L635=\"\",\"\",Liste_pièces!L635)","v":""},{"$f":"IF(Liste_pièces!M635=\"\",\"\",Liste_pièces!M635)","v":""},0,1,0]
[{"$f":"IF(Liste_pièces!A636=\"\",\"ZZZ\",Liste_pièces!A636)","v":"ZZZ"},{"$f":"IF(Liste_pièces!B636=\"\",\"ZZZ\",Liste_pièces!B636)","v":"ZZZ"},{"$f":"IF(Liste_pièces!C636=\"\",\"\",Liste_pièces!C636)","v":""},{"$f":"IF(Liste_pièces!D636=\"\",\"\",Liste_pièces!D636)","v":""},{"$f":"IF(Liste_pièces!E636=\"\",\"\",Liste_pièces!E636)","v":""},{"$f":"IF(Liste_pièces!F636=\"\",\"\",Liste_pièces!F636)","v":""},{"$f":"IF(Liste_pièces!G636=\"\",\"\",Liste_pièces!G636)","v":""},{"$f":"IF(Liste_pièces!H636=\"\",\"\",Liste_pièces!H636)","v":""},{"$f":"IF(Liste_pièces!I636=\"\",\"\",Liste_pièces!I636)","v":""},{"$f":"IF(Liste_pièces!J636=\"\",\"\",Liste_pièces!J636)","v":""},{"$f":"IF(Liste_pièces!K636=\"\",\"\",Liste_pièces!K636)","v":""},{"$f":"IF(Liste_pièces!L636=\"\",\"\",Liste_pièces!L636)","v":""},{"$f":"IF(Liste_pièces!M636=\"\",\"\",Liste_pièces!M636)","v":""},0,1,0]
[{"$f":"IF(Liste_pièces!A637=\"\",\"ZZZ\",Liste_pièces!A637)","v":"ZZZ"},{"$f":"IF(Liste_pièces!B637=\"\",\"ZZZ\",Liste_pièces!B637)","v":"ZZZ"},{"$f":"IF(Liste_pièces!C637=\"\",\"\",Liste_pièces!C637)","v":""},{"$f":"IF(Liste_pièces!D637=\"\",\"\",Liste_pièces!D637)","v":""},{"$f":"IF(Liste_pièces!E637=\"\",\"\",Liste_pièces!E637)","v":""},{"$f":"IF(Liste_pièces!F637=\"\",\"\",Liste_pièces!F637)","v":""},{"$f":"IF(Liste_pièces!G637=\"\",\"\",Liste_pièces!G637)","v":""},{"$f":"IF(Liste_pièces!H637=\"\",\"\",Liste_pièces!H637)","v":""},{"$f":"IF(Liste_pièces!I637=\"\",\"\",Liste_pièces!I637)","v":""},{"$f":"IF(Liste_pièces!J637=\"\",\"\",Liste_pièces!J637)","v":""},{"$f":"IF(Liste_pièces!K637=\"\",\"\",Liste_pièces!K637)","v":""},{"$f":"IF(Liste_pièces!L637=\"\",\"\",Liste_pièces!L637)","v":""},{"$f":"IF(Liste_pièces!M637=\"\",\"\",Liste_pièces!M637)","v":""},0,1,0]
[{"$f":"IF(Liste_pièces!A638=\"\",\"ZZZ\",Liste_pièces!A638)","v":"ZZZ"},{"$f":"IF(Liste_pièces!B638=\"\",\"ZZZ\",Liste_pièces!B638)","v":"ZZZ"},{"$f":"IF(Liste_pièces!C638=\"\",\"\",Liste_pièces!C638)","v":""},{"$f":"IF(Liste_pièces!D638=\"\",\"\",Liste_pièces!D638)","v":""},{"$f":"IF(Liste_pièces!E638=\"\",\"\",Liste_pièces!E638)","v":""},{"$f":"IF(Liste_pièces!F638=\"\",\"\",Liste_pièces!F638)","v":""},{"$f":"IF(Liste_pièces!G638=\"\",\"\",Liste_pièces!G638)","v":""},{"$f":"IF(Liste_pièces!H638=\"\",\"\",Liste_pièces!H638)","v":""},{"$f":"IF(Liste_pièces!I638=\"\",\"\",Liste_pièces!I638)","v":""},{"$f":"IF(Liste_pièces!J638=\"\",\"\",Liste_pièces!J638)","v":""},{"$f":"IF(Liste_pièces!K638=\"\",\"\",Liste_pièces!K638)","v":""},{"$f":"IF(Liste_pièces!L638=\"\",\"\",Liste_pièces!L638)","v":""},{"$f":"IF(Liste_pièces!M638=\"\",\"\",Liste_pièces!M638)","v":""},0,1,0]
[{"$f":"IF(Liste_pièces!A639=\"\",\"ZZZ\",Liste_pièces!A639)","v":"ZZZ"},{"$f":"IF(Liste_pièces!B639=\"\",\"ZZZ\",Liste_pièces!B639)","v":"ZZZ"},{"$f":"IF(Liste_pièces!C639=\"\",\"\",Liste_pièces!C639)","v":""},{"$f":"IF(Liste_pièces!D639=\"\",\"\",Liste_pièces!D639)","v":""},{"$f":"IF(Liste_pièces!E639=\"\",\"\",Liste_pièces!E639)","v":""},{"$f":"IF(Liste_pièces!F639=\"\",\"\",Liste_pièces!F639)","v":""},{"$f":"IF(Liste_pièces!G639=\"\",\"\",Liste_pièces!G639)","v":""},{"$f":"IF(Liste_pièces!H639=\"\",\"\",Liste_pièces!H639)","v":""},{"$f":"IF(Liste_pièces!I639=\"\",\"\",Liste_pièces!I639)","v":""},{"$f":"IF(Liste_pièces!J639=\"\",\"\",Liste_pièces!J639)","v":""},{"$f":"IF(Liste_pièces!K639=\"\",\"\",Liste_pièces!K639)","v":""},{"$f":"IF(Liste_pièces!L639=\"\",\"\",Liste_pièces!L639)","v":""},{"$f":"IF(Liste_pièces!M639=\"\",\"\",Liste_pièces!M639)","v":""},0,1,0]
[{"$f":"IF(Liste_pièces!A640=\"\",\"ZZZ\",Liste_pièces!A640)","v":"ZZZ"},{"$f":"IF(Liste_pièces!B640=\"\",\"ZZZ\",Liste_pièces!B640)","v":"ZZZ"},{"$f":"IF(Liste_pièces!C640=\"\",\"\",Liste_pièces!C640)","v":""},{"$f":"IF(Liste_pièces!D640=\"\",\"\",Liste_pièces!D640)","v":""},{"$f":"IF(Liste_pièces!E640=\"\",\"\",Liste_pièces!E640)","v":""},{"$f":"IF(Liste_pièces!F640=\"\",\"\",Liste_pièces!F640)","v":""},{"$f":"IF(Liste_pièces!G640=\"\",\"\",Liste_pièces!G640)","v":""},{"$f":"IF(Liste_pièces!H640=\"\",\"\",Liste_pièces!H640)","v":""},{"$f":"IF(Liste_pièces!I640=\"\",\"\",Liste_pièces!I640)","v":""},{"$f":"IF(Liste_pièces!J640=\"\",\"\",Liste_pièces!J640)","v":""},{"$f":"IF(Liste_pièces!K640=\"\",\"\",Liste_pièces!K640)","v":""},{"$f":"IF(Liste_pièces!L640=\"\",\"\",Liste_pièces!L640)","v":""},{"$f":"IF(Liste_pièces!M640=\"\",\"\",Liste_pièces!M640)","v":""},0,1,0]
[{"$f":"IF(Liste_pièces!A641=\"\",\"ZZZ\",Liste_pièces!A641)","v":"ZZZ"},{"$f":"IF(Liste_pièces!B641=\"\",\"ZZZ\",Liste_pièces!B641)","v":"ZZZ"},{"$f":"IF(Liste_pièces!C641=\"\",\"\",Liste_pièces!C641)","v":""},{"$f":"IF(Liste_pièces!D641=\"\",\"\",Liste_pièces!D641)","v":""},{"$f":"IF(Liste_pièces!E641=\"\",\"\",Liste_pièces!E641)","v":""},{"$f":"IF(Liste_pièces!F641=\"\",\"\",Liste_pièces!F641)","v":""},{"$f":"IF(Liste_pièces!G641=\"\",\"\",Liste_pièces!G641)","v":""},{"$f":"IF(Liste_pièces!H641=\"\",\"\",Liste_pièces!H641)","v":""},{"$f":"IF(Liste_pièces!I641=\"\",\"\",Liste_pièces!I641)","v":""},{"$f":"IF(Liste_pièces!J641=\"\",\"\",Liste_pièces!J641)","v":""},{"$f":"IF(Liste_pièces!K641=\"\",\"\",Liste_pièces!K641)","v":""},{"$f":"IF(Liste_pièces!L641=\"\",\"\",Liste_pièces!L641)","v":""},{"$f":"IF(Liste_pièces!M641=\"\",\"\",Liste_pièces!M641)","v":""},0,1,0]
[{"$f":"IF(Liste_pièces!A642=\"\",\"ZZZ\",Liste_pièces!A642)","v":"ZZZ"},{"$f":"IF(Liste_pièces!B642=\"\",\"ZZZ\",Liste_pièces!B642)","v":"ZZZ"},{"$f":"IF(Liste_pièces!C642=\"\",\"\",Liste_pièces!C642)","v":""},{"$f":"IF(Liste_pièces!D642=\"\",\"\",Liste_pièces!D642)","v":""},{"$f":"IF(Liste_pièces!E642=\"\",\"\",Liste_pièces!E642)","v":""},{"$f":"IF(Liste_pièces!F642=\"\",\"\",Liste_pièces!F642)","v":""},{"$f":"IF(Liste_pièces!G642=\"\",\"\",Liste_pièces!G642)","v":""},{"$f":"IF(Liste_pièces!H642=\"\",\"\",Liste_pièces!H642)","v":""},{"$f":"IF(Liste_pièces!I642=\"\",\"\",Liste_pièces!I642)","v":""},{"$f":"IF(Liste_pièces!J642=\"\",\"\",Liste_pièces!J642)","v":""},{"$f":"IF(Liste_pièces!K642=\"\",\"\",Liste_pièces!K642)","v":""},{"$f":"IF(Liste_pièces!L642=\"\",\"\",Liste_pièces!L642)","v":""},{"$f":"IF(Liste_pièces!M642=\"\",\"\",Liste_pièces!M642)","v":""},{"$f":"IF(B1386=\"ZZZ\",0,IF(B1386=B1385,N641,1+N641))","v":0},1,0]
[{"$f":"IF(Liste_pièces!A643=\"\",\"ZZZ\",Liste_pièces!A643)","v":"ZZZ"},{"$f":"IF(Liste_pièces!B643=\"\",\"ZZZ\",Liste_pièces!B643)","v":"ZZZ"},{"$f":"IF(Liste_pièces!C643=\"\",\"\",Liste_pièces!C643)","v":""},{"$f":"IF(Liste_pièces!D643=\"\",\"\",Liste_pièces!D643)","v":""},{"$f":"IF(Liste_pièces!E643=\"\",\"\",Liste_pièces!E643)","v":""},{"$f":"IF(Liste_pièces!F643=\"\",\"\",Liste_pièces!F643)","v":""},{"$f":"IF(Liste_pièces!G643=\"\",\"\",Liste_pièces!G643)","v":""},{"$f":"IF(Liste_pièces!H643=\"\",\"\",Liste_pièces!H643)","v":""},{"$f":"IF(Liste_pièces!I643=\"\",\"\",Liste_pièces!I643)","v":""},{"$f":"IF(Liste_pièces!J643=\"\",\"\",Liste_pièces!J643)","v":""},{"$f":"IF(Liste_pièces!K643=\"\",\"\",Liste_pièces!K643)","v":""},{"$f":"IF(Liste_pièces!L643=\"\",\"\",Liste_pièces!L643)","v":""},{"$f":"IF(Liste_pièces!M643=\"\",\"\",Liste_pièces!M643)","v":""},0,1,0]
[{"$f":"IF(Liste_pièces!A644=\"\",\"ZZZ\",Liste_pièces!A644)","v":"ZZZ"},{"$f":"IF(Liste_pièces!B644=\"\",\"ZZZ\",Liste_pièces!B644)","v":"ZZZ"},{"$f":"IF(Liste_pièces!C644=\"\",\"\",Liste_pièces!C644)","v":""},{"$f":"IF(Liste_pièces!D644=\"\",\"\",Liste_pièces!D644)","v":""},{"$f":"IF(Liste_pièces!E644=\"\",\"\",Liste_pièces!E644)","v":""},{"$f":"IF(Liste_pièces!F644=\"\",\"\",Liste_pièces!F644)","v":""},{"$f":"IF(Liste_pièces!G644=\"\",\"\",Liste_pièces!G644)","v":""},{"$f":"IF(Liste_pièces!H644=\"\",\"\",Liste_pièces!H644)","v":""},{"$f":"IF(Liste_pièces!I644=\"\",\"\",Liste_pièces!I644)","v":""},{"$f":"IF(Liste_pièces!J644=\"\",\"\",Liste_pièces!J644)","v":""},{"$f":"IF(Liste_pièces!K644=\"\",\"\",Liste_pièces!K644)","v":""},{"$f":"IF(Liste_pièces!L644=\"\",\"\",Liste_pièces!L644)","v":""},{"$f":"IF(Liste_pièces!M644=\"\",\"\",Liste_pièces!M644)","v":""},0,1,0]
[{"$f":"IF(Liste_pièces!A645=\"\",\"ZZZ\",Liste_pièces!A645)","v":"ZZZ"},{"$f":"IF(Liste_pièces!B645=\"\",\"ZZZ\",Liste_pièces!B645)","v":"ZZZ"},{"$f":"IF(Liste_pièces!C645=\"\",\"\",Liste_pièces!C645)","v":""},{"$f":"IF(Liste_pièces!D645=\"\",\"\",Liste_pièces!D645)","v":""},{"$f":"IF(Liste_pièces!E645=\"\",\"\",Liste_pièces!E645)","v":""},{"$f":"IF(Liste_pièces!F645=\"\",\"\",Liste_pièces!F645)","v":""},{"$f":"IF(Liste_pièces!G645=\"\",\"\",Liste_pièces!G645)","v":""},{"$f":"IF(Liste_pièces!H645=\"\",\"\",Liste_pièces!H645)","v":""},{"$f":"IF(Liste_pièces!I645=\"\",\"\",Liste_pièces!I645)","v":""},{"$f":"IF(Liste_pièces!J645=\"\",\"\",Liste_pièces!J645)","v":""},{"$f":"IF(Liste_pièces!K645=\"\",\"\",Liste_pièces!K645)","v":""},{"$f":"IF(Liste_pièces!L645=\"\",\"\",Liste_pièces!L645)","v":""},{"$f":"IF(Liste_pièces!M645=\"\",\"\",Liste_pièces!M645)","v":""},0,1,0]
[{"$f":"IF(Liste_pièces!A646=\"\",\"ZZZ\",Liste_pièces!A646)","v":"ZZZ"},{"$f":"IF(Liste_pièces!B646=\"\",\"ZZZ\",Liste_pièces!B646)","v":"ZZZ"},{"$f":"IF(Liste_pièces!C646=\"\",\"\",Liste_pièces!C646)","v":""},{"$f":"IF(Liste_pièces!D646=\"\",\"\",Liste_pièces!D646)","v":""},{"$f":"IF(Liste_pièces!E646=\"\",\"\",Liste_pièces!E646)","v":""},{"$f":"IF(Liste_pièces!F646=\"\",\"\",Liste_pièces!F646)","v":""},{"$f":"IF(Liste_pièces!G646=\"\",\"\",Liste_pièces!G646)","v":""},{"$f":"IF(Liste_pièces!H646=\"\",\"\",Liste_pièces!H646)","v":""},{"$f":"IF(Liste_pièces!I646=\"\",\"\",Liste_pièces!I646)","v":""},{"$f":"IF(Liste_pièces!J646=\"\",\"\",Liste_pièces!J646)","v":""},{"$f":"IF(Liste_pièces!K646=\"\",\"\",Liste_pièces!K646)","v":""},{"$f":"IF(Liste_pièces!L646=\"\",\"\",Liste_pièces!L646)","v":""},{"$f":"IF(Liste_pièces!M646=\"\",\"\",Liste_pièces!M646)","v":""},0,1,0]
[{"$f":"IF(Liste_pièces!A647=\"\",\"ZZZ\",Liste_pièces!A647)","v":"ZZZ"},{"$f":"IF(Liste_pièces!B647=\"\",\"ZZZ\",Liste_pièces!B647)","v":"ZZZ"},{"$f":"IF(Liste_pièces!C647=\"\",\"\",Liste_pièces!C647)","v":""},{"$f":"IF(Liste_pièces!D647=\"\",\"\",Liste_pièces!D647)","v":""},{"$f":"IF(Liste_pièces!E647=\"\",\"\",Liste_pièces!E647)","v":""},{"$f":"IF(Liste_pièces!F647=\"\",\"\",Liste_pièces!F647)","v":""},{"$f":"IF(Liste_pièces!G647=\"\",\"\",Liste_pièces!G647)","v":""},{"$f":"IF(Liste_pièces!H647=\"\",\"\",Liste_pièces!H647)","v":""},{"$f":"IF(Liste_pièces!I647=\"\",\"\",Liste_pièces!I647)","v":""},{"$f":"IF(Liste_pièces!J647=\"\",\"\",Liste_pièces!J647)","v":""},{"$f":"IF(Liste_pièces!K647=\"\",\"\",Liste_pièces!K647)","v":""},{"$f":"IF(Liste_pièces!L647=\"\",\"\",Liste_pièces!L647)","v":""},{"$f":"IF(Liste_pièces!M647=\"\",\"\",Liste_pièces!M647)","v":""},0,1,{"$f":"IF(N647=0,0,IF(N647<>N646,MAX(N647+O646,P646+1),IF(O646=O647,P646,P646+O647)))","v":0}]
[{"$f":"IF(Liste_pièces!A648=\"\",\"ZZZ\",Liste_pièces!A648)","v":"ZZZ"},{"$f":"IF(Liste_pièces!B648=\"\",\"ZZZ\",Liste_pièces!B648)","v":"ZZZ"},{"$f":"IF(Liste_pièces!C648=\"\",\"\",Liste_pièces!C648)","v":""},{"$f":"IF(Liste_pièces!D648=\"\",\"\",Liste_pièces!D648)","v":""},{"$f":"IF(Liste_pièces!E648=\"\",\"\",Liste_pièces!E648)","v":""},{"$f":"IF(Liste_pièces!F648=\"\",\"\",Liste_pièces!F648)","v":""},{"$f":"IF(Liste_pièces!G648=\"\",\"\",Liste_pièces!G648)","v":""},{"$f":"IF(Liste_pièces!H648=\"\",\"\",Liste_pièces!H648)","v":""},{"$f":"IF(Liste_pièces!I648=\"\",\"\",Liste_pièces!I648)","v":""},{"$f":"IF(Liste_pièces!J648=\"\",\"\",Liste_pièces!J648)","v":""},{"$f":"IF(Liste_pièces!K648=\"\",\"\",Liste_pièces!K648)","v":""},{"$f":"IF(Liste_pièces!L648=\"\",\"\",Liste_pièces!L648)","v":""},{"$f":"IF(Liste_pièces!M648=\"\",\"\",Liste_pièces!M648)","v":""},0,1,0]
[{"$f":"IF(Liste_pièces!A649=\"\",\"ZZZ\",Liste_pièces!A649)","v":"ZZZ"},{"$f":"IF(Liste_pièces!B649=\"\",\"ZZZ\",Liste_pièces!B649)","v":"ZZZ"},{"$f":"IF(Liste_pièces!C649=\"\",\"\",Liste_pièces!C649)","v":""},{"$f":"IF(Liste_pièces!D649=\"\",\"\",Liste_pièces!D649)","v":""},{"$f":"IF(Liste_pièces!E649=\"\",\"\",Liste_pièces!E649)","v":""},{"$f":"IF(Liste_pièces!F649=\"\",\"\",Liste_pièces!F649)","v":""},{"$f":"IF(Liste_pièces!G649=\"\",\"\",Liste_pièces!G649)","v":""},{"$f":"IF(Liste_pièces!H649=\"\",\"\",Liste_pièces!H649)","v":""},{"$f":"IF(Liste_pièces!I649=\"\",\"\",Liste_pièces!I649)","v":""},{"$f":"IF(Liste_pièces!J649=\"\",\"\",Liste_pièces!J649)","v":""},{"$f":"IF(Liste_pièces!K649=\"\",\"\",Liste_pièces!K649)","v":""},{"$f":"IF(Liste_pièces!L649=\"\",\"\",Liste_pièces!L649)","v":""},{"$f":"IF(Liste_pièces!M649=\"\",\"\",Liste_pièces!M649)","v":""},0,1,0]
[{"$f":"IF(Liste_pièces!A650=\"\",\"ZZZ\",Liste_pièces!A650)","v":"ZZZ"},{"$f":"IF(Liste_pièces!B650=\"\",\"ZZZ\",Liste_pièces!B650)","v":"ZZZ"},{"$f":"IF(Liste_pièces!C650=\"\",\"\",Liste_pièces!C650)","v":""},{"$f":"IF(Liste_pièces!D650=\"\",\"\",Liste_pièces!D650)","v":""},{"$f":"IF(Liste_pièces!E650=\"\",\"\",Liste_pièces!E650)","v":""},{"$f":"IF(Liste_pièces!F650=\"\",\"\",Liste_pièces!F650)","v":""},{"$f":"IF(Liste_pièces!G650=\"\",\"\",Liste_pièces!G650)","v":""},{"$f":"IF(Liste_pièces!H650=\"\",\"\",Liste_pièces!H650)","v":""},{"$f":"IF(Liste_pièces!I650=\"\",\"\",Liste_pièces!I650)","v":""},{"$f":"IF(Liste_pièces!J650=\"\",\"\",Liste_pièces!J650)","v":""},{"$f":"IF(Liste_pièces!K650=\"\",\"\",Liste_pièces!K650)","v":""},{"$f":"IF(Liste_pièces!L650=\"\",\"\",Liste_pièces!L650)","v":""},{"$f":"IF(Liste_pièces!M650=\"\",\"\",Liste_pièces!M650)","v":""},0,1,0]
[{"$f":"IF(Liste_pièces!A651=\"\",\"ZZZ\",Liste_pièces!A651)","v":"ZZZ"},{"$f":"IF(Liste_pièces!B651=\"\",\"ZZZ\",Liste_pièces!B651)","v":"ZZZ"},{"$f":"IF(Liste_pièces!C651=\"\",\"\",Liste_pièces!C651)","v":""},{"$f":"IF(Liste_pièces!D651=\"\",\"\",Liste_pièces!D651)","v":""},{"$f":"IF(Liste_pièces!E651=\"\",\"\",Liste_pièces!E651)","v":""},{"$f":"IF(Liste_pièces!F651=\"\",\"\",Liste_pièces!F651)","v":""},{"$f":"IF(Liste_pièces!G651=\"\",\"\",Liste_pièces!G651)","v":""},{"$f":"IF(Liste_pièces!H651=\"\",\"\",Liste_pièces!H651)","v":""},{"$f":"IF(Liste_pièces!I651=\"\",\"\",Liste_pièces!I651)","v":""},{"$f":"IF(Liste_pièces!J651=\"\",\"\",Liste_pièces!J651)","v":""},{"$f":"IF(Liste_pièces!K651=\"\",\"\",Liste_pièces!K651)","v":""},{"$f":"IF(Liste_pièces!L651=\"\",\"\",Liste_pièces!L651)","v":""},{"$f":"IF(Liste_pièces!M651=\"\",\"\",Liste_pièces!M651)","v":""},0,1,0]
[{"$f":"IF(Liste_pièces!A652=\"\",\"ZZZ\",Liste_pièces!A652)","v":"ZZZ"},{"$f":"IF(Liste_pièces!B652=\"\",\"ZZZ\",Liste_pièces!B652)","v":"ZZZ"},{"$f":"IF(Liste_pièces!C652=\"\",\"\",Liste_pièces!C652)","v":""},{"$f":"IF(Liste_pièces!D652=\"\",\"\",Liste_pièces!D652)","v":""},{"$f":"IF(Liste_pièces!E652=\"\",\"\",Liste_pièces!E652)","v":""},{"$f":"IF(Liste_pièces!F652=\"\",\"\",Liste_pièces!F652)","v":""},{"$f":"IF(Liste_pièces!G652=\"\",\"\",Liste_pièces!G652)","v":""},{"$f":"IF(Liste_pièces!H652=\"\",\"\",Liste_pièces!H652)","v":""},{"$f":"IF(Liste_pièces!I652=\"\",\"\",Liste_pièces!I652)","v":""},{"$f":"IF(Liste_pièces!J652=\"\",\"\",Liste_pièces!J652)","v":""},{"$f":"IF(Liste_pièces!K652=\"\",\"\",Liste_pièces!K652)","v":""},{"$f":"IF(Liste_pièces!L652=\"\",\"\",Liste_pièces!L652)","v":""},{"$f":"IF(Liste_pièces!M652=\"\",\"\",Liste_pièces!M652)","v":""},0,1,0]
[{"$f":"IF(Liste_pièces!A653=\"\",\"ZZZ\",Liste_pièces!A653)","v":"ZZZ"},{"$f":"IF(Liste_pièces!B653=\"\",\"ZZZ\",Liste_pièces!B653)","v":"ZZZ"},{"$f":"IF(Liste_pièces!C653=\"\",\"\",Liste_pièces!C653)","v":""},{"$f":"IF(Liste_pièces!D653=\"\",\"\",Liste_pièces!D653)","v":""},{"$f":"IF(Liste_pièces!E653=\"\",\"\",Liste_pièces!E653)","v":""},{"$f":"IF(Liste_pièces!F653=\"\",\"\",Liste_pièces!F653)","v":""},{"$f":"IF(Liste_pièces!G653=\"\",\"\",Liste_pièces!G653)","v":""},{"$f":"IF(Liste_pièces!H653=\"\",\"\",Liste_pièces!H653)","v":""},{"$f":"IF(Liste_pièces!I653=\"\",\"\",Liste_pièces!I653)","v":""},{"$f":"IF(Liste_pièces!J653=\"\",\"\",Liste_pièces!J653)","v":""},{"$f":"IF(Liste_pièces!K653=\"\",\"\",Liste_pièces!K653)","v":""},{"$f":"IF(Liste_pièces!L653=\"\",\"\",Liste_pièces!L653)","v":""},{"$f":"IF(Liste_pièces!M653=\"\",\"\",Liste_pièces!M653)","v":""},0,1,0]
[{"$f":"IF(Liste_pièces!A654=\"\",\"ZZZ\",Liste_pièces!A654)","v":"ZZZ"},{"$f":"IF(Liste_pièces!B654=\"\",\"ZZZ\",Liste_pièces!B654)","v":"ZZZ"},{"$f":"IF(Liste_pièces!C654=\"\",\"\",Liste_pièces!C654)","v":""},{"$f":"IF(Liste_pièces!D654=\"\",\"\",Liste_pièces!D654)","v":""},{"$f":"IF(Liste_pièces!E654=\"\",\"\",Liste_pièces!E654)","v":""},{"$f":"IF(Liste_pièces!F654=\"\",\"\",Liste_pièces!F654)","v":""},{"$f":"IF(Liste_pièces!G654=\"\",\"\",Liste_pièces!G654)","v":""},{"$f":"IF(Liste_pièces!H654=\"\",\"\",Liste_pièces!H654)","v":""},{"$f":"IF(Liste_pièces!I654=\"\",\"\",Liste_pièces!I654)","v":""},{"$f":"IF(Liste_pièces!J654=\"\",\"\",Liste_pièces!J654)","v":""},{"$f":"IF(Liste_pièces!K654=\"\",\"\",Liste_pièces!K654)","v":""},{"$f":"IF(Liste_pièces!L654=\"\",\"\",Liste_pièces!L654)","v":""},{"$f":"IF(Liste_pièces!M654=\"\",\"\",Liste_pièces!M654)","v":""},0,1,0]
[{"$f":"IF(Liste_pièces!A655=\"\",\"ZZZ\",Liste_pièces!A655)","v":"ZZZ"},{"$f":"IF(Liste_pièces!B655=\"\",\"ZZZ\",Liste_pièces!B655)","v":"ZZZ"},{"$f":"IF(Liste_pièces!C655=\"\",\"\",Liste_pièces!C655)","v":""},{"$f":"IF(Liste_pièces!D655=\"\",\"\",Liste_pièces!D655)","v":""},{"$f":"IF(Liste_pièces!E655=\"\",\"\",Liste_pièces!E655)","v":""},{"$f":"IF(Liste_pièces!F655=\"\",\"\",Liste_pièces!F655)","v":""},{"$f":"IF(Liste_pièces!G655=\"\",\"\",Liste_pièces!G655)","v":""},{"$f":"IF(Liste_pièces!H655=\"\",\"\",Liste_pièces!H655)","v":""},{"$f":"IF(Liste_pièces!I655=\"\",\"\",Liste_pièces!I655)","v":""},{"$f":"IF(Liste_pièces!J655=\"\",\"\",Liste_pièces!J655)","v":""},{"$f":"IF(Liste_pièces!K655=\"\",\"\",Liste_pièces!K655)","v":""},{"$f":"IF(Liste_pièces!L655=\"\",\"\",Liste_pièces!L655)","v":""},{"$f":"IF(Liste_pièces!M655=\"\",\"\",Liste_pièces!M655)","v":""},0,1,0]
[{"$f":"IF(Liste_pièces!A656=\"\",\"ZZZ\",Liste_pièces!A656)","v":"ZZZ"},{"$f":"IF(Liste_pièces!B656=\"\",\"ZZZ\",Liste_pièces!B656)","v":"ZZZ"},{"$f":"IF(Liste_pièces!C656=\"\",\"\",Liste_pièces!C656)","v":""},{"$f":"IF(Liste_pièces!D656=\"\",\"\",Liste_pièces!D656)","v":""},{"$f":"IF(Liste_pièces!E656=\"\",\"\",Liste_pièces!E656)","v":""},{"$f":"IF(Liste_pièces!F656=\"\",\"\",Liste_pièces!F656)","v":""},{"$f":"IF(Liste_pièces!G656=\"\",\"\",Liste_pièces!G656)","v":""},{"$f":"IF(Liste_pièces!H656=\"\",\"\",Liste_pièces!H656)","v":""},{"$f":"IF(Liste_pièces!I656=\"\",\"\",Liste_pièces!I656)","v":""},{"$f":"IF(Liste_pièces!J656=\"\",\"\",Liste_pièces!J656)","v":""},{"$f":"IF(Liste_pièces!K656=\"\",\"\",Liste_pièces!K656)","v":""},{"$f":"IF(Liste_pièces!L656=\"\",\"\",Liste_pièces!L656)","v":""},{"$f":"IF(Liste_pièces!M656=\"\",\"\",Liste_pièces!M656)","v":""},0,1,0]
[{"$f":"IF(Liste_pièces!A657=\"\",\"ZZZ\",Liste_pièces!A657)","v":"ZZZ"},{"$f":"IF(Liste_pièces!B657=\"\",\"ZZZ\",Liste_pièces!B657)","v":"ZZZ"},{"$f":"IF(Liste_pièces!C657=\"\",\"\",Liste_pièces!C657)","v":""},{"$f":"IF(Liste_pièces!D657=\"\",\"\",Liste_pièces!D657)","v":""},{"$f":"IF(Liste_pièces!E657=\"\",\"\",Liste_pièces!E657)","v":""},{"$f":"IF(Liste_pièces!F657=\"\",\"\",Liste_pièces!F657)","v":""},{"$f":"IF(Liste_pièces!G657=\"\",\"\",Liste_pièces!G657)","v":""},{"$f":"IF(Liste_pièces!H657=\"\",\"\",Liste_pièces!H657)","v":""},{"$f":"IF(Liste_pièces!I657=\"\",\"\",Liste_pièces!I657)","v":""},{"$f":"IF(Liste_pièces!J657=\"\",\"\",Liste_pièces!J657)","v":""},{"$f":"IF(Liste_pièces!K657=\"\",\"\",Liste_pièces!K657)","v":""},{"$f":"IF(Liste_pièces!L657=\"\",\"\",Liste_pièces!L657)","v":""},{"$f":"IF(Liste_pièces!M657=\"\",\"\",Liste_pièces!M657)","v":""},0,1,0]
[{"$f":"IF(Liste_pièces!A658=\"\",\"ZZZ\",Liste_pièces!A658)","v":"ZZZ"},{"$f":"IF(Liste_pièces!B658=\"\",\"ZZZ\",Liste_pièces!B658)","v":"ZZZ"},{"$f":"IF(Liste_pièces!C658=\"\",\"\",Liste_pièces!C658)","v":""},{"$f":"IF(Liste_pièces!D658=\"\",\"\",Liste_pièces!D658)","v":""},{"$f":"IF(Liste_pièces!E658=\"\",\"\",Liste_pièces!E658)","v":""},{"$f":"IF(Liste_pièces!F658=\"\",\"\",Liste_pièces!F658)","v":""},{"$f":"IF(Liste_pièces!G658=\"\",\"\",Liste_pièces!G658)","v":""},{"$f":"IF(Liste_pièces!H658=\"\",\"\",Liste_pièces!H658)","v":""},{"$f":"IF(Liste_pièces!I658=\"\",\"\",Liste_pièces!I658)","v":""},{"$f":"IF(Liste_pièces!J658=\"\",\"\",Liste_pièces!J658)","v":""},{"$f":"IF(Liste_pièces!K658=\"\",\"\",Liste_pièces!K658)","v":""},{"$f":"IF(Liste_pièces!L658=\"\",\"\",Liste_pièces!L658)","v":""},{"$f":"IF(Liste_pièces!M658=\"\",\"\",Liste_pièces!M658)","v":""},0,1,0]
[{"$f":"IF(Liste_pièces!A659=\"\",\"ZZZ\",Liste_pièces!A659)","v":"ZZZ"},{"$f":"IF(Liste_pièces!B659=\"\",\"ZZZ\",Liste_pièces!B659)","v":"ZZZ"},{"$f":"IF(Liste_pièces!C659=\"\",\"\",Liste_pièces!C659)","v":""},{"$f":"IF(Liste_pièces!D659=\"\",\"\",Liste_pièces!D659)","v":""},{"$f":"IF(Liste_pièces!E659=\"\",\"\",Liste_pièces!E659)","v":""},{"$f":"IF(Liste_pièces!F659=\"\",\"\",Liste_pièces!F659)","v":""},{"$f":"IF(Liste_pièces!G659=\"\",\"\",Liste_pièces!G659)","v":""},{"$f":"IF(Liste_pièces!H659=\"\",\"\",Liste_pièces!H659)","v":""},{"$f":"IF(Liste_pièces!I659=\"\",\"\",Liste_pièces!I659)","v":""},{"$f":"IF(Liste_pièces!J659=\"\",\"\",Liste_pièces!J659)","v":""},{"$f":"IF(Liste_pièces!K659=\"\",\"\",Liste_pièces!K659)","v":""},{"$f":"IF(Liste_pièces!L659=\"\",\"\",Liste_pièces!L659)","v":""},{"$f":"IF(Liste_pièces!M659=\"\",\"\",Liste_pièces!M659)","v":""},0,1,0]
[{"$f":"IF(Liste_pièces!A660=\"\",\"ZZZ\",Liste_pièces!A660)","v":"ZZZ"},{"$f":"IF(Liste_pièces!B660=\"\",\"ZZZ\",Liste_pièces!B660)","v":"ZZZ"},{"$f":"IF(Liste_pièces!C660=\"\",\"\",Liste_pièces!C660)","v":""},{"$f":"IF(Liste_pièces!D660=\"\",\"\",Liste_pièces!D660)","v":""},{"$f":"IF(Liste_pièces!E660=\"\",\"\",Liste_pièces!E660)","v":""},{"$f":"IF(Liste_pièces!F660=\"\",\"\",Liste_pièces!F660)","v":""},{"$f":"IF(Liste_pièces!G660=\"\",\"\",Liste_pièces!G660)","v":""},{"$f":"IF(Liste_pièces!H660=\"\",\"\",Liste_pièces!H660)","v":""},{"$f":"IF(Liste_pièces!I660=\"\",\"\",Liste_pièces!I660)","v":""},{"$f":"IF(Liste_pièces!J660=\"\",\"\",Liste_pièces!J660)","v":""},{"$f":"IF(Liste_pièces!K660=\"\",\"\",Liste_pièces!K660)","v":""},{"$f":"IF(Liste_pièces!L660=\"\",\"\",Liste_pièces!L660)","v":""},{"$f":"IF(Liste_pièces!M660=\"\",\"\",Liste_pièces!M660)","v":""},0,1,0]
[{"$f":"IF(Liste_pièces!A661=\"\",\"ZZZ\",Liste_pièces!A661)","v":"ZZZ"},{"$f":"IF(Liste_pièces!B661=\"\",\"ZZZ\",Liste_pièces!B661)","v":"ZZZ"},{"$f":"IF(Liste_pièces!C661=\"\",\"\",Liste_pièces!C661)","v":""},{"$f":"IF(Liste_pièces!D661=\"\",\"\",Liste_pièces!D661)","v":""},{"$f":"IF(Liste_pièces!E661=\"\",\"\",Liste_pièces!E661)","v":""},{"$f":"IF(Liste_pièces!F661=\"\",\"\",Liste_pièces!F661)","v":""},{"$f":"IF(Liste_pièces!G661=\"\",\"\",Liste_pièces!G661)","v":""},{"$f":"IF(Liste_pièces!H661=\"\",\"\",Liste_pièces!H661)","v":""},{"$f":"IF(Liste_pièces!I661=\"\",\"\",Liste_pièces!I661)","v":""},{"$f":"IF(Liste_pièces!J661=\"\",\"\",Liste_pièces!J661)","v":""},{"$f":"IF(Liste_pièces!K661=\"\",\"\",Liste_pièces!K661)","v":""},{"$f":"IF(Liste_pièces!L661=\"\",\"\",Liste_pièces!L661)","v":""},{"$f":"IF(Liste_pièces!M661=\"\",\"\",Liste_pièces!M661)","v":""},0,1,0]
[{"$f":"IF(Liste_pièces!A662=\"\",\"ZZZ\",Liste_pièces!A662)","v":"ZZZ"},{"$f":"IF(Liste_pièces!B662=\"\",\"ZZZ\",Liste_pièces!B662)","v":"ZZZ"},{"$f":"IF(Liste_pièces!C662=\"\",\"\",Liste_pièces!C662)","v":""},{"$f":"IF(Liste_pièces!D662=\"\",\"\",Liste_pièces!D662)","v":""},{"$f":"IF(Liste_pièces!E662=\"\",\"\",Liste_pièces!E662)","v":""},{"$f":"IF(Liste_pièces!F662=\"\",\"\",Liste_pièces!F662)","v":""},{"$f":"IF(Liste_pièces!G662=\"\",\"\",Liste_pièces!G662)","v":""},{"$f":"IF(Liste_pièces!H662=\"\",\"\",Liste_pièces!H662)","v":""},{"$f":"IF(Liste_pièces!I662=\"\",\"\",Liste_pièces!I662)","v":""},{"$f":"IF(Liste_pièces!J662=\"\",\"\",Liste_pièces!J662)","v":""},{"$f":"IF(Liste_pièces!K662=\"\",\"\",Liste_pièces!K662)","v":""},{"$f":"IF(Liste_pièces!L662=\"\",\"\",Liste_pièces!L662)","v":""},{"$f":"IF(Liste_pièces!M662=\"\",\"\",Liste_pièces!M662)","v":""},0,1,0]
[{"$f":"IF(Liste_pièces!A663=\"\",\"ZZZ\",Liste_pièces!A663)","v":"ZZZ"},{"$f":"IF(Liste_pièces!B663=\"\",\"ZZZ\",Liste_pièces!B663)","v":"ZZZ"},{"$f":"IF(Liste_pièces!C663=\"\",\"\",Liste_pièces!C663)","v":""},{"$f":"IF(Liste_pièces!D663=\"\",\"\",Liste_pièces!D663)","v":""},{"$f":"IF(Liste_pièces!E663=\"\",\"\",Liste_pièces!E663)","v":""},{"$f":"IF(Liste_pièces!F663=\"\",\"\",Liste_pièces!F663)","v":""},{"$f":"IF(Liste_pièces!G663=\"\",\"\",Liste_pièces!G663)","v":""},{"$f":"IF(Liste_pièces!H663=\"\",\"\",Liste_pièces!H663)","v":""},{"$f":"IF(Liste_pièces!I663=\"\",\"\",Liste_pièces!I663)","v":""},{"$f":"IF(Liste_pièces!J663=\"\",\"\",Liste_pièces!J663)","v":""},{"$f":"IF(Liste_pièces!K663=\"\",\"\",Liste_pièces!K663)","v":""},{"$f":"IF(Liste_pièces!L663=\"\",\"\",Liste_pièces!L663)","v":""},{"$f":"IF(Liste_pièces!M663=\"\",\"\",Liste_pièces!M663)","v":""},0,1,0]
[{"$f":"IF(Liste_pièces!A664=\"\",\"ZZZ\",Liste_pièces!A664)","v":"ZZZ"},{"$f":"IF(Liste_pièces!B664=\"\",\"ZZZ\",Liste_pièces!B664)","v":"ZZZ"},{"$f":"IF(Liste_pièces!C664=\"\",\"\",Liste_pièces!C664)","v":""},{"$f":"IF(Liste_pièces!D664=\"\",\"\",Liste_pièces!D664)","v":""},{"$f":"IF(Liste_pièces!E664=\"\",\"\",Liste_pièces!E664)","v":""},{"$f":"IF(Liste_pièces!F664=\"\",\"\",Liste_pièces!F664)","v":""},{"$f":"IF(Liste_pièces!G664=\"\",\"\",Liste_pièces!G664)","v":""},{"$f":"IF(Liste_pièces!H664=\"\",\"\",Liste_pièces!H664)","v":""},{"$f":"IF(Liste_pièces!I664=\"\",\"\",Liste_pièces!I664)","v":""},{"$f":"IF(Liste_pièces!J664=\"\",\"\",Liste_pièces!J664)","v":""},{"$f":"IF(Liste_pièces!K664=\"\",\"\",Liste_pièces!K664)","v":""},{"$f":"IF(Liste_pièces!L664=\"\",\"\",Liste_pièces!L664)","v":""},{"$f":"IF(Liste_pièces!M664=\"\",\"\",Liste_pièces!M664)","v":""},0,1,0]
[{"$f":"IF(Liste_pièces!A665=\"\",\"ZZZ\",Liste_pièces!A665)","v":"ZZZ"},{"$f":"IF(Liste_pièces!B665=\"\",\"ZZZ\",Liste_pièces!B665)","v":"ZZZ"},{"$f":"IF(Liste_pièces!C665=\"\",\"\",Liste_pièces!C665)","v":""},{"$f":"IF(Liste_pièces!D665=\"\",\"\",Liste_pièces!D665)","v":""},{"$f":"IF(Liste_pièces!E665=\"\",\"\",Liste_pièces!E665)","v":""},{"$f":"IF(Liste_pièces!F665=\"\",\"\",Liste_pièces!F665)","v":""},{"$f":"IF(Liste_pièces!G665=\"\",\"\",Liste_pièces!G665)","v":""},{"$f":"IF(Liste_pièces!H665=\"\",\"\",Liste_pièces!H665)","v":""},{"$f":"IF(Liste_pièces!I665=\"\",\"\",Liste_pièces!I665)","v":""},{"$f":"IF(Liste_pièces!J665=\"\",\"\",Liste_pièces!J665)","v":""},{"$f":"IF(Liste_pièces!K665=\"\",\"\",Liste_pièces!K665)","v":""},{"$f":"IF(Liste_pièces!L665=\"\",\"\",Liste_pièces!L665)","v":""},{"$f":"IF(Liste_pièces!M665=\"\",\"\",Liste_pièces!M665)","v":""},0,1,0]
[{"$f":"IF(Liste_pièces!A666=\"\",\"ZZZ\",Liste_pièces!A666)","v":"ZZZ"},{"$f":"IF(Liste_pièces!B666=\"\",\"ZZZ\",Liste_pièces!B666)","v":"ZZZ"},{"$f":"IF(Liste_pièces!C666=\"\",\"\",Liste_pièces!C666)","v":""},{"$f":"IF(Liste_pièces!D666=\"\",\"\",Liste_pièces!D666)","v":""},{"$f":"IF(Liste_pièces!E666=\"\",\"\",Liste_pièces!E666)","v":""},{"$f":"IF(Liste_pièces!F666=\"\",\"\",Liste_pièces!F666)","v":""},{"$f":"IF(Liste_pièces!G666=\"\",\"\",Liste_pièces!G666)","v":""},{"$f":"IF(Liste_pièces!H666=\"\",\"\",Liste_pièces!H666)","v":""},{"$f":"IF(Liste_pièces!I666=\"\",\"\",Liste_pièces!I666)","v":""},{"$f":"IF(Liste_pièces!J666=\"\",\"\",Liste_pièces!J666)","v":""},{"$f":"IF(Liste_pièces!K666=\"\",\"\",Liste_pièces!K666)","v":""},{"$f":"IF(Liste_pièces!L666=\"\",\"\",Liste_pièces!L666)","v":""},{"$f":"IF(Liste_pièces!M666=\"\",\"\",Liste_pièces!M666)","v":""},0,1,0]
[{"$f":"IF(Liste_pièces!A667=\"\",\"ZZZ\",Liste_pièces!A667)","v":"ZZZ"},{"$f":"IF(Liste_pièces!B667=\"\",\"ZZZ\",Liste_pièces!B667)","v":"ZZZ"},{"$f":"IF(Liste_pièces!C667=\"\",\"\",Liste_pièces!C667)","v":""},{"$f":"IF(Liste_pièces!D667=\"\",\"\",Liste_pièces!D667)","v":""},{"$f":"IF(Liste_pièces!E667=\"\",\"\",Liste_pièces!E667)","v":""},{"$f":"IF(Liste_pièces!F667=\"\",\"\",Liste_pièces!F667)","v":""},{"$f":"IF(Liste_pièces!G667=\"\",\"\",Liste_pièces!G667)","v":""},{"$f":"IF(Liste_pièces!H667=\"\",\"\",Liste_pièces!H667)","v":""},{"$f":"IF(Liste_pièces!I667=\"\",\"\",Liste_pièces!I667)","v":""},{"$f":"IF(Liste_pièces!J667=\"\",\"\",Liste_pièces!J667)","v":""},{"$f":"IF(Liste_pièces!K667=\"\",\"\",Liste_pièces!K667)","v":""},{"$f":"IF(Liste_pièces!L667=\"\",\"\",Liste_pièces!L667)","v":""},{"$f":"IF(Liste_pièces!M667=\"\",\"\",Liste_pièces!M667)","v":""},0,1,0]
[{"$f":"IF(Liste_pièces!A668=\"\",\"ZZZ\",Liste_pièces!A668)","v":"ZZZ"},{"$f":"IF(Liste_pièces!B668=\"\",\"ZZZ\",Liste_pièces!B668)","v":"ZZZ"},{"$f":"IF(Liste_pièces!C668=\"\",\"\",Liste_pièces!C668)","v":""},{"$f":"IF(Liste_pièces!D668=\"\",\"\",Liste_pièces!D668)","v":""},{"$f":"IF(Liste_pièces!E668=\"\",\"\",Liste_pièces!E668)","v":""},{"$f":"IF(Liste_pièces!F668=\"\",\"\",Liste_pièces!F668)","v":""},{"$f":"IF(Liste_pièces!G668=\"\",\"\",Liste_pièces!G668)","v":""},{"$f":"IF(Liste_pièces!H668=\"\",\"\",Liste_pièces!H668)","v":""},{"$f":"IF(Liste_pièces!I668=\"\",\"\",Liste_pièces!I668)","v":""},{"$f":"IF(Liste_pièces!J668=\"\",\"\",Liste_pièces!J668)","v":""},{"$f":"IF(Liste_pièces!K668=\"\",\"\",Liste_pièces!K668)","v":""},{"$f":"IF(Liste_pièces!L668=\"\",\"\",Liste_pièces!L668)","v":""},{"$f":"IF(Liste_pièces!M668=\"\",\"\",Liste_pièces!M668)","v":""},0,1,0]
[{"$f":"IF(Liste_pièces!A669=\"\",\"ZZZ\",Liste_pièces!A669)","v":"ZZZ"},{"$f":"IF(Liste_pièces!B669=\"\",\"ZZZ\",Liste_pièces!B669)","v":"ZZZ"},{"$f":"IF(Liste_pièces!C669=\"\",\"\",Liste_pièces!C669)","v":""},{"$f":"IF(Liste_pièces!D669=\"\",\"\",Liste_pièces!D669)","v":""},{"$f":"IF(Liste_pièces!E669=\"\",\"\",Liste_pièces!E669)","v":""},{"$f":"IF(Liste_pièces!F669=\"\",\"\",Liste_pièces!F669)","v":""},{"$f":"IF(Liste_pièces!G669=\"\",\"\",Liste_pièces!G669)","v":""},{"$f":"IF(Liste_pièces!H669=\"\",\"\",Liste_pièces!H669)","v":""},{"$f":"IF(Liste_pièces!I669=\"\",\"\",Liste_pièces!I669)","v":""},{"$f":"IF(Liste_pièces!J669=\"\",\"\",Liste_pièces!J669)","v":""},{"$f":"IF(Liste_pièces!K669=\"\",\"\",Liste_pièces!K669)","v":""},{"$f":"IF(Liste_pièces!L669=\"\",\"\",Liste_pièces!L669)","v":""},{"$f":"IF(Liste_pièces!M669=\"\",\"\",Liste_pièces!M669)","v":""},0,1,0]
[{"$f":"IF(Liste_pièces!A670=\"\",\"ZZZ\",Liste_pièces!A670)","v":"ZZZ"},{"$f":"IF(Liste_pièces!B670=\"\",\"ZZZ\",Liste_pièces!B670)","v":"ZZZ"},{"$f":"IF(Liste_pièces!C670=\"\",\"\",Liste_pièces!C670)","v":""},{"$f":"IF(Liste_pièces!D670=\"\",\"\",Liste_pièces!D670)","v":""},{"$f":"IF(Liste_pièces!E670=\"\",\"\",Liste_pièces!E670)","v":""},{"$f":"IF(Liste_pièces!F670=\"\",\"\",Liste_pièces!F670)","v":""},{"$f":"IF(Liste_pièces!G670=\"\",\"\",Liste_pièces!G670)","v":""},{"$f":"IF(Liste_pièces!H670=\"\",\"\",Liste_pièces!H670)","v":""},{"$f":"IF(Liste_pièces!I670=\"\",\"\",Liste_pièces!I670)","v":""},{"$f":"IF(Liste_pièces!J670=\"\",\"\",Liste_pièces!J670)","v":""},{"$f":"IF(Liste_pièces!K670=\"\",\"\",Liste_pièces!K670)","v":""},{"$f":"IF(Liste_pièces!L670=\"\",\"\",Liste_pièces!L670)","v":""},{"$f":"IF(Liste_pièces!M670=\"\",\"\",Liste_pièces!M670)","v":""},0,1,0]
[{"$f":"IF(Liste_pièces!A671=\"\",\"ZZZ\",Liste_pièces!A671)","v":"ZZZ"},{"$f":"IF(Liste_pièces!B671=\"\",\"ZZZ\",Liste_pièces!B671)","v":"ZZZ"},{"$f":"IF(Liste_pièces!C671=\"\",\"\",Liste_pièces!C671)","v":""},{"$f":"IF(Liste_pièces!D671=\"\",\"\",Liste_pièces!D671)","v":""},{"$f":"IF(Liste_pièces!E671=\"\",\"\",Liste_pièces!E671)","v":""},{"$f":"IF(Liste_pièces!F671=\"\",\"\",Liste_pièces!F671)","v":""},{"$f":"IF(Liste_pièces!G671=\"\",\"\",Liste_pièces!G671)","v":""},{"$f":"IF(Liste_pièces!H671=\"\",\"\",Liste_pièces!H671)","v":""},{"$f":"IF(Liste_pièces!I671=\"\",\"\",Liste_pièces!I671)","v":""},{"$f":"IF(Liste_pièces!J671=\"\",\"\",Liste_pièces!J671)","v":""},{"$f":"IF(Liste_pièces!K671=\"\",\"\",Liste_pièces!K671)","v":""},{"$f":"IF(Liste_pièces!L671=\"\",\"\",Liste_pièces!L671)","v":""},{"$f":"IF(Liste_pièces!M671=\"\",\"\",Liste_pièces!M671)","v":""},0,1,0]
[{"$f":"IF(Liste_pièces!A672=\"\",\"ZZZ\",Liste_pièces!A672)","v":"ZZZ"},{"$f":"IF(Liste_pièces!B672=\"\",\"ZZZ\",Liste_pièces!B672)","v":"ZZZ"},{"$f":"IF(Liste_pièces!C672=\"\",\"\",Liste_pièces!C672)","v":""},{"$f":"IF(Liste_pièces!D672=\"\",\"\",Liste_pièces!D672)","v":""},{"$f":"IF(Liste_pièces!E672=\"\",\"\",Liste_pièces!E672)","v":""},{"$f":"IF(Liste_pièces!F672=\"\",\"\",Liste_pièces!F672)","v":""},{"$f":"IF(Liste_pièces!G672=\"\",\"\",Liste_pièces!G672)","v":""},{"$f":"IF(Liste_pièces!H672=\"\",\"\",Liste_pièces!H672)","v":""},{"$f":"IF(Liste_pièces!I672=\"\",\"\",Liste_pièces!I672)","v":""},{"$f":"IF(Liste_pièces!J672=\"\",\"\",Liste_pièces!J672)","v":""},{"$f":"IF(Liste_pièces!K672=\"\",\"\",Liste_pièces!K672)","v":""},{"$f":"IF(Liste_pièces!L672=\"\",\"\",Liste_pièces!L672)","v":""},{"$f":"IF(Liste_pièces!M672=\"\",\"\",Liste_pièces!M672)","v":""},0,1,0]
[{"$f":"IF(Liste_pièces!A673=\"\",\"ZZZ\",Liste_pièces!A673)","v":"ZZZ"},{"$f":"IF(Liste_pièces!B673=\"\",\"ZZZ\",Liste_pièces!B673)","v":"ZZZ"},{"$f":"IF(Liste_pièces!C673=\"\",\"\",Liste_pièces!C673)","v":""},{"$f":"IF(Liste_pièces!D673=\"\",\"\",Liste_pièces!D673)","v":""},{"$f":"IF(Liste_pièces!E673=\"\",\"\",Liste_pièces!E673)","v":""},{"$f":"IF(Liste_pièces!F673=\"\",\"\",Liste_pièces!F673)","v":""},{"$f":"IF(Liste_pièces!G673=\"\",\"\",Liste_pièces!G673)","v":""},{"$f":"IF(Liste_pièces!H673=\"\",\"\",Liste_pièces!H673)","v":""},{"$f":"IF(Liste_pièces!I673=\"\",\"\",Liste_pièces!I673)","v":""},{"$f":"IF(Liste_pièces!J673=\"\",\"\",Liste_pièces!J673)","v":""},{"$f":"IF(Liste_pièces!K673=\"\",\"\",Liste_pièces!K673)","v":""},{"$f":"IF(Liste_pièces!L673=\"\",\"\",Liste_pièces!L673)","v":""},{"$f":"IF(Liste_pièces!M673=\"\",\"\",Liste_pièces!M673)","v":""},0,1,0]
[{"$f":"IF(Liste_pièces!A674=\"\",\"ZZZ\",Liste_pièces!A674)","v":"ZZZ"},{"$f":"IF(Liste_pièces!B674=\"\",\"ZZZ\",Liste_pièces!B674)","v":"ZZZ"},{"$f":"IF(Liste_pièces!C674=\"\",\"\",Liste_pièces!C674)","v":""},{"$f":"IF(Liste_pièces!D674=\"\",\"\",Liste_pièces!D674)","v":""},{"$f":"IF(Liste_pièces!E674=\"\",\"\",Liste_pièces!E674)","v":""},{"$f":"IF(Liste_pièces!F674=\"\",\"\",Liste_pièces!F674)","v":""},{"$f":"IF(Liste_pièces!G674=\"\",\"\",Liste_pièces!G674)","v":""},{"$f":"IF(Liste_pièces!H674=\"\",\"\",Liste_pièces!H674)","v":""},{"$f":"IF(Liste_pièces!I674=\"\",\"\",Liste_pièces!I674)","v":""},{"$f":"IF(Liste_pièces!J674=\"\",\"\",Liste_pièces!J674)","v":""},{"$f":"IF(Liste_pièces!K674=\"\",\"\",Liste_pièces!K674)","v":""},{"$f":"IF(Liste_pièces!L674=\"\",\"\",Liste_pièces!L674)","v":""},{"$f":"IF(Liste_pièces!M674=\"\",\"\",Liste_pièces!M674)","v":""},0,1,0]
[{"$f":"IF(Liste_pièces!A675=\"\",\"ZZZ\",Liste_pièces!A675)","v":"ZZZ"},{"$f":"IF(Liste_pièces!B675=\"\",\"ZZZ\",Liste_pièces!B675)","v":"ZZZ"},{"$f":"IF(Liste_pièces!C675=\"\",\"\",Liste_pièces!C675)","v":""},{"$f":"IF(Liste_pièces!D675=\"\",\"\",Liste_pièces!D675)","v":""},{"$f":"IF(Liste_pièces!E675=\"\",\"\",Liste_pièces!E675)","v":""},{"$f":"IF(Liste_pièces!F675=\"\",\"\",Liste_pièces!F675)","v":""},{"$f":"IF(Liste_pièces!G675=\"\",\"\",Liste_pièces!G675)","v":""},{"$f":"IF(Liste_pièces!H675=\"\",\"\",Liste_pièces!H675)","v":""},{"$f":"IF(Liste_pièces!I675=\"\",\"\",Liste_pièces!I675)","v":""},{"$f":"IF(Liste_pièces!J675=\"\",\"\",Liste_pièces!J675)","v":""},{"$f":"IF(Liste_pièces!K675=\"\",\"\",Liste_pièces!K675)","v":""},{"$f":"IF(Liste_pièces!L675=\"\",\"\",Liste_pièces!L675)","v":""},{"$f":"IF(Liste_pièces!M675=\"\",\"\",Liste_pièces!M675)","v":""},0,1,0]
[{"$f":"IF(Liste_pièces!A676=\"\",\"ZZZ\",Liste_pièces!A676)","v":"ZZZ"},{"$f":"IF(Liste_pièces!B676=\"\",\"ZZZ\",Liste_pièces!B676)","v":"ZZZ"},{"$f":"IF(Liste_pièces!C676=\"\",\"\",Liste_pièces!C676)","v":""},{"$f":"IF(Liste_pièces!D676=\"\",\"\",Liste_pièces!D676)","v":""},{"$f":"IF(Liste_pièces!E676=\"\",\"\",Liste_pièces!E676)","v":""},{"$f":"IF(Liste_pièces!F676=\"\",\"\",Liste_pièces!F676)","v":""},{"$f":"IF(Liste_pièces!G676=\"\",\"\",Liste_pièces!G676)","v":""},{"$f":"IF(Liste_pièces!H676=\"\",\"\",Liste_pièces!H676)","v":""},{"$f":"IF(Liste_pièces!I676=\"\",\"\",Liste_pièces!I676)","v":""},{"$f":"IF(Liste_pièces!J676=\"\",\"\",Liste_pièces!J676)","v":""},{"$f":"IF(Liste_pièces!K676=\"\",\"\",Liste_pièces!K676)","v":""},{"$f":"IF(Liste_pièces!L676=\"\",\"\",Liste_pièces!L676)","v":""},{"$f":"IF(Liste_pièces!M676=\"\",\"\",Liste_pièces!M676)","v":""},0,1,0]
[{"$f":"IF(Liste_pièces!A677=\"\",\"ZZZ\",Liste_pièces!A677)","v":"ZZZ"},{"$f":"IF(Liste_pièces!B677=\"\",\"ZZZ\",Liste_pièces!B677)","v":"ZZZ"},{"$f":"IF(Liste_pièces!C677=\"\",\"\",Liste_pièces!C677)","v":""},{"$f":"IF(Liste_pièces!D677=\"\",\"\",Liste_pièces!D677)","v":""},{"$f":"IF(Liste_pièces!E677=\"\",\"\",Liste_pièces!E677)","v":""},{"$f":"IF(Liste_pièces!F677=\"\",\"\",Liste_pièces!F677)","v":""},{"$f":"IF(Liste_pièces!G677=\"\",\"\",Liste_pièces!G677)","v":""},{"$f":"IF(Liste_pièces!H677=\"\",\"\",Liste_pièces!H677)","v":""},{"$f":"IF(Liste_pièces!I677=\"\",\"\",Liste_pièces!I677)","v":""},{"$f":"IF(Liste_pièces!J677=\"\",\"\",Liste_pièces!J677)","v":""},{"$f":"IF(Liste_pièces!K677=\"\",\"\",Liste_pièces!K677)","v":""},{"$f":"IF(Liste_pièces!L677=\"\",\"\",Liste_pièces!L677)","v":""},{"$f":"IF(Liste_pièces!M677=\"\",\"\",Liste_pièces!M677)","v":""},0,1,0]
[{"$f":"IF(Liste_pièces!A678=\"\",\"ZZZ\",Liste_pièces!A678)","v":"ZZZ"},{"$f":"IF(Liste_pièces!B678=\"\",\"ZZZ\",Liste_pièces!B678)","v":"ZZZ"},{"$f":"IF(Liste_pièces!C678=\"\",\"\",Liste_pièces!C678)","v":""},{"$f":"IF(Liste_pièces!D678=\"\",\"\",Liste_pièces!D678)","v":""},{"$f":"IF(Liste_pièces!E678=\"\",\"\",Liste_pièces!E678)","v":""},{"$f":"IF(Liste_pièces!F678=\"\",\"\",Liste_pièces!F678)","v":""},{"$f":"IF(Liste_pièces!G678=\"\",\"\",Liste_pièces!G678)","v":""},{"$f":"IF(Liste_pièces!H678=\"\",\"\",Liste_pièces!H678)","v":""},{"$f":"IF(Liste_pièces!I678=\"\",\"\",Liste_pièces!I678)","v":""},{"$f":"IF(Liste_pièces!J678=\"\",\"\",Liste_pièces!J678)","v":""},{"$f":"IF(Liste_pièces!K678=\"\",\"\",Liste_pièces!K678)","v":""},{"$f":"IF(Liste_pièces!L678=\"\",\"\",Liste_pièces!L678)","v":""},{"$f":"IF(Liste_pièces!M678=\"\",\"\",Liste_pièces!M678)","v":""},0,1,0]
[{"$f":"IF(Liste_pièces!A679=\"\",\"ZZZ\",Liste_pièces!A679)","v":"ZZZ"},{"$f":"IF(Liste_pièces!B679=\"\",\"ZZZ\",Liste_pièces!B679)","v":"ZZZ"},{"$f":"IF(Liste_pièces!C679=\"\",\"\",Liste_pièces!C679)","v":""},{"$f":"IF(Liste_pièces!D679=\"\",\"\",Liste_pièces!D679)","v":""},{"$f":"IF(Liste_pièces!E679=\"\",\"\",Liste_pièces!E679)","v":""},{"$f":"IF(Liste_pièces!F679=\"\",\"\",Liste_pièces!F679)","v":""},{"$f":"IF(Liste_pièces!G679=\"\",\"\",Liste_pièces!G679)","v":""},{"$f":"IF(Liste_pièces!H679=\"\",\"\",Liste_pièces!H679)","v":""},{"$f":"IF(Liste_pièces!I679=\"\",\"\",Liste_pièces!I679)","v":""},{"$f":"IF(Liste_pièces!J679=\"\",\"\",Liste_pièces!J679)","v":""},{"$f":"IF(Liste_pièces!K679=\"\",\"\",Liste_pièces!K679)","v":""},{"$f":"IF(Liste_pièces!L679=\"\",\"\",Liste_pièces!L679)","v":""},{"$f":"IF(Liste_pièces!M679=\"\",\"\",Liste_pièces!M679)","v":""},0,1,0]
[{"$f":"IF(Liste_pièces!A680=\"\",\"ZZZ\",Liste_pièces!A680)","v":"ZZZ"},{"$f":"IF(Liste_pièces!B680=\"\",\"ZZZ\",Liste_pièces!B680)","v":"ZZZ"},{"$f":"IF(Liste_pièces!C680=\"\",\"\",Liste_pièces!C680)","v":""},{"$f":"IF(Liste_pièces!D680=\"\",\"\",Liste_pièces!D680)","v":""},{"$f":"IF(Liste_pièces!E680=\"\",\"\",Liste_pièces!E680)","v":""},{"$f":"IF(Liste_pièces!F680=\"\",\"\",Liste_pièces!F680)","v":""},{"$f":"IF(Liste_pièces!G680=\"\",\"\",Liste_pièces!G680)","v":""},{"$f":"IF(Liste_pièces!H680=\"\",\"\",Liste_pièces!H680)","v":""},{"$f":"IF(Liste_pièces!I680=\"\",\"\",Liste_pièces!I680)","v":""},{"$f":"IF(Liste_pièces!J680=\"\",\"\",Liste_pièces!J680)","v":""},{"$f":"IF(Liste_pièces!K680=\"\",\"\",Liste_pièces!K680)","v":""},{"$f":"IF(Liste_pièces!L680=\"\",\"\",Liste_pièces!L680)","v":""},{"$f":"IF(Liste_pièces!M680=\"\",\"\",Liste_pièces!M680)","v":""},0,1,0]
[{"$f":"IF(Liste_pièces!A681=\"\",\"ZZZ\",Liste_pièces!A681)","v":"ZZZ"},{"$f":"IF(Liste_pièces!B681=\"\",\"ZZZ\",Liste_pièces!B681)","v":"ZZZ"},{"$f":"IF(Liste_pièces!C681=\"\",\"\",Liste_pièces!C681)","v":""},{"$f":"IF(Liste_pièces!D681=\"\",\"\",Liste_pièces!D681)","v":""},{"$f":"IF(Liste_pièces!E681=\"\",\"\",Liste_pièces!E681)","v":""},{"$f":"IF(Liste_pièces!F681=\"\",\"\",Liste_pièces!F681)","v":""},{"$f":"IF(Liste_pièces!G681=\"\",\"\",Liste_pièces!G681)","v":""},{"$f":"IF(Liste_pièces!H681=\"\",\"\",Liste_pièces!H681)","v":""},{"$f":"IF(Liste_pièces!I681=\"\",\"\",Liste_pièces!I681)","v":""},{"$f":"IF(Liste_pièces!J681=\"\",\"\",Liste_pièces!J681)","v":""},{"$f":"IF(Liste_pièces!K681=\"\",\"\",Liste_pièces!K681)","v":""},{"$f":"IF(Liste_pièces!L681=\"\",\"\",Liste_pièces!L681)","v":""},{"$f":"IF(Liste_pièces!M681=\"\",\"\",Liste_pièces!M681)","v":""},0,1,0]
[{"$f":"IF(Liste_pièces!A682=\"\",\"ZZZ\",Liste_pièces!A682)","v":"ZZZ"},{"$f":"IF(Liste_pièces!B682=\"\",\"ZZZ\",Liste_pièces!B682)","v":"ZZZ"},{"$f":"IF(Liste_pièces!C682=\"\",\"\",Liste_pièces!C682)","v":""},{"$f":"IF(Liste_pièces!D682=\"\",\"\",Liste_pièces!D682)","v":""},{"$f":"IF(Liste_pièces!E682=\"\",\"\",Liste_pièces!E682)","v":""},{"$f":"IF(Liste_pièces!F682=\"\",\"\",Liste_pièces!F682)","v":""},{"$f":"IF(Liste_pièces!G682=\"\",\"\",Liste_pièces!G682)","v":""},{"$f":"IF(Liste_pièces!H682=\"\",\"\",Liste_pièces!H682)","v":""},{"$f":"IF(Liste_pièces!I682=\"\",\"\",Liste_pièces!I682)","v":""},{"$f":"IF(Liste_pièces!J682=\"\",\"\",Liste_pièces!J682)","v":""},{"$f":"IF(Liste_pièces!K682=\"\",\"\",Liste_pièces!K682)","v":""},{"$f":"IF(Liste_pièces!L682=\"\",\"\",Liste_pièces!L682)","v":""},{"$f":"IF(Liste_pièces!M682=\"\",\"\",Liste_pièces!M682)","v":""},0,{"$f":"IF(N682*37=SUM(N645:N681),1,0)","v":1},0]
[{"$f":"IF(Liste_pièces!A683=\"\",\"ZZZ\",Liste_pièces!A683)","v":"ZZZ"},{"$f":"IF(Liste_pièces!B683=\"\",\"ZZZ\",Liste_pièces!B683)","v":"ZZZ"},{"$f":"IF(Liste_pièces!C683=\"\",\"\",Liste_pièces!C683)","v":""},{"$f":"IF(Liste_pièces!D683=\"\",\"\",Liste_pièces!D683)","v":""},{"$f":"IF(Liste_pièces!E683=\"\",\"\",Liste_pièces!E683)","v":""},{"$f":"IF(Liste_pièces!F683=\"\",\"\",Liste_pièces!F683)","v":""},{"$f":"IF(Liste_pièces!G683=\"\",\"\",Liste_pièces!G683)","v":""},{"$f":"IF(Liste_pièces!H683=\"\",\"\",Liste_pièces!H683)","v":""},{"$f":"IF(Liste_pièces!I683=\"\",\"\",Liste_pièces!I683)","v":""},{"$f":"IF(Liste_pièces!J683=\"\",\"\",Liste_pièces!J683)","v":""},{"$f":"IF(Liste_pièces!K683=\"\",\"\",Liste_pièces!K683)","v":""},{"$f":"IF(Liste_pièces!L683=\"\",\"\",Liste_pièces!L683)","v":""},{"$f":"IF(Liste_pièces!M683=\"\",\"\",Liste_pièces!M683)","v":""},0,1,0]
[{"$f":"IF(Liste_pièces!A684=\"\",\"ZZZ\",Liste_pièces!A684)","v":"ZZZ"},{"$f":"IF(Liste_pièces!B684=\"\",\"ZZZ\",Liste_pièces!B684)","v":"ZZZ"},{"$f":"IF(Liste_pièces!C684=\"\",\"\",Liste_pièces!C684)","v":""},{"$f":"IF(Liste_pièces!D684=\"\",\"\",Liste_pièces!D684)","v":""},{"$f":"IF(Liste_pièces!E684=\"\",\"\",Liste_pièces!E684)","v":""},{"$f":"IF(Liste_pièces!F684=\"\",\"\",Liste_pièces!F684)","v":""},{"$f":"IF(Liste_pièces!G684=\"\",\"\",Liste_pièces!G684)","v":""},{"$f":"IF(Liste_pièces!H684=\"\",\"\",Liste_pièces!H684)","v":""},{"$f":"IF(Liste_pièces!I684=\"\",\"\",Liste_pièces!I684)","v":""},{"$f":"IF(Liste_pièces!J684=\"\",\"\",Liste_pièces!J684)","v":""},{"$f":"IF(Liste_pièces!K684=\"\",\"\",Liste_pièces!K684)","v":""},{"$f":"IF(Liste_pièces!L684=\"\",\"\",Liste_pièces!L684)","v":""},{"$f":"IF(Liste_pièces!M684=\"\",\"\",Liste_pièces!M684)","v":""},0,1,0]
[{"$f":"IF(Liste_pièces!A685=\"\",\"ZZZ\",Liste_pièces!A685)","v":"ZZZ"},{"$f":"IF(Liste_pièces!B685=\"\",\"ZZZ\",Liste_pièces!B685)","v":"ZZZ"},{"$f":"IF(Liste_pièces!C685=\"\",\"\",Liste_pièces!C685)","v":""},{"$f":"IF(Liste_pièces!D685=\"\",\"\",Liste_pièces!D685)","v":""},{"$f":"IF(Liste_pièces!E685=\"\",\"\",Liste_pièces!E685)","v":""},{"$f":"IF(Liste_pièces!F685=\"\",\"\",Liste_pièces!F685)","v":""},{"$f":"IF(Liste_pièces!G685=\"\",\"\",Liste_pièces!G685)","v":""},{"$f":"IF(Liste_pièces!H685=\"\",\"\",Liste_pièces!H685)","v":""},{"$f":"IF(Liste_pièces!I685=\"\",\"\",Liste_pièces!I685)","v":""},{"$f":"IF(Liste_pièces!J685=\"\",\"\",Liste_pièces!J685)","v":""},{"$f":"IF(Liste_pièces!K685=\"\",\"\",Liste_pièces!K685)","v":""},{"$f":"IF(Liste_pièces!L685=\"\",\"\",Liste_pièces!L685)","v":""},{"$f":"IF(Liste_pièces!M685=\"\",\"\",Liste_pièces!M685)","v":""},0,1,0]
[{"$f":"IF(Liste_pièces!A686=\"\",\"ZZZ\",Liste_pièces!A686)","v":"ZZZ"},{"$f":"IF(Liste_pièces!B686=\"\",\"ZZZ\",Liste_pièces!B686)","v":"ZZZ"},{"$f":"IF(Liste_pièces!C686=\"\",\"\",Liste_pièces!C686)","v":""},{"$f":"IF(Liste_pièces!D686=\"\",\"\",Liste_pièces!D686)","v":""},{"$f":"IF(Liste_pièces!E686=\"\",\"\",Liste_pièces!E686)","v":""},{"$f":"IF(Liste_pièces!F686=\"\",\"\",Liste_pièces!F686)","v":""},{"$f":"IF(Liste_pièces!G686=\"\",\"\",Liste_pièces!G686)","v":""},{"$f":"IF(Liste_pièces!H686=\"\",\"\",Liste_pièces!H686)","v":""},{"$f":"IF(Liste_pièces!I686=\"\",\"\",Liste_pièces!I686)","v":""},{"$f":"IF(Liste_pièces!J686=\"\",\"\",Liste_pièces!J686)","v":""},{"$f":"IF(Liste_pièces!K686=\"\",\"\",Liste_pièces!K686)","v":""},{"$f":"IF(Liste_pièces!L686=\"\",\"\",Liste_pièces!L686)","v":""},{"$f":"IF(Liste_pièces!M686=\"\",\"\",Liste_pièces!M686)","v":""},0,1,0]
[{"$f":"IF(Liste_pièces!A687=\"\",\"ZZZ\",Liste_pièces!A687)","v":"ZZZ"},{"$f":"IF(Liste_pièces!B687=\"\",\"ZZZ\",Liste_pièces!B687)","v":"ZZZ"},{"$f":"IF(Liste_pièces!C687=\"\",\"\",Liste_pièces!C687)","v":""},{"$f":"IF(Liste_pièces!D687=\"\",\"\",Liste_pièces!D687)","v":""},{"$f":"IF(Liste_pièces!E687=\"\",\"\",Liste_pièces!E687)","v":""},{"$f":"IF(Liste_pièces!F687=\"\",\"\",Liste_pièces!F687)","v":""},{"$f":"IF(Liste_pièces!G687=\"\",\"\",Liste_pièces!G687)","v":""},{"$f":"IF(Liste_pièces!H687=\"\",\"\",Liste_pièces!H687)","v":""},{"$f":"IF(Liste_pièces!I687=\"\",\"\",Liste_pièces!I687)","v":""},{"$f":"IF(Liste_pièces!J687=\"\",\"\",Liste_pièces!J687)","v":""},{"$f":"IF(Liste_pièces!K687=\"\",\"\",Liste_pièces!K687)","v":""},{"$f":"IF(Liste_pièces!L687=\"\",\"\",Liste_pièces!L687)","v":""},{"$f":"IF(Liste_pièces!M687=\"\",\"\",Liste_pièces!M687)","v":""},0,1,0]
[{"$f":"IF(Liste_pièces!A688=\"\",\"ZZZ\",Liste_pièces!A688)","v":"ZZZ"},{"$f":"IF(Liste_pièces!B688=\"\",\"ZZZ\",Liste_pièces!B688)","v":"ZZZ"},{"$f":"IF(Liste_pièces!C688=\"\",\"\",Liste_pièces!C688)","v":""},{"$f":"IF(Liste_pièces!D688=\"\",\"\",Liste_pièces!D688)","v":""},{"$f":"IF(Liste_pièces!E688=\"\",\"\",Liste_pièces!E688)","v":""},{"$f":"IF(Liste_pièces!F688=\"\",\"\",Liste_pièces!F688)","v":""},{"$f":"IF(Liste_pièces!G688=\"\",\"\",Liste_pièces!G688)","v":""},{"$f":"IF(Liste_pièces!H688=\"\",\"\",Liste_pièces!H688)","v":""},{"$f":"IF(Liste_pièces!I688=\"\",\"\",Liste_pièces!I688)","v":""},{"$f":"IF(Liste_pièces!J688=\"\",\"\",Liste_pièces!J688)","v":""},{"$f":"IF(Liste_pièces!K688=\"\",\"\",Liste_pièces!K688)","v":""},{"$f":"IF(Liste_pièces!L688=\"\",\"\",Liste_pièces!L688)","v":""},{"$f":"IF(Liste_pièces!M688=\"\",\"\",Liste_pièces!M688)","v":""},0,1,0]
[{"$f":"IF(Liste_pièces!A689=\"\",\"ZZZ\",Liste_pièces!A689)","v":"ZZZ"},{"$f":"IF(Liste_pièces!B689=\"\",\"ZZZ\",Liste_pièces!B689)","v":"ZZZ"},{"$f":"IF(Liste_pièces!C689=\"\",\"\",Liste_pièces!C689)","v":""},{"$f":"IF(Liste_pièces!D689=\"\",\"\",Liste_pièces!D689)","v":""},{"$f":"IF(Liste_pièces!E689=\"\",\"\",Liste_pièces!E689)","v":""},{"$f":"IF(Liste_pièces!F689=\"\",\"\",Liste_pièces!F689)","v":""},{"$f":"IF(Liste_pièces!G689=\"\",\"\",Liste_pièces!G689)","v":""},{"$f":"IF(Liste_pièces!H689=\"\",\"\",Liste_pièces!H689)","v":""},{"$f":"IF(Liste_pièces!I689=\"\",\"\",Liste_pièces!I689)","v":""},{"$f":"IF(Liste_pièces!J689=\"\",\"\",Liste_pièces!J689)","v":""},{"$f":"IF(Liste_pièces!K689=\"\",\"\",Liste_pièces!K689)","v":""},{"$f":"IF(Liste_pièces!L689=\"\",\"\",Liste_pièces!L689)","v":""},{"$f":"IF(Liste_pièces!M689=\"\",\"\",Liste_pièces!M689)","v":""},0,1,0]
[{"$f":"IF(Liste_pièces!A690=\"\",\"ZZZ\",Liste_pièces!A690)","v":"ZZZ"},{"$f":"IF(Liste_pièces!B690=\"\",\"ZZZ\",Liste_pièces!B690)","v":"ZZZ"},{"$f":"IF(Liste_pièces!C690=\"\",\"\",Liste_pièces!C690)","v":""},{"$f":"IF(Liste_pièces!D690=\"\",\"\",Liste_pièces!D690)","v":""},{"$f":"IF(Liste_pièces!E690=\"\",\"\",Liste_pièces!E690)","v":""},{"$f":"IF(Liste_pièces!F690=\"\",\"\",Liste_pièces!F690)","v":""},{"$f":"IF(Liste_pièces!G690=\"\",\"\",Liste_pièces!G690)","v":""},{"$f":"IF(Liste_pièces!H690=\"\",\"\",Liste_pièces!H690)","v":""},{"$f":"IF(Liste_pièces!I690=\"\",\"\",Liste_pièces!I690)","v":""},{"$f":"IF(Liste_pièces!J690=\"\",\"\",Liste_pièces!J690)","v":""},{"$f":"IF(Liste_pièces!K690=\"\",\"\",Liste_pièces!K690)","v":""},{"$f":"IF(Liste_pièces!L690=\"\",\"\",Liste_pièces!L690)","v":""},{"$f":"IF(Liste_pièces!M690=\"\",\"\",Liste_pièces!M690)","v":""},0,1,0]
[{"$f":"IF(Liste_pièces!A691=\"\",\"ZZZ\",Liste_pièces!A691)","v":"ZZZ"},{"$f":"IF(Liste_pièces!B691=\"\",\"ZZZ\",Liste_pièces!B691)","v":"ZZZ"},{"$f":"IF(Liste_pièces!C691=\"\",\"\",Liste_pièces!C691)","v":""},{"$f":"IF(Liste_pièces!D691=\"\",\"\",Liste_pièces!D691)","v":""},{"$f":"IF(Liste_pièces!E691=\"\",\"\",Liste_pièces!E691)","v":""},{"$f":"IF(Liste_pièces!F691=\"\",\"\",Liste_pièces!F691)","v":""},{"$f":"IF(Liste_pièces!G691=\"\",\"\",Liste_pièces!G691)","v":""},{"$f":"IF(Liste_pièces!H691=\"\",\"\",Liste_pièces!H691)","v":""},{"$f":"IF(Liste_pièces!I691=\"\",\"\",Liste_pièces!I691)","v":""},{"$f":"IF(Liste_pièces!J691=\"\",\"\",Liste_pièces!J691)","v":""},{"$f":"IF(Liste_pièces!K691=\"\",\"\",Liste_pièces!K691)","v":""},{"$f":"IF(Liste_pièces!L691=\"\",\"\",Liste_pièces!L691)","v":""},{"$f":"IF(Liste_pièces!M691=\"\",\"\",Liste_pièces!M691)","v":""},0,1,0]
[{"$f":"IF(Liste_pièces!A692=\"\",\"ZZZ\",Liste_pièces!A692)","v":"ZZZ"},{"$f":"IF(Liste_pièces!B692=\"\",\"ZZZ\",Liste_pièces!B692)","v":"ZZZ"},{"$f":"IF(Liste_pièces!C692=\"\",\"\",Liste_pièces!C692)","v":""},{"$f":"IF(Liste_pièces!D692=\"\",\"\",Liste_pièces!D692)","v":""},{"$f":"IF(Liste_pièces!E692=\"\",\"\",Liste_pièces!E692)","v":""},{"$f":"IF(Liste_pièces!F692=\"\",\"\",Liste_pièces!F692)","v":""},{"$f":"IF(Liste_pièces!G692=\"\",\"\",Liste_pièces!G692)","v":""},{"$f":"IF(Liste_pièces!H692=\"\",\"\",Liste_pièces!H692)","v":""},{"$f":"IF(Liste_pièces!I692=\"\",\"\",Liste_pièces!I692)","v":""},{"$f":"IF(Liste_pièces!J692=\"\",\"\",Liste_pièces!J692)","v":""},{"$f":"IF(Liste_pièces!K692=\"\",\"\",Liste_pièces!K692)","v":""},{"$f":"IF(Liste_pièces!L692=\"\",\"\",Liste_pièces!L692)","v":""},{"$f":"IF(Liste_pièces!M692=\"\",\"\",Liste_pièces!M692)","v":""},0,1,0]
[{"$f":"IF(Liste_pièces!A693=\"\",\"ZZZ\",Liste_pièces!A693)","v":"ZZZ"},{"$f":"IF(Liste_pièces!B693=\"\",\"ZZZ\",Liste_pièces!B693)","v":"ZZZ"},{"$f":"IF(Liste_pièces!C693=\"\",\"\",Liste_pièces!C693)","v":""},{"$f":"IF(Liste_pièces!D693=\"\",\"\",Liste_pièces!D693)","v":""},{"$f":"IF(Liste_pièces!E693=\"\",\"\",Liste_pièces!E693)","v":""},{"$f":"IF(Liste_pièces!F693=\"\",\"\",Liste_pièces!F693)","v":""},{"$f":"IF(Liste_pièces!G693=\"\",\"\",Liste_pièces!G693)","v":""},{"$f":"IF(Liste_pièces!H693=\"\",\"\",Liste_pièces!H693)","v":""},{"$f":"IF(Liste_pièces!I693=\"\",\"\",Liste_pièces!I693)","v":""},{"$f":"IF(Liste_pièces!J693=\"\",\"\",Liste_pièces!J693)","v":""},{"$f":"IF(Liste_pièces!K693=\"\",\"\",Liste_pièces!K693)","v":""},{"$f":"IF(Liste_pièces!L693=\"\",\"\",Liste_pièces!L693)","v":""},{"$f":"IF(Liste_pièces!M693=\"\",\"\",Liste_pièces!M693)","v":""},0,1,0]
[{"$f":"IF(Liste_pièces!A694=\"\",\"ZZZ\",Liste_pièces!A694)","v":"ZZZ"},{"$f":"IF(Liste_pièces!B694=\"\",\"ZZZ\",Liste_pièces!B694)","v":"ZZZ"},{"$f":"IF(Liste_pièces!C694=\"\",\"\",Liste_pièces!C694)","v":""},{"$f":"IF(Liste_pièces!D694=\"\",\"\",Liste_pièces!D694)","v":""},{"$f":"IF(Liste_pièces!E694=\"\",\"\",Liste_pièces!E694)","v":""},{"$f":"IF(Liste_pièces!F694=\"\",\"\",Liste_pièces!F694)","v":""},{"$f":"IF(Liste_pièces!G694=\"\",\"\",Liste_pièces!G694)","v":""},{"$f":"IF(Liste_pièces!H694=\"\",\"\",Liste_pièces!H694)","v":""},{"$f":"IF(Liste_pièces!I694=\"\",\"\",Liste_pièces!I694)","v":""},{"$f":"IF(Liste_pièces!J694=\"\",\"\",Liste_pièces!J694)","v":""},{"$f":"IF(Liste_pièces!K694=\"\",\"\",Liste_pièces!K694)","v":""},{"$f":"IF(Liste_pièces!L694=\"\",\"\",Liste_pièces!L694)","v":""},{"$f":"IF(Liste_pièces!M694=\"\",\"\",Liste_pièces!M694)","v":""},0,1,0]
[{"$f":"IF(Liste_pièces!A695=\"\",\"ZZZ\",Liste_pièces!A695)","v":"ZZZ"},{"$f":"IF(Liste_pièces!B695=\"\",\"ZZZ\",Liste_pièces!B695)","v":"ZZZ"},{"$f":"IF(Liste_pièces!C695=\"\",\"\",Liste_pièces!C695)","v":""},{"$f":"IF(Liste_pièces!D695=\"\",\"\",Liste_pièces!D695)","v":""},{"$f":"IF(Liste_pièces!E695=\"\",\"\",Liste_pièces!E695)","v":""},{"$f":"IF(Liste_pièces!F695=\"\",\"\",Liste_pièces!F695)","v":""},{"$f":"IF(Liste_pièces!G695=\"\",\"\",Liste_pièces!G695)","v":""},{"$f":"IF(Liste_pièces!H695=\"\",\"\",Liste_pièces!H695)","v":""},{"$f":"IF(Liste_pièces!I695=\"\",\"\",Liste_pièces!I695)","v":""},{"$f":"IF(Liste_pièces!J695=\"\",\"\",Liste_pièces!J695)","v":""},{"$f":"IF(Liste_pièces!K695=\"\",\"\",Liste_pièces!K695)","v":""},{"$f":"IF(Liste_pièces!L695=\"\",\"\",Liste_pièces!L695)","v":""},{"$f":"IF(Liste_pièces!M695=\"\",\"\",Liste_pièces!M695)","v":""},0,1,0]
[{"$f":"IF(Liste_pièces!A696=\"\",\"ZZZ\",Liste_pièces!A696)","v":"ZZZ"},{"$f":"IF(Liste_pièces!B696=\"\",\"ZZZ\",Liste_pièces!B696)","v":"ZZZ"},{"$f":"IF(Liste_pièces!C696=\"\",\"\",Liste_pièces!C696)","v":""},{"$f":"IF(Liste_pièces!D696=\"\",\"\",Liste_pièces!D696)","v":""},{"$f":"IF(Liste_pièces!E696=\"\",\"\",Liste_pièces!E696)","v":""},{"$f":"IF(Liste_pièces!F696=\"\",\"\",Liste_pièces!F696)","v":""},{"$f":"IF(Liste_pièces!G696=\"\",\"\",Liste_pièces!G696)","v":""},{"$f":"IF(Liste_pièces!H696=\"\",\"\",Liste_pièces!H696)","v":""},{"$f":"IF(Liste_pièces!I696=\"\",\"\",Liste_pièces!I696)","v":""},{"$f":"IF(Liste_pièces!J696=\"\",\"\",Liste_pièces!J696)","v":""},{"$f":"IF(Liste_pièces!K696=\"\",\"\",Liste_pièces!K696)","v":""},{"$f":"IF(Liste_pièces!L696=\"\",\"\",Liste_pièces!L696)","v":""},{"$f":"IF(Liste_pièces!M696=\"\",\"\",Liste_pièces!M696)","v":""},0,1,0]
[{"$f":"IF(Liste_pièces!A697=\"\",\"ZZZ\",Liste_pièces!A697)","v":"ZZZ"},{"$f":"IF(Liste_pièces!B697=\"\",\"ZZZ\",Liste_pièces!B697)","v":"ZZZ"},{"$f":"IF(Liste_pièces!C697=\"\",\"\",Liste_pièces!C697)","v":""},{"$f":"IF(Liste_pièces!D697=\"\",\"\",Liste_pièces!D697)","v":""},{"$f":"IF(Liste_pièces!E697=\"\",\"\",Liste_pièces!E697)","v":""},{"$f":"IF(Liste_pièces!F697=\"\",\"\",Liste_pièces!F697)","v":""},{"$f":"IF(Liste_pièces!G697=\"\",\"\",Liste_pièces!G697)","v":""},{"$f":"IF(Liste_pièces!H697=\"\",\"\",Liste_pièces!H697)","v":""},{"$f":"IF(Liste_pièces!I697=\"\",\"\",Liste_pièces!I697)","v":""},{"$f":"IF(Liste_pièces!J697=\"\",\"\",Liste_pièces!J697)","v":""},{"$f":"IF(Liste_pièces!K697=\"\",\"\",Liste_pièces!K697)","v":""},{"$f":"IF(Liste_pièces!L697=\"\",\"\",Liste_pièces!L697)","v":""},{"$f":"IF(Liste_pièces!M697=\"\",\"\",Liste_pièces!M697)","v":""},0,1,0]
[{"$f":"IF(Liste_pièces!A698=\"\",\"ZZZ\",Liste_pièces!A698)","v":"ZZZ"},{"$f":"IF(Liste_pièces!B698=\"\",\"ZZZ\",Liste_pièces!B698)","v":"ZZZ"},{"$f":"IF(Liste_pièces!C698=\"\",\"\",Liste_pièces!C698)","v":""},{"$f":"IF(Liste_pièces!D698=\"\",\"\",Liste_pièces!D698)","v":""},{"$f":"IF(Liste_pièces!E698=\"\",\"\",Liste_pièces!E698)","v":""},{"$f":"IF(Liste_pièces!F698=\"\",\"\",Liste_pièces!F698)","v":""},{"$f":"IF(Liste_pièces!G698=\"\",\"\",Liste_pièces!G698)","v":""},{"$f":"IF(Liste_pièces!H698=\"\",\"\",Liste_pièces!H698)","v":""},{"$f":"IF(Liste_pièces!I698=\"\",\"\",Liste_pièces!I698)","v":""},{"$f":"IF(Liste_pièces!J698=\"\",\"\",Liste_pièces!J698)","v":""},{"$f":"IF(Liste_pièces!K698=\"\",\"\",Liste_pièces!K698)","v":""},{"$f":"IF(Liste_pièces!L698=\"\",\"\",Liste_pièces!L698)","v":""},{"$f":"IF(Liste_pièces!M698=\"\",\"\",Liste_pièces!M698)","v":""},0,1,0]
[{"$f":"IF(Liste_pièces!A699=\"\",\"ZZZ\",Liste_pièces!A699)","v":"ZZZ"},{"$f":"IF(Liste_pièces!B699=\"\",\"ZZZ\",Liste_pièces!B699)","v":"ZZZ"},{"$f":"IF(Liste_pièces!C699=\"\",\"\",Liste_pièces!C699)","v":""},{"$f":"IF(Liste_pièces!D699=\"\",\"\",Liste_pièces!D699)","v":""},{"$f":"IF(Liste_pièces!E699=\"\",\"\",Liste_pièces!E699)","v":""},{"$f":"IF(Liste_pièces!F699=\"\",\"\",Liste_pièces!F699)","v":""},{"$f":"IF(Liste_pièces!G699=\"\",\"\",Liste_pièces!G699)","v":""},{"$f":"IF(Liste_pièces!H699=\"\",\"\",Liste_pièces!H699)","v":""},{"$f":"IF(Liste_pièces!I699=\"\",\"\",Liste_pièces!I699)","v":""},{"$f":"IF(Liste_pièces!J699=\"\",\"\",Liste_pièces!J699)","v":""},{"$f":"IF(Liste_pièces!K699=\"\",\"\",Liste_pièces!K699)","v":""},{"$f":"IF(Liste_pièces!L699=\"\",\"\",Liste_pièces!L699)","v":""},{"$f":"IF(Liste_pièces!M699=\"\",\"\",Liste_pièces!M699)","v":""},0,1,0]
[{"$f":"IF(Liste_pièces!A700=\"\",\"ZZZ\",Liste_pièces!A700)","v":"ZZZ"},{"$f":"IF(Liste_pièces!B700=\"\",\"ZZZ\",Liste_pièces!B700)","v":"ZZZ"},{"$f":"IF(Liste_pièces!C700=\"\",\"\",Liste_pièces!C700)","v":""},{"$f":"IF(Liste_pièces!D700=\"\",\"\",Liste_pièces!D700)","v":""},{"$f":"IF(Liste_pièces!E700=\"\",\"\",Liste_pièces!E700)","v":""},{"$f":"IF(Liste_pièces!F700=\"\",\"\",Liste_pièces!F700)","v":""},{"$f":"IF(Liste_pièces!G700=\"\",\"\",Liste_pièces!G700)","v":""},{"$f":"IF(Liste_pièces!H700=\"\",\"\",Liste_pièces!H700)","v":""},{"$f":"IF(Liste_pièces!I700=\"\",\"\",Liste_pièces!I700)","v":""},{"$f":"IF(Liste_pièces!J700=\"\",\"\",Liste_pièces!J700)","v":""},{"$f":"IF(Liste_pièces!K700=\"\",\"\",Liste_pièces!K700)","v":""},{"$f":"IF(Liste_pièces!L700=\"\",\"\",Liste_pièces!L700)","v":""},{"$f":"IF(Liste_pièces!M700=\"\",\"\",Liste_pièces!M700)","v":""},0,1,0]
[{"$f":"IF(Liste_pièces!A701=\"\",\"ZZZ\",Liste_pièces!A701)","v":"ZZZ"},{"$f":"IF(Liste_pièces!B701=\"\",\"ZZZ\",Liste_pièces!B701)","v":"ZZZ"},{"$f":"IF(Liste_pièces!C701=\"\",\"\",Liste_pièces!C701)","v":""},{"$f":"IF(Liste_pièces!D701=\"\",\"\",Liste_pièces!D701)","v":""},{"$f":"IF(Liste_pièces!E701=\"\",\"\",Liste_pièces!E701)","v":""},{"$f":"IF(Liste_pièces!F701=\"\",\"\",Liste_pièces!F701)","v":""},{"$f":"IF(Liste_pièces!G701=\"\",\"\",Liste_pièces!G701)","v":""},{"$f":"IF(Liste_pièces!H701=\"\",\"\",Liste_pièces!H701)","v":""},{"$f":"IF(Liste_pièces!I701=\"\",\"\",Liste_pièces!I701)","v":""},{"$f":"IF(Liste_pièces!J701=\"\",\"\",Liste_pièces!J701)","v":""},{"$f":"IF(Liste_pièces!K701=\"\",\"\",Liste_pièces!K701)","v":""},{"$f":"IF(Liste_pièces!L701=\"\",\"\",Liste_pièces!L701)","v":""},{"$f":"IF(Liste_pièces!M701=\"\",\"\",Liste_pièces!M701)","v":""},0,1,0]
[{"$f":"IF(Liste_pièces!A702=\"\",\"ZZZ\",Liste_pièces!A702)","v":"ZZZ"},{"$f":"IF(Liste_pièces!B702=\"\",\"ZZZ\",Liste_pièces!B702)","v":"ZZZ"},{"$f":"IF(Liste_pièces!C702=\"\",\"\",Liste_pièces!C702)","v":""},{"$f":"IF(Liste_pièces!D702=\"\",\"\",Liste_pièces!D702)","v":""},{"$f":"IF(Liste_pièces!E702=\"\",\"\",Liste_pièces!E702)","v":""},{"$f":"IF(Liste_pièces!F702=\"\",\"\",Liste_pièces!F702)","v":""},{"$f":"IF(Liste_pièces!G702=\"\",\"\",Liste_pièces!G702)","v":""},{"$f":"IF(Liste_pièces!H702=\"\",\"\",Liste_pièces!H702)","v":""},{"$f":"IF(Liste_pièces!I702=\"\",\"\",Liste_pièces!I702)","v":""},{"$f":"IF(Liste_pièces!J702=\"\",\"\",Liste_pièces!J702)","v":""},{"$f":"IF(Liste_pièces!K702=\"\",\"\",Liste_pièces!K702)","v":""},{"$f":"IF(Liste_pièces!L702=\"\",\"\",Liste_pièces!L702)","v":""},{"$f":"IF(Liste_pièces!M702=\"\",\"\",Liste_pièces!M702)","v":""},0,1,0]
[{"$f":"IF(Liste_pièces!A703=\"\",\"ZZZ\",Liste_pièces!A703)","v":"ZZZ"},{"$f":"IF(Liste_pièces!B703=\"\",\"ZZZ\",Liste_pièces!B703)","v":"ZZZ"},{"$f":"IF(Liste_pièces!C703=\"\",\"\",Liste_pièces!C703)","v":""},{"$f":"IF(Liste_pièces!D703=\"\",\"\",Liste_pièces!D703)","v":""},{"$f":"IF(Liste_pièces!E703=\"\",\"\",Liste_pièces!E703)","v":""},{"$f":"IF(Liste_pièces!F703=\"\",\"\",Liste_pièces!F703)","v":""},{"$f":"IF(Liste_pièces!G703=\"\",\"\",Liste_pièces!G703)","v":""},{"$f":"IF(Liste_pièces!H703=\"\",\"\",Liste_pièces!H703)","v":""},{"$f":"IF(Liste_pièces!I703=\"\",\"\",Liste_pièces!I703)","v":""},{"$f":"IF(Liste_pièces!J703=\"\",\"\",Liste_pièces!J703)","v":""},{"$f":"IF(Liste_pièces!K703=\"\",\"\",Liste_pièces!K703)","v":""},{"$f":"IF(Liste_pièces!L703=\"\",\"\",Liste_pièces!L703)","v":""},{"$f":"IF(Liste_pièces!M703=\"\",\"\",Liste_pièces!M703)","v":""},0,1,0]
[{"$f":"IF(Liste_pièces!A704=\"\",\"ZZZ\",Liste_pièces!A704)","v":"ZZZ"},{"$f":"IF(Liste_pièces!B704=\"\",\"ZZZ\",Liste_pièces!B704)","v":"ZZZ"},{"$f":"IF(Liste_pièces!C704=\"\",\"\",Liste_pièces!C704)","v":""},{"$f":"IF(Liste_pièces!D704=\"\",\"\",Liste_pièces!D704)","v":""},{"$f":"IF(Liste_pièces!E704=\"\",\"\",Liste_pièces!E704)","v":""},{"$f":"IF(Liste_pièces!F704=\"\",\"\",Liste_pièces!F704)","v":""},{"$f":"IF(Liste_pièces!G704=\"\",\"\",Liste_pièces!G704)","v":""},{"$f":"IF(Liste_pièces!H704=\"\",\"\",Liste_pièces!H704)","v":""},{"$f":"IF(Liste_pièces!I704=\"\",\"\",Liste_pièces!I704)","v":""},{"$f":"IF(Liste_pièces!J704=\"\",\"\",Liste_pièces!J704)","v":""},{"$f":"IF(Liste_pièces!K704=\"\",\"\",Liste_pièces!K704)","v":""},{"$f":"IF(Liste_pièces!L704=\"\",\"\",Liste_pièces!L704)","v":""},{"$f":"IF(Liste_pièces!M704=\"\",\"\",Liste_pièces!M704)","v":""},0,1,0]
[{"$f":"IF(Liste_pièces!A705=\"\",\"ZZZ\",Liste_pièces!A705)","v":"ZZZ"},{"$f":"IF(Liste_pièces!B705=\"\",\"ZZZ\",Liste_pièces!B705)","v":"ZZZ"},{"$f":"IF(Liste_pièces!C705=\"\",\"\",Liste_pièces!C705)","v":""},{"$f":"IF(Liste_pièces!D705=\"\",\"\",Liste_pièces!D705)","v":""},{"$f":"IF(Liste_pièces!E705=\"\",\"\",Liste_pièces!E705)","v":""},{"$f":"IF(Liste_pièces!F705=\"\",\"\",Liste_pièces!F705)","v":""},{"$f":"IF(Liste_pièces!G705=\"\",\"\",Liste_pièces!G705)","v":""},{"$f":"IF(Liste_pièces!H705=\"\",\"\",Liste_pièces!H705)","v":""},{"$f":"IF(Liste_pièces!I705=\"\",\"\",Liste_pièces!I705)","v":""},{"$f":"IF(Liste_pièces!J705=\"\",\"\",Liste_pièces!J705)","v":""},{"$f":"IF(Liste_pièces!K705=\"\",\"\",Liste_pièces!K705)","v":""},{"$f":"IF(Liste_pièces!L705=\"\",\"\",Liste_pièces!L705)","v":""},{"$f":"IF(Liste_pièces!M705=\"\",\"\",Liste_pièces!M705)","v":""},0,1,0]
[{"$f":"IF(Liste_pièces!A706=\"\",\"ZZZ\",Liste_pièces!A706)","v":"ZZZ"},{"$f":"IF(Liste_pièces!B706=\"\",\"ZZZ\",Liste_pièces!B706)","v":"ZZZ"},{"$f":"IF(Liste_pièces!C706=\"\",\"\",Liste_pièces!C706)","v":""},{"$f":"IF(Liste_pièces!D706=\"\",\"\",Liste_pièces!D706)","v":""},{"$f":"IF(Liste_pièces!E706=\"\",\"\",Liste_pièces!E706)","v":""},{"$f":"IF(Liste_pièces!F706=\"\",\"\",Liste_pièces!F706)","v":""},{"$f":"IF(Liste_pièces!G706=\"\",\"\",Liste_pièces!G706)","v":""},{"$f":"IF(Liste_pièces!H706=\"\",\"\",Liste_pièces!H706)","v":""},{"$f":"IF(Liste_pièces!I706=\"\",\"\",Liste_pièces!I706)","v":""},{"$f":"IF(Liste_pièces!J706=\"\",\"\",Liste_pièces!J706)","v":""},{"$f":"IF(Liste_pièces!K706=\"\",\"\",Liste_pièces!K706)","v":""},{"$f":"IF(Liste_pièces!L706=\"\",\"\",Liste_pièces!L706)","v":""},{"$f":"IF(Liste_pièces!M706=\"\",\"\",Liste_pièces!M706)","v":""},{"$f":"IF(B1450=\"ZZZ\",0,IF(B1450=B1449,N705,1+N705))","v":0},1,0]
[{"$f":"IF(Liste_pièces!A707=\"\",\"ZZZ\",Liste_pièces!A707)","v":"ZZZ"},{"$f":"IF(Liste_pièces!B707=\"\",\"ZZZ\",Liste_pièces!B707)","v":"ZZZ"},{"$f":"IF(Liste_pièces!C707=\"\",\"\",Liste_pièces!C707)","v":""},{"$f":"IF(Liste_pièces!D707=\"\",\"\",Liste_pièces!D707)","v":""},{"$f":"IF(Liste_pièces!E707=\"\",\"\",Liste_pièces!E707)","v":""},{"$f":"IF(Liste_pièces!F707=\"\",\"\",Liste_pièces!F707)","v":""},{"$f":"IF(Liste_pièces!G707=\"\",\"\",Liste_pièces!G707)","v":""},{"$f":"IF(Liste_pièces!H707=\"\",\"\",Liste_pièces!H707)","v":""},{"$f":"IF(Liste_pièces!I707=\"\",\"\",Liste_pièces!I707)","v":""},{"$f":"IF(Liste_pièces!J707=\"\",\"\",Liste_pièces!J707)","v":""},{"$f":"IF(Liste_pièces!K707=\"\",\"\",Liste_pièces!K707)","v":""},{"$f":"IF(Liste_pièces!L707=\"\",\"\",Liste_pièces!L707)","v":""},{"$f":"IF(Liste_pièces!M707=\"\",\"\",Liste_pièces!M707)","v":""},0,1,0]
[{"$f":"IF(Liste_pièces!A708=\"\",\"ZZZ\",Liste_pièces!A708)","v":"ZZZ"},{"$f":"IF(Liste_pièces!B708=\"\",\"ZZZ\",Liste_pièces!B708)","v":"ZZZ"},{"$f":"IF(Liste_pièces!C708=\"\",\"\",Liste_pièces!C708)","v":""},{"$f":"IF(Liste_pièces!D708=\"\",\"\",Liste_pièces!D708)","v":""},{"$f":"IF(Liste_pièces!E708=\"\",\"\",Liste_pièces!E708)","v":""},{"$f":"IF(Liste_pièces!F708=\"\",\"\",Liste_pièces!F708)","v":""},{"$f":"IF(Liste_pièces!G708=\"\",\"\",Liste_pièces!G708)","v":""},{"$f":"IF(Liste_pièces!H708=\"\",\"\",Liste_pièces!H708)","v":""},{"$f":"IF(Liste_pièces!I708=\"\",\"\",Liste_pièces!I708)","v":""},{"$f":"IF(Liste_pièces!J708=\"\",\"\",Liste_pièces!J708)","v":""},{"$f":"IF(Liste_pièces!K708=\"\",\"\",Liste_pièces!K708)","v":""},{"$f":"IF(Liste_pièces!L708=\"\",\"\",Liste_pièces!L708)","v":""},{"$f":"IF(Liste_pièces!M708=\"\",\"\",Liste_pièces!M708)","v":""},0,1,0]
[{"$f":"IF(Liste_pièces!A709=\"\",\"ZZZ\",Liste_pièces!A709)","v":"ZZZ"},{"$f":"IF(Liste_pièces!B709=\"\",\"ZZZ\",Liste_pièces!B709)","v":"ZZZ"},{"$f":"IF(Liste_pièces!C709=\"\",\"\",Liste_pièces!C709)","v":""},{"$f":"IF(Liste_pièces!D709=\"\",\"\",Liste_pièces!D709)","v":""},{"$f":"IF(Liste_pièces!E709=\"\",\"\",Liste_pièces!E709)","v":""},{"$f":"IF(Liste_pièces!F709=\"\",\"\",Liste_pièces!F709)","v":""},{"$f":"IF(Liste_pièces!G709=\"\",\"\",Liste_pièces!G709)","v":""},{"$f":"IF(Liste_pièces!H709=\"\",\"\",Liste_pièces!H709)","v":""},{"$f":"IF(Liste_pièces!I709=\"\",\"\",Liste_pièces!I709)","v":""},{"$f":"IF(Liste_pièces!J709=\"\",\"\",Liste_pièces!J709)","v":""},{"$f":"IF(Liste_pièces!K709=\"\",\"\",Liste_pièces!K709)","v":""},{"$f":"IF(Liste_pièces!L709=\"\",\"\",Liste_pièces!L709)","v":""},{"$f":"IF(Liste_pièces!M709=\"\",\"\",Liste_pièces!M709)","v":""},0,1,0]
[{"$f":"IF(Liste_pièces!A710=\"\",\"ZZZ\",Liste_pièces!A710)","v":"ZZZ"},{"$f":"IF(Liste_pièces!B710=\"\",\"ZZZ\",Liste_pièces!B710)","v":"ZZZ"},{"$f":"IF(Liste_pièces!C710=\"\",\"\",Liste_pièces!C710)","v":""},{"$f":"IF(Liste_pièces!D710=\"\",\"\",Liste_pièces!D710)","v":""},{"$f":"IF(Liste_pièces!E710=\"\",\"\",Liste_pièces!E710)","v":""},{"$f":"IF(Liste_pièces!F710=\"\",\"\",Liste_pièces!F710)","v":""},{"$f":"IF(Liste_pièces!G710=\"\",\"\",Liste_pièces!G710)","v":""},{"$f":"IF(Liste_pièces!H710=\"\",\"\",Liste_pièces!H710)","v":""},{"$f":"IF(Liste_pièces!I710=\"\",\"\",Liste_pièces!I710)","v":""},{"$f":"IF(Liste_pièces!J710=\"\",\"\",Liste_pièces!J710)","v":""},{"$f":"IF(Liste_pièces!K710=\"\",\"\",Liste_pièces!K710)","v":""},{"$f":"IF(Liste_pièces!L710=\"\",\"\",Liste_pièces!L710)","v":""},{"$f":"IF(Liste_pièces!M710=\"\",\"\",Liste_pièces!M710)","v":""},0,1,0]
[{"$f":"IF(Liste_pièces!A711=\"\",\"ZZZ\",Liste_pièces!A711)","v":"ZZZ"},{"$f":"IF(Liste_pièces!B711=\"\",\"ZZZ\",Liste_pièces!B711)","v":"ZZZ"},{"$f":"IF(Liste_pièces!C711=\"\",\"\",Liste_pièces!C711)","v":""},{"$f":"IF(Liste_pièces!D711=\"\",\"\",Liste_pièces!D711)","v":""},{"$f":"IF(Liste_pièces!E711=\"\",\"\",Liste_pièces!E711)","v":""},{"$f":"IF(Liste_pièces!F711=\"\",\"\",Liste_pièces!F711)","v":""},{"$f":"IF(Liste_pièces!G711=\"\",\"\",Liste_pièces!G711)","v":""},{"$f":"IF(Liste_pièces!H711=\"\",\"\",Liste_pièces!H711)","v":""},{"$f":"IF(Liste_pièces!I711=\"\",\"\",Liste_pièces!I711)","v":""},{"$f":"IF(Liste_pièces!J711=\"\",\"\",Liste_pièces!J711)","v":""},{"$f":"IF(Liste_pièces!K711=\"\",\"\",Liste_pièces!K711)","v":""},{"$f":"IF(Liste_pièces!L711=\"\",\"\",Liste_pièces!L711)","v":""},{"$f":"IF(Liste_pièces!M711=\"\",\"\",Liste_pièces!M711)","v":""},0,1,{"$f":"IF(N711=0,0,IF(N711<>N710,MAX(N711+O710,P710+1),IF(O710=O711,P710,P710+O711)))","v":0}]
[{"$f":"IF(Liste_pièces!A712=\"\",\"ZZZ\",Liste_pièces!A712)","v":"ZZZ"},{"$f":"IF(Liste_pièces!B712=\"\",\"ZZZ\",Liste_pièces!B712)","v":"ZZZ"},{"$f":"IF(Liste_pièces!C712=\"\",\"\",Liste_pièces!C712)","v":""},{"$f":"IF(Liste_pièces!D712=\"\",\"\",Liste_pièces!D712)","v":""},{"$f":"IF(Liste_pièces!E712=\"\",\"\",Liste_pièces!E712)","v":""},{"$f":"IF(Liste_pièces!F712=\"\",\"\",Liste_pièces!F712)","v":""},{"$f":"IF(Liste_pièces!G712=\"\",\"\",Liste_pièces!G712)","v":""},{"$f":"IF(Liste_pièces!H712=\"\",\"\",Liste_pièces!H712)","v":""},{"$f":"IF(Liste_pièces!I712=\"\",\"\",Liste_pièces!I712)","v":""},{"$f":"IF(Liste_pièces!J712=\"\",\"\",Liste_pièces!J712)","v":""},{"$f":"IF(Liste_pièces!K712=\"\",\"\",Liste_pièces!K712)","v":""},{"$f":"IF(Liste_pièces!L712=\"\",\"\",Liste_pièces!L712)","v":""},{"$f":"IF(Liste_pièces!M712=\"\",\"\",Liste_pièces!M712)","v":""},0,1,0]
[{"$f":"IF(Liste_pièces!A713=\"\",\"ZZZ\",Liste_pièces!A713)","v":"ZZZ"},{"$f":"IF(Liste_pièces!B713=\"\",\"ZZZ\",Liste_pièces!B713)","v":"ZZZ"},{"$f":"IF(Liste_pièces!C713=\"\",\"\",Liste_pièces!C713)","v":""},{"$f":"IF(Liste_pièces!D713=\"\",\"\",Liste_pièces!D713)","v":""},{"$f":"IF(Liste_pièces!E713=\"\",\"\",Liste_pièces!E713)","v":""},{"$f":"IF(Liste_pièces!F713=\"\",\"\",Liste_pièces!F713)","v":""},{"$f":"IF(Liste_pièces!G713=\"\",\"\",Liste_pièces!G713)","v":""},{"$f":"IF(Liste_pièces!H713=\"\",\"\",Liste_pièces!H713)","v":""},{"$f":"IF(Liste_pièces!I713=\"\",\"\",Liste_pièces!I713)","v":""},{"$f":"IF(Liste_pièces!J713=\"\",\"\",Liste_pièces!J713)","v":""},{"$f":"IF(Liste_pièces!K713=\"\",\"\",Liste_pièces!K713)","v":""},{"$f":"IF(Liste_pièces!L713=\"\",\"\",Liste_pièces!L713)","v":""},{"$f":"IF(Liste_pièces!M713=\"\",\"\",Liste_pièces!M713)","v":""},0,1,0]
[{"$f":"IF(Liste_pièces!A714=\"\",\"ZZZ\",Liste_pièces!A714)","v":"ZZZ"},{"$f":"IF(Liste_pièces!B714=\"\",\"ZZZ\",Liste_pièces!B714)","v":"ZZZ"},{"$f":"IF(Liste_pièces!C714=\"\",\"\",Liste_pièces!C714)","v":""},{"$f":"IF(Liste_pièces!D714=\"\",\"\",Liste_pièces!D714)","v":""},{"$f":"IF(Liste_pièces!E714=\"\",\"\",Liste_pièces!E714)","v":""},{"$f":"IF(Liste_pièces!F714=\"\",\"\",Liste_pièces!F714)","v":""},{"$f":"IF(Liste_pièces!G714=\"\",\"\",Liste_pièces!G714)","v":""},{"$f":"IF(Liste_pièces!H714=\"\",\"\",Liste_pièces!H714)","v":""},{"$f":"IF(Liste_pièces!I714=\"\",\"\",Liste_pièces!I714)","v":""},{"$f":"IF(Liste_pièces!J714=\"\",\"\",Liste_pièces!J714)","v":""},{"$f":"IF(Liste_pièces!K714=\"\",\"\",Liste_pièces!K714)","v":""},{"$f":"IF(Liste_pièces!L714=\"\",\"\",Liste_pièces!L714)","v":""},{"$f":"IF(Liste_pièces!M714=\"\",\"\",Liste_pièces!M714)","v":""},0,1,0]
[{"$f":"IF(Liste_pièces!A715=\"\",\"ZZZ\",Liste_pièces!A715)","v":"ZZZ"},{"$f":"IF(Liste_pièces!B715=\"\",\"ZZZ\",Liste_pièces!B715)","v":"ZZZ"},{"$f":"IF(Liste_pièces!C715=\"\",\"\",Liste_pièces!C715)","v":""},{"$f":"IF(Liste_pièces!D715=\"\",\"\",Liste_pièces!D715)","v":""},{"$f":"IF(Liste_pièces!E715=\"\",\"\",Liste_pièces!E715)","v":""},{"$f":"IF(Liste_pièces!F715=\"\",\"\",Liste_pièces!F715)","v":""},{"$f":"IF(Liste_pièces!G715=\"\",\"\",Liste_pièces!G715)","v":""},{"$f":"IF(Liste_pièces!H715=\"\",\"\",Liste_pièces!H715)","v":""},{"$f":"IF(Liste_pièces!I715=\"\",\"\",Liste_pièces!I715)","v":""},{"$f":"IF(Liste_pièces!J715=\"\",\"\",Liste_pièces!J715)","v":""},{"$f":"IF(Liste_pièces!K715=\"\",\"\",Liste_pièces!K715)","v":""},{"$f":"IF(Liste_pièces!L715=\"\",\"\",Liste_pièces!L715)","v":""},{"$f":"IF(Liste_pièces!M715=\"\",\"\",Liste_pièces!M715)","v":""},0,1,0]
[{"$f":"IF(Liste_pièces!A716=\"\",\"ZZZ\",Liste_pièces!A716)","v":"ZZZ"},{"$f":"IF(Liste_pièces!B716=\"\",\"ZZZ\",Liste_pièces!B716)","v":"ZZZ"},{"$f":"IF(Liste_pièces!C716=\"\",\"\",Liste_pièces!C716)","v":""},{"$f":"IF(Liste_pièces!D716=\"\",\"\",Liste_pièces!D716)","v":""},{"$f":"IF(Liste_pièces!E716=\"\",\"\",Liste_pièces!E716)","v":""},{"$f":"IF(Liste_pièces!F716=\"\",\"\",Liste_pièces!F716)","v":""},{"$f":"IF(Liste_pièces!G716=\"\",\"\",Liste_pièces!G716)","v":""},{"$f":"IF(Liste_pièces!H716=\"\",\"\",Liste_pièces!H716)","v":""},{"$f":"IF(Liste_pièces!I716=\"\",\"\",Liste_pièces!I716)","v":""},{"$f":"IF(Liste_pièces!J716=\"\",\"\",Liste_pièces!J716)","v":""},{"$f":"IF(Liste_pièces!K716=\"\",\"\",Liste_pièces!K716)","v":""},{"$f":"IF(Liste_pièces!L716=\"\",\"\",Liste_pièces!L716)","v":""},{"$f":"IF(Liste_pièces!M716=\"\",\"\",Liste_pièces!M716)","v":""},0,1,0]
[{"$f":"IF(Liste_pièces!A717=\"\",\"ZZZ\",Liste_pièces!A717)","v":"ZZZ"},{"$f":"IF(Liste_pièces!B717=\"\",\"ZZZ\",Liste_pièces!B717)","v":"ZZZ"},{"$f":"IF(Liste_pièces!C717=\"\",\"\",Liste_pièces!C717)","v":""},{"$f":"IF(Liste_pièces!D717=\"\",\"\",Liste_pièces!D717)","v":""},{"$f":"IF(Liste_pièces!E717=\"\",\"\",Liste_pièces!E717)","v":""},{"$f":"IF(Liste_pièces!F717=\"\",\"\",Liste_pièces!F717)","v":""},{"$f":"IF(Liste_pièces!G717=\"\",\"\",Liste_pièces!G717)","v":""},{"$f":"IF(Liste_pièces!H717=\"\",\"\",Liste_pièces!H717)","v":""},{"$f":"IF(Liste_pièces!I717=\"\",\"\",Liste_pièces!I717)","v":""},{"$f":"IF(Liste_pièces!J717=\"\",\"\",Liste_pièces!J717)","v":""},{"$f":"IF(Liste_pièces!K717=\"\",\"\",Liste_pièces!K717)","v":""},{"$f":"IF(Liste_pièces!L717=\"\",\"\",Liste_pièces!L717)","v":""},{"$f":"IF(Liste_pièces!M717=\"\",\"\",Liste_pièces!M717)","v":""},0,1,0]
[{"$f":"IF(Liste_pièces!A718=\"\",\"ZZZ\",Liste_pièces!A718)","v":"ZZZ"},{"$f":"IF(Liste_pièces!B718=\"\",\"ZZZ\",Liste_pièces!B718)","v":"ZZZ"},{"$f":"IF(Liste_pièces!C718=\"\",\"\",Liste_pièces!C718)","v":""},{"$f":"IF(Liste_pièces!D718=\"\",\"\",Liste_pièces!D718)","v":""},{"$f":"IF(Liste_pièces!E718=\"\",\"\",Liste_pièces!E718)","v":""},{"$f":"IF(Liste_pièces!F718=\"\",\"\",Liste_pièces!F718)","v":""},{"$f":"IF(Liste_pièces!G718=\"\",\"\",Liste_pièces!G718)","v":""},{"$f":"IF(Liste_pièces!H718=\"\",\"\",Liste_pièces!H718)","v":""},{"$f":"IF(Liste_pièces!I718=\"\",\"\",Liste_pièces!I718)","v":""},{"$f":"IF(Liste_pièces!J718=\"\",\"\",Liste_pièces!J718)","v":""},{"$f":"IF(Liste_pièces!K718=\"\",\"\",Liste_pièces!K718)","v":""},{"$f":"IF(Liste_pièces!L718=\"\",\"\",Liste_pièces!L718)","v":""},{"$f":"IF(Liste_pièces!M718=\"\",\"\",Liste_pièces!M718)","v":""},0,1,0]
[{"$f":"IF(Liste_pièces!A719=\"\",\"ZZZ\",Liste_pièces!A719)","v":"ZZZ"},{"$f":"IF(Liste_pièces!B719=\"\",\"ZZZ\",Liste_pièces!B719)","v":"ZZZ"},{"$f":"IF(Liste_pièces!C719=\"\",\"\",Liste_pièces!C719)","v":""},{"$f":"IF(Liste_pièces!D719=\"\",\"\",Liste_pièces!D719)","v":""},{"$f":"IF(Liste_pièces!E719=\"\",\"\",Liste_pièces!E719)","v":""},{"$f":"IF(Liste_pièces!F719=\"\",\"\",Liste_pièces!F719)","v":""},{"$f":"IF(Liste_pièces!G719=\"\",\"\",Liste_pièces!G719)","v":""},{"$f":"IF(Liste_pièces!H719=\"\",\"\",Liste_pièces!H719)","v":""},{"$f":"IF(Liste_pièces!I719=\"\",\"\",Liste_pièces!I719)","v":""},{"$f":"IF(Liste_pièces!J719=\"\",\"\",Liste_pièces!J719)","v":""},{"$f":"IF(Liste_pièces!K719=\"\",\"\",Liste_pièces!K719)","v":""},{"$f":"IF(Liste_pièces!L719=\"\",\"\",Liste_pièces!L719)","v":""},{"$f":"IF(Liste_pièces!M719=\"\",\"\",Liste_pièces!M719)","v":""},0,1,0]
[{"$f":"IF(Liste_pièces!A720=\"\",\"ZZZ\",Liste_pièces!A720)","v":"ZZZ"},{"$f":"IF(Liste_pièces!B720=\"\",\"ZZZ\",Liste_pièces!B720)","v":"ZZZ"},{"$f":"IF(Liste_pièces!C720=\"\",\"\",Liste_pièces!C720)","v":""},{"$f":"IF(Liste_pièces!D720=\"\",\"\",Liste_pièces!D720)","v":""},{"$f":"IF(Liste_pièces!E720=\"\",\"\",Liste_pièces!E720)","v":""},{"$f":"IF(Liste_pièces!F720=\"\",\"\",Liste_pièces!F720)","v":""},{"$f":"IF(Liste_pièces!G720=\"\",\"\",Liste_pièces!G720)","v":""},{"$f":"IF(Liste_pièces!H720=\"\",\"\",Liste_pièces!H720)","v":""},{"$f":"IF(Liste_pièces!I720=\"\",\"\",Liste_pièces!I720)","v":""},{"$f":"IF(Liste_pièces!J720=\"\",\"\",Liste_pièces!J720)","v":""},{"$f":"IF(Liste_pièces!K720=\"\",\"\",Liste_pièces!K720)","v":""},{"$f":"IF(Liste_pièces!L720=\"\",\"\",Liste_pièces!L720)","v":""},{"$f":"IF(Liste_pièces!M720=\"\",\"\",Liste_pièces!M720)","v":""},0,1,0]
[{"$f":"IF(Liste_pièces!A721=\"\",\"ZZZ\",Liste_pièces!A721)","v":"ZZZ"},{"$f":"IF(Liste_pièces!B721=\"\",\"ZZZ\",Liste_pièces!B721)","v":"ZZZ"},{"$f":"IF(Liste_pièces!C721=\"\",\"\",Liste_pièces!C721)","v":""},{"$f":"IF(Liste_pièces!D721=\"\",\"\",Liste_pièces!D721)","v":""},{"$f":"IF(Liste_pièces!E721=\"\",\"\",Liste_pièces!E721)","v":""},{"$f":"IF(Liste_pièces!F721=\"\",\"\",Liste_pièces!F721)","v":""},{"$f":"IF(Liste_pièces!G721=\"\",\"\",Liste_pièces!G721)","v":""},{"$f":"IF(Liste_pièces!H721=\"\",\"\",Liste_pièces!H721)","v":""},{"$f":"IF(Liste_pièces!I721=\"\",\"\",Liste_pièces!I721)","v":""},{"$f":"IF(Liste_pièces!J721=\"\",\"\",Liste_pièces!J721)","v":""},{"$f":"IF(Liste_pièces!K721=\"\",\"\",Liste_pièces!K721)","v":""},{"$f":"IF(Liste_pièces!L721=\"\",\"\",Liste_pièces!L721)","v":""},{"$f":"IF(Liste_pièces!M721=\"\",\"\",Liste_pièces!M721)","v":""},0,1,0]
[{"$f":"IF(Liste_pièces!A722=\"\",\"ZZZ\",Liste_pièces!A722)","v":"ZZZ"},{"$f":"IF(Liste_pièces!B722=\"\",\"ZZZ\",Liste_pièces!B722)","v":"ZZZ"},{"$f":"IF(Liste_pièces!C722=\"\",\"\",Liste_pièces!C722)","v":""},{"$f":"IF(Liste_pièces!D722=\"\",\"\",Liste_pièces!D722)","v":""},{"$f":"IF(Liste_pièces!E722=\"\",\"\",Liste_pièces!E722)","v":""},{"$f":"IF(Liste_pièces!F722=\"\",\"\",Liste_pièces!F722)","v":""},{"$f":"IF(Liste_pièces!G722=\"\",\"\",Liste_pièces!G722)","v":""},{"$f":"IF(Liste_pièces!H722=\"\",\"\",Liste_pièces!H722)","v":""},{"$f":"IF(Liste_pièces!I722=\"\",\"\",Liste_pièces!I722)","v":""},{"$f":"IF(Liste_pièces!J722=\"\",\"\",Liste_pièces!J722)","v":""},{"$f":"IF(Liste_pièces!K722=\"\",\"\",Liste_pièces!K722)","v":""},{"$f":"IF(Liste_pièces!L722=\"\",\"\",Liste_pièces!L722)","v":""},{"$f":"IF(Liste_pièces!M722=\"\",\"\",Liste_pièces!M722)","v":""},0,1,0]
[{"$f":"IF(Liste_pièces!A723=\"\",\"ZZZ\",Liste_pièces!A723)","v":"ZZZ"},{"$f":"IF(Liste_pièces!B723=\"\",\"ZZZ\",Liste_pièces!B723)","v":"ZZZ"},{"$f":"IF(Liste_pièces!C723=\"\",\"\",Liste_pièces!C723)","v":""},{"$f":"IF(Liste_pièces!D723=\"\",\"\",Liste_pièces!D723)","v":""},{"$f":"IF(Liste_pièces!E723=\"\",\"\",Liste_pièces!E723)","v":""},{"$f":"IF(Liste_pièces!F723=\"\",\"\",Liste_pièces!F723)","v":""},{"$f":"IF(Liste_pièces!G723=\"\",\"\",Liste_pièces!G723)","v":""},{"$f":"IF(Liste_pièces!H723=\"\",\"\",Liste_pièces!H723)","v":""},{"$f":"IF(Liste_pièces!I723=\"\",\"\",Liste_pièces!I723)","v":""},{"$f":"IF(Liste_pièces!J723=\"\",\"\",Liste_pièces!J723)","v":""},{"$f":"IF(Liste_pièces!K723=\"\",\"\",Liste_pièces!K723)","v":""},{"$f":"IF(Liste_pièces!L723=\"\",\"\",Liste_pièces!L723)","v":""},{"$f":"IF(Liste_pièces!M723=\"\",\"\",Liste_pièces!M723)","v":""},0,1,0]
[{"$f":"IF(Liste_pièces!A724=\"\",\"ZZZ\",Liste_pièces!A724)","v":"ZZZ"},{"$f":"IF(Liste_pièces!B724=\"\",\"ZZZ\",Liste_pièces!B724)","v":"ZZZ"},{"$f":"IF(Liste_pièces!C724=\"\",\"\",Liste_pièces!C724)","v":""},{"$f":"IF(Liste_pièces!D724=\"\",\"\",Liste_pièces!D724)","v":""},{"$f":"IF(Liste_pièces!E724=\"\",\"\",Liste_pièces!E724)","v":""},{"$f":"IF(Liste_pièces!F724=\"\",\"\",Liste_pièces!F724)","v":""},{"$f":"IF(Liste_pièces!G724=\"\",\"\",Liste_pièces!G724)","v":""},{"$f":"IF(Liste_pièces!H724=\"\",\"\",Liste_pièces!H724)","v":""},{"$f":"IF(Liste_pièces!I724=\"\",\"\",Liste_pièces!I724)","v":""},{"$f":"IF(Liste_pièces!J724=\"\",\"\",Liste_pièces!J724)","v":""},{"$f":"IF(Liste_pièces!K724=\"\",\"\",Liste_pièces!K724)","v":""},{"$f":"IF(Liste_pièces!L724=\"\",\"\",Liste_pièces!L724)","v":""},{"$f":"IF(Liste_pièces!M724=\"\",\"\",Liste_pièces!M724)","v":""},0,1,0]
[{"$f":"IF(Liste_pièces!A725=\"\",\"ZZZ\",Liste_pièces!A725)","v":"ZZZ"},{"$f":"IF(Liste_pièces!B725=\"\",\"ZZZ\",Liste_pièces!B725)","v":"ZZZ"},{"$f":"IF(Liste_pièces!C725=\"\",\"\",Liste_pièces!C725)","v":""},{"$f":"IF(Liste_pièces!D725=\"\",\"\",Liste_pièces!D725)","v":""},{"$f":"IF(Liste_pièces!E725=\"\",\"\",Liste_pièces!E725)","v":""},{"$f":"IF(Liste_pièces!F725=\"\",\"\",Liste_pièces!F725)","v":""},{"$f":"IF(Liste_pièces!G725=\"\",\"\",Liste_pièces!G725)","v":""},{"$f":"IF(Liste_pièces!H725=\"\",\"\",Liste_pièces!H725)","v":""},{"$f":"IF(Liste_pièces!I725=\"\",\"\",Liste_pièces!I725)","v":""},{"$f":"IF(Liste_pièces!J725=\"\",\"\",Liste_pièces!J725)","v":""},{"$f":"IF(Liste_pièces!K725=\"\",\"\",Liste_pièces!K725)","v":""},{"$f":"IF(Liste_pièces!L725=\"\",\"\",Liste_pièces!L725)","v":""},{"$f":"IF(Liste_pièces!M725=\"\",\"\",Liste_pièces!M725)","v":""},0,1,0]
[{"$f":"IF(Liste_pièces!A726=\"\",\"ZZZ\",Liste_pièces!A726)","v":"ZZZ"},{"$f":"IF(Liste_pièces!B726=\"\",\"ZZZ\",Liste_pièces!B726)","v":"ZZZ"},{"$f":"IF(Liste_pièces!C726=\"\",\"\",Liste_pièces!C726)","v":""},{"$f":"IF(Liste_pièces!D726=\"\",\"\",Liste_pièces!D726)","v":""},{"$f":"IF(Liste_pièces!E726=\"\",\"\",Liste_pièces!E726)","v":""},{"$f":"IF(Liste_pièces!F726=\"\",\"\",Liste_pièces!F726)","v":""},{"$f":"IF(Liste_pièces!G726=\"\",\"\",Liste_pièces!G726)","v":""},{"$f":"IF(Liste_pièces!H726=\"\",\"\",Liste_pièces!H726)","v":""},{"$f":"IF(Liste_pièces!I726=\"\",\"\",Liste_pièces!I726)","v":""},{"$f":"IF(Liste_pièces!J726=\"\",\"\",Liste_pièces!J726)","v":""},{"$f":"IF(Liste_pièces!K726=\"\",\"\",Liste_pièces!K726)","v":""},{"$f":"IF(Liste_pièces!L726=\"\",\"\",Liste_pièces!L726)","v":""},{"$f":"IF(Liste_pièces!M726=\"\",\"\",Liste_pièces!M726)","v":""},0,1,0]
[{"$f":"IF(Liste_pièces!A727=\"\",\"ZZZ\",Liste_pièces!A727)","v":"ZZZ"},{"$f":"IF(Liste_pièces!B727=\"\",\"ZZZ\",Liste_pièces!B727)","v":"ZZZ"},{"$f":"IF(Liste_pièces!C727=\"\",\"\",Liste_pièces!C727)","v":""},{"$f":"IF(Liste_pièces!D727=\"\",\"\",Liste_pièces!D727)","v":""},{"$f":"IF(Liste_pièces!E727=\"\",\"\",Liste_pièces!E727)","v":""},{"$f":"IF(Liste_pièces!F727=\"\",\"\",Liste_pièces!F727)","v":""},{"$f":"IF(Liste_pièces!G727=\"\",\"\",Liste_pièces!G727)","v":""},{"$f":"IF(Liste_pièces!H727=\"\",\"\",Liste_pièces!H727)","v":""},{"$f":"IF(Liste_pièces!I727=\"\",\"\",Liste_pièces!I727)","v":""},{"$f":"IF(Liste_pièces!J727=\"\",\"\",Liste_pièces!J727)","v":""},{"$f":"IF(Liste_pièces!K727=\"\",\"\",Liste_pièces!K727)","v":""},{"$f":"IF(Liste_pièces!L727=\"\",\"\",Liste_pièces!L727)","v":""},{"$f":"IF(Liste_pièces!M727=\"\",\"\",Liste_pièces!M727)","v":""},0,1,0]
[{"$f":"IF(Liste_pièces!A728=\"\",\"ZZZ\",Liste_pièces!A728)","v":"ZZZ"},{"$f":"IF(Liste_pièces!B728=\"\",\"ZZZ\",Liste_pièces!B728)","v":"ZZZ"},{"$f":"IF(Liste_pièces!C728=\"\",\"\",Liste_pièces!C728)","v":""},{"$f":"IF(Liste_pièces!D728=\"\",\"\",Liste_pièces!D728)","v":""},{"$f":"IF(Liste_pièces!E728=\"\",\"\",Liste_pièces!E728)","v":""},{"$f":"IF(Liste_pièces!F728=\"\",\"\",Liste_pièces!F728)","v":""},{"$f":"IF(Liste_pièces!G728=\"\",\"\",Liste_pièces!G728)","v":""},{"$f":"IF(Liste_pièces!H728=\"\",\"\",Liste_pièces!H728)","v":""},{"$f":"IF(Liste_pièces!I728=\"\",\"\",Liste_pièces!I728)","v":""},{"$f":"IF(Liste_pièces!J728=\"\",\"\",Liste_pièces!J728)","v":""},{"$f":"IF(Liste_pièces!K728=\"\",\"\",Liste_pièces!K728)","v":""},{"$f":"IF(Liste_pièces!L728=\"\",\"\",Liste_pièces!L728)","v":""},{"$f":"IF(Liste_pièces!M728=\"\",\"\",Liste_pièces!M728)","v":""},0,1,0]
[{"$f":"IF(Liste_pièces!A729=\"\",\"ZZZ\",Liste_pièces!A729)","v":"ZZZ"},{"$f":"IF(Liste_pièces!B729=\"\",\"ZZZ\",Liste_pièces!B729)","v":"ZZZ"},{"$f":"IF(Liste_pièces!C729=\"\",\"\",Liste_pièces!C729)","v":""},{"$f":"IF(Liste_pièces!D729=\"\",\"\",Liste_pièces!D729)","v":""},{"$f":"IF(Liste_pièces!E729=\"\",\"\",Liste_pièces!E729)","v":""},{"$f":"IF(Liste_pièces!F729=\"\",\"\",Liste_pièces!F729)","v":""},{"$f":"IF(Liste_pièces!G729=\"\",\"\",Liste_pièces!G729)","v":""},{"$f":"IF(Liste_pièces!H729=\"\",\"\",Liste_pièces!H729)","v":""},{"$f":"IF(Liste_pièces!I729=\"\",\"\",Liste_pièces!I729)","v":""},{"$f":"IF(Liste_pièces!J729=\"\",\"\",Liste_pièces!J729)","v":""},{"$f":"IF(Liste_pièces!K729=\"\",\"\",Liste_pièces!K729)","v":""},{"$f":"IF(Liste_pièces!L729=\"\",\"\",Liste_pièces!L729)","v":""},{"$f":"IF(Liste_pièces!M729=\"\",\"\",Liste_pièces!M729)","v":""},0,1,0]
[{"$f":"IF(Liste_pièces!A730=\"\",\"ZZZ\",Liste_pièces!A730)","v":"ZZZ"},{"$f":"IF(Liste_pièces!B730=\"\",\"ZZZ\",Liste_pièces!B730)","v":"ZZZ"},{"$f":"IF(Liste_pièces!C730=\"\",\"\",Liste_pièces!C730)","v":""},{"$f":"IF(Liste_pièces!D730=\"\",\"\",Liste_pièces!D730)","v":""},{"$f":"IF(Liste_pièces!E730=\"\",\"\",Liste_pièces!E730)","v":""},{"$f":"IF(Liste_pièces!F730=\"\",\"\",Liste_pièces!F730)","v":""},{"$f":"IF(Liste_pièces!G730=\"\",\"\",Liste_pièces!G730)","v":""},{"$f":"IF(Liste_pièces!H730=\"\",\"\",Liste_pièces!H730)","v":""},{"$f":"IF(Liste_pièces!I730=\"\",\"\",Liste_pièces!I730)","v":""},{"$f":"IF(Liste_pièces!J730=\"\",\"\",Liste_pièces!J730)","v":""},{"$f":"IF(Liste_pièces!K730=\"\",\"\",Liste_pièces!K730)","v":""},{"$f":"IF(Liste_pièces!L730=\"\",\"\",Liste_pièces!L730)","v":""},{"$f":"IF(Liste_pièces!M730=\"\",\"\",Liste_pièces!M730)","v":""},0,1,0]
[{"$f":"IF(Liste_pièces!A731=\"\",\"ZZZ\",Liste_pièces!A731)","v":"ZZZ"},{"$f":"IF(Liste_pièces!B731=\"\",\"ZZZ\",Liste_pièces!B731)","v":"ZZZ"},{"$f":"IF(Liste_pièces!C731=\"\",\"\",Liste_pièces!C731)","v":""},{"$f":"IF(Liste_pièces!D731=\"\",\"\",Liste_pièces!D731)","v":""},{"$f":"IF(Liste_pièces!E731=\"\",\"\",Liste_pièces!E731)","v":""},{"$f":"IF(Liste_pièces!F731=\"\",\"\",Liste_pièces!F731)","v":""},{"$f":"IF(Liste_pièces!G731=\"\",\"\",Liste_pièces!G731)","v":""},{"$f":"IF(Liste_pièces!H731=\"\",\"\",Liste_pièces!H731)","v":""},{"$f":"IF(Liste_pièces!I731=\"\",\"\",Liste_pièces!I731)","v":""},{"$f":"IF(Liste_pièces!J731=\"\",\"\",Liste_pièces!J731)","v":""},{"$f":"IF(Liste_pièces!K731=\"\",\"\",Liste_pièces!K731)","v":""},{"$f":"IF(Liste_pièces!L731=\"\",\"\",Liste_pièces!L731)","v":""},{"$f":"IF(Liste_pièces!M731=\"\",\"\",Liste_pièces!M731)","v":""},0,1,0]
[{"$f":"IF(Liste_pièces!A732=\"\",\"ZZZ\",Liste_pièces!A732)","v":"ZZZ"},{"$f":"IF(Liste_pièces!B732=\"\",\"ZZZ\",Liste_pièces!B732)","v":"ZZZ"},{"$f":"IF(Liste_pièces!C732=\"\",\"\",Liste_pièces!C732)","v":""},{"$f":"IF(Liste_pièces!D732=\"\",\"\",Liste_pièces!D732)","v":""},{"$f":"IF(Liste_pièces!E732=\"\",\"\",Liste_pièces!E732)","v":""},{"$f":"IF(Liste_pièces!F732=\"\",\"\",Liste_pièces!F732)","v":""},{"$f":"IF(Liste_pièces!G732=\"\",\"\",Liste_pièces!G732)","v":""},{"$f":"IF(Liste_pièces!H732=\"\",\"\",Liste_pièces!H732)","v":""},{"$f":"IF(Liste_pièces!I732=\"\",\"\",Liste_pièces!I732)","v":""},{"$f":"IF(Liste_pièces!J732=\"\",\"\",Liste_pièces!J732)","v":""},{"$f":"IF(Liste_pièces!K732=\"\",\"\",Liste_pièces!K732)","v":""},{"$f":"IF(Liste_pièces!L732=\"\",\"\",Liste_pièces!L732)","v":""},{"$f":"IF(Liste_pièces!M732=\"\",\"\",Liste_pièces!M732)","v":""},0,1,0]
[{"$f":"IF(Liste_pièces!A733=\"\",\"ZZZ\",Liste_pièces!A733)","v":"ZZZ"},{"$f":"IF(Liste_pièces!B733=\"\",\"ZZZ\",Liste_pièces!B733)","v":"ZZZ"},{"$f":"IF(Liste_pièces!C733=\"\",\"\",Liste_pièces!C733)","v":""},{"$f":"IF(Liste_pièces!D733=\"\",\"\",Liste_pièces!D733)","v":""},{"$f":"IF(Liste_pièces!E733=\"\",\"\",Liste_pièces!E733)","v":""},{"$f":"IF(Liste_pièces!F733=\"\",\"\",Liste_pièces!F733)","v":""},{"$f":"IF(Liste_pièces!G733=\"\",\"\",Liste_pièces!G733)","v":""},{"$f":"IF(Liste_pièces!H733=\"\",\"\",Liste_pièces!H733)","v":""},{"$f":"IF(Liste_pièces!I733=\"\",\"\",Liste_pièces!I733)","v":""},{"$f":"IF(Liste_pièces!J733=\"\",\"\",Liste_pièces!J733)","v":""},{"$f":"IF(Liste_pièces!K733=\"\",\"\",Liste_pièces!K733)","v":""},{"$f":"IF(Liste_pièces!L733=\"\",\"\",Liste_pièces!L733)","v":""},{"$f":"IF(Liste_pièces!M733=\"\",\"\",Liste_pièces!M733)","v":""},0,1,0]
[{"$f":"IF(Liste_pièces!A734=\"\",\"ZZZ\",Liste_pièces!A734)","v":"ZZZ"},{"$f":"IF(Liste_pièces!B734=\"\",\"ZZZ\",Liste_pièces!B734)","v":"ZZZ"},{"$f":"IF(Liste_pièces!C734=\"\",\"\",Liste_pièces!C734)","v":""},{"$f":"IF(Liste_pièces!D734=\"\",\"\",Liste_pièces!D734)","v":""},{"$f":"IF(Liste_pièces!E734=\"\",\"\",Liste_pièces!E734)","v":""},{"$f":"IF(Liste_pièces!F734=\"\",\"\",Liste_pièces!F734)","v":""},{"$f":"IF(Liste_pièces!G734=\"\",\"\",Liste_pièces!G734)","v":""},{"$f":"IF(Liste_pièces!H734=\"\",\"\",Liste_pièces!H734)","v":""},{"$f":"IF(Liste_pièces!I734=\"\",\"\",Liste_pièces!I734)","v":""},{"$f":"IF(Liste_pièces!J734=\"\",\"\",Liste_pièces!J734)","v":""},{"$f":"IF(Liste_pièces!K734=\"\",\"\",Liste_pièces!K734)","v":""},{"$f":"IF(Liste_pièces!L734=\"\",\"\",Liste_pièces!L734)","v":""},{"$f":"IF(Liste_pièces!M734=\"\",\"\",Liste_pièces!M734)","v":""},0,1,0]
[{"$f":"IF(Liste_pièces!A735=\"\",\"ZZZ\",Liste_pièces!A735)","v":"ZZZ"},{"$f":"IF(Liste_pièces!B735=\"\",\"ZZZ\",Liste_pièces!B735)","v":"ZZZ"},{"$f":"IF(Liste_pièces!C735=\"\",\"\",Liste_pièces!C735)","v":""},{"$f":"IF(Liste_pièces!D735=\"\",\"\",Liste_pièces!D735)","v":""},{"$f":"IF(Liste_pièces!E735=\"\",\"\",Liste_pièces!E735)","v":""},{"$f":"IF(Liste_pièces!F735=\"\",\"\",Liste_pièces!F735)","v":""},{"$f":"IF(Liste_pièces!G735=\"\",\"\",Liste_pièces!G735)","v":""},{"$f":"IF(Liste_pièces!H735=\"\",\"\",Liste_pièces!H735)","v":""},{"$f":"IF(Liste_pièces!I735=\"\",\"\",Liste_pièces!I735)","v":""},{"$f":"IF(Liste_pièces!J735=\"\",\"\",Liste_pièces!J735)","v":""},{"$f":"IF(Liste_pièces!K735=\"\",\"\",Liste_pièces!K735)","v":""},{"$f":"IF(Liste_pièces!L735=\"\",\"\",Liste_pièces!L735)","v":""},{"$f":"IF(Liste_pièces!M735=\"\",\"\",Liste_pièces!M735)","v":""},0,1,0]
[{"$f":"IF(Liste_pièces!A736=\"\",\"ZZZ\",Liste_pièces!A736)","v":"ZZZ"},{"$f":"IF(Liste_pièces!B736=\"\",\"ZZZ\",Liste_pièces!B736)","v":"ZZZ"},{"$f":"IF(Liste_pièces!C736=\"\",\"\",Liste_pièces!C736)","v":""},{"$f":"IF(Liste_pièces!D736=\"\",\"\",Liste_pièces!D736)","v":""},{"$f":"IF(Liste_pièces!E736=\"\",\"\",Liste_pièces!E736)","v":""},{"$f":"IF(Liste_pièces!F736=\"\",\"\",Liste_pièces!F736)","v":""},{"$f":"IF(Liste_pièces!G736=\"\",\"\",Liste_pièces!G736)","v":""},{"$f":"IF(Liste_pièces!H736=\"\",\"\",Liste_pièces!H736)","v":""},{"$f":"IF(Liste_pièces!I736=\"\",\"\",Liste_pièces!I736)","v":""},{"$f":"IF(Liste_pièces!J736=\"\",\"\",Liste_pièces!J736)","v":""},{"$f":"IF(Liste_pièces!K736=\"\",\"\",Liste_pièces!K736)","v":""},{"$f":"IF(Liste_pièces!L736=\"\",\"\",Liste_pièces!L736)","v":""},{"$f":"IF(Liste_pièces!M736=\"\",\"\",Liste_pièces!M736)","v":""},0,1,0]
[{"$f":"IF(Liste_pièces!A737=\"\",\"ZZZ\",Liste_pièces!A737)","v":"ZZZ"},{"$f":"IF(Liste_pièces!B737=\"\",\"ZZZ\",Liste_pièces!B737)","v":"ZZZ"},{"$f":"IF(Liste_pièces!C737=\"\",\"\",Liste_pièces!C737)","v":""},{"$f":"IF(Liste_pièces!D737=\"\",\"\",Liste_pièces!D737)","v":""},{"$f":"IF(Liste_pièces!E737=\"\",\"\",Liste_pièces!E737)","v":""},{"$f":"IF(Liste_pièces!F737=\"\",\"\",Liste_pièces!F737)","v":""},{"$f":"IF(Liste_pièces!G737=\"\",\"\",Liste_pièces!G737)","v":""},{"$f":"IF(Liste_pièces!H737=\"\",\"\",Liste_pièces!H737)","v":""},{"$f":"IF(Liste_pièces!I737=\"\",\"\",Liste_pièces!I737)","v":""},{"$f":"IF(Liste_pièces!J737=\"\",\"\",Liste_pièces!J737)","v":""},{"$f":"IF(Liste_pièces!K737=\"\",\"\",Liste_pièces!K737)","v":""},{"$f":"IF(Liste_pièces!L737=\"\",\"\",Liste_pièces!L737)","v":""},{"$f":"IF(Liste_pièces!M737=\"\",\"\",Liste_pièces!M737)","v":""},0,1,0]
[{"$f":"IF(Liste_pièces!A738=\"\",\"ZZZ\",Liste_pièces!A738)","v":"ZZZ"},{"$f":"IF(Liste_pièces!B738=\"\",\"ZZZ\",Liste_pièces!B738)","v":"ZZZ"},{"$f":"IF(Liste_pièces!C738=\"\",\"\",Liste_pièces!C738)","v":""},{"$f":"IF(Liste_pièces!D738=\"\",\"\",Liste_pièces!D738)","v":""},{"$f":"IF(Liste_pièces!E738=\"\",\"\",Liste_pièces!E738)","v":""},{"$f":"IF(Liste_pièces!F738=\"\",\"\",Liste_pièces!F738)","v":""},{"$f":"IF(Liste_pièces!G738=\"\",\"\",Liste_pièces!G738)","v":""},{"$f":"IF(Liste_pièces!H738=\"\",\"\",Liste_pièces!H738)","v":""},{"$f":"IF(Liste_pièces!I738=\"\",\"\",Liste_pièces!I738)","v":""},{"$f":"IF(Liste_pièces!J738=\"\",\"\",Liste_pièces!J738)","v":""},{"$f":"IF(Liste_pièces!K738=\"\",\"\",Liste_pièces!K738)","v":""},{"$f":"IF(Liste_pièces!L738=\"\",\"\",Liste_pièces!L738)","v":""},{"$f":"IF(Liste_pièces!M738=\"\",\"\",Liste_pièces!M738)","v":""},0,1,0]
[{"$f":"IF(Liste_pièces!A739=\"\",\"ZZZ\",Liste_pièces!A739)","v":"ZZZ"},{"$f":"IF(Liste_pièces!B739=\"\",\"ZZZ\",Liste_pièces!B739)","v":"ZZZ"},{"$f":"IF(Liste_pièces!C739=\"\",\"\",Liste_pièces!C739)","v":""},{"$f":"IF(Liste_pièces!D739=\"\",\"\",Liste_pièces!D739)","v":""},{"$f":"IF(Liste_pièces!E739=\"\",\"\",Liste_pièces!E739)","v":""},{"$f":"IF(Liste_pièces!F739=\"\",\"\",Liste_pièces!F739)","v":""},{"$f":"IF(Liste_pièces!G739=\"\",\"\",Liste_pièces!G739)","v":""},{"$f":"IF(Liste_pièces!H739=\"\",\"\",Liste_pièces!H739)","v":""},{"$f":"IF(Liste_pièces!I739=\"\",\"\",Liste_pièces!I739)","v":""},{"$f":"IF(Liste_pièces!J739=\"\",\"\",Liste_pièces!J739)","v":""},{"$f":"IF(Liste_pièces!K739=\"\",\"\",Liste_pièces!K739)","v":""},{"$f":"IF(Liste_pièces!L739=\"\",\"\",Liste_pièces!L739)","v":""},{"$f":"IF(Liste_pièces!M739=\"\",\"\",Liste_pièces!M739)","v":""},0,1,0]
[{"$f":"IF(Liste_pièces!A740=\"\",\"ZZZ\",Liste_pièces!A740)","v":"ZZZ"},{"$f":"IF(Liste_pièces!B740=\"\",\"ZZZ\",Liste_pièces!B740)","v":"ZZZ"},{"$f":"IF(Liste_pièces!C740=\"\",\"\",Liste_pièces!C740)","v":""},{"$f":"IF(Liste_pièces!D740=\"\",\"\",Liste_pièces!D740)","v":""},{"$f":"IF(Liste_pièces!E740=\"\",\"\",Liste_pièces!E740)","v":""},{"$f":"IF(Liste_pièces!F740=\"\",\"\",Liste_pièces!F740)","v":""},{"$f":"IF(Liste_pièces!G740=\"\",\"\",Liste_pièces!G740)","v":""},{"$f":"IF(Liste_pièces!H740=\"\",\"\",Liste_pièces!H740)","v":""},{"$f":"IF(Liste_pièces!I740=\"\",\"\",Liste_pièces!I740)","v":""},{"$f":"IF(Liste_pièces!J740=\"\",\"\",Liste_pièces!J740)","v":""},{"$f":"IF(Liste_pièces!K740=\"\",\"\",Liste_pièces!K740)","v":""},{"$f":"IF(Liste_pièces!L740=\"\",\"\",Liste_pièces!L740)","v":""},{"$f":"IF(Liste_pièces!M740=\"\",\"\",Liste_pièces!M740)","v":""},0,1,0]
[{"$f":"IF(Liste_pièces!A741=\"\",\"ZZZ\",Liste_pièces!A741)","v":"ZZZ"},{"$f":"IF(Liste_pièces!B741=\"\",\"ZZZ\",Liste_pièces!B741)","v":"ZZZ"},{"$f":"IF(Liste_pièces!C741=\"\",\"\",Liste_pièces!C741)","v":""},{"$f":"IF(Liste_pièces!D741=\"\",\"\",Liste_pièces!D741)","v":""},{"$f":"IF(Liste_pièces!E741=\"\",\"\",Liste_pièces!E741)","v":""},{"$f":"IF(Liste_pièces!F741=\"\",\"\",Liste_pièces!F741)","v":""},{"$f":"IF(Liste_pièces!G741=\"\",\"\",Liste_pièces!G741)","v":""},{"$f":"IF(Liste_pièces!H741=\"\",\"\",Liste_pièces!H741)","v":""},{"$f":"IF(Liste_pièces!I741=\"\",\"\",Liste_pièces!I741)","v":""},{"$f":"IF(Liste_pièces!J741=\"\",\"\",Liste_pièces!J741)","v":""},{"$f":"IF(Liste_pièces!K741=\"\",\"\",Liste_pièces!K741)","v":""},{"$f":"IF(Liste_pièces!L741=\"\",\"\",Liste_pièces!L741)","v":""},{"$f":"IF(Liste_pièces!M741=\"\",\"\",Liste_pièces!M741)","v":""},0,1,0]
[{"$f":"IF(Liste_pièces!A742=\"\",\"ZZZ\",Liste_pièces!A742)","v":"ZZZ"},{"$f":"IF(Liste_pièces!B742=\"\",\"ZZZ\",Liste_pièces!B742)","v":"ZZZ"},{"$f":"IF(Liste_pièces!C742=\"\",\"\",Liste_pièces!C742)","v":""},{"$f":"IF(Liste_pièces!D742=\"\",\"\",Liste_pièces!D742)","v":""},{"$f":"IF(Liste_pièces!E742=\"\",\"\",Liste_pièces!E742)","v":""},{"$f":"IF(Liste_pièces!F742=\"\",\"\",Liste_pièces!F742)","v":""},{"$f":"IF(Liste_pièces!G742=\"\",\"\",Liste_pièces!G742)","v":""},{"$f":"IF(Liste_pièces!H742=\"\",\"\",Liste_pièces!H742)","v":""},{"$f":"IF(Liste_pièces!I742=\"\",\"\",Liste_pièces!I742)","v":""},{"$f":"IF(Liste_pièces!J742=\"\",\"\",Liste_pièces!J742)","v":""},{"$f":"IF(Liste_pièces!K742=\"\",\"\",Liste_pièces!K742)","v":""},{"$f":"IF(Liste_pièces!L742=\"\",\"\",Liste_pièces!L742)","v":""},{"$f":"IF(Liste_pièces!M742=\"\",\"\",Liste_pièces!M742)","v":""},0,1,0]
[{"$f":"IF(Liste_pièces!A743=\"\",\"ZZZ\",Liste_pièces!A743)","v":"ZZZ"},{"$f":"IF(Liste_pièces!B743=\"\",\"ZZZ\",Liste_pièces!B743)","v":"ZZZ"},{"$f":"IF(Liste_pièces!C743=\"\",\"\",Liste_pièces!C743)","v":""},{"$f":"IF(Liste_pièces!D743=\"\",\"\",Liste_pièces!D743)","v":""},{"$f":"IF(Liste_pièces!E743=\"\",\"\",Liste_pièces!E743)","v":""},{"$f":"IF(Liste_pièces!F743=\"\",\"\",Liste_pièces!F743)","v":""},{"$f":"IF(Liste_pièces!G743=\"\",\"\",Liste_pièces!G743)","v":""},{"$f":"IF(Liste_pièces!H743=\"\",\"\",Liste_pièces!H743)","v":""},{"$f":"IF(Liste_pièces!I743=\"\",\"\",Liste_pièces!I743)","v":""},{"$f":"IF(Liste_pièces!J743=\"\",\"\",Liste_pièces!J743)","v":""},{"$f":"IF(Liste_pièces!K743=\"\",\"\",Liste_pièces!K743)","v":""},{"$f":"IF(Liste_pièces!L743=\"\",\"\",Liste_pièces!L743)","v":""},{"$f":"IF(Liste_pièces!M743=\"\",\"\",Liste_pièces!M743)","v":""},0,1,0]
[{"$f":"IF(Liste_pièces!A744=\"\",\"ZZZ\",Liste_pièces!A744)","v":"ZZZ"},{"$f":"IF(Liste_pièces!B744=\"\",\"ZZZ\",Liste_pièces!B744)","v":"ZZZ"},{"$f":"IF(Liste_pièces!C744=\"\",\"\",Liste_pièces!C744)","v":""},{"$f":"IF(Liste_pièces!D744=\"\",\"\",Liste_pièces!D744)","v":""},{"$f":"IF(Liste_pièces!E744=\"\",\"\",Liste_pièces!E744)","v":""},{"$f":"IF(Liste_pièces!F744=\"\",\"\",Liste_pièces!F744)","v":""},{"$f":"IF(Liste_pièces!G744=\"\",\"\",Liste_pièces!G744)","v":""},{"$f":"IF(Liste_pièces!H744=\"\",\"\",Liste_pièces!H744)","v":""},{"$f":"IF(Liste_pièces!I744=\"\",\"\",Liste_pièces!I744)","v":""},{"$f":"IF(Liste_pièces!J744=\"\",\"\",Liste_pièces!J744)","v":""},{"$f":"IF(Liste_pièces!K744=\"\",\"\",Liste_pièces!K744)","v":""},{"$f":"IF(Liste_pièces!L744=\"\",\"\",Liste_pièces!L744)","v":""},{"$f":"IF(Liste_pièces!M744=\"\",\"\",Liste_pièces!M744)","v":""},0,1,0]
[{"$f":"IF(Liste_pièces!A745=\"\",\"ZZZ\",Liste_pièces!A745)","v":"ZZZ"},{"$f":"IF(Liste_pièces!B745=\"\",\"ZZZ\",Liste_pièces!B745)","v":"ZZZ"},{"$f":"IF(Liste_pièces!C745=\"\",\"\",Liste_pièces!C745)","v":""},{"$f":"IF(Liste_pièces!D745=\"\",\"\",Liste_pièces!D745)","v":""},{"$f":"IF(Liste_pièces!E745=\"\",\"\",Liste_pièces!E745)","v":""},{"$f":"IF(Liste_pièces!F745=\"\",\"\",Liste_pièces!F745)","v":""},{"$f":"IF(Liste_pièces!G745=\"\",\"\",Liste_pièces!G745)","v":""},{"$f":"IF(Liste_pièces!H745=\"\",\"\",Liste_pièces!H745)","v":""},{"$f":"IF(Liste_pièces!I745=\"\",\"\",Liste_pièces!I745)","v":""},{"$f":"IF(Liste_pièces!J745=\"\",\"\",Liste_pièces!J745)","v":""},{"$f":"IF(Liste_pièces!K745=\"\",\"\",Liste_pièces!K745)","v":""},{"$f":"IF(Liste_pièces!L745=\"\",\"\",Liste_pièces!L745)","v":""},{"$f":"IF(Liste_pièces!M745=\"\",\"\",Liste_pièces!M745)","v":""},0,1,0]
[{"$f":"IF(Liste_pièces!A746=\"\",\"ZZZ\",Liste_pièces!A746)","v":"ZZZ"},{"$f":"IF(Liste_pièces!B746=\"\",\"ZZZ\",Liste_pièces!B746)","v":"ZZZ"},{"$f":"IF(Liste_pièces!C746=\"\",\"\",Liste_pièces!C746)","v":""},{"$f":"IF(Liste_pièces!D746=\"\",\"\",Liste_pièces!D746)","v":""},{"$f":"IF(Liste_pièces!E746=\"\",\"\",Liste_pièces!E746)","v":""},{"$f":"IF(Liste_pièces!F746=\"\",\"\",Liste_pièces!F746)","v":""},{"$f":"IF(Liste_pièces!G746=\"\",\"\",Liste_pièces!G746)","v":""},{"$f":"IF(Liste_pièces!H746=\"\",\"\",Liste_pièces!H746)","v":""},{"$f":"IF(Liste_pièces!I746=\"\",\"\",Liste_pièces!I746)","v":""},{"$f":"IF(Liste_pièces!J746=\"\",\"\",Liste_pièces!J746)","v":""},{"$f":"IF(Liste_pièces!K746=\"\",\"\",Liste_pièces!K746)","v":""},{"$f":"IF(Liste_pièces!L746=\"\",\"\",Liste_pièces!L746)","v":""},{"$f":"IF(Liste_pièces!M746=\"\",\"\",Liste_pièces!M746)","v":""},0,{"$f":"IF(N746*37=SUM(N709:N745),1,0)","v":1},0]
[{"$f":"IF(Liste_pièces!A747=\"\",\"ZZZ\",Liste_pièces!A747)","v":"ZZZ"},{"$f":"IF(Liste_pièces!B747=\"\",\"ZZZ\",Liste_pièces!B747)","v":"ZZZ"},{"$f":"IF(Liste_pièces!C747=\"\",\"\",Liste_pièces!C747)","v":""},{"$f":"IF(Liste_pièces!D747=\"\",\"\",Liste_pièces!D747)","v":""},{"$f":"IF(Liste_pièces!E747=\"\",\"\",Liste_pièces!E747)","v":""},{"$f":"IF(Liste_pièces!F747=\"\",\"\",Liste_pièces!F747)","v":""},{"$f":"IF(Liste_pièces!G747=\"\",\"\",Liste_pièces!G747)","v":""},{"$f":"IF(Liste_pièces!H747=\"\",\"\",Liste_pièces!H747)","v":""},{"$f":"IF(Liste_pièces!I747=\"\",\"\",Liste_pièces!I747)","v":""},{"$f":"IF(Liste_pièces!J747=\"\",\"\",Liste_pièces!J747)","v":""},{"$f":"IF(Liste_pièces!K747=\"\",\"\",Liste_pièces!K747)","v":""},{"$f":"IF(Liste_pièces!L747=\"\",\"\",Liste_pièces!L747)","v":""},{"$f":"IF(Liste_pièces!M747=\"\",\"\",Liste_pièces!M747)","v":""},0,1,0]
[{"$f":"IF(Liste_pièces!A748=\"\",\"ZZZ\",Liste_pièces!A748)","v":"ZZZ"},{"$f":"IF(Liste_pièces!B748=\"\",\"ZZZ\",Liste_pièces!B748)","v":"ZZZ"},{"$f":"IF(Liste_pièces!C748=\"\",\"\",Liste_pièces!C748)","v":""},{"$f":"IF(Liste_pièces!D748=\"\",\"\",Liste_pièces!D748)","v":""},{"$f":"IF(Liste_pièces!E748=\"\",\"\",Liste_pièces!E748)","v":""},{"$f":"IF(Liste_pièces!F748=\"\",\"\",Liste_pièces!F748)","v":""},{"$f":"IF(Liste_pièces!G748=\"\",\"\",Liste_pièces!G748)","v":""},{"$f":"IF(Liste_pièces!H748=\"\",\"\",Liste_pièces!H748)","v":""},{"$f":"IF(Liste_pièces!I748=\"\",\"\",Liste_pièces!I748)","v":""},{"$f":"IF(Liste_pièces!J748=\"\",\"\",Liste_pièces!J748)","v":""},{"$f":"IF(Liste_pièces!K748=\"\",\"\",Liste_pièces!K748)","v":""},{"$f":"IF(Liste_pièces!L748=\"\",\"\",Liste_pièces!L748)","v":""},{"$f":"IF(Liste_pièces!M748=\"\",\"\",Liste_pièces!M748)","v":""},0,1,0]
[{"$f":"IF(Liste_pièces!A749=\"\",\"ZZZ\",Liste_pièces!A749)","v":"ZZZ"},{"$f":"IF(Liste_pièces!B749=\"\",\"ZZZ\",Liste_pièces!B749)","v":"ZZZ"},{"$f":"IF(Liste_pièces!C749=\"\",\"\",Liste_pièces!C749)","v":""},{"$f":"IF(Liste_pièces!D749=\"\",\"\",Liste_pièces!D749)","v":""},{"$f":"IF(Liste_pièces!E749=\"\",\"\",Liste_pièces!E749)","v":""},{"$f":"IF(Liste_pièces!F749=\"\",\"\",Liste_pièces!F749)","v":""},{"$f":"IF(Liste_pièces!G749=\"\",\"\",Liste_pièces!G749)","v":""},{"$f":"IF(Liste_pièces!H749=\"\",\"\",Liste_pièces!H749)","v":""},{"$f":"IF(Liste_pièces!I749=\"\",\"\",Liste_pièces!I749)","v":""},{"$f":"IF(Liste_pièces!J749=\"\",\"\",Liste_pièces!J749)","v":""},{"$f":"IF(Liste_pièces!K749=\"\",\"\",Liste_pièces!K749)","v":""},{"$f":"IF(Liste_pièces!L749=\"\",\"\",Liste_pièces!L749)","v":""},{"$f":"IF(Liste_pièces!M749=\"\",\"\",Liste_pièces!M749)","v":""},0,1,0]
[{"$f":"IF(Liste_pièces!A750=\"\",\"ZZZ\",Liste_pièces!A750)","v":"ZZZ"},{"$f":"IF(Liste_pièces!B750=\"\",\"ZZZ\",Liste_pièces!B750)","v":"ZZZ"},{"$f":"IF(Liste_pièces!C750=\"\",\"\",Liste_pièces!C750)","v":""},{"$f":"IF(Liste_pièces!D750=\"\",\"\",Liste_pièces!D750)","v":""},{"$f":"IF(Liste_pièces!E750=\"\",\"\",Liste_pièces!E750)","v":""},{"$f":"IF(Liste_pièces!F750=\"\",\"\",Liste_pièces!F750)","v":""},{"$f":"IF(Liste_pièces!G750=\"\",\"\",Liste_pièces!G750)","v":""},{"$f":"IF(Liste_pièces!H750=\"\",\"\",Liste_pièces!H750)","v":""},{"$f":"IF(Liste_pièces!I750=\"\",\"\",Liste_pièces!I750)","v":""},{"$f":"IF(Liste_pièces!J750=\"\",\"\",Liste_pièces!J750)","v":""},{"$f":"IF(Liste_pièces!K750=\"\",\"\",Liste_pièces!K750)","v":""},{"$f":"IF(Liste_pièces!L750=\"\",\"\",Liste_pièces!L750)","v":""},{"$f":"IF(Liste_pièces!M750=\"\",\"\",Liste_pièces!M750)","v":""},0,1,0]
[{"$f":"IF(Liste_pièces!A751=\"\",\"ZZZ\",Liste_pièces!A751)","v":"ZZZ"},{"$f":"IF(Liste_pièces!B751=\"\",\"ZZZ\",Liste_pièces!B751)","v":"ZZZ"},{"$f":"IF(Liste_pièces!C751=\"\",\"\",Liste_pièces!C751)","v":""},{"$f":"IF(Liste_pièces!D751=\"\",\"\",Liste_pièces!D751)","v":""},{"$f":"IF(Liste_pièces!E751=\"\",\"\",Liste_pièces!E751)","v":""},{"$f":"IF(Liste_pièces!F751=\"\",\"\",Liste_pièces!F751)","v":""},{"$f":"IF(Liste_pièces!G751=\"\",\"\",Liste_pièces!G751)","v":""},{"$f":"IF(Liste_pièces!H751=\"\",\"\",Liste_pièces!H751)","v":""},{"$f":"IF(Liste_pièces!I751=\"\",\"\",Liste_pièces!I751)","v":""},{"$f":"IF(Liste_pièces!J751=\"\",\"\",Liste_pièces!J751)","v":""},{"$f":"IF(Liste_pièces!K751=\"\",\"\",Liste_pièces!K751)","v":""},{"$f":"IF(Liste_pièces!L751=\"\",\"\",Liste_pièces!L751)","v":""},{"$f":"IF(Liste_pièces!M751=\"\",\"\",Liste_pièces!M751)","v":""},0,1,0]
[{"$f":"IF(Liste_pièces!A752=\"\",\"ZZZ\",Liste_pièces!A752)","v":"ZZZ"},{"$f":"IF(Liste_pièces!B752=\"\",\"ZZZ\",Liste_pièces!B752)","v":"ZZZ"},{"$f":"IF(Liste_pièces!C752=\"\",\"\",Liste_pièces!C752)","v":""},{"$f":"IF(Liste_pièces!D752=\"\",\"\",Liste_pièces!D752)","v":""},{"$f":"IF(Liste_pièces!E752=\"\",\"\",Liste_pièces!E752)","v":""},{"$f":"IF(Liste_pièces!F752=\"\",\"\",Liste_pièces!F752)","v":""},{"$f":"IF(Liste_pièces!G752=\"\",\"\",Liste_pièces!G752)","v":""},{"$f":"IF(Liste_pièces!H752=\"\",\"\",Liste_pièces!H752)","v":""},{"$f":"IF(Liste_pièces!I752=\"\",\"\",Liste_pièces!I752)","v":""},{"$f":"IF(Liste_pièces!J752=\"\",\"\",Liste_pièces!J752)","v":""},{"$f":"IF(Liste_pièces!K752=\"\",\"\",Liste_pièces!K752)","v":""},{"$f":"IF(Liste_pièces!L752=\"\",\"\",Liste_pièces!L752)","v":""},{"$f":"IF(Liste_pièces!M752=\"\",\"\",Liste_pièces!M752)","v":""},0,1,0]
[{"$f":"IF(Liste_pièces!A753=\"\",\"ZZZ\",Liste_pièces!A753)","v":"ZZZ"},{"$f":"IF(Liste_pièces!B753=\"\",\"ZZZ\",Liste_pièces!B753)","v":"ZZZ"},{"$f":"IF(Liste_pièces!C753=\"\",\"\",Liste_pièces!C753)","v":""},{"$f":"IF(Liste_pièces!D753=\"\",\"\",Liste_pièces!D753)","v":""},{"$f":"IF(Liste_pièces!E753=\"\",\"\",Liste_pièces!E753)","v":""},{"$f":"IF(Liste_pièces!F753=\"\",\"\",Liste_pièces!F753)","v":""},{"$f":"IF(Liste_pièces!G753=\"\",\"\",Liste_pièces!G753)","v":""},{"$f":"IF(Liste_pièces!H753=\"\",\"\",Liste_pièces!H753)","v":""},{"$f":"IF(Liste_pièces!I753=\"\",\"\",Liste_pièces!I753)","v":""},{"$f":"IF(Liste_pièces!J753=\"\",\"\",Liste_pièces!J753)","v":""},{"$f":"IF(Liste_pièces!K753=\"\",\"\",Liste_pièces!K753)","v":""},{"$f":"IF(Liste_pièces!L753=\"\",\"\",Liste_pièces!L753)","v":""},{"$f":"IF(Liste_pièces!M753=\"\",\"\",Liste_pièces!M753)","v":""},0,1,0]
[{"$f":"IF(Liste_pièces!A754=\"\",\"ZZZ\",Liste_pièces!A754)","v":"ZZZ"},{"$f":"IF(Liste_pièces!B754=\"\",\"ZZZ\",Liste_pièces!B754)","v":"ZZZ"},{"$f":"IF(Liste_pièces!C754=\"\",\"\",Liste_pièces!C754)","v":""},{"$f":"IF(Liste_pièces!D754=\"\",\"\",Liste_pièces!D754)","v":""},{"$f":"IF(Liste_pièces!E754=\"\",\"\",Liste_pièces!E754)","v":""},{"$f":"IF(Liste_pièces!F754=\"\",\"\",Liste_pièces!F754)","v":""},{"$f":"IF(Liste_pièces!G754=\"\",\"\",Liste_pièces!G754)","v":""},{"$f":"IF(Liste_pièces!H754=\"\",\"\",Liste_pièces!H754)","v":""},{"$f":"IF(Liste_pièces!I754=\"\",\"\",Liste_pièces!I754)","v":""},{"$f":"IF(Liste_pièces!J754=\"\",\"\",Liste_pièces!J754)","v":""},{"$f":"IF(Liste_pièces!K754=\"\",\"\",Liste_pièces!K754)","v":""},{"$f":"IF(Liste_pièces!L754=\"\",\"\",Liste_pièces!L754)","v":""},{"$f":"IF(Liste_pièces!M754=\"\",\"\",Liste_pièces!M754)","v":""},0,1,0]
[{"$f":"IF(Liste_pièces!A755=\"\",\"ZZZ\",Liste_pièces!A755)","v":"ZZZ"},{"$f":"IF(Liste_pièces!B755=\"\",\"ZZZ\",Liste_pièces!B755)","v":"ZZZ"},{"$f":"IF(Liste_pièces!C755=\"\",\"\",Liste_pièces!C755)","v":""},{"$f":"IF(Liste_pièces!D755=\"\",\"\",Liste_pièces!D755)","v":""},{"$f":"IF(Liste_pièces!E755=\"\",\"\",Liste_pièces!E755)","v":""},{"$f":"IF(Liste_pièces!F755=\"\",\"\",Liste_pièces!F755)","v":""},{"$f":"IF(Liste_pièces!G755=\"\",\"\",Liste_pièces!G755)","v":""},{"$f":"IF(Liste_pièces!H755=\"\",\"\",Liste_pièces!H755)","v":""},{"$f":"IF(Liste_pièces!I755=\"\",\"\",Liste_pièces!I755)","v":""},{"$f":"IF(Liste_pièces!J755=\"\",\"\",Liste_pièces!J755)","v":""},{"$f":"IF(Liste_pièces!K755=\"\",\"\",Liste_pièces!K755)","v":""},{"$f":"IF(Liste_pièces!L755=\"\",\"\",Liste_pièces!L755)","v":""},{"$f":"IF(Liste_pièces!M755=\"\",\"\",Liste_pièces!M755)","v":""},0,1,0]
[{"$f":"IF(Liste_pièces!A756=\"\",\"ZZZ\",Liste_pièces!A756)","v":"ZZZ"},{"$f":"IF(Liste_pièces!B756=\"\",\"ZZZ\",Liste_pièces!B756)","v":"ZZZ"},{"$f":"IF(Liste_pièces!C756=\"\",\"\",Liste_pièces!C756)","v":""},{"$f":"IF(Liste_pièces!D756=\"\",\"\",Liste_pièces!D756)","v":""},{"$f":"IF(Liste_pièces!E756=\"\",\"\",Liste_pièces!E756)","v":""},{"$f":"IF(Liste_pièces!F756=\"\",\"\",Liste_pièces!F756)","v":""},{"$f":"IF(Liste_pièces!G756=\"\",\"\",Liste_pièces!G756)","v":""},{"$f":"IF(Liste_pièces!H756=\"\",\"\",Liste_pièces!H756)","v":""},{"$f":"IF(Liste_pièces!I756=\"\",\"\",Liste_pièces!I756)","v":""},{"$f":"IF(Liste_pièces!J756=\"\",\"\",Liste_pièces!J756)","v":""},{"$f":"IF(Liste_pièces!K756=\"\",\"\",Liste_pièces!K756)","v":""},{"$f":"IF(Liste_pièces!L756=\"\",\"\",Liste_pièces!L756)","v":""},{"$f":"IF(Liste_pièces!M756=\"\",\"\",Liste_pièces!M756)","v":""},0,1,0]
[{"$f":"IF(Liste_pièces!A757=\"\",\"ZZZ\",Liste_pièces!A757)","v":"ZZZ"},{"$f":"IF(Liste_pièces!B757=\"\",\"ZZZ\",Liste_pièces!B757)","v":"ZZZ"},{"$f":"IF(Liste_pièces!C757=\"\",\"\",Liste_pièces!C757)","v":""},{"$f":"IF(Liste_pièces!D757=\"\",\"\",Liste_pièces!D757)","v":""},{"$f":"IF(Liste_pièces!E757=\"\",\"\",Liste_pièces!E757)","v":""},{"$f":"IF(Liste_pièces!F757=\"\",\"\",Liste_pièces!F757)","v":""},{"$f":"IF(Liste_pièces!G757=\"\",\"\",Liste_pièces!G757)","v":""},{"$f":"IF(Liste_pièces!H757=\"\",\"\",Liste_pièces!H757)","v":""},{"$f":"IF(Liste_pièces!I757=\"\",\"\",Liste_pièces!I757)","v":""},{"$f":"IF(Liste_pièces!J757=\"\",\"\",Liste_pièces!J757)","v":""},{"$f":"IF(Liste_pièces!K757=\"\",\"\",Liste_pièces!K757)","v":""},{"$f":"IF(Liste_pièces!L757=\"\",\"\",Liste_pièces!L757)","v":""},{"$f":"IF(Liste_pièces!M757=\"\",\"\",Liste_pièces!M757)","v":""},0,1,0]
[{"$f":"IF(Liste_pièces!A758=\"\",\"ZZZ\",Liste_pièces!A758)","v":"ZZZ"},{"$f":"IF(Liste_pièces!B758=\"\",\"ZZZ\",Liste_pièces!B758)","v":"ZZZ"},{"$f":"IF(Liste_pièces!C758=\"\",\"\",Liste_pièces!C758)","v":""},{"$f":"IF(Liste_pièces!D758=\"\",\"\",Liste_pièces!D758)","v":""},{"$f":"IF(Liste_pièces!E758=\"\",\"\",Liste_pièces!E758)","v":""},{"$f":"IF(Liste_pièces!F758=\"\",\"\",Liste_pièces!F758)","v":""},{"$f":"IF(Liste_pièces!G758=\"\",\"\",Liste_pièces!G758)","v":""},{"$f":"IF(Liste_pièces!H758=\"\",\"\",Liste_pièces!H758)","v":""},{"$f":"IF(Liste_pièces!I758=\"\",\"\",Liste_pièces!I758)","v":""},{"$f":"IF(Liste_pièces!J758=\"\",\"\",Liste_pièces!J758)","v":""},{"$f":"IF(Liste_pièces!K758=\"\",\"\",Liste_pièces!K758)","v":""},{"$f":"IF(Liste_pièces!L758=\"\",\"\",Liste_pièces!L758)","v":""},{"$f":"IF(Liste_pièces!M758=\"\",\"\",Liste_pièces!M758)","v":""},0,1,0]
[{"$f":"IF(Liste_pièces!A759=\"\",\"ZZZ\",Liste_pièces!A759)","v":"ZZZ"},{"$f":"IF(Liste_pièces!B759=\"\",\"ZZZ\",Liste_pièces!B759)","v":"ZZZ"},{"$f":"IF(Liste_pièces!C759=\"\",\"\",Liste_pièces!C759)","v":""},{"$f":"IF(Liste_pièces!D759=\"\",\"\",Liste_pièces!D759)","v":""},{"$f":"IF(Liste_pièces!E759=\"\",\"\",Liste_pièces!E759)","v":""},{"$f":"IF(Liste_pièces!F759=\"\",\"\",Liste_pièces!F759)","v":""},{"$f":"IF(Liste_pièces!G759=\"\",\"\",Liste_pièces!G759)","v":""},{"$f":"IF(Liste_pièces!H759=\"\",\"\",Liste_pièces!H759)","v":""},{"$f":"IF(Liste_pièces!I759=\"\",\"\",Liste_pièces!I759)","v":""},{"$f":"IF(Liste_pièces!J759=\"\",\"\",Liste_pièces!J759)","v":""},{"$f":"IF(Liste_pièces!K759=\"\",\"\",Liste_pièces!K759)","v":""},{"$f":"IF(Liste_pièces!L759=\"\",\"\",Liste_pièces!L759)","v":""},{"$f":"IF(Liste_pièces!M759=\"\",\"\",Liste_pièces!M759)","v":""},0,1,0]
[{"$f":"IF(Liste_pièces!A760=\"\",\"ZZZ\",Liste_pièces!A760)","v":"ZZZ"},{"$f":"IF(Liste_pièces!B760=\"\",\"ZZZ\",Liste_pièces!B760)","v":"ZZZ"},{"$f":"IF(Liste_pièces!C760=\"\",\"\",Liste_pièces!C760)","v":""},{"$f":"IF(Liste_pièces!D760=\"\",\"\",Liste_pièces!D760)","v":""},{"$f":"IF(Liste_pièces!E760=\"\",\"\",Liste_pièces!E760)","v":""},{"$f":"IF(Liste_pièces!F760=\"\",\"\",Liste_pièces!F760)","v":""},{"$f":"IF(Liste_pièces!G760=\"\",\"\",Liste_pièces!G760)","v":""},{"$f":"IF(Liste_pièces!H760=\"\",\"\",Liste_pièces!H760)","v":""},{"$f":"IF(Liste_pièces!I760=\"\",\"\",Liste_pièces!I760)","v":""},{"$f":"IF(Liste_pièces!J760=\"\",\"\",Liste_pièces!J760)","v":""},{"$f":"IF(Liste_pièces!K760=\"\",\"\",Liste_pièces!K760)","v":""},{"$f":"IF(Liste_pièces!L760=\"\",\"\",Liste_pièces!L760)","v":""},{"$f":"IF(Liste_pièces!M760=\"\",\"\",Liste_pièces!M760)","v":""},0,1,0]
[{"$f":"IF(Liste_pièces!A761=\"\",\"ZZZ\",Liste_pièces!A761)","v":"ZZZ"},{"$f":"IF(Liste_pièces!B761=\"\",\"ZZZ\",Liste_pièces!B761)","v":"ZZZ"},{"$f":"IF(Liste_pièces!C761=\"\",\"\",Liste_pièces!C761)","v":""},{"$f":"IF(Liste_pièces!D761=\"\",\"\",Liste_pièces!D761)","v":""},{"$f":"IF(Liste_pièces!E761=\"\",\"\",Liste_pièces!E761)","v":""},{"$f":"IF(Liste_pièces!F761=\"\",\"\",Liste_pièces!F761)","v":""},{"$f":"IF(Liste_pièces!G761=\"\",\"\",Liste_pièces!G761)","v":""},{"$f":"IF(Liste_pièces!H761=\"\",\"\",Liste_pièces!H761)","v":""},{"$f":"IF(Liste_pièces!I761=\"\",\"\",Liste_pièces!I761)","v":""},{"$f":"IF(Liste_pièces!J761=\"\",\"\",Liste_pièces!J761)","v":""},{"$f":"IF(Liste_pièces!K761=\"\",\"\",Liste_pièces!K761)","v":""},{"$f":"IF(Liste_pièces!L761=\"\",\"\",Liste_pièces!L761)","v":""},{"$f":"IF(Liste_pièces!M761=\"\",\"\",Liste_pièces!M761)","v":""},0,1,0]
[{"$f":"IF(Liste_pièces!A762=\"\",\"ZZZ\",Liste_pièces!A762)","v":"ZZZ"},{"$f":"IF(Liste_pièces!B762=\"\",\"ZZZ\",Liste_pièces!B762)","v":"ZZZ"},{"$f":"IF(Liste_pièces!C762=\"\",\"\",Liste_pièces!C762)","v":""},{"$f":"IF(Liste_pièces!D762=\"\",\"\",Liste_pièces!D762)","v":""},{"$f":"IF(Liste_pièces!E762=\"\",\"\",Liste_pièces!E762)","v":""},{"$f":"IF(Liste_pièces!F762=\"\",\"\",Liste_pièces!F762)","v":""},{"$f":"IF(Liste_pièces!G762=\"\",\"\",Liste_pièces!G762)","v":""},{"$f":"IF(Liste_pièces!H762=\"\",\"\",Liste_pièces!H762)","v":""},{"$f":"IF(Liste_pièces!I762=\"\",\"\",Liste_pièces!I762)","v":""},{"$f":"IF(Liste_pièces!J762=\"\",\"\",Liste_pièces!J762)","v":""},{"$f":"IF(Liste_pièces!K762=\"\",\"\",Liste_pièces!K762)","v":""},{"$f":"IF(Liste_pièces!L762=\"\",\"\",Liste_pièces!L762)","v":""},{"$f":"IF(Liste_pièces!M762=\"\",\"\",Liste_pièces!M762)","v":""},0,1,0]
[{"$f":"IF(Liste_pièces!A763=\"\",\"ZZZ\",Liste_pièces!A763)","v":"ZZZ"},{"$f":"IF(Liste_pièces!B763=\"\",\"ZZZ\",Liste_pièces!B763)","v":"ZZZ"},{"$f":"IF(Liste_pièces!C763=\"\",\"\",Liste_pièces!C763)","v":""},{"$f":"IF(Liste_pièces!D763=\"\",\"\",Liste_pièces!D763)","v":""},{"$f":"IF(Liste_pièces!E763=\"\",\"\",Liste_pièces!E763)","v":""},{"$f":"IF(Liste_pièces!F763=\"\",\"\",Liste_pièces!F763)","v":""},{"$f":"IF(Liste_pièces!G763=\"\",\"\",Liste_pièces!G763)","v":""},{"$f":"IF(Liste_pièces!H763=\"\",\"\",Liste_pièces!H763)","v":""},{"$f":"IF(Liste_pièces!I763=\"\",\"\",Liste_pièces!I763)","v":""},{"$f":"IF(Liste_pièces!J763=\"\",\"\",Liste_pièces!J763)","v":""},{"$f":"IF(Liste_pièces!K763=\"\",\"\",Liste_pièces!K763)","v":""},{"$f":"IF(Liste_pièces!L763=\"\",\"\",Liste_pièces!L763)","v":""},{"$f":"IF(Liste_pièces!M763=\"\",\"\",Liste_pièces!M763)","v":""},0,1,0]
[{"$f":"IF(Liste_pièces!A764=\"\",\"ZZZ\",Liste_pièces!A764)","v":"ZZZ"},{"$f":"IF(Liste_pièces!B764=\"\",\"ZZZ\",Liste_pièces!B764)","v":"ZZZ"},{"$f":"IF(Liste_pièces!C764=\"\",\"\",Liste_pièces!C764)","v":""},{"$f":"IF(Liste_pièces!D764=\"\",\"\",Liste_pièces!D764)","v":""},{"$f":"IF(Liste_pièces!E764=\"\",\"\",Liste_pièces!E764)","v":""},{"$f":"IF(Liste_pièces!F764=\"\",\"\",Liste_pièces!F764)","v":""},{"$f":"IF(Liste_pièces!G764=\"\",\"\",Liste_pièces!G764)","v":""},{"$f":"IF(Liste_pièces!H764=\"\",\"\",Liste_pièces!H764)","v":""},{"$f":"IF(Liste_pièces!I764=\"\",\"\",Liste_pièces!I764)","v":""},{"$f":"IF(Liste_pièces!J764=\"\",\"\",Liste_pièces!J764)","v":""},{"$f":"IF(Liste_pièces!K764=\"\",\"\",Liste_pièces!K764)","v":""},{"$f":"IF(Liste_pièces!L764=\"\",\"\",Liste_pièces!L764)","v":""},{"$f":"IF(Liste_pièces!M764=\"\",\"\",Liste_pièces!M764)","v":""},0,1,0]
[{"$f":"IF(Liste_pièces!A765=\"\",\"ZZZ\",Liste_pièces!A765)","v":"ZZZ"},{"$f":"IF(Liste_pièces!B765=\"\",\"ZZZ\",Liste_pièces!B765)","v":"ZZZ"},{"$f":"IF(Liste_pièces!C765=\"\",\"\",Liste_pièces!C765)","v":""},{"$f":"IF(Liste_pièces!D765=\"\",\"\",Liste_pièces!D765)","v":""},{"$f":"IF(Liste_pièces!E765=\"\",\"\",Liste_pièces!E765)","v":""},{"$f":"IF(Liste_pièces!F765=\"\",\"\",Liste_pièces!F765)","v":""},{"$f":"IF(Liste_pièces!G765=\"\",\"\",Liste_pièces!G765)","v":""},{"$f":"IF(Liste_pièces!H765=\"\",\"\",Liste_pièces!H765)","v":""},{"$f":"IF(Liste_pièces!I765=\"\",\"\",Liste_pièces!I765)","v":""},{"$f":"IF(Liste_pièces!J765=\"\",\"\",Liste_pièces!J765)","v":""},{"$f":"IF(Liste_pièces!K765=\"\",\"\",Liste_pièces!K765)","v":""},{"$f":"IF(Liste_pièces!L765=\"\",\"\",Liste_pièces!L765)","v":""},{"$f":"IF(Liste_pièces!M765=\"\",\"\",Liste_pièces!M765)","v":""},0,1,0]
[{"$f":"IF(Liste_pièces!A766=\"\",\"ZZZ\",Liste_pièces!A766)","v":"ZZZ"},{"$f":"IF(Liste_pièces!B766=\"\",\"ZZZ\",Liste_pièces!B766)","v":"ZZZ"},{"$f":"IF(Liste_pièces!C766=\"\",\"\",Liste_pièces!C766)","v":""},{"$f":"IF(Liste_pièces!D766=\"\",\"\",Liste_pièces!D766)","v":""},{"$f":"IF(Liste_pièces!E766=\"\",\"\",Liste_pièces!E766)","v":""},{"$f":"IF(Liste_pièces!F766=\"\",\"\",Liste_pièces!F766)","v":""},{"$f":"IF(Liste_pièces!G766=\"\",\"\",Liste_pièces!G766)","v":""},{"$f":"IF(Liste_pièces!H766=\"\",\"\",Liste_pièces!H766)","v":""},{"$f":"IF(Liste_pièces!I766=\"\",\"\",Liste_pièces!I766)","v":""},{"$f":"IF(Liste_pièces!J766=\"\",\"\",Liste_pièces!J766)","v":""},{"$f":"IF(Liste_pièces!K766=\"\",\"\",Liste_pièces!K766)","v":""},{"$f":"IF(Liste_pièces!L766=\"\",\"\",Liste_pièces!L766)","v":""},{"$f":"IF(Liste_pièces!M766=\"\",\"\",Liste_pièces!M766)","v":""},0,1,0]
[{"$f":"IF(Liste_pièces!A767=\"\",\"ZZZ\",Liste_pièces!A767)","v":"ZZZ"},{"$f":"IF(Liste_pièces!B767=\"\",\"ZZZ\",Liste_pièces!B767)","v":"ZZZ"},{"$f":"IF(Liste_pièces!C767=\"\",\"\",Liste_pièces!C767)","v":""},{"$f":"IF(Liste_pièces!D767=\"\",\"\",Liste_pièces!D767)","v":""},{"$f":"IF(Liste_pièces!E767=\"\",\"\",Liste_pièces!E767)","v":""},{"$f":"IF(Liste_pièces!F767=\"\",\"\",Liste_pièces!F767)","v":""},{"$f":"IF(Liste_pièces!G767=\"\",\"\",Liste_pièces!G767)","v":""},{"$f":"IF(Liste_pièces!H767=\"\",\"\",Liste_pièces!H767)","v":""},{"$f":"IF(Liste_pièces!I767=\"\",\"\",Liste_pièces!I767)","v":""},{"$f":"IF(Liste_pièces!J767=\"\",\"\",Liste_pièces!J767)","v":""},{"$f":"IF(Liste_pièces!K767=\"\",\"\",Liste_pièces!K767)","v":""},{"$f":"IF(Liste_pièces!L767=\"\",\"\",Liste_pièces!L767)","v":""},{"$f":"IF(Liste_pièces!M767=\"\",\"\",Liste_pièces!M767)","v":""},0,1,0]
[{"$f":"IF(Liste_pièces!A768=\"\",\"ZZZ\",Liste_pièces!A768)","v":"ZZZ"},{"$f":"IF(Liste_pièces!B768=\"\",\"ZZZ\",Liste_pièces!B768)","v":"ZZZ"},{"$f":"IF(Liste_pièces!C768=\"\",\"\",Liste_pièces!C768)","v":""},{"$f":"IF(Liste_pièces!D768=\"\",\"\",Liste_pièces!D768)","v":""},{"$f":"IF(Liste_pièces!E768=\"\",\"\",Liste_pièces!E768)","v":""},{"$f":"IF(Liste_pièces!F768=\"\",\"\",Liste_pièces!F768)","v":""},{"$f":"IF(Liste_pièces!G768=\"\",\"\",Liste_pièces!G768)","v":""},{"$f":"IF(Liste_pièces!H768=\"\",\"\",Liste_pièces!H768)","v":""},{"$f":"IF(Liste_pièces!I768=\"\",\"\",Liste_pièces!I768)","v":""},{"$f":"IF(Liste_pièces!J768=\"\",\"\",Liste_pièces!J768)","v":""},{"$f":"IF(Liste_pièces!K768=\"\",\"\",Liste_pièces!K768)","v":""},{"$f":"IF(Liste_pièces!L768=\"\",\"\",Liste_pièces!L768)","v":""},{"$f":"IF(Liste_pièces!M768=\"\",\"\",Liste_pièces!M768)","v":""},0,1,0]
[{"$f":"IF(Liste_pièces!A769=\"\",\"ZZZ\",Liste_pièces!A769)","v":"ZZZ"},{"$f":"IF(Liste_pièces!B769=\"\",\"ZZZ\",Liste_pièces!B769)","v":"ZZZ"},{"$f":"IF(Liste_pièces!C769=\"\",\"\",Liste_pièces!C769)","v":""},{"$f":"IF(Liste_pièces!D769=\"\",\"\",Liste_pièces!D769)","v":""},{"$f":"IF(Liste_pièces!E769=\"\",\"\",Liste_pièces!E769)","v":""},{"$f":"IF(Liste_pièces!F769=\"\",\"\",Liste_pièces!F769)","v":""},{"$f":"IF(Liste_pièces!G769=\"\",\"\",Liste_pièces!G769)","v":""},{"$f":"IF(Liste_pièces!H769=\"\",\"\",Liste_pièces!H769)","v":""},{"$f":"IF(Liste_pièces!I769=\"\",\"\",Liste_pièces!I769)","v":""},{"$f":"IF(Liste_pièces!J769=\"\",\"\",Liste_pièces!J769)","v":""},{"$f":"IF(Liste_pièces!K769=\"\",\"\",Liste_pièces!K769)","v":""},{"$f":"IF(Liste_pièces!L769=\"\",\"\",Liste_pièces!L769)","v":""},{"$f":"IF(Liste_pièces!M769=\"\",\"\",Liste_pièces!M769)","v":""},0,1,0]
[{"$f":"IF(Liste_pièces!A770=\"\",\"ZZZ\",Liste_pièces!A770)","v":"ZZZ"},{"$f":"IF(Liste_pièces!B770=\"\",\"ZZZ\",Liste_pièces!B770)","v":"ZZZ"},{"$f":"IF(Liste_pièces!C770=\"\",\"\",Liste_pièces!C770)","v":""},{"$f":"IF(Liste_pièces!D770=\"\",\"\",Liste_pièces!D770)","v":""},{"$f":"IF(Liste_pièces!E770=\"\",\"\",Liste_pièces!E770)","v":""},{"$f":"IF(Liste_pièces!F770=\"\",\"\",Liste_pièces!F770)","v":""},{"$f":"IF(Liste_pièces!G770=\"\",\"\",Liste_pièces!G770)","v":""},{"$f":"IF(Liste_pièces!H770=\"\",\"\",Liste_pièces!H770)","v":""},{"$f":"IF(Liste_pièces!I770=\"\",\"\",Liste_pièces!I770)","v":""},{"$f":"IF(Liste_pièces!J770=\"\",\"\",Liste_pièces!J770)","v":""},{"$f":"IF(Liste_pièces!K770=\"\",\"\",Liste_pièces!K770)","v":""},{"$f":"IF(Liste_pièces!L770=\"\",\"\",Liste_pièces!L770)","v":""},{"$f":"IF(Liste_pièces!M770=\"\",\"\",Liste_pièces!M770)","v":""},{"$f":"IF(B1514=\"ZZZ\",0,IF(B1514=B1513,N769,1+N769))","v":0},1,0]
[{"$f":"IF(Liste_pièces!A771=\"\",\"ZZZ\",Liste_pièces!A771)","v":"ZZZ"},{"$f":"IF(Liste_pièces!B771=\"\",\"ZZZ\",Liste_pièces!B771)","v":"ZZZ"},{"$f":"IF(Liste_pièces!C771=\"\",\"\",Liste_pièces!C771)","v":""},{"$f":"IF(Liste_pièces!D771=\"\",\"\",Liste_pièces!D771)","v":""},{"$f":"IF(Liste_pièces!E771=\"\",\"\",Liste_pièces!E771)","v":""},{"$f":"IF(Liste_pièces!F771=\"\",\"\",Liste_pièces!F771)","v":""},{"$f":"IF(Liste_pièces!G771=\"\",\"\",Liste_pièces!G771)","v":""},{"$f":"IF(Liste_pièces!H771=\"\",\"\",Liste_pièces!H771)","v":""},{"$f":"IF(Liste_pièces!I771=\"\",\"\",Liste_pièces!I771)","v":""},{"$f":"IF(Liste_pièces!J771=\"\",\"\",Liste_pièces!J771)","v":""},{"$f":"IF(Liste_pièces!K771=\"\",\"\",Liste_pièces!K771)","v":""},{"$f":"IF(Liste_pièces!L771=\"\",\"\",Liste_pièces!L771)","v":""},{"$f":"IF(Liste_pièces!M771=\"\",\"\",Liste_pièces!M771)","v":""},0,1,0]
[{"$f":"IF(Liste_pièces!A772=\"\",\"ZZZ\",Liste_pièces!A772)","v":"ZZZ"},{"$f":"IF(Liste_pièces!B772=\"\",\"ZZZ\",Liste_pièces!B772)","v":"ZZZ"},{"$f":"IF(Liste_pièces!C772=\"\",\"\",Liste_pièces!C772)","v":""},{"$f":"IF(Liste_pièces!D772=\"\",\"\",Liste_pièces!D772)","v":""},{"$f":"IF(Liste_pièces!E772=\"\",\"\",Liste_pièces!E772)","v":""},{"$f":"IF(Liste_pièces!F772=\"\",\"\",Liste_pièces!F772)","v":""},{"$f":"IF(Liste_pièces!G772=\"\",\"\",Liste_pièces!G772)","v":""},{"$f":"IF(Liste_pièces!H772=\"\",\"\",Liste_pièces!H772)","v":""},{"$f":"IF(Liste_pièces!I772=\"\",\"\",Liste_pièces!I772)","v":""},{"$f":"IF(Liste_pièces!J772=\"\",\"\",Liste_pièces!J772)","v":""},{"$f":"IF(Liste_pièces!K772=\"\",\"\",Liste_pièces!K772)","v":""},{"$f":"IF(Liste_pièces!L772=\"\",\"\",Liste_pièces!L772)","v":""},{"$f":"IF(Liste_pièces!M772=\"\",\"\",Liste_pièces!M772)","v":""},0,1,0]
[{"$f":"IF(Liste_pièces!A773=\"\",\"ZZZ\",Liste_pièces!A773)","v":"ZZZ"},{"$f":"IF(Liste_pièces!B773=\"\",\"ZZZ\",Liste_pièces!B773)","v":"ZZZ"},{"$f":"IF(Liste_pièces!C773=\"\",\"\",Liste_pièces!C773)","v":""},{"$f":"IF(Liste_pièces!D773=\"\",\"\",Liste_pièces!D773)","v":""},{"$f":"IF(Liste_pièces!E773=\"\",\"\",Liste_pièces!E773)","v":""},{"$f":"IF(Liste_pièces!F773=\"\",\"\",Liste_pièces!F773)","v":""},{"$f":"IF(Liste_pièces!G773=\"\",\"\",Liste_pièces!G773)","v":""},{"$f":"IF(Liste_pièces!H773=\"\",\"\",Liste_pièces!H773)","v":""},{"$f":"IF(Liste_pièces!I773=\"\",\"\",Liste_pièces!I773)","v":""},{"$f":"IF(Liste_pièces!J773=\"\",\"\",Liste_pièces!J773)","v":""},{"$f":"IF(Liste_pièces!K773=\"\",\"\",Liste_pièces!K773)","v":""},{"$f":"IF(Liste_pièces!L773=\"\",\"\",Liste_pièces!L773)","v":""},{"$f":"IF(Liste_pièces!M773=\"\",\"\",Liste_pièces!M773)","v":""},0,1,0]
[{"$f":"IF(Liste_pièces!A774=\"\",\"ZZZ\",Liste_pièces!A774)","v":"ZZZ"},{"$f":"IF(Liste_pièces!B774=\"\",\"ZZZ\",Liste_pièces!B774)","v":"ZZZ"},{"$f":"IF(Liste_pièces!C774=\"\",\"\",Liste_pièces!C774)","v":""},{"$f":"IF(Liste_pièces!D774=\"\",\"\",Liste_pièces!D774)","v":""},{"$f":"IF(Liste_pièces!E774=\"\",\"\",Liste_pièces!E774)","v":""},{"$f":"IF(Liste_pièces!F774=\"\",\"\",Liste_pièces!F774)","v":""},{"$f":"IF(Liste_pièces!G774=\"\",\"\",Liste_pièces!G774)","v":""},{"$f":"IF(Liste_pièces!H774=\"\",\"\",Liste_pièces!H774)","v":""},{"$f":"IF(Liste_pièces!I774=\"\",\"\",Liste_pièces!I774)","v":""},{"$f":"IF(Liste_pièces!J774=\"\",\"\",Liste_pièces!J774)","v":""},{"$f":"IF(Liste_pièces!K774=\"\",\"\",Liste_pièces!K774)","v":""},{"$f":"IF(Liste_pièces!L774=\"\",\"\",Liste_pièces!L774)","v":""},{"$f":"IF(Liste_pièces!M774=\"\",\"\",Liste_pièces!M774)","v":""},0,1,0]
[{"$f":"IF(Liste_pièces!A775=\"\",\"ZZZ\",Liste_pièces!A775)","v":"ZZZ"},{"$f":"IF(Liste_pièces!B775=\"\",\"ZZZ\",Liste_pièces!B775)","v":"ZZZ"},{"$f":"IF(Liste_pièces!C775=\"\",\"\",Liste_pièces!C775)","v":""},{"$f":"IF(Liste_pièces!D775=\"\",\"\",Liste_pièces!D775)","v":""},{"$f":"IF(Liste_pièces!E775=\"\",\"\",Liste_pièces!E775)","v":""},{"$f":"IF(Liste_pièces!F775=\"\",\"\",Liste_pièces!F775)","v":""},{"$f":"IF(Liste_pièces!G775=\"\",\"\",Liste_pièces!G775)","v":""},{"$f":"IF(Liste_pièces!H775=\"\",\"\",Liste_pièces!H775)","v":""},{"$f":"IF(Liste_pièces!I775=\"\",\"\",Liste_pièces!I775)","v":""},{"$f":"IF(Liste_pièces!J775=\"\",\"\",Liste_pièces!J775)","v":""},{"$f":"IF(Liste_pièces!K775=\"\",\"\",Liste_pièces!K775)","v":""},{"$f":"IF(Liste_pièces!L775=\"\",\"\",Liste_pièces!L775)","v":""},{"$f":"IF(Liste_pièces!M775=\"\",\"\",Liste_pièces!M775)","v":""},0,1,{"$f":"IF(N775=0,0,IF(N775<>N774,MAX(N775+O774,P774+1),IF(O774=O775,P774,P774+O775)))","v":0}]
[{"$f":"IF(Liste_pièces!A776=\"\",\"ZZZ\",Liste_pièces!A776)","v":"ZZZ"},{"$f":"IF(Liste_pièces!B776=\"\",\"ZZZ\",Liste_pièces!B776)","v":"ZZZ"},{"$f":"IF(Liste_pièces!C776=\"\",\"\",Liste_pièces!C776)","v":""},{"$f":"IF(Liste_pièces!D776=\"\",\"\",Liste_pièces!D776)","v":""},{"$f":"IF(Liste_pièces!E776=\"\",\"\",Liste_pièces!E776)","v":""},{"$f":"IF(Liste_pièces!F776=\"\",\"\",Liste_pièces!F776)","v":""},{"$f":"IF(Liste_pièces!G776=\"\",\"\",Liste_pièces!G776)","v":""},{"$f":"IF(Liste_pièces!H776=\"\",\"\",Liste_pièces!H776)","v":""},{"$f":"IF(Liste_pièces!I776=\"\",\"\",Liste_pièces!I776)","v":""},{"$f":"IF(Liste_pièces!J776=\"\",\"\",Liste_pièces!J776)","v":""},{"$f":"IF(Liste_pièces!K776=\"\",\"\",Liste_pièces!K776)","v":""},{"$f":"IF(Liste_pièces!L776=\"\",\"\",Liste_pièces!L776)","v":""},{"$f":"IF(Liste_pièces!M776=\"\",\"\",Liste_pièces!M776)","v":""},0,1,0]
[{"$f":"IF(Liste_pièces!A777=\"\",\"ZZZ\",Liste_pièces!A777)","v":"ZZZ"},{"$f":"IF(Liste_pièces!B777=\"\",\"ZZZ\",Liste_pièces!B777)","v":"ZZZ"},{"$f":"IF(Liste_pièces!C777=\"\",\"\",Liste_pièces!C777)","v":""},{"$f":"IF(Liste_pièces!D777=\"\",\"\",Liste_pièces!D777)","v":""},{"$f":"IF(Liste_pièces!E777=\"\",\"\",Liste_pièces!E777)","v":""},{"$f":"IF(Liste_pièces!F777=\"\",\"\",Liste_pièces!F777)","v":""},{"$f":"IF(Liste_pièces!G777=\"\",\"\",Liste_pièces!G777)","v":""},{"$f":"IF(Liste_pièces!H777=\"\",\"\",Liste_pièces!H777)","v":""},{"$f":"IF(Liste_pièces!I777=\"\",\"\",Liste_pièces!I777)","v":""},{"$f":"IF(Liste_pièces!J777=\"\",\"\",Liste_pièces!J777)","v":""},{"$f":"IF(Liste_pièces!K777=\"\",\"\",Liste_pièces!K777)","v":""},{"$f":"IF(Liste_pièces!L777=\"\",\"\",Liste_pièces!L777)","v":""},{"$f":"IF(Liste_pièces!M777=\"\",\"\",Liste_pièces!M777)","v":""},0,1,0]
[{"$f":"IF(Liste_pièces!A778=\"\",\"ZZZ\",Liste_pièces!A778)","v":"ZZZ"},{"$f":"IF(Liste_pièces!B778=\"\",\"ZZZ\",Liste_pièces!B778)","v":"ZZZ"},{"$f":"IF(Liste_pièces!C778=\"\",\"\",Liste_pièces!C778)","v":""},{"$f":"IF(Liste_pièces!D778=\"\",\"\",Liste_pièces!D778)","v":""},{"$f":"IF(Liste_pièces!E778=\"\",\"\",Liste_pièces!E778)","v":""},{"$f":"IF(Liste_pièces!F778=\"\",\"\",Liste_pièces!F778)","v":""},{"$f":"IF(Liste_pièces!G778=\"\",\"\",Liste_pièces!G778)","v":""},{"$f":"IF(Liste_pièces!H778=\"\",\"\",Liste_pièces!H778)","v":""},{"$f":"IF(Liste_pièces!I778=\"\",\"\",Liste_pièces!I778)","v":""},{"$f":"IF(Liste_pièces!J778=\"\",\"\",Liste_pièces!J778)","v":""},{"$f":"IF(Liste_pièces!K778=\"\",\"\",Liste_pièces!K778)","v":""},{"$f":"IF(Liste_pièces!L778=\"\",\"\",Liste_pièces!L778)","v":""},{"$f":"IF(Liste_pièces!M778=\"\",\"\",Liste_pièces!M778)","v":""},0,1,0]
[{"$f":"IF(Liste_pièces!A779=\"\",\"ZZZ\",Liste_pièces!A779)","v":"ZZZ"},{"$f":"IF(Liste_pièces!B779=\"\",\"ZZZ\",Liste_pièces!B779)","v":"ZZZ"},{"$f":"IF(Liste_pièces!C779=\"\",\"\",Liste_pièces!C779)","v":""},{"$f":"IF(Liste_pièces!D779=\"\",\"\",Liste_pièces!D779)","v":""},{"$f":"IF(Liste_pièces!E779=\"\",\"\",Liste_pièces!E779)","v":""},{"$f":"IF(Liste_pièces!F779=\"\",\"\",Liste_pièces!F779)","v":""},{"$f":"IF(Liste_pièces!G779=\"\",\"\",Liste_pièces!G779)","v":""},{"$f":"IF(Liste_pièces!H779=\"\",\"\",Liste_pièces!H779)","v":""},{"$f":"IF(Liste_pièces!I779=\"\",\"\",Liste_pièces!I779)","v":""},{"$f":"IF(Liste_pièces!J779=\"\",\"\",Liste_pièces!J779)","v":""},{"$f":"IF(Liste_pièces!K779=\"\",\"\",Liste_pièces!K779)","v":""},{"$f":"IF(Liste_pièces!L779=\"\",\"\",Liste_pièces!L779)","v":""},{"$f":"IF(Liste_pièces!M779=\"\",\"\",Liste_pièces!M779)","v":""},0,1,0]
[{"$f":"IF(Liste_pièces!A780=\"\",\"ZZZ\",Liste_pièces!A780)","v":"ZZZ"},{"$f":"IF(Liste_pièces!B780=\"\",\"ZZZ\",Liste_pièces!B780)","v":"ZZZ"},{"$f":"IF(Liste_pièces!C780=\"\",\"\",Liste_pièces!C780)","v":""},{"$f":"IF(Liste_pièces!D780=\"\",\"\",Liste_pièces!D780)","v":""},{"$f":"IF(Liste_pièces!E780=\"\",\"\",Liste_pièces!E780)","v":""},{"$f":"IF(Liste_pièces!F780=\"\",\"\",Liste_pièces!F780)","v":""},{"$f":"IF(Liste_pièces!G780=\"\",\"\",Liste_pièces!G780)","v":""},{"$f":"IF(Liste_pièces!H780=\"\",\"\",Liste_pièces!H780)","v":""},{"$f":"IF(Liste_pièces!I780=\"\",\"\",Liste_pièces!I780)","v":""},{"$f":"IF(Liste_pièces!J780=\"\",\"\",Liste_pièces!J780)","v":""},{"$f":"IF(Liste_pièces!K780=\"\",\"\",Liste_pièces!K780)","v":""},{"$f":"IF(Liste_pièces!L780=\"\",\"\",Liste_pièces!L780)","v":""},{"$f":"IF(Liste_pièces!M780=\"\",\"\",Liste_pièces!M780)","v":""},0,1,0]
[{"$f":"IF(Liste_pièces!A781=\"\",\"ZZZ\",Liste_pièces!A781)","v":"ZZZ"},{"$f":"IF(Liste_pièces!B781=\"\",\"ZZZ\",Liste_pièces!B781)","v":"ZZZ"},{"$f":"IF(Liste_pièces!C781=\"\",\"\",Liste_pièces!C781)","v":""},{"$f":"IF(Liste_pièces!D781=\"\",\"\",Liste_pièces!D781)","v":""},{"$f":"IF(Liste_pièces!E781=\"\",\"\",Liste_pièces!E781)","v":""},{"$f":"IF(Liste_pièces!F781=\"\",\"\",Liste_pièces!F781)","v":""},{"$f":"IF(Liste_pièces!G781=\"\",\"\",Liste_pièces!G781)","v":""},{"$f":"IF(Liste_pièces!H781=\"\",\"\",Liste_pièces!H781)","v":""},{"$f":"IF(Liste_pièces!I781=\"\",\"\",Liste_pièces!I781)","v":""},{"$f":"IF(Liste_pièces!J781=\"\",\"\",Liste_pièces!J781)","v":""},{"$f":"IF(Liste_pièces!K781=\"\",\"\",Liste_pièces!K781)","v":""},{"$f":"IF(Liste_pièces!L781=\"\",\"\",Liste_pièces!L781)","v":""},{"$f":"IF(Liste_pièces!M781=\"\",\"\",Liste_pièces!M781)","v":""},0,1,0]
[{"$f":"IF(Liste_pièces!A782=\"\",\"ZZZ\",Liste_pièces!A782)","v":"ZZZ"},{"$f":"IF(Liste_pièces!B782=\"\",\"ZZZ\",Liste_pièces!B782)","v":"ZZZ"},{"$f":"IF(Liste_pièces!C782=\"\",\"\",Liste_pièces!C782)","v":""},{"$f":"IF(Liste_pièces!D782=\"\",\"\",Liste_pièces!D782)","v":""},{"$f":"IF(Liste_pièces!E782=\"\",\"\",Liste_pièces!E782)","v":""},{"$f":"IF(Liste_pièces!F782=\"\",\"\",Liste_pièces!F782)","v":""},{"$f":"IF(Liste_pièces!G782=\"\",\"\",Liste_pièces!G782)","v":""},{"$f":"IF(Liste_pièces!H782=\"\",\"\",Liste_pièces!H782)","v":""},{"$f":"IF(Liste_pièces!I782=\"\",\"\",Liste_pièces!I782)","v":""},{"$f":"IF(Liste_pièces!J782=\"\",\"\",Liste_pièces!J782)","v":""},{"$f":"IF(Liste_pièces!K782=\"\",\"\",Liste_pièces!K782)","v":""},{"$f":"IF(Liste_pièces!L782=\"\",\"\",Liste_pièces!L782)","v":""},{"$f":"IF(Liste_pièces!M782=\"\",\"\",Liste_pièces!M782)","v":""},0,1,0]
[{"$f":"IF(Liste_pièces!A783=\"\",\"ZZZ\",Liste_pièces!A783)","v":"ZZZ"},{"$f":"IF(Liste_pièces!B783=\"\",\"ZZZ\",Liste_pièces!B783)","v":"ZZZ"},{"$f":"IF(Liste_pièces!C783=\"\",\"\",Liste_pièces!C783)","v":""},{"$f":"IF(Liste_pièces!D783=\"\",\"\",Liste_pièces!D783)","v":""},{"$f":"IF(Liste_pièces!E783=\"\",\"\",Liste_pièces!E783)","v":""},{"$f":"IF(Liste_pièces!F783=\"\",\"\",Liste_pièces!F783)","v":""},{"$f":"IF(Liste_pièces!G783=\"\",\"\",Liste_pièces!G783)","v":""},{"$f":"IF(Liste_pièces!H783=\"\",\"\",Liste_pièces!H783)","v":""},{"$f":"IF(Liste_pièces!I783=\"\",\"\",Liste_pièces!I783)","v":""},{"$f":"IF(Liste_pièces!J783=\"\",\"\",Liste_pièces!J783)","v":""},{"$f":"IF(Liste_pièces!K783=\"\",\"\",Liste_pièces!K783)","v":""},{"$f":"IF(Liste_pièces!L783=\"\",\"\",Liste_pièces!L783)","v":""},{"$f":"IF(Liste_pièces!M783=\"\",\"\",Liste_pièces!M783)","v":""},0,1,0]
[{"$f":"IF(Liste_pièces!A784=\"\",\"ZZZ\",Liste_pièces!A784)","v":"ZZZ"},{"$f":"IF(Liste_pièces!B784=\"\",\"ZZZ\",Liste_pièces!B784)","v":"ZZZ"},{"$f":"IF(Liste_pièces!C784=\"\",\"\",Liste_pièces!C784)","v":""},{"$f":"IF(Liste_pièces!D784=\"\",\"\",Liste_pièces!D784)","v":""},{"$f":"IF(Liste_pièces!E784=\"\",\"\",Liste_pièces!E784)","v":""},{"$f":"IF(Liste_pièces!F784=\"\",\"\",Liste_pièces!F784)","v":""},{"$f":"IF(Liste_pièces!G784=\"\",\"\",Liste_pièces!G784)","v":""},{"$f":"IF(Liste_pièces!H784=\"\",\"\",Liste_pièces!H784)","v":""},{"$f":"IF(Liste_pièces!I784=\"\",\"\",Liste_pièces!I784)","v":""},{"$f":"IF(Liste_pièces!J784=\"\",\"\",Liste_pièces!J784)","v":""},{"$f":"IF(Liste_pièces!K784=\"\",\"\",Liste_pièces!K784)","v":""},{"$f":"IF(Liste_pièces!L784=\"\",\"\",Liste_pièces!L784)","v":""},{"$f":"IF(Liste_pièces!M784=\"\",\"\",Liste_pièces!M784)","v":""},0,1,0]
[{"$f":"IF(Liste_pièces!A785=\"\",\"ZZZ\",Liste_pièces!A785)","v":"ZZZ"},{"$f":"IF(Liste_pièces!B785=\"\",\"ZZZ\",Liste_pièces!B785)","v":"ZZZ"},{"$f":"IF(Liste_pièces!C785=\"\",\"\",Liste_pièces!C785)","v":""},{"$f":"IF(Liste_pièces!D785=\"\",\"\",Liste_pièces!D785)","v":""},{"$f":"IF(Liste_pièces!E785=\"\",\"\",Liste_pièces!E785)","v":""},{"$f":"IF(Liste_pièces!F785=\"\",\"\",Liste_pièces!F785)","v":""},{"$f":"IF(Liste_pièces!G785=\"\",\"\",Liste_pièces!G785)","v":""},{"$f":"IF(Liste_pièces!H785=\"\",\"\",Liste_pièces!H785)","v":""},{"$f":"IF(Liste_pièces!I785=\"\",\"\",Liste_pièces!I785)","v":""},{"$f":"IF(Liste_pièces!J785=\"\",\"\",Liste_pièces!J785)","v":""},{"$f":"IF(Liste_pièces!K785=\"\",\"\",Liste_pièces!K785)","v":""},{"$f":"IF(Liste_pièces!L785=\"\",\"\",Liste_pièces!L785)","v":""},{"$f":"IF(Liste_pièces!M785=\"\",\"\",Liste_pièces!M785)","v":""},0,1,0]
[{"$f":"IF(Liste_pièces!A786=\"\",\"ZZZ\",Liste_pièces!A786)","v":"ZZZ"},{"$f":"IF(Liste_pièces!B786=\"\",\"ZZZ\",Liste_pièces!B786)","v":"ZZZ"},{"$f":"IF(Liste_pièces!C786=\"\",\"\",Liste_pièces!C786)","v":""},{"$f":"IF(Liste_pièces!D786=\"\",\"\",Liste_pièces!D786)","v":""},{"$f":"IF(Liste_pièces!E786=\"\",\"\",Liste_pièces!E786)","v":""},{"$f":"IF(Liste_pièces!F786=\"\",\"\",Liste_pièces!F786)","v":""},{"$f":"IF(Liste_pièces!G786=\"\",\"\",Liste_pièces!G786)","v":""},{"$f":"IF(Liste_pièces!H786=\"\",\"\",Liste_pièces!H786)","v":""},{"$f":"IF(Liste_pièces!I786=\"\",\"\",Liste_pièces!I786)","v":""},{"$f":"IF(Liste_pièces!J786=\"\",\"\",Liste_pièces!J786)","v":""},{"$f":"IF(Liste_pièces!K786=\"\",\"\",Liste_pièces!K786)","v":""},{"$f":"IF(Liste_pièces!L786=\"\",\"\",Liste_pièces!L786)","v":""},{"$f":"IF(Liste_pièces!M786=\"\",\"\",Liste_pièces!M786)","v":""},0,1,0]
[{"$f":"IF(Liste_pièces!A787=\"\",\"ZZZ\",Liste_pièces!A787)","v":"ZZZ"},{"$f":"IF(Liste_pièces!B787=\"\",\"ZZZ\",Liste_pièces!B787)","v":"ZZZ"},{"$f":"IF(Liste_pièces!C787=\"\",\"\",Liste_pièces!C787)","v":""},{"$f":"IF(Liste_pièces!D787=\"\",\"\",Liste_pièces!D787)","v":""},{"$f":"IF(Liste_pièces!E787=\"\",\"\",Liste_pièces!E787)","v":""},{"$f":"IF(Liste_pièces!F787=\"\",\"\",Liste_pièces!F787)","v":""},{"$f":"IF(Liste_pièces!G787=\"\",\"\",Liste_pièces!G787)","v":""},{"$f":"IF(Liste_pièces!H787=\"\",\"\",Liste_pièces!H787)","v":""},{"$f":"IF(Liste_pièces!I787=\"\",\"\",Liste_pièces!I787)","v":""},{"$f":"IF(Liste_pièces!J787=\"\",\"\",Liste_pièces!J787)","v":""},{"$f":"IF(Liste_pièces!K787=\"\",\"\",Liste_pièces!K787)","v":""},{"$f":"IF(Liste_pièces!L787=\"\",\"\",Liste_pièces!L787)","v":""},{"$f":"IF(Liste_pièces!M787=\"\",\"\",Liste_pièces!M787)","v":""},0,1,0]
[{"$f":"IF(Liste_pièces!A788=\"\",\"ZZZ\",Liste_pièces!A788)","v":"ZZZ"},{"$f":"IF(Liste_pièces!B788=\"\",\"ZZZ\",Liste_pièces!B788)","v":"ZZZ"},{"$f":"IF(Liste_pièces!C788=\"\",\"\",Liste_pièces!C788)","v":""},{"$f":"IF(Liste_pièces!D788=\"\",\"\",Liste_pièces!D788)","v":""},{"$f":"IF(Liste_pièces!E788=\"\",\"\",Liste_pièces!E788)","v":""},{"$f":"IF(Liste_pièces!F788=\"\",\"\",Liste_pièces!F788)","v":""},{"$f":"IF(Liste_pièces!G788=\"\",\"\",Liste_pièces!G788)","v":""},{"$f":"IF(Liste_pièces!H788=\"\",\"\",Liste_pièces!H788)","v":""},{"$f":"IF(Liste_pièces!I788=\"\",\"\",Liste_pièces!I788)","v":""},{"$f":"IF(Liste_pièces!J788=\"\",\"\",Liste_pièces!J788)","v":""},{"$f":"IF(Liste_pièces!K788=\"\",\"\",Liste_pièces!K788)","v":""},{"$f":"IF(Liste_pièces!L788=\"\",\"\",Liste_pièces!L788)","v":""},{"$f":"IF(Liste_pièces!M788=\"\",\"\",Liste_pièces!M788)","v":""},0,1,0]
[{"$f":"IF(Liste_pièces!A789=\"\",\"ZZZ\",Liste_pièces!A789)","v":"ZZZ"},{"$f":"IF(Liste_pièces!B789=\"\",\"ZZZ\",Liste_pièces!B789)","v":"ZZZ"},{"$f":"IF(Liste_pièces!C789=\"\",\"\",Liste_pièces!C789)","v":""},{"$f":"IF(Liste_pièces!D789=\"\",\"\",Liste_pièces!D789)","v":""},{"$f":"IF(Liste_pièces!E789=\"\",\"\",Liste_pièces!E789)","v":""},{"$f":"IF(Liste_pièces!F789=\"\",\"\",Liste_pièces!F789)","v":""},{"$f":"IF(Liste_pièces!G789=\"\",\"\",Liste_pièces!G789)","v":""},{"$f":"IF(Liste_pièces!H789=\"\",\"\",Liste_pièces!H789)","v":""},{"$f":"IF(Liste_pièces!I789=\"\",\"\",Liste_pièces!I789)","v":""},{"$f":"IF(Liste_pièces!J789=\"\",\"\",Liste_pièces!J789)","v":""},{"$f":"IF(Liste_pièces!K789=\"\",\"\",Liste_pièces!K789)","v":""},{"$f":"IF(Liste_pièces!L789=\"\",\"\",Liste_pièces!L789)","v":""},{"$f":"IF(Liste_pièces!M789=\"\",\"\",Liste_pièces!M789)","v":""},0,1,0]
[{"$f":"IF(Liste_pièces!A790=\"\",\"ZZZ\",Liste_pièces!A790)","v":"ZZZ"},{"$f":"IF(Liste_pièces!B790=\"\",\"ZZZ\",Liste_pièces!B790)","v":"ZZZ"},{"$f":"IF(Liste_pièces!C790=\"\",\"\",Liste_pièces!C790)","v":""},{"$f":"IF(Liste_pièces!D790=\"\",\"\",Liste_pièces!D790)","v":""},{"$f":"IF(Liste_pièces!E790=\"\",\"\",Liste_pièces!E790)","v":""},{"$f":"IF(Liste_pièces!F790=\"\",\"\",Liste_pièces!F790)","v":""},{"$f":"IF(Liste_pièces!G790=\"\",\"\",Liste_pièces!G790)","v":""},{"$f":"IF(Liste_pièces!H790=\"\",\"\",Liste_pièces!H790)","v":""},{"$f":"IF(Liste_pièces!I790=\"\",\"\",Liste_pièces!I790)","v":""},{"$f":"IF(Liste_pièces!J790=\"\",\"\",Liste_pièces!J790)","v":""},{"$f":"IF(Liste_pièces!K790=\"\",\"\",Liste_pièces!K790)","v":""},{"$f":"IF(Liste_pièces!L790=\"\",\"\",Liste_pièces!L790)","v":""},{"$f":"IF(Liste_pièces!M790=\"\",\"\",Liste_pièces!M790)","v":""},0,1,0]
[{"$f":"IF(Liste_pièces!A791=\"\",\"ZZZ\",Liste_pièces!A791)","v":"ZZZ"},{"$f":"IF(Liste_pièces!B791=\"\",\"ZZZ\",Liste_pièces!B791)","v":"ZZZ"},{"$f":"IF(Liste_pièces!C791=\"\",\"\",Liste_pièces!C791)","v":""},{"$f":"IF(Liste_pièces!D791=\"\",\"\",Liste_pièces!D791)","v":""},{"$f":"IF(Liste_pièces!E791=\"\",\"\",Liste_pièces!E791)","v":""},{"$f":"IF(Liste_pièces!F791=\"\",\"\",Liste_pièces!F791)","v":""},{"$f":"IF(Liste_pièces!G791=\"\",\"\",Liste_pièces!G791)","v":""},{"$f":"IF(Liste_pièces!H791=\"\",\"\",Liste_pièces!H791)","v":""},{"$f":"IF(Liste_pièces!I791=\"\",\"\",Liste_pièces!I791)","v":""},{"$f":"IF(Liste_pièces!J791=\"\",\"\",Liste_pièces!J791)","v":""},{"$f":"IF(Liste_pièces!K791=\"\",\"\",Liste_pièces!K791)","v":""},{"$f":"IF(Liste_pièces!L791=\"\",\"\",Liste_pièces!L791)","v":""},{"$f":"IF(Liste_pièces!M791=\"\",\"\",Liste_pièces!M791)","v":""},0,1,0]
[{"$f":"IF(Liste_pièces!A792=\"\",\"ZZZ\",Liste_pièces!A792)","v":"ZZZ"},{"$f":"IF(Liste_pièces!B792=\"\",\"ZZZ\",Liste_pièces!B792)","v":"ZZZ"},{"$f":"IF(Liste_pièces!C792=\"\",\"\",Liste_pièces!C792)","v":""},{"$f":"IF(Liste_pièces!D792=\"\",\"\",Liste_pièces!D792)","v":""},{"$f":"IF(Liste_pièces!E792=\"\",\"\",Liste_pièces!E792)","v":""},{"$f":"IF(Liste_pièces!F792=\"\",\"\",Liste_pièces!F792)","v":""},{"$f":"IF(Liste_pièces!G792=\"\",\"\",Liste_pièces!G792)","v":""},{"$f":"IF(Liste_pièces!H792=\"\",\"\",Liste_pièces!H792)","v":""},{"$f":"IF(Liste_pièces!I792=\"\",\"\",Liste_pièces!I792)","v":""},{"$f":"IF(Liste_pièces!J792=\"\",\"\",Liste_pièces!J792)","v":""},{"$f":"IF(Liste_pièces!K792=\"\",\"\",Liste_pièces!K792)","v":""},{"$f":"IF(Liste_pièces!L792=\"\",\"\",Liste_pièces!L792)","v":""},{"$f":"IF(Liste_pièces!M792=\"\",\"\",Liste_pièces!M792)","v":""},0,1,0]
[{"$f":"IF(Liste_pièces!A793=\"\",\"ZZZ\",Liste_pièces!A793)","v":"ZZZ"},{"$f":"IF(Liste_pièces!B793=\"\",\"ZZZ\",Liste_pièces!B793)","v":"ZZZ"},{"$f":"IF(Liste_pièces!C793=\"\",\"\",Liste_pièces!C793)","v":""},{"$f":"IF(Liste_pièces!D793=\"\",\"\",Liste_pièces!D793)","v":""},{"$f":"IF(Liste_pièces!E793=\"\",\"\",Liste_pièces!E793)","v":""},{"$f":"IF(Liste_pièces!F793=\"\",\"\",Liste_pièces!F793)","v":""},{"$f":"IF(Liste_pièces!G793=\"\",\"\",Liste_pièces!G793)","v":""},{"$f":"IF(Liste_pièces!H793=\"\",\"\",Liste_pièces!H793)","v":""},{"$f":"IF(Liste_pièces!I793=\"\",\"\",Liste_pièces!I793)","v":""},{"$f":"IF(Liste_pièces!J793=\"\",\"\",Liste_pièces!J793)","v":""},{"$f":"IF(Liste_pièces!K793=\"\",\"\",Liste_pièces!K793)","v":""},{"$f":"IF(Liste_pièces!L793=\"\",\"\",Liste_pièces!L793)","v":""},{"$f":"IF(Liste_pièces!M793=\"\",\"\",Liste_pièces!M793)","v":""},0,1,0]
[{"$f":"IF(Liste_pièces!A794=\"\",\"ZZZ\",Liste_pièces!A794)","v":"ZZZ"},{"$f":"IF(Liste_pièces!B794=\"\",\"ZZZ\",Liste_pièces!B794)","v":"ZZZ"},{"$f":"IF(Liste_pièces!C794=\"\",\"\",Liste_pièces!C794)","v":""},{"$f":"IF(Liste_pièces!D794=\"\",\"\",Liste_pièces!D794)","v":""},{"$f":"IF(Liste_pièces!E794=\"\",\"\",Liste_pièces!E794)","v":""},{"$f":"IF(Liste_pièces!F794=\"\",\"\",Liste_pièces!F794)","v":""},{"$f":"IF(Liste_pièces!G794=\"\",\"\",Liste_pièces!G794)","v":""},{"$f":"IF(Liste_pièces!H794=\"\",\"\",Liste_pièces!H794)","v":""},{"$f":"IF(Liste_pièces!I794=\"\",\"\",Liste_pièces!I794)","v":""},{"$f":"IF(Liste_pièces!J794=\"\",\"\",Liste_pièces!J794)","v":""},{"$f":"IF(Liste_pièces!K794=\"\",\"\",Liste_pièces!K794)","v":""},{"$f":"IF(Liste_pièces!L794=\"\",\"\",Liste_pièces!L794)","v":""},{"$f":"IF(Liste_pièces!M794=\"\",\"\",Liste_pièces!M794)","v":""},0,1,0]
[{"$f":"IF(Liste_pièces!A795=\"\",\"ZZZ\",Liste_pièces!A795)","v":"ZZZ"},{"$f":"IF(Liste_pièces!B795=\"\",\"ZZZ\",Liste_pièces!B795)","v":"ZZZ"},{"$f":"IF(Liste_pièces!C795=\"\",\"\",Liste_pièces!C795)","v":""},{"$f":"IF(Liste_pièces!D795=\"\",\"\",Liste_pièces!D795)","v":""},{"$f":"IF(Liste_pièces!E795=\"\",\"\",Liste_pièces!E795)","v":""},{"$f":"IF(Liste_pièces!F795=\"\",\"\",Liste_pièces!F795)","v":""},{"$f":"IF(Liste_pièces!G795=\"\",\"\",Liste_pièces!G795)","v":""},{"$f":"IF(Liste_pièces!H795=\"\",\"\",Liste_pièces!H795)","v":""},{"$f":"IF(Liste_pièces!I795=\"\",\"\",Liste_pièces!I795)","v":""},{"$f":"IF(Liste_pièces!J795=\"\",\"\",Liste_pièces!J795)","v":""},{"$f":"IF(Liste_pièces!K795=\"\",\"\",Liste_pièces!K795)","v":""},{"$f":"IF(Liste_pièces!L795=\"\",\"\",Liste_pièces!L795)","v":""},{"$f":"IF(Liste_pièces!M795=\"\",\"\",Liste_pièces!M795)","v":""},0,1,0]
[{"$f":"IF(Liste_pièces!A796=\"\",\"ZZZ\",Liste_pièces!A796)","v":"ZZZ"},{"$f":"IF(Liste_pièces!B796=\"\",\"ZZZ\",Liste_pièces!B796)","v":"ZZZ"},{"$f":"IF(Liste_pièces!C796=\"\",\"\",Liste_pièces!C796)","v":""},{"$f":"IF(Liste_pièces!D796=\"\",\"\",Liste_pièces!D796)","v":""},{"$f":"IF(Liste_pièces!E796=\"\",\"\",Liste_pièces!E796)","v":""},{"$f":"IF(Liste_pièces!F796=\"\",\"\",Liste_pièces!F796)","v":""},{"$f":"IF(Liste_pièces!G796=\"\",\"\",Liste_pièces!G796)","v":""},{"$f":"IF(Liste_pièces!H796=\"\",\"\",Liste_pièces!H796)","v":""},{"$f":"IF(Liste_pièces!I796=\"\",\"\",Liste_pièces!I796)","v":""},{"$f":"IF(Liste_pièces!J796=\"\",\"\",Liste_pièces!J796)","v":""},{"$f":"IF(Liste_pièces!K796=\"\",\"\",Liste_pièces!K796)","v":""},{"$f":"IF(Liste_pièces!L796=\"\",\"\",Liste_pièces!L796)","v":""},{"$f":"IF(Liste_pièces!M796=\"\",\"\",Liste_pièces!M796)","v":""},0,1,0]
[{"$f":"IF(Liste_pièces!A797=\"\",\"ZZZ\",Liste_pièces!A797)","v":"ZZZ"},{"$f":"IF(Liste_pièces!B797=\"\",\"ZZZ\",Liste_pièces!B797)","v":"ZZZ"},{"$f":"IF(Liste_pièces!C797=\"\",\"\",Liste_pièces!C797)","v":""},{"$f":"IF(Liste_pièces!D797=\"\",\"\",Liste_pièces!D797)","v":""},{"$f":"IF(Liste_pièces!E797=\"\",\"\",Liste_pièces!E797)","v":""},{"$f":"IF(Liste_pièces!F797=\"\",\"\",Liste_pièces!F797)","v":""},{"$f":"IF(Liste_pièces!G797=\"\",\"\",Liste_pièces!G797)","v":""},{"$f":"IF(Liste_pièces!H797=\"\",\"\",Liste_pièces!H797)","v":""},{"$f":"IF(Liste_pièces!I797=\"\",\"\",Liste_pièces!I797)","v":""},{"$f":"IF(Liste_pièces!J797=\"\",\"\",Liste_pièces!J797)","v":""},{"$f":"IF(Liste_pièces!K797=\"\",\"\",Liste_pièces!K797)","v":""},{"$f":"IF(Liste_pièces!L797=\"\",\"\",Liste_pièces!L797)","v":""},{"$f":"IF(Liste_pièces!M797=\"\",\"\",Liste_pièces!M797)","v":""},0,1,0]
[{"$f":"IF(Liste_pièces!A798=\"\",\"ZZZ\",Liste_pièces!A798)","v":"ZZZ"},{"$f":"IF(Liste_pièces!B798=\"\",\"ZZZ\",Liste_pièces!B798)","v":"ZZZ"},{"$f":"IF(Liste_pièces!C798=\"\",\"\",Liste_pièces!C798)","v":""},{"$f":"IF(Liste_pièces!D798=\"\",\"\",Liste_pièces!D798)","v":""},{"$f":"IF(Liste_pièces!E798=\"\",\"\",Liste_pièces!E798)","v":""},{"$f":"IF(Liste_pièces!F798=\"\",\"\",Liste_pièces!F798)","v":""},{"$f":"IF(Liste_pièces!G798=\"\",\"\",Liste_pièces!G798)","v":""},{"$f":"IF(Liste_pièces!H798=\"\",\"\",Liste_pièces!H798)","v":""},{"$f":"IF(Liste_pièces!I798=\"\",\"\",Liste_pièces!I798)","v":""},{"$f":"IF(Liste_pièces!J798=\"\",\"\",Liste_pièces!J798)","v":""},{"$f":"IF(Liste_pièces!K798=\"\",\"\",Liste_pièces!K798)","v":""},{"$f":"IF(Liste_pièces!L798=\"\",\"\",Liste_pièces!L798)","v":""},{"$f":"IF(Liste_pièces!M798=\"\",\"\",Liste_pièces!M798)","v":""},0,1,0]
[{"$f":"IF(Liste_pièces!A799=\"\",\"ZZZ\",Liste_pièces!A799)","v":"ZZZ"},{"$f":"IF(Liste_pièces!B799=\"\",\"ZZZ\",Liste_pièces!B799)","v":"ZZZ"},{"$f":"IF(Liste_pièces!C799=\"\",\"\",Liste_pièces!C799)","v":""},{"$f":"IF(Liste_pièces!D799=\"\",\"\",Liste_pièces!D799)","v":""},{"$f":"IF(Liste_pièces!E799=\"\",\"\",Liste_pièces!E799)","v":""},{"$f":"IF(Liste_pièces!F799=\"\",\"\",Liste_pièces!F799)","v":""},{"$f":"IF(Liste_pièces!G799=\"\",\"\",Liste_pièces!G799)","v":""},{"$f":"IF(Liste_pièces!H799=\"\",\"\",Liste_pièces!H799)","v":""},{"$f":"IF(Liste_pièces!I799=\"\",\"\",Liste_pièces!I799)","v":""},{"$f":"IF(Liste_pièces!J799=\"\",\"\",Liste_pièces!J799)","v":""},{"$f":"IF(Liste_pièces!K799=\"\",\"\",Liste_pièces!K799)","v":""},{"$f":"IF(Liste_pièces!L799=\"\",\"\",Liste_pièces!L799)","v":""},{"$f":"IF(Liste_pièces!M799=\"\",\"\",Liste_pièces!M799)","v":""},0,1,0]
[{"$f":"IF(Liste_pièces!A800=\"\",\"ZZZ\",Liste_pièces!A800)","v":"ZZZ"},{"$f":"IF(Liste_pièces!B800=\"\",\"ZZZ\",Liste_pièces!B800)","v":"ZZZ"},{"$f":"IF(Liste_pièces!C800=\"\",\"\",Liste_pièces!C800)","v":""},{"$f":"IF(Liste_pièces!D800=\"\",\"\",Liste_pièces!D800)","v":""},{"$f":"IF(Liste_pièces!E800=\"\",\"\",Liste_pièces!E800)","v":""},{"$f":"IF(Liste_pièces!F800=\"\",\"\",Liste_pièces!F800)","v":""},{"$f":"IF(Liste_pièces!G800=\"\",\"\",Liste_pièces!G800)","v":""},{"$f":"IF(Liste_pièces!H800=\"\",\"\",Liste_pièces!H800)","v":""},{"$f":"IF(Liste_pièces!I800=\"\",\"\",Liste_pièces!I800)","v":""},{"$f":"IF(Liste_pièces!J800=\"\",\"\",Liste_pièces!J800)","v":""},{"$f":"IF(Liste_pièces!K800=\"\",\"\",Liste_pièces!K800)","v":""},{"$f":"IF(Liste_pièces!L800=\"\",\"\",Liste_pièces!L800)","v":""},{"$f":"IF(Liste_pièces!M800=\"\",\"\",Liste_pièces!M800)","v":""},0,1,0]
[{"$f":"IF(Liste_pièces!A801=\"\",\"ZZZ\",Liste_pièces!A801)","v":"ZZZ"},{"$f":"IF(Liste_pièces!B801=\"\",\"ZZZ\",Liste_pièces!B801)","v":"ZZZ"},{"$f":"IF(Liste_pièces!C801=\"\",\"\",Liste_pièces!C801)","v":""},{"$f":"IF(Liste_pièces!D801=\"\",\"\",Liste_pièces!D801)","v":""},{"$f":"IF(Liste_pièces!E801=\"\",\"\",Liste_pièces!E801)","v":""},{"$f":"IF(Liste_pièces!F801=\"\",\"\",Liste_pièces!F801)","v":""},{"$f":"IF(Liste_pièces!G801=\"\",\"\",Liste_pièces!G801)","v":""},{"$f":"IF(Liste_pièces!H801=\"\",\"\",Liste_pièces!H801)","v":""},{"$f":"IF(Liste_pièces!I801=\"\",\"\",Liste_pièces!I801)","v":""},{"$f":"IF(Liste_pièces!J801=\"\",\"\",Liste_pièces!J801)","v":""},{"$f":"IF(Liste_pièces!K801=\"\",\"\",Liste_pièces!K801)","v":""},{"$f":"IF(Liste_pièces!L801=\"\",\"\",Liste_pièces!L801)","v":""},{"$f":"IF(Liste_pièces!M801=\"\",\"\",Liste_pièces!M801)","v":""},0,1,0]
[{"$f":"IF(Liste_pièces!A802=\"\",\"ZZZ\",Liste_pièces!A802)","v":"ZZZ"},{"$f":"IF(Liste_pièces!B802=\"\",\"ZZZ\",Liste_pièces!B802)","v":"ZZZ"},{"$f":"IF(Liste_pièces!C802=\"\",\"\",Liste_pièces!C802)","v":""},{"$f":"IF(Liste_pièces!D802=\"\",\"\",Liste_pièces!D802)","v":""},{"$f":"IF(Liste_pièces!E802=\"\",\"\",Liste_pièces!E802)","v":""},{"$f":"IF(Liste_pièces!F802=\"\",\"\",Liste_pièces!F802)","v":""},{"$f":"IF(Liste_pièces!G802=\"\",\"\",Liste_pièces!G802)","v":""},{"$f":"IF(Liste_pièces!H802=\"\",\"\",Liste_pièces!H802)","v":""},{"$f":"IF(Liste_pièces!I802=\"\",\"\",Liste_pièces!I802)","v":""},{"$f":"IF(Liste_pièces!J802=\"\",\"\",Liste_pièces!J802)","v":""},{"$f":"IF(Liste_pièces!K802=\"\",\"\",Liste_pièces!K802)","v":""},{"$f":"IF(Liste_pièces!L802=\"\",\"\",Liste_pièces!L802)","v":""},{"$f":"IF(Liste_pièces!M802=\"\",\"\",Liste_pièces!M802)","v":""},0,1,0]
[{"$f":"IF(Liste_pièces!A803=\"\",\"ZZZ\",Liste_pièces!A803)","v":"ZZZ"},{"$f":"IF(Liste_pièces!B803=\"\",\"ZZZ\",Liste_pièces!B803)","v":"ZZZ"},{"$f":"IF(Liste_pièces!C803=\"\",\"\",Liste_pièces!C803)","v":""},{"$f":"IF(Liste_pièces!D803=\"\",\"\",Liste_pièces!D803)","v":""},{"$f":"IF(Liste_pièces!E803=\"\",\"\",Liste_pièces!E803)","v":""},{"$f":"IF(Liste_pièces!F803=\"\",\"\",Liste_pièces!F803)","v":""},{"$f":"IF(Liste_pièces!G803=\"\",\"\",Liste_pièces!G803)","v":""},{"$f":"IF(Liste_pièces!H803=\"\",\"\",Liste_pièces!H803)","v":""},{"$f":"IF(Liste_pièces!I803=\"\",\"\",Liste_pièces!I803)","v":""},{"$f":"IF(Liste_pièces!J803=\"\",\"\",Liste_pièces!J803)","v":""},{"$f":"IF(Liste_pièces!K803=\"\",\"\",Liste_pièces!K803)","v":""},{"$f":"IF(Liste_pièces!L803=\"\",\"\",Liste_pièces!L803)","v":""},{"$f":"IF(Liste_pièces!M803=\"\",\"\",Liste_pièces!M803)","v":""},0,1,0]
[{"$f":"IF(Liste_pièces!A804=\"\",\"ZZZ\",Liste_pièces!A804)","v":"ZZZ"},{"$f":"IF(Liste_pièces!B804=\"\",\"ZZZ\",Liste_pièces!B804)","v":"ZZZ"},{"$f":"IF(Liste_pièces!C804=\"\",\"\",Liste_pièces!C804)","v":""},{"$f":"IF(Liste_pièces!D804=\"\",\"\",Liste_pièces!D804)","v":""},{"$f":"IF(Liste_pièces!E804=\"\",\"\",Liste_pièces!E804)","v":""},{"$f":"IF(Liste_pièces!F804=\"\",\"\",Liste_pièces!F804)","v":""},{"$f":"IF(Liste_pièces!G804=\"\",\"\",Liste_pièces!G804)","v":""},{"$f":"IF(Liste_pièces!H804=\"\",\"\",Liste_pièces!H804)","v":""},{"$f":"IF(Liste_pièces!I804=\"\",\"\",Liste_pièces!I804)","v":""},{"$f":"IF(Liste_pièces!J804=\"\",\"\",Liste_pièces!J804)","v":""},{"$f":"IF(Liste_pièces!K804=\"\",\"\",Liste_pièces!K804)","v":""},{"$f":"IF(Liste_pièces!L804=\"\",\"\",Liste_pièces!L804)","v":""},{"$f":"IF(Liste_pièces!M804=\"\",\"\",Liste_pièces!M804)","v":""},0,1,0]
[{"$f":"IF(Liste_pièces!A805=\"\",\"ZZZ\",Liste_pièces!A805)","v":"ZZZ"},{"$f":"IF(Liste_pièces!B805=\"\",\"ZZZ\",Liste_pièces!B805)","v":"ZZZ"},{"$f":"IF(Liste_pièces!C805=\"\",\"\",Liste_pièces!C805)","v":""},{"$f":"IF(Liste_pièces!D805=\"\",\"\",Liste_pièces!D805)","v":""},{"$f":"IF(Liste_pièces!E805=\"\",\"\",Liste_pièces!E805)","v":""},{"$f":"IF(Liste_pièces!F805=\"\",\"\",Liste_pièces!F805)","v":""},{"$f":"IF(Liste_pièces!G805=\"\",\"\",Liste_pièces!G805)","v":""},{"$f":"IF(Liste_pièces!H805=\"\",\"\",Liste_pièces!H805)","v":""},{"$f":"IF(Liste_pièces!I805=\"\",\"\",Liste_pièces!I805)","v":""},{"$f":"IF(Liste_pièces!J805=\"\",\"\",Liste_pièces!J805)","v":""},{"$f":"IF(Liste_pièces!K805=\"\",\"\",Liste_pièces!K805)","v":""},{"$f":"IF(Liste_pièces!L805=\"\",\"\",Liste_pièces!L805)","v":""},{"$f":"IF(Liste_pièces!M805=\"\",\"\",Liste_pièces!M805)","v":""},0,1,0]
[{"$f":"IF(Liste_pièces!A806=\"\",\"ZZZ\",Liste_pièces!A806)","v":"ZZZ"},{"$f":"IF(Liste_pièces!B806=\"\",\"ZZZ\",Liste_pièces!B806)","v":"ZZZ"},{"$f":"IF(Liste_pièces!C806=\"\",\"\",Liste_pièces!C806)","v":""},{"$f":"IF(Liste_pièces!D806=\"\",\"\",Liste_pièces!D806)","v":""},{"$f":"IF(Liste_pièces!E806=\"\",\"\",Liste_pièces!E806)","v":""},{"$f":"IF(Liste_pièces!F806=\"\",\"\",Liste_pièces!F806)","v":""},{"$f":"IF(Liste_pièces!G806=\"\",\"\",Liste_pièces!G806)","v":""},{"$f":"IF(Liste_pièces!H806=\"\",\"\",Liste_pièces!H806)","v":""},{"$f":"IF(Liste_pièces!I806=\"\",\"\",Liste_pièces!I806)","v":""},{"$f":"IF(Liste_pièces!J806=\"\",\"\",Liste_pièces!J806)","v":""},{"$f":"IF(Liste_pièces!K806=\"\",\"\",Liste_pièces!K806)","v":""},{"$f":"IF(Liste_pièces!L806=\"\",\"\",Liste_pièces!L806)","v":""},{"$f":"IF(Liste_pièces!M806=\"\",\"\",Liste_pièces!M806)","v":""},0,1,0]
[{"$f":"IF(Liste_pièces!A807=\"\",\"ZZZ\",Liste_pièces!A807)","v":"ZZZ"},{"$f":"IF(Liste_pièces!B807=\"\",\"ZZZ\",Liste_pièces!B807)","v":"ZZZ"},{"$f":"IF(Liste_pièces!C807=\"\",\"\",Liste_pièces!C807)","v":""},{"$f":"IF(Liste_pièces!D807=\"\",\"\",Liste_pièces!D807)","v":""},{"$f":"IF(Liste_pièces!E807=\"\",\"\",Liste_pièces!E807)","v":""},{"$f":"IF(Liste_pièces!F807=\"\",\"\",Liste_pièces!F807)","v":""},{"$f":"IF(Liste_pièces!G807=\"\",\"\",Liste_pièces!G807)","v":""},{"$f":"IF(Liste_pièces!H807=\"\",\"\",Liste_pièces!H807)","v":""},{"$f":"IF(Liste_pièces!I807=\"\",\"\",Liste_pièces!I807)","v":""},{"$f":"IF(Liste_pièces!J807=\"\",\"\",Liste_pièces!J807)","v":""},{"$f":"IF(Liste_pièces!K807=\"\",\"\",Liste_pièces!K807)","v":""},{"$f":"IF(Liste_pièces!L807=\"\",\"\",Liste_pièces!L807)","v":""},{"$f":"IF(Liste_pièces!M807=\"\",\"\",Liste_pièces!M807)","v":""},0,1,0]
[{"$f":"IF(Liste_pièces!A808=\"\",\"ZZZ\",Liste_pièces!A808)","v":"ZZZ"},{"$f":"IF(Liste_pièces!B808=\"\",\"ZZZ\",Liste_pièces!B808)","v":"ZZZ"},{"$f":"IF(Liste_pièces!C808=\"\",\"\",Liste_pièces!C808)","v":""},{"$f":"IF(Liste_pièces!D808=\"\",\"\",Liste_pièces!D808)","v":""},{"$f":"IF(Liste_pièces!E808=\"\",\"\",Liste_pièces!E808)","v":""},{"$f":"IF(Liste_pièces!F808=\"\",\"\",Liste_pièces!F808)","v":""},{"$f":"IF(Liste_pièces!G808=\"\",\"\",Liste_pièces!G808)","v":""},{"$f":"IF(Liste_pièces!H808=\"\",\"\",Liste_pièces!H808)","v":""},{"$f":"IF(Liste_pièces!I808=\"\",\"\",Liste_pièces!I808)","v":""},{"$f":"IF(Liste_pièces!J808=\"\",\"\",Liste_pièces!J808)","v":""},{"$f":"IF(Liste_pièces!K808=\"\",\"\",Liste_pièces!K808)","v":""},{"$f":"IF(Liste_pièces!L808=\"\",\"\",Liste_pièces!L808)","v":""},{"$f":"IF(Liste_pièces!M808=\"\",\"\",Liste_pièces!M808)","v":""},0,1,0]
[{"$f":"IF(Liste_pièces!A809=\"\",\"ZZZ\",Liste_pièces!A809)","v":"ZZZ"},{"$f":"IF(Liste_pièces!B809=\"\",\"ZZZ\",Liste_pièces!B809)","v":"ZZZ"},{"$f":"IF(Liste_pièces!C809=\"\",\"\",Liste_pièces!C809)","v":""},{"$f":"IF(Liste_pièces!D809=\"\",\"\",Liste_pièces!D809)","v":""},{"$f":"IF(Liste_pièces!E809=\"\",\"\",Liste_pièces!E809)","v":""},{"$f":"IF(Liste_pièces!F809=\"\",\"\",Liste_pièces!F809)","v":""},{"$f":"IF(Liste_pièces!G809=\"\",\"\",Liste_pièces!G809)","v":""},{"$f":"IF(Liste_pièces!H809=\"\",\"\",Liste_pièces!H809)","v":""},{"$f":"IF(Liste_pièces!I809=\"\",\"\",Liste_pièces!I809)","v":""},{"$f":"IF(Liste_pièces!J809=\"\",\"\",Liste_pièces!J809)","v":""},{"$f":"IF(Liste_pièces!K809=\"\",\"\",Liste_pièces!K809)","v":""},{"$f":"IF(Liste_pièces!L809=\"\",\"\",Liste_pièces!L809)","v":""},{"$f":"IF(Liste_pièces!M809=\"\",\"\",Liste_pièces!M809)","v":""},0,1,0]
[{"$f":"IF(Liste_pièces!A810=\"\",\"ZZZ\",Liste_pièces!A810)","v":"ZZZ"},{"$f":"IF(Liste_pièces!B810=\"\",\"ZZZ\",Liste_pièces!B810)","v":"ZZZ"},{"$f":"IF(Liste_pièces!C810=\"\",\"\",Liste_pièces!C810)","v":""},{"$f":"IF(Liste_pièces!D810=\"\",\"\",Liste_pièces!D810)","v":""},{"$f":"IF(Liste_pièces!E810=\"\",\"\",Liste_pièces!E810)","v":""},{"$f":"IF(Liste_pièces!F810=\"\",\"\",Liste_pièces!F810)","v":""},{"$f":"IF(Liste_pièces!G810=\"\",\"\",Liste_pièces!G810)","v":""},{"$f":"IF(Liste_pièces!H810=\"\",\"\",Liste_pièces!H810)","v":""},{"$f":"IF(Liste_pièces!I810=\"\",\"\",Liste_pièces!I810)","v":""},{"$f":"IF(Liste_pièces!J810=\"\",\"\",Liste_pièces!J810)","v":""},{"$f":"IF(Liste_pièces!K810=\"\",\"\",Liste_pièces!K810)","v":""},{"$f":"IF(Liste_pièces!L810=\"\",\"\",Liste_pièces!L810)","v":""},{"$f":"IF(Liste_pièces!M810=\"\",\"\",Liste_pièces!M810)","v":""},0,{"$f":"IF(N810*37=SUM(N773:N809),1,0)","v":1},0]
[{"$f":"IF(Liste_pièces!A811=\"\",\"ZZZ\",Liste_pièces!A811)","v":"ZZZ"},{"$f":"IF(Liste_pièces!B811=\"\",\"ZZZ\",Liste_pièces!B811)","v":"ZZZ"},{"$f":"IF(Liste_pièces!C811=\"\",\"\",Liste_pièces!C811)","v":""},{"$f":"IF(Liste_pièces!D811=\"\",\"\",Liste_pièces!D811)","v":""},{"$f":"IF(Liste_pièces!E811=\"\",\"\",Liste_pièces!E811)","v":""},{"$f":"IF(Liste_pièces!F811=\"\",\"\",Liste_pièces!F811)","v":""},{"$f":"IF(Liste_pièces!G811=\"\",\"\",Liste_pièces!G811)","v":""},{"$f":"IF(Liste_pièces!H811=\"\",\"\",Liste_pièces!H811)","v":""},{"$f":"IF(Liste_pièces!I811=\"\",\"\",Liste_pièces!I811)","v":""},{"$f":"IF(Liste_pièces!J811=\"\",\"\",Liste_pièces!J811)","v":""},{"$f":"IF(Liste_pièces!K811=\"\",\"\",Liste_pièces!K811)","v":""},{"$f":"IF(Liste_pièces!L811=\"\",\"\",Liste_pièces!L811)","v":""},{"$f":"IF(Liste_pièces!M811=\"\",\"\",Liste_pièces!M811)","v":""},0,1,0]
[{"$f":"IF(Liste_pièces!A812=\"\",\"ZZZ\",Liste_pièces!A812)","v":"ZZZ"},{"$f":"IF(Liste_pièces!B812=\"\",\"ZZZ\",Liste_pièces!B812)","v":"ZZZ"},{"$f":"IF(Liste_pièces!C812=\"\",\"\",Liste_pièces!C812)","v":""},{"$f":"IF(Liste_pièces!D812=\"\",\"\",Liste_pièces!D812)","v":""},{"$f":"IF(Liste_pièces!E812=\"\",\"\",Liste_pièces!E812)","v":""},{"$f":"IF(Liste_pièces!F812=\"\",\"\",Liste_pièces!F812)","v":""},{"$f":"IF(Liste_pièces!G812=\"\",\"\",Liste_pièces!G812)","v":""},{"$f":"IF(Liste_pièces!H812=\"\",\"\",Liste_pièces!H812)","v":""},{"$f":"IF(Liste_pièces!I812=\"\",\"\",Liste_pièces!I812)","v":""},{"$f":"IF(Liste_pièces!J812=\"\",\"\",Liste_pièces!J812)","v":""},{"$f":"IF(Liste_pièces!K812=\"\",\"\",Liste_pièces!K812)","v":""},{"$f":"IF(Liste_pièces!L812=\"\",\"\",Liste_pièces!L812)","v":""},{"$f":"IF(Liste_pièces!M812=\"\",\"\",Liste_pièces!M812)","v":""},0,1,0]
[{"$f":"IF(Liste_pièces!A813=\"\",\"ZZZ\",Liste_pièces!A813)","v":"ZZZ"},{"$f":"IF(Liste_pièces!B813=\"\",\"ZZZ\",Liste_pièces!B813)","v":"ZZZ"},{"$f":"IF(Liste_pièces!C813=\"\",\"\",Liste_pièces!C813)","v":""},{"$f":"IF(Liste_pièces!D813=\"\",\"\",Liste_pièces!D813)","v":""},{"$f":"IF(Liste_pièces!E813=\"\",\"\",Liste_pièces!E813)","v":""},{"$f":"IF(Liste_pièces!F813=\"\",\"\",Liste_pièces!F813)","v":""},{"$f":"IF(Liste_pièces!G813=\"\",\"\",Liste_pièces!G813)","v":""},{"$f":"IF(Liste_pièces!H813=\"\",\"\",Liste_pièces!H813)","v":""},{"$f":"IF(Liste_pièces!I813=\"\",\"\",Liste_pièces!I813)","v":""},{"$f":"IF(Liste_pièces!J813=\"\",\"\",Liste_pièces!J813)","v":""},{"$f":"IF(Liste_pièces!K813=\"\",\"\",Liste_pièces!K813)","v":""},{"$f":"IF(Liste_pièces!L813=\"\",\"\",Liste_pièces!L813)","v":""},{"$f":"IF(Liste_pièces!M813=\"\",\"\",Liste_pièces!M813)","v":""},0,1,0]
[{"$f":"IF(Liste_pièces!A814=\"\",\"ZZZ\",Liste_pièces!A814)","v":"ZZZ"},{"$f":"IF(Liste_pièces!B814=\"\",\"ZZZ\",Liste_pièces!B814)","v":"ZZZ"},{"$f":"IF(Liste_pièces!C814=\"\",\"\",Liste_pièces!C814)","v":""},{"$f":"IF(Liste_pièces!D814=\"\",\"\",Liste_pièces!D814)","v":""},{"$f":"IF(Liste_pièces!E814=\"\",\"\",Liste_pièces!E814)","v":""},{"$f":"IF(Liste_pièces!F814=\"\",\"\",Liste_pièces!F814)","v":""},{"$f":"IF(Liste_pièces!G814=\"\",\"\",Liste_pièces!G814)","v":""},{"$f":"IF(Liste_pièces!H814=\"\",\"\",Liste_pièces!H814)","v":""},{"$f":"IF(Liste_pièces!I814=\"\",\"\",Liste_pièces!I814)","v":""},{"$f":"IF(Liste_pièces!J814=\"\",\"\",Liste_pièces!J814)","v":""},{"$f":"IF(Liste_pièces!K814=\"\",\"\",Liste_pièces!K814)","v":""},{"$f":"IF(Liste_pièces!L814=\"\",\"\",Liste_pièces!L814)","v":""},{"$f":"IF(Liste_pièces!M814=\"\",\"\",Liste_pièces!M814)","v":""},0,1,0]
[{"$f":"IF(Liste_pièces!A815=\"\",\"ZZZ\",Liste_pièces!A815)","v":"ZZZ"},{"$f":"IF(Liste_pièces!B815=\"\",\"ZZZ\",Liste_pièces!B815)","v":"ZZZ"},{"$f":"IF(Liste_pièces!C815=\"\",\"\",Liste_pièces!C815)","v":""},{"$f":"IF(Liste_pièces!D815=\"\",\"\",Liste_pièces!D815)","v":""},{"$f":"IF(Liste_pièces!E815=\"\",\"\",Liste_pièces!E815)","v":""},{"$f":"IF(Liste_pièces!F815=\"\",\"\",Liste_pièces!F815)","v":""},{"$f":"IF(Liste_pièces!G815=\"\",\"\",Liste_pièces!G815)","v":""},{"$f":"IF(Liste_pièces!H815=\"\",\"\",Liste_pièces!H815)","v":""},{"$f":"IF(Liste_pièces!I815=\"\",\"\",Liste_pièces!I815)","v":""},{"$f":"IF(Liste_pièces!J815=\"\",\"\",Liste_pièces!J815)","v":""},{"$f":"IF(Liste_pièces!K815=\"\",\"\",Liste_pièces!K815)","v":""},{"$f":"IF(Liste_pièces!L815=\"\",\"\",Liste_pièces!L815)","v":""},{"$f":"IF(Liste_pièces!M815=\"\",\"\",Liste_pièces!M815)","v":""},0,1,0]
[{"$f":"IF(Liste_pièces!A816=\"\",\"ZZZ\",Liste_pièces!A816)","v":"ZZZ"},{"$f":"IF(Liste_pièces!B816=\"\",\"ZZZ\",Liste_pièces!B816)","v":"ZZZ"},{"$f":"IF(Liste_pièces!C816=\"\",\"\",Liste_pièces!C816)","v":""},{"$f":"IF(Liste_pièces!D816=\"\",\"\",Liste_pièces!D816)","v":""},{"$f":"IF(Liste_pièces!E816=\"\",\"\",Liste_pièces!E816)","v":""},{"$f":"IF(Liste_pièces!F816=\"\",\"\",Liste_pièces!F816)","v":""},{"$f":"IF(Liste_pièces!G816=\"\",\"\",Liste_pièces!G816)","v":""},{"$f":"IF(Liste_pièces!H816=\"\",\"\",Liste_pièces!H816)","v":""},{"$f":"IF(Liste_pièces!I816=\"\",\"\",Liste_pièces!I816)","v":""},{"$f":"IF(Liste_pièces!J816=\"\",\"\",Liste_pièces!J816)","v":""},{"$f":"IF(Liste_pièces!K816=\"\",\"\",Liste_pièces!K816)","v":""},{"$f":"IF(Liste_pièces!L816=\"\",\"\",Liste_pièces!L816)","v":""},{"$f":"IF(Liste_pièces!M816=\"\",\"\",Liste_pièces!M816)","v":""},0,1,0]
[{"$f":"IF(Liste_pièces!A817=\"\",\"ZZZ\",Liste_pièces!A817)","v":"ZZZ"},{"$f":"IF(Liste_pièces!B817=\"\",\"ZZZ\",Liste_pièces!B817)","v":"ZZZ"},{"$f":"IF(Liste_pièces!C817=\"\",\"\",Liste_pièces!C817)","v":""},{"$f":"IF(Liste_pièces!D817=\"\",\"\",Liste_pièces!D817)","v":""},{"$f":"IF(Liste_pièces!E817=\"\",\"\",Liste_pièces!E817)","v":""},{"$f":"IF(Liste_pièces!F817=\"\",\"\",Liste_pièces!F817)","v":""},{"$f":"IF(Liste_pièces!G817=\"\",\"\",Liste_pièces!G817)","v":""},{"$f":"IF(Liste_pièces!H817=\"\",\"\",Liste_pièces!H817)","v":""},{"$f":"IF(Liste_pièces!I817=\"\",\"\",Liste_pièces!I817)","v":""},{"$f":"IF(Liste_pièces!J817=\"\",\"\",Liste_pièces!J817)","v":""},{"$f":"IF(Liste_pièces!K817=\"\",\"\",Liste_pièces!K817)","v":""},{"$f":"IF(Liste_pièces!L817=\"\",\"\",Liste_pièces!L817)","v":""},{"$f":"IF(Liste_pièces!M817=\"\",\"\",Liste_pièces!M817)","v":""},0,1,0]
[{"$f":"IF(Liste_pièces!A818=\"\",\"ZZZ\",Liste_pièces!A818)","v":"ZZZ"},{"$f":"IF(Liste_pièces!B818=\"\",\"ZZZ\",Liste_pièces!B818)","v":"ZZZ"},{"$f":"IF(Liste_pièces!C818=\"\",\"\",Liste_pièces!C818)","v":""},{"$f":"IF(Liste_pièces!D818=\"\",\"\",Liste_pièces!D818)","v":""},{"$f":"IF(Liste_pièces!E818=\"\",\"\",Liste_pièces!E818)","v":""},{"$f":"IF(Liste_pièces!F818=\"\",\"\",Liste_pièces!F818)","v":""},{"$f":"IF(Liste_pièces!G818=\"\",\"\",Liste_pièces!G818)","v":""},{"$f":"IF(Liste_pièces!H818=\"\",\"\",Liste_pièces!H818)","v":""},{"$f":"IF(Liste_pièces!I818=\"\",\"\",Liste_pièces!I818)","v":""},{"$f":"IF(Liste_pièces!J818=\"\",\"\",Liste_pièces!J818)","v":""},{"$f":"IF(Liste_pièces!K818=\"\",\"\",Liste_pièces!K818)","v":""},{"$f":"IF(Liste_pièces!L818=\"\",\"\",Liste_pièces!L818)","v":""},{"$f":"IF(Liste_pièces!M818=\"\",\"\",Liste_pièces!M818)","v":""},0,1,0]
[{"$f":"IF(Liste_pièces!A819=\"\",\"ZZZ\",Liste_pièces!A819)","v":"ZZZ"},{"$f":"IF(Liste_pièces!B819=\"\",\"ZZZ\",Liste_pièces!B819)","v":"ZZZ"},{"$f":"IF(Liste_pièces!C819=\"\",\"\",Liste_pièces!C819)","v":""},{"$f":"IF(Liste_pièces!D819=\"\",\"\",Liste_pièces!D819)","v":""},{"$f":"IF(Liste_pièces!E819=\"\",\"\",Liste_pièces!E819)","v":""},{"$f":"IF(Liste_pièces!F819=\"\",\"\",Liste_pièces!F819)","v":""},{"$f":"IF(Liste_pièces!G819=\"\",\"\",Liste_pièces!G819)","v":""},{"$f":"IF(Liste_pièces!H819=\"\",\"\",Liste_pièces!H819)","v":""},{"$f":"IF(Liste_pièces!I819=\"\",\"\",Liste_pièces!I819)","v":""},{"$f":"IF(Liste_pièces!J819=\"\",\"\",Liste_pièces!J819)","v":""},{"$f":"IF(Liste_pièces!K819=\"\",\"\",Liste_pièces!K819)","v":""},{"$f":"IF(Liste_pièces!L819=\"\",\"\",Liste_pièces!L819)","v":""},{"$f":"IF(Liste_pièces!M819=\"\",\"\",Liste_pièces!M819)","v":""},0,1,0]
[{"$f":"IF(Liste_pièces!A820=\"\",\"ZZZ\",Liste_pièces!A820)","v":"ZZZ"},{"$f":"IF(Liste_pièces!B820=\"\",\"ZZZ\",Liste_pièces!B820)","v":"ZZZ"},{"$f":"IF(Liste_pièces!C820=\"\",\"\",Liste_pièces!C820)","v":""},{"$f":"IF(Liste_pièces!D820=\"\",\"\",Liste_pièces!D820)","v":""},{"$f":"IF(Liste_pièces!E820=\"\",\"\",Liste_pièces!E820)","v":""},{"$f":"IF(Liste_pièces!F820=\"\",\"\",Liste_pièces!F820)","v":""},{"$f":"IF(Liste_pièces!G820=\"\",\"\",Liste_pièces!G820)","v":""},{"$f":"IF(Liste_pièces!H820=\"\",\"\",Liste_pièces!H820)","v":""},{"$f":"IF(Liste_pièces!I820=\"\",\"\",Liste_pièces!I820)","v":""},{"$f":"IF(Liste_pièces!J820=\"\",\"\",Liste_pièces!J820)","v":""},{"$f":"IF(Liste_pièces!K820=\"\",\"\",Liste_pièces!K820)","v":""},{"$f":"IF(Liste_pièces!L820=\"\",\"\",Liste_pièces!L820)","v":""},{"$f":"IF(Liste_pièces!M820=\"\",\"\",Liste_pièces!M820)","v":""},0,1,0]
[{"$f":"IF(Liste_pièces!A821=\"\",\"ZZZ\",Liste_pièces!A821)","v":"ZZZ"},{"$f":"IF(Liste_pièces!B821=\"\",\"ZZZ\",Liste_pièces!B821)","v":"ZZZ"},{"$f":"IF(Liste_pièces!C821=\"\",\"\",Liste_pièces!C821)","v":""},{"$f":"IF(Liste_pièces!D821=\"\",\"\",Liste_pièces!D821)","v":""},{"$f":"IF(Liste_pièces!E821=\"\",\"\",Liste_pièces!E821)","v":""},{"$f":"IF(Liste_pièces!F821=\"\",\"\",Liste_pièces!F821)","v":""},{"$f":"IF(Liste_pièces!G821=\"\",\"\",Liste_pièces!G821)","v":""},{"$f":"IF(Liste_pièces!H821=\"\",\"\",Liste_pièces!H821)","v":""},{"$f":"IF(Liste_pièces!I821=\"\",\"\",Liste_pièces!I821)","v":""},{"$f":"IF(Liste_pièces!J821=\"\",\"\",Liste_pièces!J821)","v":""},{"$f":"IF(Liste_pièces!K821=\"\",\"\",Liste_pièces!K821)","v":""},{"$f":"IF(Liste_pièces!L821=\"\",\"\",Liste_pièces!L821)","v":""},{"$f":"IF(Liste_pièces!M821=\"\",\"\",Liste_pièces!M821)","v":""},0,1,0]
[{"$f":"IF(Liste_pièces!A822=\"\",\"ZZZ\",Liste_pièces!A822)","v":"ZZZ"},{"$f":"IF(Liste_pièces!B822=\"\",\"ZZZ\",Liste_pièces!B822)","v":"ZZZ"},{"$f":"IF(Liste_pièces!C822=\"\",\"\",Liste_pièces!C822)","v":""},{"$f":"IF(Liste_pièces!D822=\"\",\"\",Liste_pièces!D822)","v":""},{"$f":"IF(Liste_pièces!E822=\"\",\"\",Liste_pièces!E822)","v":""},{"$f":"IF(Liste_pièces!F822=\"\",\"\",Liste_pièces!F822)","v":""},{"$f":"IF(Liste_pièces!G822=\"\",\"\",Liste_pièces!G822)","v":""},{"$f":"IF(Liste_pièces!H822=\"\",\"\",Liste_pièces!H822)","v":""},{"$f":"IF(Liste_pièces!I822=\"\",\"\",Liste_pièces!I822)","v":""},{"$f":"IF(Liste_pièces!J822=\"\",\"\",Liste_pièces!J822)","v":""},{"$f":"IF(Liste_pièces!K822=\"\",\"\",Liste_pièces!K822)","v":""},{"$f":"IF(Liste_pièces!L822=\"\",\"\",Liste_pièces!L822)","v":""},{"$f":"IF(Liste_pièces!M822=\"\",\"\",Liste_pièces!M822)","v":""},0,1,0]
[{"$f":"IF(Liste_pièces!A823=\"\",\"ZZZ\",Liste_pièces!A823)","v":"ZZZ"},{"$f":"IF(Liste_pièces!B823=\"\",\"ZZZ\",Liste_pièces!B823)","v":"ZZZ"},{"$f":"IF(Liste_pièces!C823=\"\",\"\",Liste_pièces!C823)","v":""},{"$f":"IF(Liste_pièces!D823=\"\",\"\",Liste_pièces!D823)","v":""},{"$f":"IF(Liste_pièces!E823=\"\",\"\",Liste_pièces!E823)","v":""},{"$f":"IF(Liste_pièces!F823=\"\",\"\",Liste_pièces!F823)","v":""},{"$f":"IF(Liste_pièces!G823=\"\",\"\",Liste_pièces!G823)","v":""},{"$f":"IF(Liste_pièces!H823=\"\",\"\",Liste_pièces!H823)","v":""},{"$f":"IF(Liste_pièces!I823=\"\",\"\",Liste_pièces!I823)","v":""},{"$f":"IF(Liste_pièces!J823=\"\",\"\",Liste_pièces!J823)","v":""},{"$f":"IF(Liste_pièces!K823=\"\",\"\",Liste_pièces!K823)","v":""},{"$f":"IF(Liste_pièces!L823=\"\",\"\",Liste_pièces!L823)","v":""},{"$f":"IF(Liste_pièces!M823=\"\",\"\",Liste_pièces!M823)","v":""},0,1,0]
[{"$f":"IF(Liste_pièces!A824=\"\",\"ZZZ\",Liste_pièces!A824)","v":"ZZZ"},{"$f":"IF(Liste_pièces!B824=\"\",\"ZZZ\",Liste_pièces!B824)","v":"ZZZ"},{"$f":"IF(Liste_pièces!C824=\"\",\"\",Liste_pièces!C824)","v":""},{"$f":"IF(Liste_pièces!D824=\"\",\"\",Liste_pièces!D824)","v":""},{"$f":"IF(Liste_pièces!E824=\"\",\"\",Liste_pièces!E824)","v":""},{"$f":"IF(Liste_pièces!F824=\"\",\"\",Liste_pièces!F824)","v":""},{"$f":"IF(Liste_pièces!G824=\"\",\"\",Liste_pièces!G824)","v":""},{"$f":"IF(Liste_pièces!H824=\"\",\"\",Liste_pièces!H824)","v":""},{"$f":"IF(Liste_pièces!I824=\"\",\"\",Liste_pièces!I824)","v":""},{"$f":"IF(Liste_pièces!J824=\"\",\"\",Liste_pièces!J824)","v":""},{"$f":"IF(Liste_pièces!K824=\"\",\"\",Liste_pièces!K824)","v":""},{"$f":"IF(Liste_pièces!L824=\"\",\"\",Liste_pièces!L824)","v":""},{"$f":"IF(Liste_pièces!M824=\"\",\"\",Liste_pièces!M824)","v":""},0,1,0]
[{"$f":"IF(Liste_pièces!A825=\"\",\"ZZZ\",Liste_pièces!A825)","v":"ZZZ"},{"$f":"IF(Liste_pièces!B825=\"\",\"ZZZ\",Liste_pièces!B825)","v":"ZZZ"},{"$f":"IF(Liste_pièces!C825=\"\",\"\",Liste_pièces!C825)","v":""},{"$f":"IF(Liste_pièces!D825=\"\",\"\",Liste_pièces!D825)","v":""},{"$f":"IF(Liste_pièces!E825=\"\",\"\",Liste_pièces!E825)","v":""},{"$f":"IF(Liste_pièces!F825=\"\",\"\",Liste_pièces!F825)","v":""},{"$f":"IF(Liste_pièces!G825=\"\",\"\",Liste_pièces!G825)","v":""},{"$f":"IF(Liste_pièces!H825=\"\",\"\",Liste_pièces!H825)","v":""},{"$f":"IF(Liste_pièces!I825=\"\",\"\",Liste_pièces!I825)","v":""},{"$f":"IF(Liste_pièces!J825=\"\",\"\",Liste_pièces!J825)","v":""},{"$f":"IF(Liste_pièces!K825=\"\",\"\",Liste_pièces!K825)","v":""},{"$f":"IF(Liste_pièces!L825=\"\",\"\",Liste_pièces!L825)","v":""},{"$f":"IF(Liste_pièces!M825=\"\",\"\",Liste_pièces!M825)","v":""},0,1,0]
[{"$f":"IF(Liste_pièces!A826=\"\",\"ZZZ\",Liste_pièces!A826)","v":"ZZZ"},{"$f":"IF(Liste_pièces!B826=\"\",\"ZZZ\",Liste_pièces!B826)","v":"ZZZ"},{"$f":"IF(Liste_pièces!C826=\"\",\"\",Liste_pièces!C826)","v":""},{"$f":"IF(Liste_pièces!D826=\"\",\"\",Liste_pièces!D826)","v":""},{"$f":"IF(Liste_pièces!E826=\"\",\"\",Liste_pièces!E826)","v":""},{"$f":"IF(Liste_pièces!F826=\"\",\"\",Liste_pièces!F826)","v":""},{"$f":"IF(Liste_pièces!G826=\"\",\"\",Liste_pièces!G826)","v":""},{"$f":"IF(Liste_pièces!H826=\"\",\"\",Liste_pièces!H826)","v":""},{"$f":"IF(Liste_pièces!I826=\"\",\"\",Liste_pièces!I826)","v":""},{"$f":"IF(Liste_pièces!J826=\"\",\"\",Liste_pièces!J826)","v":""},{"$f":"IF(Liste_pièces!K826=\"\",\"\",Liste_pièces!K826)","v":""},{"$f":"IF(Liste_pièces!L826=\"\",\"\",Liste_pièces!L826)","v":""},{"$f":"IF(Liste_pièces!M826=\"\",\"\",Liste_pièces!M826)","v":""},0,1,0]
[{"$f":"IF(Liste_pièces!A827=\"\",\"ZZZ\",Liste_pièces!A827)","v":"ZZZ"},{"$f":"IF(Liste_pièces!B827=\"\",\"ZZZ\",Liste_pièces!B827)","v":"ZZZ"},{"$f":"IF(Liste_pièces!C827=\"\",\"\",Liste_pièces!C827)","v":""},{"$f":"IF(Liste_pièces!D827=\"\",\"\",Liste_pièces!D827)","v":""},{"$f":"IF(Liste_pièces!E827=\"\",\"\",Liste_pièces!E827)","v":""},{"$f":"IF(Liste_pièces!F827=\"\",\"\",Liste_pièces!F827)","v":""},{"$f":"IF(Liste_pièces!G827=\"\",\"\",Liste_pièces!G827)","v":""},{"$f":"IF(Liste_pièces!H827=\"\",\"\",Liste_pièces!H827)","v":""},{"$f":"IF(Liste_pièces!I827=\"\",\"\",Liste_pièces!I827)","v":""},{"$f":"IF(Liste_pièces!J827=\"\",\"\",Liste_pièces!J827)","v":""},{"$f":"IF(Liste_pièces!K827=\"\",\"\",Liste_pièces!K827)","v":""},{"$f":"IF(Liste_pièces!L827=\"\",\"\",Liste_pièces!L827)","v":""},{"$f":"IF(Liste_pièces!M827=\"\",\"\",Liste_pièces!M827)","v":""},0,1,0]
[{"$f":"IF(Liste_pièces!A828=\"\",\"ZZZ\",Liste_pièces!A828)","v":"ZZZ"},{"$f":"IF(Liste_pièces!B828=\"\",\"ZZZ\",Liste_pièces!B828)","v":"ZZZ"},{"$f":"IF(Liste_pièces!C828=\"\",\"\",Liste_pièces!C828)","v":""},{"$f":"IF(Liste_pièces!D828=\"\",\"\",Liste_pièces!D828)","v":""},{"$f":"IF(Liste_pièces!E828=\"\",\"\",Liste_pièces!E828)","v":""},{"$f":"IF(Liste_pièces!F828=\"\",\"\",Liste_pièces!F828)","v":""},{"$f":"IF(Liste_pièces!G828=\"\",\"\",Liste_pièces!G828)","v":""},{"$f":"IF(Liste_pièces!H828=\"\",\"\",Liste_pièces!H828)","v":""},{"$f":"IF(Liste_pièces!I828=\"\",\"\",Liste_pièces!I828)","v":""},{"$f":"IF(Liste_pièces!J828=\"\",\"\",Liste_pièces!J828)","v":""},{"$f":"IF(Liste_pièces!K828=\"\",\"\",Liste_pièces!K828)","v":""},{"$f":"IF(Liste_pièces!L828=\"\",\"\",Liste_pièces!L828)","v":""},{"$f":"IF(Liste_pièces!M828=\"\",\"\",Liste_pièces!M828)","v":""},0,1,0]
[{"$f":"IF(Liste_pièces!A829=\"\",\"ZZZ\",Liste_pièces!A829)","v":"ZZZ"},{"$f":"IF(Liste_pièces!B829=\"\",\"ZZZ\",Liste_pièces!B829)","v":"ZZZ"},{"$f":"IF(Liste_pièces!C829=\"\",\"\",Liste_pièces!C829)","v":""},{"$f":"IF(Liste_pièces!D829=\"\",\"\",Liste_pièces!D829)","v":""},{"$f":"IF(Liste_pièces!E829=\"\",\"\",Liste_pièces!E829)","v":""},{"$f":"IF(Liste_pièces!F829=\"\",\"\",Liste_pièces!F829)","v":""},{"$f":"IF(Liste_pièces!G829=\"\",\"\",Liste_pièces!G829)","v":""},{"$f":"IF(Liste_pièces!H829=\"\",\"\",Liste_pièces!H829)","v":""},{"$f":"IF(Liste_pièces!I829=\"\",\"\",Liste_pièces!I829)","v":""},{"$f":"IF(Liste_pièces!J829=\"\",\"\",Liste_pièces!J829)","v":""},{"$f":"IF(Liste_pièces!K829=\"\",\"\",Liste_pièces!K829)","v":""},{"$f":"IF(Liste_pièces!L829=\"\",\"\",Liste_pièces!L829)","v":""},{"$f":"IF(Liste_pièces!M829=\"\",\"\",Liste_pièces!M829)","v":""},0,1,0]
[{"$f":"IF(Liste_pièces!A830=\"\",\"ZZZ\",Liste_pièces!A830)","v":"ZZZ"},{"$f":"IF(Liste_pièces!B830=\"\",\"ZZZ\",Liste_pièces!B830)","v":"ZZZ"},{"$f":"IF(Liste_pièces!C830=\"\",\"\",Liste_pièces!C830)","v":""},{"$f":"IF(Liste_pièces!D830=\"\",\"\",Liste_pièces!D830)","v":""},{"$f":"IF(Liste_pièces!E830=\"\",\"\",Liste_pièces!E830)","v":""},{"$f":"IF(Liste_pièces!F830=\"\",\"\",Liste_pièces!F830)","v":""},{"$f":"IF(Liste_pièces!G830=\"\",\"\",Liste_pièces!G830)","v":""},{"$f":"IF(Liste_pièces!H830=\"\",\"\",Liste_pièces!H830)","v":""},{"$f":"IF(Liste_pièces!I830=\"\",\"\",Liste_pièces!I830)","v":""},{"$f":"IF(Liste_pièces!J830=\"\",\"\",Liste_pièces!J830)","v":""},{"$f":"IF(Liste_pièces!K830=\"\",\"\",Liste_pièces!K830)","v":""},{"$f":"IF(Liste_pièces!L830=\"\",\"\",Liste_pièces!L830)","v":""},{"$f":"IF(Liste_pièces!M830=\"\",\"\",Liste_pièces!M830)","v":""},0,1,0]
[{"$f":"IF(Liste_pièces!A831=\"\",\"ZZZ\",Liste_pièces!A831)","v":"ZZZ"},{"$f":"IF(Liste_pièces!B831=\"\",\"ZZZ\",Liste_pièces!B831)","v":"ZZZ"},{"$f":"IF(Liste_pièces!C831=\"\",\"\",Liste_pièces!C831)","v":""},{"$f":"IF(Liste_pièces!D831=\"\",\"\",Liste_pièces!D831)","v":""},{"$f":"IF(Liste_pièces!E831=\"\",\"\",Liste_pièces!E831)","v":""},{"$f":"IF(Liste_pièces!F831=\"\",\"\",Liste_pièces!F831)","v":""},{"$f":"IF(Liste_pièces!G831=\"\",\"\",Liste_pièces!G831)","v":""},{"$f":"IF(Liste_pièces!H831=\"\",\"\",Liste_pièces!H831)","v":""},{"$f":"IF(Liste_pièces!I831=\"\",\"\",Liste_pièces!I831)","v":""},{"$f":"IF(Liste_pièces!J831=\"\",\"\",Liste_pièces!J831)","v":""},{"$f":"IF(Liste_pièces!K831=\"\",\"\",Liste_pièces!K831)","v":""},{"$f":"IF(Liste_pièces!L831=\"\",\"\",Liste_pièces!L831)","v":""},{"$f":"IF(Liste_pièces!M831=\"\",\"\",Liste_pièces!M831)","v":""},0,1,0]
[{"$f":"IF(Liste_pièces!A832=\"\",\"ZZZ\",Liste_pièces!A832)","v":"ZZZ"},{"$f":"IF(Liste_pièces!B832=\"\",\"ZZZ\",Liste_pièces!B832)","v":"ZZZ"},{"$f":"IF(Liste_pièces!C832=\"\",\"\",Liste_pièces!C832)","v":""},{"$f":"IF(Liste_pièces!D832=\"\",\"\",Liste_pièces!D832)","v":""},{"$f":"IF(Liste_pièces!E832=\"\",\"\",Liste_pièces!E832)","v":""},{"$f":"IF(Liste_pièces!F832=\"\",\"\",Liste_pièces!F832)","v":""},{"$f":"IF(Liste_pièces!G832=\"\",\"\",Liste_pièces!G832)","v":""},{"$f":"IF(Liste_pièces!H832=\"\",\"\",Liste_pièces!H832)","v":""},{"$f":"IF(Liste_pièces!I832=\"\",\"\",Liste_pièces!I832)","v":""},{"$f":"IF(Liste_pièces!J832=\"\",\"\",Liste_pièces!J832)","v":""},{"$f":"IF(Liste_pièces!K832=\"\",\"\",Liste_pièces!K832)","v":""},{"$f":"IF(Liste_pièces!L832=\"\",\"\",Liste_pièces!L832)","v":""},{"$f":"IF(Liste_pièces!M832=\"\",\"\",Liste_pièces!M832)","v":""},0,1,0]
[{"$f":"IF(Liste_pièces!A833=\"\",\"ZZZ\",Liste_pièces!A833)","v":"ZZZ"},{"$f":"IF(Liste_pièces!B833=\"\",\"ZZZ\",Liste_pièces!B833)","v":"ZZZ"},{"$f":"IF(Liste_pièces!C833=\"\",\"\",Liste_pièces!C833)","v":""},{"$f":"IF(Liste_pièces!D833=\"\",\"\",Liste_pièces!D833)","v":""},{"$f":"IF(Liste_pièces!E833=\"\",\"\",Liste_pièces!E833)","v":""},{"$f":"IF(Liste_pièces!F833=\"\",\"\",Liste_pièces!F833)","v":""},{"$f":"IF(Liste_pièces!G833=\"\",\"\",Liste_pièces!G833)","v":""},{"$f":"IF(Liste_pièces!H833=\"\",\"\",Liste_pièces!H833)","v":""},{"$f":"IF(Liste_pièces!I833=\"\",\"\",Liste_pièces!I833)","v":""},{"$f":"IF(Liste_pièces!J833=\"\",\"\",Liste_pièces!J833)","v":""},{"$f":"IF(Liste_pièces!K833=\"\",\"\",Liste_pièces!K833)","v":""},{"$f":"IF(Liste_pièces!L833=\"\",\"\",Liste_pièces!L833)","v":""},{"$f":"IF(Liste_pièces!M833=\"\",\"\",Liste_pièces!M833)","v":""},0,1,0]
[{"$f":"IF(Liste_pièces!A834=\"\",\"ZZZ\",Liste_pièces!A834)","v":"ZZZ"},{"$f":"IF(Liste_pièces!B834=\"\",\"ZZZ\",Liste_pièces!B834)","v":"ZZZ"},{"$f":"IF(Liste_pièces!C834=\"\",\"\",Liste_pièces!C834)","v":""},{"$f":"IF(Liste_pièces!D834=\"\",\"\",Liste_pièces!D834)","v":""},{"$f":"IF(Liste_pièces!E834=\"\",\"\",Liste_pièces!E834)","v":""},{"$f":"IF(Liste_pièces!F834=\"\",\"\",Liste_pièces!F834)","v":""},{"$f":"IF(Liste_pièces!G834=\"\",\"\",Liste_pièces!G834)","v":""},{"$f":"IF(Liste_pièces!H834=\"\",\"\",Liste_pièces!H834)","v":""},{"$f":"IF(Liste_pièces!I834=\"\",\"\",Liste_pièces!I834)","v":""},{"$f":"IF(Liste_pièces!J834=\"\",\"\",Liste_pièces!J834)","v":""},{"$f":"IF(Liste_pièces!K834=\"\",\"\",Liste_pièces!K834)","v":""},{"$f":"IF(Liste_pièces!L834=\"\",\"\",Liste_pièces!L834)","v":""},{"$f":"IF(Liste_pièces!M834=\"\",\"\",Liste_pièces!M834)","v":""},{"$f":"IF(B1578=\"ZZZ\",0,IF(B1578=B1577,N833,1+N833))","v":0},1,0]
[{"$f":"IF(Liste_pièces!A835=\"\",\"ZZZ\",Liste_pièces!A835)","v":"ZZZ"},{"$f":"IF(Liste_pièces!B835=\"\",\"ZZZ\",Liste_pièces!B835)","v":"ZZZ"},{"$f":"IF(Liste_pièces!C835=\"\",\"\",Liste_pièces!C835)","v":""},{"$f":"IF(Liste_pièces!D835=\"\",\"\",Liste_pièces!D835)","v":""},{"$f":"IF(Liste_pièces!E835=\"\",\"\",Liste_pièces!E835)","v":""},{"$f":"IF(Liste_pièces!F835=\"\",\"\",Liste_pièces!F835)","v":""},{"$f":"IF(Liste_pièces!G835=\"\",\"\",Liste_pièces!G835)","v":""},{"$f":"IF(Liste_pièces!H835=\"\",\"\",Liste_pièces!H835)","v":""},{"$f":"IF(Liste_pièces!I835=\"\",\"\",Liste_pièces!I835)","v":""},{"$f":"IF(Liste_pièces!J835=\"\",\"\",Liste_pièces!J835)","v":""},{"$f":"IF(Liste_pièces!K835=\"\",\"\",Liste_pièces!K835)","v":""},{"$f":"IF(Liste_pièces!L835=\"\",\"\",Liste_pièces!L835)","v":""},{"$f":"IF(Liste_pièces!M835=\"\",\"\",Liste_pièces!M835)","v":""},0,1,0]
[{"$f":"IF(Liste_pièces!A836=\"\",\"ZZZ\",Liste_pièces!A836)","v":"ZZZ"},{"$f":"IF(Liste_pièces!B836=\"\",\"ZZZ\",Liste_pièces!B836)","v":"ZZZ"},{"$f":"IF(Liste_pièces!C836=\"\",\"\",Liste_pièces!C836)","v":""},{"$f":"IF(Liste_pièces!D836=\"\",\"\",Liste_pièces!D836)","v":""},{"$f":"IF(Liste_pièces!E836=\"\",\"\",Liste_pièces!E836)","v":""},{"$f":"IF(Liste_pièces!F836=\"\",\"\",Liste_pièces!F836)","v":""},{"$f":"IF(Liste_pièces!G836=\"\",\"\",Liste_pièces!G836)","v":""},{"$f":"IF(Liste_pièces!H836=\"\",\"\",Liste_pièces!H836)","v":""},{"$f":"IF(Liste_pièces!I836=\"\",\"\",Liste_pièces!I836)","v":""},{"$f":"IF(Liste_pièces!J836=\"\",\"\",Liste_pièces!J836)","v":""},{"$f":"IF(Liste_pièces!K836=\"\",\"\",Liste_pièces!K836)","v":""},{"$f":"IF(Liste_pièces!L836=\"\",\"\",Liste_pièces!L836)","v":""},{"$f":"IF(Liste_pièces!M836=\"\",\"\",Liste_pièces!M836)","v":""},0,1,0]
[{"$f":"IF(Liste_pièces!A837=\"\",\"ZZZ\",Liste_pièces!A837)","v":"ZZZ"},{"$f":"IF(Liste_pièces!B837=\"\",\"ZZZ\",Liste_pièces!B837)","v":"ZZZ"},{"$f":"IF(Liste_pièces!C837=\"\",\"\",Liste_pièces!C837)","v":""},{"$f":"IF(Liste_pièces!D837=\"\",\"\",Liste_pièces!D837)","v":""},{"$f":"IF(Liste_pièces!E837=\"\",\"\",Liste_pièces!E837)","v":""},{"$f":"IF(Liste_pièces!F837=\"\",\"\",Liste_pièces!F837)","v":""},{"$f":"IF(Liste_pièces!G837=\"\",\"\",Liste_pièces!G837)","v":""},{"$f":"IF(Liste_pièces!H837=\"\",\"\",Liste_pièces!H837)","v":""},{"$f":"IF(Liste_pièces!I837=\"\",\"\",Liste_pièces!I837)","v":""},{"$f":"IF(Liste_pièces!J837=\"\",\"\",Liste_pièces!J837)","v":""},{"$f":"IF(Liste_pièces!K837=\"\",\"\",Liste_pièces!K837)","v":""},{"$f":"IF(Liste_pièces!L837=\"\",\"\",Liste_pièces!L837)","v":""},{"$f":"IF(Liste_pièces!M837=\"\",\"\",Liste_pièces!M837)","v":""},0,1,0]
[{"$f":"IF(Liste_pièces!A838=\"\",\"ZZZ\",Liste_pièces!A838)","v":"ZZZ"},{"$f":"IF(Liste_pièces!B838=\"\",\"ZZZ\",Liste_pièces!B838)","v":"ZZZ"},{"$f":"IF(Liste_pièces!C838=\"\",\"\",Liste_pièces!C838)","v":""},{"$f":"IF(Liste_pièces!D838=\"\",\"\",Liste_pièces!D838)","v":""},{"$f":"IF(Liste_pièces!E838=\"\",\"\",Liste_pièces!E838)","v":""},{"$f":"IF(Liste_pièces!F838=\"\",\"\",Liste_pièces!F838)","v":""},{"$f":"IF(Liste_pièces!G838=\"\",\"\",Liste_pièces!G838)","v":""},{"$f":"IF(Liste_pièces!H838=\"\",\"\",Liste_pièces!H838)","v":""},{"$f":"IF(Liste_pièces!I838=\"\",\"\",Liste_pièces!I838)","v":""},{"$f":"IF(Liste_pièces!J838=\"\",\"\",Liste_pièces!J838)","v":""},{"$f":"IF(Liste_pièces!K838=\"\",\"\",Liste_pièces!K838)","v":""},{"$f":"IF(Liste_pièces!L838=\"\",\"\",Liste_pièces!L838)","v":""},{"$f":"IF(Liste_pièces!M838=\"\",\"\",Liste_pièces!M838)","v":""},0,1,0]
[{"$f":"IF(Liste_pièces!A839=\"\",\"ZZZ\",Liste_pièces!A839)","v":"ZZZ"},{"$f":"IF(Liste_pièces!B839=\"\",\"ZZZ\",Liste_pièces!B839)","v":"ZZZ"},{"$f":"IF(Liste_pièces!C839=\"\",\"\",Liste_pièces!C839)","v":""},{"$f":"IF(Liste_pièces!D839=\"\",\"\",Liste_pièces!D839)","v":""},{"$f":"IF(Liste_pièces!E839=\"\",\"\",Liste_pièces!E839)","v":""},{"$f":"IF(Liste_pièces!F839=\"\",\"\",Liste_pièces!F839)","v":""},{"$f":"IF(Liste_pièces!G839=\"\",\"\",Liste_pièces!G839)","v":""},{"$f":"IF(Liste_pièces!H839=\"\",\"\",Liste_pièces!H839)","v":""},{"$f":"IF(Liste_pièces!I839=\"\",\"\",Liste_pièces!I839)","v":""},{"$f":"IF(Liste_pièces!J839=\"\",\"\",Liste_pièces!J839)","v":""},{"$f":"IF(Liste_pièces!K839=\"\",\"\",Liste_pièces!K839)","v":""},{"$f":"IF(Liste_pièces!L839=\"\",\"\",Liste_pièces!L839)","v":""},{"$f":"IF(Liste_pièces!M839=\"\",\"\",Liste_pièces!M839)","v":""},0,1,{"$f":"IF(N839=0,0,IF(N839<>N838,MAX(N839+O838,P838+1),IF(O838=O839,P838,P838+O839)))","v":0}]
[{"$f":"IF(Liste_pièces!A840=\"\",\"ZZZ\",Liste_pièces!A840)","v":"ZZZ"},{"$f":"IF(Liste_pièces!B840=\"\",\"ZZZ\",Liste_pièces!B840)","v":"ZZZ"},{"$f":"IF(Liste_pièces!C840=\"\",\"\",Liste_pièces!C840)","v":""},{"$f":"IF(Liste_pièces!D840=\"\",\"\",Liste_pièces!D840)","v":""},{"$f":"IF(Liste_pièces!E840=\"\",\"\",Liste_pièces!E840)","v":""},{"$f":"IF(Liste_pièces!F840=\"\",\"\",Liste_pièces!F840)","v":""},{"$f":"IF(Liste_pièces!G840=\"\",\"\",Liste_pièces!G840)","v":""},{"$f":"IF(Liste_pièces!H840=\"\",\"\",Liste_pièces!H840)","v":""},{"$f":"IF(Liste_pièces!I840=\"\",\"\",Liste_pièces!I840)","v":""},{"$f":"IF(Liste_pièces!J840=\"\",\"\",Liste_pièces!J840)","v":""},{"$f":"IF(Liste_pièces!K840=\"\",\"\",Liste_pièces!K840)","v":""},{"$f":"IF(Liste_pièces!L840=\"\",\"\",Liste_pièces!L840)","v":""},{"$f":"IF(Liste_pièces!M840=\"\",\"\",Liste_pièces!M840)","v":""},0,1,0]
[{"$f":"IF(Liste_pièces!A841=\"\",\"ZZZ\",Liste_pièces!A841)","v":"ZZZ"},{"$f":"IF(Liste_pièces!B841=\"\",\"ZZZ\",Liste_pièces!B841)","v":"ZZZ"},{"$f":"IF(Liste_pièces!C841=\"\",\"\",Liste_pièces!C841)","v":""},{"$f":"IF(Liste_pièces!D841=\"\",\"\",Liste_pièces!D841)","v":""},{"$f":"IF(Liste_pièces!E841=\"\",\"\",Liste_pièces!E841)","v":""},{"$f":"IF(Liste_pièces!F841=\"\",\"\",Liste_pièces!F841)","v":""},{"$f":"IF(Liste_pièces!G841=\"\",\"\",Liste_pièces!G841)","v":""},{"$f":"IF(Liste_pièces!H841=\"\",\"\",Liste_pièces!H841)","v":""},{"$f":"IF(Liste_pièces!I841=\"\",\"\",Liste_pièces!I841)","v":""},{"$f":"IF(Liste_pièces!J841=\"\",\"\",Liste_pièces!J841)","v":""},{"$f":"IF(Liste_pièces!K841=\"\",\"\",Liste_pièces!K841)","v":""},{"$f":"IF(Liste_pièces!L841=\"\",\"\",Liste_pièces!L841)","v":""},{"$f":"IF(Liste_pièces!M841=\"\",\"\",Liste_pièces!M841)","v":""},0,1,0]
[{"$f":"IF(Liste_pièces!A842=\"\",\"ZZZ\",Liste_pièces!A842)","v":"ZZZ"},{"$f":"IF(Liste_pièces!B842=\"\",\"ZZZ\",Liste_pièces!B842)","v":"ZZZ"},{"$f":"IF(Liste_pièces!C842=\"\",\"\",Liste_pièces!C842)","v":""},{"$f":"IF(Liste_pièces!D842=\"\",\"\",Liste_pièces!D842)","v":""},{"$f":"IF(Liste_pièces!E842=\"\",\"\",Liste_pièces!E842)","v":""},{"$f":"IF(Liste_pièces!F842=\"\",\"\",Liste_pièces!F842)","v":""},{"$f":"IF(Liste_pièces!G842=\"\",\"\",Liste_pièces!G842)","v":""},{"$f":"IF(Liste_pièces!H842=\"\",\"\",Liste_pièces!H842)","v":""},{"$f":"IF(Liste_pièces!I842=\"\",\"\",Liste_pièces!I842)","v":""},{"$f":"IF(Liste_pièces!J842=\"\",\"\",Liste_pièces!J842)","v":""},{"$f":"IF(Liste_pièces!K842=\"\",\"\",Liste_pièces!K842)","v":""},{"$f":"IF(Liste_pièces!L842=\"\",\"\",Liste_pièces!L842)","v":""},{"$f":"IF(Liste_pièces!M842=\"\",\"\",Liste_pièces!M842)","v":""},0,1,0]
[{"$f":"IF(Liste_pièces!A843=\"\",\"ZZZ\",Liste_pièces!A843)","v":"ZZZ"},{"$f":"IF(Liste_pièces!B843=\"\",\"ZZZ\",Liste_pièces!B843)","v":"ZZZ"},{"$f":"IF(Liste_pièces!C843=\"\",\"\",Liste_pièces!C843)","v":""},{"$f":"IF(Liste_pièces!D843=\"\",\"\",Liste_pièces!D843)","v":""},{"$f":"IF(Liste_pièces!E843=\"\",\"\",Liste_pièces!E843)","v":""},{"$f":"IF(Liste_pièces!F843=\"\",\"\",Liste_pièces!F843)","v":""},{"$f":"IF(Liste_pièces!G843=\"\",\"\",Liste_pièces!G843)","v":""},{"$f":"IF(Liste_pièces!H843=\"\",\"\",Liste_pièces!H843)","v":""},{"$f":"IF(Liste_pièces!I843=\"\",\"\",Liste_pièces!I843)","v":""},{"$f":"IF(Liste_pièces!J843=\"\",\"\",Liste_pièces!J843)","v":""},{"$f":"IF(Liste_pièces!K843=\"\",\"\",Liste_pièces!K843)","v":""},{"$f":"IF(Liste_pièces!L843=\"\",\"\",Liste_pièces!L843)","v":""},{"$f":"IF(Liste_pièces!M843=\"\",\"\",Liste_pièces!M843)","v":""},0,1,0]
[{"$f":"IF(Liste_pièces!A844=\"\",\"ZZZ\",Liste_pièces!A844)","v":"ZZZ"},{"$f":"IF(Liste_pièces!B844=\"\",\"ZZZ\",Liste_pièces!B844)","v":"ZZZ"},{"$f":"IF(Liste_pièces!C844=\"\",\"\",Liste_pièces!C844)","v":""},{"$f":"IF(Liste_pièces!D844=\"\",\"\",Liste_pièces!D844)","v":""},{"$f":"IF(Liste_pièces!E844=\"\",\"\",Liste_pièces!E844)","v":""},{"$f":"IF(Liste_pièces!F844=\"\",\"\",Liste_pièces!F844)","v":""},{"$f":"IF(Liste_pièces!G844=\"\",\"\",Liste_pièces!G844)","v":""},{"$f":"IF(Liste_pièces!H844=\"\",\"\",Liste_pièces!H844)","v":""},{"$f":"IF(Liste_pièces!I844=\"\",\"\",Liste_pièces!I844)","v":""},{"$f":"IF(Liste_pièces!J844=\"\",\"\",Liste_pièces!J844)","v":""},{"$f":"IF(Liste_pièces!K844=\"\",\"\",Liste_pièces!K844)","v":""},{"$f":"IF(Liste_pièces!L844=\"\",\"\",Liste_pièces!L844)","v":""},{"$f":"IF(Liste_pièces!M844=\"\",\"\",Liste_pièces!M844)","v":""},0,1,0]
[{"$f":"IF(Liste_pièces!A845=\"\",\"ZZZ\",Liste_pièces!A845)","v":"ZZZ"},{"$f":"IF(Liste_pièces!B845=\"\",\"ZZZ\",Liste_pièces!B845)","v":"ZZZ"},{"$f":"IF(Liste_pièces!C845=\"\",\"\",Liste_pièces!C845)","v":""},{"$f":"IF(Liste_pièces!D845=\"\",\"\",Liste_pièces!D845)","v":""},{"$f":"IF(Liste_pièces!E845=\"\",\"\",Liste_pièces!E845)","v":""},{"$f":"IF(Liste_pièces!F845=\"\",\"\",Liste_pièces!F845)","v":""},{"$f":"IF(Liste_pièces!G845=\"\",\"\",Liste_pièces!G845)","v":""},{"$f":"IF(Liste_pièces!H845=\"\",\"\",Liste_pièces!H845)","v":""},{"$f":"IF(Liste_pièces!I845=\"\",\"\",Liste_pièces!I845)","v":""},{"$f":"IF(Liste_pièces!J845=\"\",\"\",Liste_pièces!J845)","v":""},{"$f":"IF(Liste_pièces!K845=\"\",\"\",Liste_pièces!K845)","v":""},{"$f":"IF(Liste_pièces!L845=\"\",\"\",Liste_pièces!L845)","v":""},{"$f":"IF(Liste_pièces!M845=\"\",\"\",Liste_pièces!M845)","v":""},0,1,0]
[{"$f":"IF(Liste_pièces!A846=\"\",\"ZZZ\",Liste_pièces!A846)","v":"ZZZ"},{"$f":"IF(Liste_pièces!B846=\"\",\"ZZZ\",Liste_pièces!B846)","v":"ZZZ"},{"$f":"IF(Liste_pièces!C846=\"\",\"\",Liste_pièces!C846)","v":""},{"$f":"IF(Liste_pièces!D846=\"\",\"\",Liste_pièces!D846)","v":""},{"$f":"IF(Liste_pièces!E846=\"\",\"\",Liste_pièces!E846)","v":""},{"$f":"IF(Liste_pièces!F846=\"\",\"\",Liste_pièces!F846)","v":""},{"$f":"IF(Liste_pièces!G846=\"\",\"\",Liste_pièces!G846)","v":""},{"$f":"IF(Liste_pièces!H846=\"\",\"\",Liste_pièces!H846)","v":""},{"$f":"IF(Liste_pièces!I846=\"\",\"\",Liste_pièces!I846)","v":""},{"$f":"IF(Liste_pièces!J846=\"\",\"\",Liste_pièces!J846)","v":""},{"$f":"IF(Liste_pièces!K846=\"\",\"\",Liste_pièces!K846)","v":""},{"$f":"IF(Liste_pièces!L846=\"\",\"\",Liste_pièces!L846)","v":""},{"$f":"IF(Liste_pièces!M846=\"\",\"\",Liste_pièces!M846)","v":""},0,1,0]
[{"$f":"IF(Liste_pièces!A847=\"\",\"ZZZ\",Liste_pièces!A847)","v":"ZZZ"},{"$f":"IF(Liste_pièces!B847=\"\",\"ZZZ\",Liste_pièces!B847)","v":"ZZZ"},{"$f":"IF(Liste_pièces!C847=\"\",\"\",Liste_pièces!C847)","v":""},{"$f":"IF(Liste_pièces!D847=\"\",\"\",Liste_pièces!D847)","v":""},{"$f":"IF(Liste_pièces!E847=\"\",\"\",Liste_pièces!E847)","v":""},{"$f":"IF(Liste_pièces!F847=\"\",\"\",Liste_pièces!F847)","v":""},{"$f":"IF(Liste_pièces!G847=\"\",\"\",Liste_pièces!G847)","v":""},{"$f":"IF(Liste_pièces!H847=\"\",\"\",Liste_pièces!H847)","v":""},{"$f":"IF(Liste_pièces!I847=\"\",\"\",Liste_pièces!I847)","v":""},{"$f":"IF(Liste_pièces!J847=\"\",\"\",Liste_pièces!J847)","v":""},{"$f":"IF(Liste_pièces!K847=\"\",\"\",Liste_pièces!K847)","v":""},{"$f":"IF(Liste_pièces!L847=\"\",\"\",Liste_pièces!L847)","v":""},{"$f":"IF(Liste_pièces!M847=\"\",\"\",Liste_pièces!M847)","v":""},0,1,0]
[{"$f":"IF(Liste_pièces!A848=\"\",\"ZZZ\",Liste_pièces!A848)","v":"ZZZ"},{"$f":"IF(Liste_pièces!B848=\"\",\"ZZZ\",Liste_pièces!B848)","v":"ZZZ"},{"$f":"IF(Liste_pièces!C848=\"\",\"\",Liste_pièces!C848)","v":""},{"$f":"IF(Liste_pièces!D848=\"\",\"\",Liste_pièces!D848)","v":""},{"$f":"IF(Liste_pièces!E848=\"\",\"\",Liste_pièces!E848)","v":""},{"$f":"IF(Liste_pièces!F848=\"\",\"\",Liste_pièces!F848)","v":""},{"$f":"IF(Liste_pièces!G848=\"\",\"\",Liste_pièces!G848)","v":""},{"$f":"IF(Liste_pièces!H848=\"\",\"\",Liste_pièces!H848)","v":""},{"$f":"IF(Liste_pièces!I848=\"\",\"\",Liste_pièces!I848)","v":""},{"$f":"IF(Liste_pièces!J848=\"\",\"\",Liste_pièces!J848)","v":""},{"$f":"IF(Liste_pièces!K848=\"\",\"\",Liste_pièces!K848)","v":""},{"$f":"IF(Liste_pièces!L848=\"\",\"\",Liste_pièces!L848)","v":""},{"$f":"IF(Liste_pièces!M848=\"\",\"\",Liste_pièces!M848)","v":""},0,1,0]
[{"$f":"IF(Liste_pièces!A849=\"\",\"ZZZ\",Liste_pièces!A849)","v":"ZZZ"},{"$f":"IF(Liste_pièces!B849=\"\",\"ZZZ\",Liste_pièces!B849)","v":"ZZZ"},{"$f":"IF(Liste_pièces!C849=\"\",\"\",Liste_pièces!C849)","v":""},{"$f":"IF(Liste_pièces!D849=\"\",\"\",Liste_pièces!D849)","v":""},{"$f":"IF(Liste_pièces!E849=\"\",\"\",Liste_pièces!E849)","v":""},{"$f":"IF(Liste_pièces!F849=\"\",\"\",Liste_pièces!F849)","v":""},{"$f":"IF(Liste_pièces!G849=\"\",\"\",Liste_pièces!G849)","v":""},{"$f":"IF(Liste_pièces!H849=\"\",\"\",Liste_pièces!H849)","v":""},{"$f":"IF(Liste_pièces!I849=\"\",\"\",Liste_pièces!I849)","v":""},{"$f":"IF(Liste_pièces!J849=\"\",\"\",Liste_pièces!J849)","v":""},{"$f":"IF(Liste_pièces!K849=\"\",\"\",Liste_pièces!K849)","v":""},{"$f":"IF(Liste_pièces!L849=\"\",\"\",Liste_pièces!L849)","v":""},{"$f":"IF(Liste_pièces!M849=\"\",\"\",Liste_pièces!M849)","v":""},0,1,0]
[{"$f":"IF(Liste_pièces!A850=\"\",\"ZZZ\",Liste_pièces!A850)","v":"ZZZ"},{"$f":"IF(Liste_pièces!B850=\"\",\"ZZZ\",Liste_pièces!B850)","v":"ZZZ"},{"$f":"IF(Liste_pièces!C850=\"\",\"\",Liste_pièces!C850)","v":""},{"$f":"IF(Liste_pièces!D850=\"\",\"\",Liste_pièces!D850)","v":""},{"$f":"IF(Liste_pièces!E850=\"\",\"\",Liste_pièces!E850)","v":""},{"$f":"IF(Liste_pièces!F850=\"\",\"\",Liste_pièces!F850)","v":""},{"$f":"IF(Liste_pièces!G850=\"\",\"\",Liste_pièces!G850)","v":""},{"$f":"IF(Liste_pièces!H850=\"\",\"\",Liste_pièces!H850)","v":""},{"$f":"IF(Liste_pièces!I850=\"\",\"\",Liste_pièces!I850)","v":""},{"$f":"IF(Liste_pièces!J850=\"\",\"\",Liste_pièces!J850)","v":""},{"$f":"IF(Liste_pièces!K850=\"\",\"\",Liste_pièces!K850)","v":""},{"$f":"IF(Liste_pièces!L850=\"\",\"\",Liste_pièces!L850)","v":""},{"$f":"IF(Liste_pièces!M850=\"\",\"\",Liste_pièces!M850)","v":""},0,1,0]
[{"$f":"IF(Liste_pièces!A851=\"\",\"ZZZ\",Liste_pièces!A851)","v":"ZZZ"},{"$f":"IF(Liste_pièces!B851=\"\",\"ZZZ\",Liste_pièces!B851)","v":"ZZZ"},{"$f":"IF(Liste_pièces!C851=\"\",\"\",Liste_pièces!C851)","v":""},{"$f":"IF(Liste_pièces!D851=\"\",\"\",Liste_pièces!D851)","v":""},{"$f":"IF(Liste_pièces!E851=\"\",\"\",Liste_pièces!E851)","v":""},{"$f":"IF(Liste_pièces!F851=\"\",\"\",Liste_pièces!F851)","v":""},{"$f":"IF(Liste_pièces!G851=\"\",\"\",Liste_pièces!G851)","v":""},{"$f":"IF(Liste_pièces!H851=\"\",\"\",Liste_pièces!H851)","v":""},{"$f":"IF(Liste_pièces!I851=\"\",\"\",Liste_pièces!I851)","v":""},{"$f":"IF(Liste_pièces!J851=\"\",\"\",Liste_pièces!J851)","v":""},{"$f":"IF(Liste_pièces!K851=\"\",\"\",Liste_pièces!K851)","v":""},{"$f":"IF(Liste_pièces!L851=\"\",\"\",Liste_pièces!L851)","v":""},{"$f":"IF(Liste_pièces!M851=\"\",\"\",Liste_pièces!M851)","v":""},0,1,0]
[{"$f":"IF(Liste_pièces!A852=\"\",\"ZZZ\",Liste_pièces!A852)","v":"ZZZ"},{"$f":"IF(Liste_pièces!B852=\"\",\"ZZZ\",Liste_pièces!B852)","v":"ZZZ"},{"$f":"IF(Liste_pièces!C852=\"\",\"\",Liste_pièces!C852)","v":""},{"$f":"IF(Liste_pièces!D852=\"\",\"\",Liste_pièces!D852)","v":""},{"$f":"IF(Liste_pièces!E852=\"\",\"\",Liste_pièces!E852)","v":""},{"$f":"IF(Liste_pièces!F852=\"\",\"\",Liste_pièces!F852)","v":""},{"$f":"IF(Liste_pièces!G852=\"\",\"\",Liste_pièces!G852)","v":""},{"$f":"IF(Liste_pièces!H852=\"\",\"\",Liste_pièces!H852)","v":""},{"$f":"IF(Liste_pièces!I852=\"\",\"\",Liste_pièces!I852)","v":""},{"$f":"IF(Liste_pièces!J852=\"\",\"\",Liste_pièces!J852)","v":""},{"$f":"IF(Liste_pièces!K852=\"\",\"\",Liste_pièces!K852)","v":""},{"$f":"IF(Liste_pièces!L852=\"\",\"\",Liste_pièces!L852)","v":""},{"$f":"IF(Liste_pièces!M852=\"\",\"\",Liste_pièces!M852)","v":""},0,1,0]
[{"$f":"IF(Liste_pièces!A853=\"\",\"ZZZ\",Liste_pièces!A853)","v":"ZZZ"},{"$f":"IF(Liste_pièces!B853=\"\",\"ZZZ\",Liste_pièces!B853)","v":"ZZZ"},{"$f":"IF(Liste_pièces!C853=\"\",\"\",Liste_pièces!C853)","v":""},{"$f":"IF(Liste_pièces!D853=\"\",\"\",Liste_pièces!D853)","v":""},{"$f":"IF(Liste_pièces!E853=\"\",\"\",Liste_pièces!E853)","v":""},{"$f":"IF(Liste_pièces!F853=\"\",\"\",Liste_pièces!F853)","v":""},{"$f":"IF(Liste_pièces!G853=\"\",\"\",Liste_pièces!G853)","v":""},{"$f":"IF(Liste_pièces!H853=\"\",\"\",Liste_pièces!H853)","v":""},{"$f":"IF(Liste_pièces!I853=\"\",\"\",Liste_pièces!I853)","v":""},{"$f":"IF(Liste_pièces!J853=\"\",\"\",Liste_pièces!J853)","v":""},{"$f":"IF(Liste_pièces!K853=\"\",\"\",Liste_pièces!K853)","v":""},{"$f":"IF(Liste_pièces!L853=\"\",\"\",Liste_pièces!L853)","v":""},{"$f":"IF(Liste_pièces!M853=\"\",\"\",Liste_pièces!M853)","v":""},0,1,0]
[{"$f":"IF(Liste_pièces!A854=\"\",\"ZZZ\",Liste_pièces!A854)","v":"ZZZ"},{"$f":"IF(Liste_pièces!B854=\"\",\"ZZZ\",Liste_pièces!B854)","v":"ZZZ"},{"$f":"IF(Liste_pièces!C854=\"\",\"\",Liste_pièces!C854)","v":""},{"$f":"IF(Liste_pièces!D854=\"\",\"\",Liste_pièces!D854)","v":""},{"$f":"IF(Liste_pièces!E854=\"\",\"\",Liste_pièces!E854)","v":""},{"$f":"IF(Liste_pièces!F854=\"\",\"\",Liste_pièces!F854)","v":""},{"$f":"IF(Liste_pièces!G854=\"\",\"\",Liste_pièces!G854)","v":""},{"$f":"IF(Liste_pièces!H854=\"\",\"\",Liste_pièces!H854)","v":""},{"$f":"IF(Liste_pièces!I854=\"\",\"\",Liste_pièces!I854)","v":""},{"$f":"IF(Liste_pièces!J854=\"\",\"\",Liste_pièces!J854)","v":""},{"$f":"IF(Liste_pièces!K854=\"\",\"\",Liste_pièces!K854)","v":""},{"$f":"IF(Liste_pièces!L854=\"\",\"\",Liste_pièces!L854)","v":""},{"$f":"IF(Liste_pièces!M854=\"\",\"\",Liste_pièces!M854)","v":""},0,1,0]
[{"$f":"IF(Liste_pièces!A855=\"\",\"ZZZ\",Liste_pièces!A855)","v":"ZZZ"},{"$f":"IF(Liste_pièces!B855=\"\",\"ZZZ\",Liste_pièces!B855)","v":"ZZZ"},{"$f":"IF(Liste_pièces!C855=\"\",\"\",Liste_pièces!C855)","v":""},{"$f":"IF(Liste_pièces!D855=\"\",\"\",Liste_pièces!D855)","v":""},{"$f":"IF(Liste_pièces!E855=\"\",\"\",Liste_pièces!E855)","v":""},{"$f":"IF(Liste_pièces!F855=\"\",\"\",Liste_pièces!F855)","v":""},{"$f":"IF(Liste_pièces!G855=\"\",\"\",Liste_pièces!G855)","v":""},{"$f":"IF(Liste_pièces!H855=\"\",\"\",Liste_pièces!H855)","v":""},{"$f":"IF(Liste_pièces!I855=\"\",\"\",Liste_pièces!I855)","v":""},{"$f":"IF(Liste_pièces!J855=\"\",\"\",Liste_pièces!J855)","v":""},{"$f":"IF(Liste_pièces!K855=\"\",\"\",Liste_pièces!K855)","v":""},{"$f":"IF(Liste_pièces!L855=\"\",\"\",Liste_pièces!L855)","v":""},{"$f":"IF(Liste_pièces!M855=\"\",\"\",Liste_pièces!M855)","v":""},0,1,0]
[{"$f":"IF(Liste_pièces!A856=\"\",\"ZZZ\",Liste_pièces!A856)","v":"ZZZ"},{"$f":"IF(Liste_pièces!B856=\"\",\"ZZZ\",Liste_pièces!B856)","v":"ZZZ"},{"$f":"IF(Liste_pièces!C856=\"\",\"\",Liste_pièces!C856)","v":""},{"$f":"IF(Liste_pièces!D856=\"\",\"\",Liste_pièces!D856)","v":""},{"$f":"IF(Liste_pièces!E856=\"\",\"\",Liste_pièces!E856)","v":""},{"$f":"IF(Liste_pièces!F856=\"\",\"\",Liste_pièces!F856)","v":""},{"$f":"IF(Liste_pièces!G856=\"\",\"\",Liste_pièces!G856)","v":""},{"$f":"IF(Liste_pièces!H856=\"\",\"\",Liste_pièces!H856)","v":""},{"$f":"IF(Liste_pièces!I856=\"\",\"\",Liste_pièces!I856)","v":""},{"$f":"IF(Liste_pièces!J856=\"\",\"\",Liste_pièces!J856)","v":""},{"$f":"IF(Liste_pièces!K856=\"\",\"\",Liste_pièces!K856)","v":""},{"$f":"IF(Liste_pièces!L856=\"\",\"\",Liste_pièces!L856)","v":""},{"$f":"IF(Liste_pièces!M856=\"\",\"\",Liste_pièces!M856)","v":""},0,1,0]
[{"$f":"IF(Liste_pièces!A857=\"\",\"ZZZ\",Liste_pièces!A857)","v":"ZZZ"},{"$f":"IF(Liste_pièces!B857=\"\",\"ZZZ\",Liste_pièces!B857)","v":"ZZZ"},{"$f":"IF(Liste_pièces!C857=\"\",\"\",Liste_pièces!C857)","v":""},{"$f":"IF(Liste_pièces!D857=\"\",\"\",Liste_pièces!D857)","v":""},{"$f":"IF(Liste_pièces!E857=\"\",\"\",Liste_pièces!E857)","v":""},{"$f":"IF(Liste_pièces!F857=\"\",\"\",Liste_pièces!F857)","v":""},{"$f":"IF(Liste_pièces!G857=\"\",\"\",Liste_pièces!G857)","v":""},{"$f":"IF(Liste_pièces!H857=\"\",\"\",Liste_pièces!H857)","v":""},{"$f":"IF(Liste_pièces!I857=\"\",\"\",Liste_pièces!I857)","v":""},{"$f":"IF(Liste_pièces!J857=\"\",\"\",Liste_pièces!J857)","v":""},{"$f":"IF(Liste_pièces!K857=\"\",\"\",Liste_pièces!K857)","v":""},{"$f":"IF(Liste_pièces!L857=\"\",\"\",Liste_pièces!L857)","v":""},{"$f":"IF(Liste_pièces!M857=\"\",\"\",Liste_pièces!M857)","v":""},0,1,0]
[{"$f":"IF(Liste_pièces!A858=\"\",\"ZZZ\",Liste_pièces!A858)","v":"ZZZ"},{"$f":"IF(Liste_pièces!B858=\"\",\"ZZZ\",Liste_pièces!B858)","v":"ZZZ"},{"$f":"IF(Liste_pièces!C858=\"\",\"\",Liste_pièces!C858)","v":""},{"$f":"IF(Liste_pièces!D858=\"\",\"\",Liste_pièces!D858)","v":""},{"$f":"IF(Liste_pièces!E858=\"\",\"\",Liste_pièces!E858)","v":""},{"$f":"IF(Liste_pièces!F858=\"\",\"\",Liste_pièces!F858)","v":""},{"$f":"IF(Liste_pièces!G858=\"\",\"\",Liste_pièces!G858)","v":""},{"$f":"IF(Liste_pièces!H858=\"\",\"\",Liste_pièces!H858)","v":""},{"$f":"IF(Liste_pièces!I858=\"\",\"\",Liste_pièces!I858)","v":""},{"$f":"IF(Liste_pièces!J858=\"\",\"\",Liste_pièces!J858)","v":""},{"$f":"IF(Liste_pièces!K858=\"\",\"\",Liste_pièces!K858)","v":""},{"$f":"IF(Liste_pièces!L858=\"\",\"\",Liste_pièces!L858)","v":""},{"$f":"IF(Liste_pièces!M858=\"\",\"\",Liste_pièces!M858)","v":""},0,1,0]
[{"$f":"IF(Liste_pièces!A859=\"\",\"ZZZ\",Liste_pièces!A859)","v":"ZZZ"},{"$f":"IF(Liste_pièces!B859=\"\",\"ZZZ\",Liste_pièces!B859)","v":"ZZZ"},{"$f":"IF(Liste_pièces!C859=\"\",\"\",Liste_pièces!C859)","v":""},{"$f":"IF(Liste_pièces!D859=\"\",\"\",Liste_pièces!D859)","v":""},{"$f":"IF(Liste_pièces!E859=\"\",\"\",Liste_pièces!E859)","v":""},{"$f":"IF(Liste_pièces!F859=\"\",\"\",Liste_pièces!F859)","v":""},{"$f":"IF(Liste_pièces!G859=\"\",\"\",Liste_pièces!G859)","v":""},{"$f":"IF(Liste_pièces!H859=\"\",\"\",Liste_pièces!H859)","v":""},{"$f":"IF(Liste_pièces!I859=\"\",\"\",Liste_pièces!I859)","v":""},{"$f":"IF(Liste_pièces!J859=\"\",\"\",Liste_pièces!J859)","v":""},{"$f":"IF(Liste_pièces!K859=\"\",\"\",Liste_pièces!K859)","v":""},{"$f":"IF(Liste_pièces!L859=\"\",\"\",Liste_pièces!L859)","v":""},{"$f":"IF(Liste_pièces!M859=\"\",\"\",Liste_pièces!M859)","v":""},0,1,0]
[{"$f":"IF(Liste_pièces!A860=\"\",\"ZZZ\",Liste_pièces!A860)","v":"ZZZ"},{"$f":"IF(Liste_pièces!B860=\"\",\"ZZZ\",Liste_pièces!B860)","v":"ZZZ"},{"$f":"IF(Liste_pièces!C860=\"\",\"\",Liste_pièces!C860)","v":""},{"$f":"IF(Liste_pièces!D860=\"\",\"\",Liste_pièces!D860)","v":""},{"$f":"IF(Liste_pièces!E860=\"\",\"\",Liste_pièces!E860)","v":""},{"$f":"IF(Liste_pièces!F860=\"\",\"\",Liste_pièces!F860)","v":""},{"$f":"IF(Liste_pièces!G860=\"\",\"\",Liste_pièces!G860)","v":""},{"$f":"IF(Liste_pièces!H860=\"\",\"\",Liste_pièces!H860)","v":""},{"$f":"IF(Liste_pièces!I860=\"\",\"\",Liste_pièces!I860)","v":""},{"$f":"IF(Liste_pièces!J860=\"\",\"\",Liste_pièces!J860)","v":""},{"$f":"IF(Liste_pièces!K860=\"\",\"\",Liste_pièces!K860)","v":""},{"$f":"IF(Liste_pièces!L860=\"\",\"\",Liste_pièces!L860)","v":""},{"$f":"IF(Liste_pièces!M860=\"\",\"\",Liste_pièces!M860)","v":""},0,1,0]
[{"$f":"IF(Liste_pièces!A861=\"\",\"ZZZ\",Liste_pièces!A861)","v":"ZZZ"},{"$f":"IF(Liste_pièces!B861=\"\",\"ZZZ\",Liste_pièces!B861)","v":"ZZZ"},{"$f":"IF(Liste_pièces!C861=\"\",\"\",Liste_pièces!C861)","v":""},{"$f":"IF(Liste_pièces!D861=\"\",\"\",Liste_pièces!D861)","v":""},{"$f":"IF(Liste_pièces!E861=\"\",\"\",Liste_pièces!E861)","v":""},{"$f":"IF(Liste_pièces!F861=\"\",\"\",Liste_pièces!F861)","v":""},{"$f":"IF(Liste_pièces!G861=\"\",\"\",Liste_pièces!G861)","v":""},{"$f":"IF(Liste_pièces!H861=\"\",\"\",Liste_pièces!H861)","v":""},{"$f":"IF(Liste_pièces!I861=\"\",\"\",Liste_pièces!I861)","v":""},{"$f":"IF(Liste_pièces!J861=\"\",\"\",Liste_pièces!J861)","v":""},{"$f":"IF(Liste_pièces!K861=\"\",\"\",Liste_pièces!K861)","v":""},{"$f":"IF(Liste_pièces!L861=\"\",\"\",Liste_pièces!L861)","v":""},{"$f":"IF(Liste_pièces!M861=\"\",\"\",Liste_pièces!M861)","v":""},0,1,0]
[{"$f":"IF(Liste_pièces!A862=\"\",\"ZZZ\",Liste_pièces!A862)","v":"ZZZ"},{"$f":"IF(Liste_pièces!B862=\"\",\"ZZZ\",Liste_pièces!B862)","v":"ZZZ"},{"$f":"IF(Liste_pièces!C862=\"\",\"\",Liste_pièces!C862)","v":""},{"$f":"IF(Liste_pièces!D862=\"\",\"\",Liste_pièces!D862)","v":""},{"$f":"IF(Liste_pièces!E862=\"\",\"\",Liste_pièces!E862)","v":""},{"$f":"IF(Liste_pièces!F862=\"\",\"\",Liste_pièces!F862)","v":""},{"$f":"IF(Liste_pièces!G862=\"\",\"\",Liste_pièces!G862)","v":""},{"$f":"IF(Liste_pièces!H862=\"\",\"\",Liste_pièces!H862)","v":""},{"$f":"IF(Liste_pièces!I862=\"\",\"\",Liste_pièces!I862)","v":""},{"$f":"IF(Liste_pièces!J862=\"\",\"\",Liste_pièces!J862)","v":""},{"$f":"IF(Liste_pièces!K862=\"\",\"\",Liste_pièces!K862)","v":""},{"$f":"IF(Liste_pièces!L862=\"\",\"\",Liste_pièces!L862)","v":""},{"$f":"IF(Liste_pièces!M862=\"\",\"\",Liste_pièces!M862)","v":""},0,1,0]
[{"$f":"IF(Liste_pièces!A863=\"\",\"ZZZ\",Liste_pièces!A863)","v":"ZZZ"},{"$f":"IF(Liste_pièces!B863=\"\",\"ZZZ\",Liste_pièces!B863)","v":"ZZZ"},{"$f":"IF(Liste_pièces!C863=\"\",\"\",Liste_pièces!C863)","v":""},{"$f":"IF(Liste_pièces!D863=\"\",\"\",Liste_pièces!D863)","v":""},{"$f":"IF(Liste_pièces!E863=\"\",\"\",Liste_pièces!E863)","v":""},{"$f":"IF(Liste_pièces!F863=\"\",\"\",Liste_pièces!F863)","v":""},{"$f":"IF(Liste_pièces!G863=\"\",\"\",Liste_pièces!G863)","v":""},{"$f":"IF(Liste_pièces!H863=\"\",\"\",Liste_pièces!H863)","v":""},{"$f":"IF(Liste_pièces!I863=\"\",\"\",Liste_pièces!I863)","v":""},{"$f":"IF(Liste_pièces!J863=\"\",\"\",Liste_pièces!J863)","v":""},{"$f":"IF(Liste_pièces!K863=\"\",\"\",Liste_pièces!K863)","v":""},{"$f":"IF(Liste_pièces!L863=\"\",\"\",Liste_pièces!L863)","v":""},{"$f":"IF(Liste_pièces!M863=\"\",\"\",Liste_pièces!M863)","v":""},0,1,0]
[{"$f":"IF(Liste_pièces!A864=\"\",\"ZZZ\",Liste_pièces!A864)","v":"ZZZ"},{"$f":"IF(Liste_pièces!B864=\"\",\"ZZZ\",Liste_pièces!B864)","v":"ZZZ"},{"$f":"IF(Liste_pièces!C864=\"\",\"\",Liste_pièces!C864)","v":""},{"$f":"IF(Liste_pièces!D864=\"\",\"\",Liste_pièces!D864)","v":""},{"$f":"IF(Liste_pièces!E864=\"\",\"\",Liste_pièces!E864)","v":""},{"$f":"IF(Liste_pièces!F864=\"\",\"\",Liste_pièces!F864)","v":""},{"$f":"IF(Liste_pièces!G864=\"\",\"\",Liste_pièces!G864)","v":""},{"$f":"IF(Liste_pièces!H864=\"\",\"\",Liste_pièces!H864)","v":""},{"$f":"IF(Liste_pièces!I864=\"\",\"\",Liste_pièces!I864)","v":""},{"$f":"IF(Liste_pièces!J864=\"\",\"\",Liste_pièces!J864)","v":""},{"$f":"IF(Liste_pièces!K864=\"\",\"\",Liste_pièces!K864)","v":""},{"$f":"IF(Liste_pièces!L864=\"\",\"\",Liste_pièces!L864)","v":""},{"$f":"IF(Liste_pièces!M864=\"\",\"\",Liste_pièces!M864)","v":""},0,1,0]
[{"$f":"IF(Liste_pièces!A865=\"\",\"ZZZ\",Liste_pièces!A865)","v":"ZZZ"},{"$f":"IF(Liste_pièces!B865=\"\",\"ZZZ\",Liste_pièces!B865)","v":"ZZZ"},{"$f":"IF(Liste_pièces!C865=\"\",\"\",Liste_pièces!C865)","v":""},{"$f":"IF(Liste_pièces!D865=\"\",\"\",Liste_pièces!D865)","v":""},{"$f":"IF(Liste_pièces!E865=\"\",\"\",Liste_pièces!E865)","v":""},{"$f":"IF(Liste_pièces!F865=\"\",\"\",Liste_pièces!F865)","v":""},{"$f":"IF(Liste_pièces!G865=\"\",\"\",Liste_pièces!G865)","v":""},{"$f":"IF(Liste_pièces!H865=\"\",\"\",Liste_pièces!H865)","v":""},{"$f":"IF(Liste_pièces!I865=\"\",\"\",Liste_pièces!I865)","v":""},{"$f":"IF(Liste_pièces!J865=\"\",\"\",Liste_pièces!J865)","v":""},{"$f":"IF(Liste_pièces!K865=\"\",\"\",Liste_pièces!K865)","v":""},{"$f":"IF(Liste_pièces!L865=\"\",\"\",Liste_pièces!L865)","v":""},{"$f":"IF(Liste_pièces!M865=\"\",\"\",Liste_pièces!M865)","v":""},0,1,0]
[{"$f":"IF(Liste_pièces!A866=\"\",\"ZZZ\",Liste_pièces!A866)","v":"ZZZ"},{"$f":"IF(Liste_pièces!B866=\"\",\"ZZZ\",Liste_pièces!B866)","v":"ZZZ"},{"$f":"IF(Liste_pièces!C866=\"\",\"\",Liste_pièces!C866)","v":""},{"$f":"IF(Liste_pièces!D866=\"\",\"\",Liste_pièces!D866)","v":""},{"$f":"IF(Liste_pièces!E866=\"\",\"\",Liste_pièces!E866)","v":""},{"$f":"IF(Liste_pièces!F866=\"\",\"\",Liste_pièces!F866)","v":""},{"$f":"IF(Liste_pièces!G866=\"\",\"\",Liste_pièces!G866)","v":""},{"$f":"IF(Liste_pièces!H866=\"\",\"\",Liste_pièces!H866)","v":""},{"$f":"IF(Liste_pièces!I866=\"\",\"\",Liste_pièces!I866)","v":""},{"$f":"IF(Liste_pièces!J866=\"\",\"\",Liste_pièces!J866)","v":""},{"$f":"IF(Liste_pièces!K866=\"\",\"\",Liste_pièces!K866)","v":""},{"$f":"IF(Liste_pièces!L866=\"\",\"\",Liste_pièces!L866)","v":""},{"$f":"IF(Liste_pièces!M866=\"\",\"\",Liste_pièces!M866)","v":""},0,1,0]
[{"$f":"IF(Liste_pièces!A867=\"\",\"ZZZ\",Liste_pièces!A867)","v":"ZZZ"},{"$f":"IF(Liste_pièces!B867=\"\",\"ZZZ\",Liste_pièces!B867)","v":"ZZZ"},{"$f":"IF(Liste_pièces!C867=\"\",\"\",Liste_pièces!C867)","v":""},{"$f":"IF(Liste_pièces!D867=\"\",\"\",Liste_pièces!D867)","v":""},{"$f":"IF(Liste_pièces!E867=\"\",\"\",Liste_pièces!E867)","v":""},{"$f":"IF(Liste_pièces!F867=\"\",\"\",Liste_pièces!F867)","v":""},{"$f":"IF(Liste_pièces!G867=\"\",\"\",Liste_pièces!G867)","v":""},{"$f":"IF(Liste_pièces!H867=\"\",\"\",Liste_pièces!H867)","v":""},{"$f":"IF(Liste_pièces!I867=\"\",\"\",Liste_pièces!I867)","v":""},{"$f":"IF(Liste_pièces!J867=\"\",\"\",Liste_pièces!J867)","v":""},{"$f":"IF(Liste_pièces!K867=\"\",\"\",Liste_pièces!K867)","v":""},{"$f":"IF(Liste_pièces!L867=\"\",\"\",Liste_pièces!L867)","v":""},{"$f":"IF(Liste_pièces!M867=\"\",\"\",Liste_pièces!M867)","v":""},0,1,0]
[{"$f":"IF(Liste_pièces!A868=\"\",\"ZZZ\",Liste_pièces!A868)","v":"ZZZ"},{"$f":"IF(Liste_pièces!B868=\"\",\"ZZZ\",Liste_pièces!B868)","v":"ZZZ"},{"$f":"IF(Liste_pièces!C868=\"\",\"\",Liste_pièces!C868)","v":""},{"$f":"IF(Liste_pièces!D868=\"\",\"\",Liste_pièces!D868)","v":""},{"$f":"IF(Liste_pièces!E868=\"\",\"\",Liste_pièces!E868)","v":""},{"$f":"IF(Liste_pièces!F868=\"\",\"\",Liste_pièces!F868)","v":""},{"$f":"IF(Liste_pièces!G868=\"\",\"\",Liste_pièces!G868)","v":""},{"$f":"IF(Liste_pièces!H868=\"\",\"\",Liste_pièces!H868)","v":""},{"$f":"IF(Liste_pièces!I868=\"\",\"\",Liste_pièces!I868)","v":""},{"$f":"IF(Liste_pièces!J868=\"\",\"\",Liste_pièces!J868)","v":""},{"$f":"IF(Liste_pièces!K868=\"\",\"\",Liste_pièces!K868)","v":""},{"$f":"IF(Liste_pièces!L868=\"\",\"\",Liste_pièces!L868)","v":""},{"$f":"IF(Liste_pièces!M868=\"\",\"\",Liste_pièces!M868)","v":""},0,1,0]
[{"$f":"IF(Liste_pièces!A869=\"\",\"ZZZ\",Liste_pièces!A869)","v":"ZZZ"},{"$f":"IF(Liste_pièces!B869=\"\",\"ZZZ\",Liste_pièces!B869)","v":"ZZZ"},{"$f":"IF(Liste_pièces!C869=\"\",\"\",Liste_pièces!C869)","v":""},{"$f":"IF(Liste_pièces!D869=\"\",\"\",Liste_pièces!D869)","v":""},{"$f":"IF(Liste_pièces!E869=\"\",\"\",Liste_pièces!E869)","v":""},{"$f":"IF(Liste_pièces!F869=\"\",\"\",Liste_pièces!F869)","v":""},{"$f":"IF(Liste_pièces!G869=\"\",\"\",Liste_pièces!G869)","v":""},{"$f":"IF(Liste_pièces!H869=\"\",\"\",Liste_pièces!H869)","v":""},{"$f":"IF(Liste_pièces!I869=\"\",\"\",Liste_pièces!I869)","v":""},{"$f":"IF(Liste_pièces!J869=\"\",\"\",Liste_pièces!J869)","v":""},{"$f":"IF(Liste_pièces!K869=\"\",\"\",Liste_pièces!K869)","v":""},{"$f":"IF(Liste_pièces!L869=\"\",\"\",Liste_pièces!L869)","v":""},{"$f":"IF(Liste_pièces!M869=\"\",\"\",Liste_pièces!M869)","v":""},0,1,0]
[{"$f":"IF(Liste_pièces!A870=\"\",\"ZZZ\",Liste_pièces!A870)","v":"ZZZ"},{"$f":"IF(Liste_pièces!B870=\"\",\"ZZZ\",Liste_pièces!B870)","v":"ZZZ"},{"$f":"IF(Liste_pièces!C870=\"\",\"\",Liste_pièces!C870)","v":""},{"$f":"IF(Liste_pièces!D870=\"\",\"\",Liste_pièces!D870)","v":""},{"$f":"IF(Liste_pièces!E870=\"\",\"\",Liste_pièces!E870)","v":""},{"$f":"IF(Liste_pièces!F870=\"\",\"\",Liste_pièces!F870)","v":""},{"$f":"IF(Liste_pièces!G870=\"\",\"\",Liste_pièces!G870)","v":""},{"$f":"IF(Liste_pièces!H870=\"\",\"\",Liste_pièces!H870)","v":""},{"$f":"IF(Liste_pièces!I870=\"\",\"\",Liste_pièces!I870)","v":""},{"$f":"IF(Liste_pièces!J870=\"\",\"\",Liste_pièces!J870)","v":""},{"$f":"IF(Liste_pièces!K870=\"\",\"\",Liste_pièces!K870)","v":""},{"$f":"IF(Liste_pièces!L870=\"\",\"\",Liste_pièces!L870)","v":""},{"$f":"IF(Liste_pièces!M870=\"\",\"\",Liste_pièces!M870)","v":""},0,1,0]
[{"$f":"IF(Liste_pièces!A871=\"\",\"ZZZ\",Liste_pièces!A871)","v":"ZZZ"},{"$f":"IF(Liste_pièces!B871=\"\",\"ZZZ\",Liste_pièces!B871)","v":"ZZZ"},{"$f":"IF(Liste_pièces!C871=\"\",\"\",Liste_pièces!C871)","v":""},{"$f":"IF(Liste_pièces!D871=\"\",\"\",Liste_pièces!D871)","v":""},{"$f":"IF(Liste_pièces!E871=\"\",\"\",Liste_pièces!E871)","v":""},{"$f":"IF(Liste_pièces!F871=\"\",\"\",Liste_pièces!F871)","v":""},{"$f":"IF(Liste_pièces!G871=\"\",\"\",Liste_pièces!G871)","v":""},{"$f":"IF(Liste_pièces!H871=\"\",\"\",Liste_pièces!H871)","v":""},{"$f":"IF(Liste_pièces!I871=\"\",\"\",Liste_pièces!I871)","v":""},{"$f":"IF(Liste_pièces!J871=\"\",\"\",Liste_pièces!J871)","v":""},{"$f":"IF(Liste_pièces!K871=\"\",\"\",Liste_pièces!K871)","v":""},{"$f":"IF(Liste_pièces!L871=\"\",\"\",Liste_pièces!L871)","v":""},{"$f":"IF(Liste_pièces!M871=\"\",\"\",Liste_pièces!M871)","v":""},0,1,0]
[{"$f":"IF(Liste_pièces!A872=\"\",\"ZZZ\",Liste_pièces!A872)","v":"ZZZ"},{"$f":"IF(Liste_pièces!B872=\"\",\"ZZZ\",Liste_pièces!B872)","v":"ZZZ"},{"$f":"IF(Liste_pièces!C872=\"\",\"\",Liste_pièces!C872)","v":""},{"$f":"IF(Liste_pièces!D872=\"\",\"\",Liste_pièces!D872)","v":""},{"$f":"IF(Liste_pièces!E872=\"\",\"\",Liste_pièces!E872)","v":""},{"$f":"IF(Liste_pièces!F872=\"\",\"\",Liste_pièces!F872)","v":""},{"$f":"IF(Liste_pièces!G872=\"\",\"\",Liste_pièces!G872)","v":""},{"$f":"IF(Liste_pièces!H872=\"\",\"\",Liste_pièces!H872)","v":""},{"$f":"IF(Liste_pièces!I872=\"\",\"\",Liste_pièces!I872)","v":""},{"$f":"IF(Liste_pièces!J872=\"\",\"\",Liste_pièces!J872)","v":""},{"$f":"IF(Liste_pièces!K872=\"\",\"\",Liste_pièces!K872)","v":""},{"$f":"IF(Liste_pièces!L872=\"\",\"\",Liste_pièces!L872)","v":""},{"$f":"IF(Liste_pièces!M872=\"\",\"\",Liste_pièces!M872)","v":""},0,1,0]
[{"$f":"IF(Liste_pièces!A873=\"\",\"ZZZ\",Liste_pièces!A873)","v":"ZZZ"},{"$f":"IF(Liste_pièces!B873=\"\",\"ZZZ\",Liste_pièces!B873)","v":"ZZZ"},{"$f":"IF(Liste_pièces!C873=\"\",\"\",Liste_pièces!C873)","v":""},{"$f":"IF(Liste_pièces!D873=\"\",\"\",Liste_pièces!D873)","v":""},{"$f":"IF(Liste_pièces!E873=\"\",\"\",Liste_pièces!E873)","v":""},{"$f":"IF(Liste_pièces!F873=\"\",\"\",Liste_pièces!F873)","v":""},{"$f":"IF(Liste_pièces!G873=\"\",\"\",Liste_pièces!G873)","v":""},{"$f":"IF(Liste_pièces!H873=\"\",\"\",Liste_pièces!H873)","v":""},{"$f":"IF(Liste_pièces!I873=\"\",\"\",Liste_pièces!I873)","v":""},{"$f":"IF(Liste_pièces!J873=\"\",\"\",Liste_pièces!J873)","v":""},{"$f":"IF(Liste_pièces!K873=\"\",\"\",Liste_pièces!K873)","v":""},{"$f":"IF(Liste_pièces!L873=\"\",\"\",Liste_pièces!L873)","v":""},{"$f":"IF(Liste_pièces!M873=\"\",\"\",Liste_pièces!M873)","v":""},0,1,0]
[{"$f":"IF(Liste_pièces!A874=\"\",\"ZZZ\",Liste_pièces!A874)","v":"ZZZ"},{"$f":"IF(Liste_pièces!B874=\"\",\"ZZZ\",Liste_pièces!B874)","v":"ZZZ"},{"$f":"IF(Liste_pièces!C874=\"\",\"\",Liste_pièces!C874)","v":""},{"$f":"IF(Liste_pièces!D874=\"\",\"\",Liste_pièces!D874)","v":""},{"$f":"IF(Liste_pièces!E874=\"\",\"\",Liste_pièces!E874)","v":""},{"$f":"IF(Liste_pièces!F874=\"\",\"\",Liste_pièces!F874)","v":""},{"$f":"IF(Liste_pièces!G874=\"\",\"\",Liste_pièces!G874)","v":""},{"$f":"IF(Liste_pièces!H874=\"\",\"\",Liste_pièces!H874)","v":""},{"$f":"IF(Liste_pièces!I874=\"\",\"\",Liste_pièces!I874)","v":""},{"$f":"IF(Liste_pièces!J874=\"\",\"\",Liste_pièces!J874)","v":""},{"$f":"IF(Liste_pièces!K874=\"\",\"\",Liste_pièces!K874)","v":""},{"$f":"IF(Liste_pièces!L874=\"\",\"\",Liste_pièces!L874)","v":""},{"$f":"IF(Liste_pièces!M874=\"\",\"\",Liste_pièces!M874)","v":""},0,{"$f":"IF(N874*37=SUM(N837:N873),1,0)","v":1},0]
[{"$f":"IF(Liste_pièces!A875=\"\",\"ZZZ\",Liste_pièces!A875)","v":"ZZZ"},{"$f":"IF(Liste_pièces!B875=\"\",\"ZZZ\",Liste_pièces!B875)","v":"ZZZ"},{"$f":"IF(Liste_pièces!C875=\"\",\"\",Liste_pièces!C875)","v":""},{"$f":"IF(Liste_pièces!D875=\"\",\"\",Liste_pièces!D875)","v":""},{"$f":"IF(Liste_pièces!E875=\"\",\"\",Liste_pièces!E875)","v":""},{"$f":"IF(Liste_pièces!F875=\"\",\"\",Liste_pièces!F875)","v":""},{"$f":"IF(Liste_pièces!G875=\"\",\"\",Liste_pièces!G875)","v":""},{"$f":"IF(Liste_pièces!H875=\"\",\"\",Liste_pièces!H875)","v":""},{"$f":"IF(Liste_pièces!I875=\"\",\"\",Liste_pièces!I875)","v":""},{"$f":"IF(Liste_pièces!J875=\"\",\"\",Liste_pièces!J875)","v":""},{"$f":"IF(Liste_pièces!K875=\"\",\"\",Liste_pièces!K875)","v":""},{"$f":"IF(Liste_pièces!L875=\"\",\"\",Liste_pièces!L875)","v":""},{"$f":"IF(Liste_pièces!M875=\"\",\"\",Liste_pièces!M875)","v":""},0,1,0]
[{"$f":"IF(Liste_pièces!A876=\"\",\"ZZZ\",Liste_pièces!A876)","v":"ZZZ"},{"$f":"IF(Liste_pièces!B876=\"\",\"ZZZ\",Liste_pièces!B876)","v":"ZZZ"},{"$f":"IF(Liste_pièces!C876=\"\",\"\",Liste_pièces!C876)","v":""},{"$f":"IF(Liste_pièces!D876=\"\",\"\",Liste_pièces!D876)","v":""},{"$f":"IF(Liste_pièces!E876=\"\",\"\",Liste_pièces!E876)","v":""},{"$f":"IF(Liste_pièces!F876=\"\",\"\",Liste_pièces!F876)","v":""},{"$f":"IF(Liste_pièces!G876=\"\",\"\",Liste_pièces!G876)","v":""},{"$f":"IF(Liste_pièces!H876=\"\",\"\",Liste_pièces!H876)","v":""},{"$f":"IF(Liste_pièces!I876=\"\",\"\",Liste_pièces!I876)","v":""},{"$f":"IF(Liste_pièces!J876=\"\",\"\",Liste_pièces!J876)","v":""},{"$f":"IF(Liste_pièces!K876=\"\",\"\",Liste_pièces!K876)","v":""},{"$f":"IF(Liste_pièces!L876=\"\",\"\",Liste_pièces!L876)","v":""},{"$f":"IF(Liste_pièces!M876=\"\",\"\",Liste_pièces!M876)","v":""},0,1,0]
[{"$f":"IF(Liste_pièces!A877=\"\",\"ZZZ\",Liste_pièces!A877)","v":"ZZZ"},{"$f":"IF(Liste_pièces!B877=\"\",\"ZZZ\",Liste_pièces!B877)","v":"ZZZ"},{"$f":"IF(Liste_pièces!C877=\"\",\"\",Liste_pièces!C877)","v":""},{"$f":"IF(Liste_pièces!D877=\"\",\"\",Liste_pièces!D877)","v":""},{"$f":"IF(Liste_pièces!E877=\"\",\"\",Liste_pièces!E877)","v":""},{"$f":"IF(Liste_pièces!F877=\"\",\"\",Liste_pièces!F877)","v":""},{"$f":"IF(Liste_pièces!G877=\"\",\"\",Liste_pièces!G877)","v":""},{"$f":"IF(Liste_pièces!H877=\"\",\"\",Liste_pièces!H877)","v":""},{"$f":"IF(Liste_pièces!I877=\"\",\"\",Liste_pièces!I877)","v":""},{"$f":"IF(Liste_pièces!J877=\"\",\"\",Liste_pièces!J877)","v":""},{"$f":"IF(Liste_pièces!K877=\"\",\"\",Liste_pièces!K877)","v":""},{"$f":"IF(Liste_pièces!L877=\"\",\"\",Liste_pièces!L877)","v":""},{"$f":"IF(Liste_pièces!M877=\"\",\"\",Liste_pièces!M877)","v":""},0,1,0]
[{"$f":"IF(Liste_pièces!A878=\"\",\"ZZZ\",Liste_pièces!A878)","v":"ZZZ"},{"$f":"IF(Liste_pièces!B878=\"\",\"ZZZ\",Liste_pièces!B878)","v":"ZZZ"},{"$f":"IF(Liste_pièces!C878=\"\",\"\",Liste_pièces!C878)","v":""},{"$f":"IF(Liste_pièces!D878=\"\",\"\",Liste_pièces!D878)","v":""},{"$f":"IF(Liste_pièces!E878=\"\",\"\",Liste_pièces!E878)","v":""},{"$f":"IF(Liste_pièces!F878=\"\",\"\",Liste_pièces!F878)","v":""},{"$f":"IF(Liste_pièces!G878=\"\",\"\",Liste_pièces!G878)","v":""},{"$f":"IF(Liste_pièces!H878=\"\",\"\",Liste_pièces!H878)","v":""},{"$f":"IF(Liste_pièces!I878=\"\",\"\",Liste_pièces!I878)","v":""},{"$f":"IF(Liste_pièces!J878=\"\",\"\",Liste_pièces!J878)","v":""},{"$f":"IF(Liste_pièces!K878=\"\",\"\",Liste_pièces!K878)","v":""},{"$f":"IF(Liste_pièces!L878=\"\",\"\",Liste_pièces!L878)","v":""},{"$f":"IF(Liste_pièces!M878=\"\",\"\",Liste_pièces!M878)","v":""},0,1,0]
[{"$f":"IF(Liste_pièces!A879=\"\",\"ZZZ\",Liste_pièces!A879)","v":"ZZZ"},{"$f":"IF(Liste_pièces!B879=\"\",\"ZZZ\",Liste_pièces!B879)","v":"ZZZ"},{"$f":"IF(Liste_pièces!C879=\"\",\"\",Liste_pièces!C879)","v":""},{"$f":"IF(Liste_pièces!D879=\"\",\"\",Liste_pièces!D879)","v":""},{"$f":"IF(Liste_pièces!E879=\"\",\"\",Liste_pièces!E879)","v":""},{"$f":"IF(Liste_pièces!F879=\"\",\"\",Liste_pièces!F879)","v":""},{"$f":"IF(Liste_pièces!G879=\"\",\"\",Liste_pièces!G879)","v":""},{"$f":"IF(Liste_pièces!H879=\"\",\"\",Liste_pièces!H879)","v":""},{"$f":"IF(Liste_pièces!I879=\"\",\"\",Liste_pièces!I879)","v":""},{"$f":"IF(Liste_pièces!J879=\"\",\"\",Liste_pièces!J879)","v":""},{"$f":"IF(Liste_pièces!K879=\"\",\"\",Liste_pièces!K879)","v":""},{"$f":"IF(Liste_pièces!L879=\"\",\"\",Liste_pièces!L879)","v":""},{"$f":"IF(Liste_pièces!M879=\"\",\"\",Liste_pièces!M879)","v":""},0,1,0]
[{"$f":"IF(Liste_pièces!A880=\"\",\"ZZZ\",Liste_pièces!A880)","v":"ZZZ"},{"$f":"IF(Liste_pièces!B880=\"\",\"ZZZ\",Liste_pièces!B880)","v":"ZZZ"},{"$f":"IF(Liste_pièces!C880=\"\",\"\",Liste_pièces!C880)","v":""},{"$f":"IF(Liste_pièces!D880=\"\",\"\",Liste_pièces!D880)","v":""},{"$f":"IF(Liste_pièces!E880=\"\",\"\",Liste_pièces!E880)","v":""},{"$f":"IF(Liste_pièces!F880=\"\",\"\",Liste_pièces!F880)","v":""},{"$f":"IF(Liste_pièces!G880=\"\",\"\",Liste_pièces!G880)","v":""},{"$f":"IF(Liste_pièces!H880=\"\",\"\",Liste_pièces!H880)","v":""},{"$f":"IF(Liste_pièces!I880=\"\",\"\",Liste_pièces!I880)","v":""},{"$f":"IF(Liste_pièces!J880=\"\",\"\",Liste_pièces!J880)","v":""},{"$f":"IF(Liste_pièces!K880=\"\",\"\",Liste_pièces!K880)","v":""},{"$f":"IF(Liste_pièces!L880=\"\",\"\",Liste_pièces!L880)","v":""},{"$f":"IF(Liste_pièces!M880=\"\",\"\",Liste_pièces!M880)","v":""},0,1,0]
[{"$f":"IF(Liste_pièces!A881=\"\",\"ZZZ\",Liste_pièces!A881)","v":"ZZZ"},{"$f":"IF(Liste_pièces!B881=\"\",\"ZZZ\",Liste_pièces!B881)","v":"ZZZ"},{"$f":"IF(Liste_pièces!C881=\"\",\"\",Liste_pièces!C881)","v":""},{"$f":"IF(Liste_pièces!D881=\"\",\"\",Liste_pièces!D881)","v":""},{"$f":"IF(Liste_pièces!E881=\"\",\"\",Liste_pièces!E881)","v":""},{"$f":"IF(Liste_pièces!F881=\"\",\"\",Liste_pièces!F881)","v":""},{"$f":"IF(Liste_pièces!G881=\"\",\"\",Liste_pièces!G881)","v":""},{"$f":"IF(Liste_pièces!H881=\"\",\"\",Liste_pièces!H881)","v":""},{"$f":"IF(Liste_pièces!I881=\"\",\"\",Liste_pièces!I881)","v":""},{"$f":"IF(Liste_pièces!J881=\"\",\"\",Liste_pièces!J881)","v":""},{"$f":"IF(Liste_pièces!K881=\"\",\"\",Liste_pièces!K881)","v":""},{"$f":"IF(Liste_pièces!L881=\"\",\"\",Liste_pièces!L881)","v":""},{"$f":"IF(Liste_pièces!M881=\"\",\"\",Liste_pièces!M881)","v":""},0,1,0]
[{"$f":"IF(Liste_pièces!A882=\"\",\"ZZZ\",Liste_pièces!A882)","v":"ZZZ"},{"$f":"IF(Liste_pièces!B882=\"\",\"ZZZ\",Liste_pièces!B882)","v":"ZZZ"},{"$f":"IF(Liste_pièces!C882=\"\",\"\",Liste_pièces!C882)","v":""},{"$f":"IF(Liste_pièces!D882=\"\",\"\",Liste_pièces!D882)","v":""},{"$f":"IF(Liste_pièces!E882=\"\",\"\",Liste_pièces!E882)","v":""},{"$f":"IF(Liste_pièces!F882=\"\",\"\",Liste_pièces!F882)","v":""},{"$f":"IF(Liste_pièces!G882=\"\",\"\",Liste_pièces!G882)","v":""},{"$f":"IF(Liste_pièces!H882=\"\",\"\",Liste_pièces!H882)","v":""},{"$f":"IF(Liste_pièces!I882=\"\",\"\",Liste_pièces!I882)","v":""},{"$f":"IF(Liste_pièces!J882=\"\",\"\",Liste_pièces!J882)","v":""},{"$f":"IF(Liste_pièces!K882=\"\",\"\",Liste_pièces!K882)","v":""},{"$f":"IF(Liste_pièces!L882=\"\",\"\",Liste_pièces!L882)","v":""},{"$f":"IF(Liste_pièces!M882=\"\",\"\",Liste_pièces!M882)","v":""},0,1,0]
[{"$f":"IF(Liste_pièces!A883=\"\",\"ZZZ\",Liste_pièces!A883)","v":"ZZZ"},{"$f":"IF(Liste_pièces!B883=\"\",\"ZZZ\",Liste_pièces!B883)","v":"ZZZ"},{"$f":"IF(Liste_pièces!C883=\"\",\"\",Liste_pièces!C883)","v":""},{"$f":"IF(Liste_pièces!D883=\"\",\"\",Liste_pièces!D883)","v":""},{"$f":"IF(Liste_pièces!E883=\"\",\"\",Liste_pièces!E883)","v":""},{"$f":"IF(Liste_pièces!F883=\"\",\"\",Liste_pièces!F883)","v":""},{"$f":"IF(Liste_pièces!G883=\"\",\"\",Liste_pièces!G883)","v":""},{"$f":"IF(Liste_pièces!H883=\"\",\"\",Liste_pièces!H883)","v":""},{"$f":"IF(Liste_pièces!I883=\"\",\"\",Liste_pièces!I883)","v":""},{"$f":"IF(Liste_pièces!J883=\"\",\"\",Liste_pièces!J883)","v":""},{"$f":"IF(Liste_pièces!K883=\"\",\"\",Liste_pièces!K883)","v":""},{"$f":"IF(Liste_pièces!L883=\"\",\"\",Liste_pièces!L883)","v":""},{"$f":"IF(Liste_pièces!M883=\"\",\"\",Liste_pièces!M883)","v":""},0,1,0]
[{"$f":"IF(Liste_pièces!A884=\"\",\"ZZZ\",Liste_pièces!A884)","v":"ZZZ"},{"$f":"IF(Liste_pièces!B884=\"\",\"ZZZ\",Liste_pièces!B884)","v":"ZZZ"},{"$f":"IF(Liste_pièces!C884=\"\",\"\",Liste_pièces!C884)","v":""},{"$f":"IF(Liste_pièces!D884=\"\",\"\",Liste_pièces!D884)","v":""},{"$f":"IF(Liste_pièces!E884=\"\",\"\",Liste_pièces!E884)","v":""},{"$f":"IF(Liste_pièces!F884=\"\",\"\",Liste_pièces!F884)","v":""},{"$f":"IF(Liste_pièces!G884=\"\",\"\",Liste_pièces!G884)","v":""},{"$f":"IF(Liste_pièces!H884=\"\",\"\",Liste_pièces!H884)","v":""},{"$f":"IF(Liste_pièces!I884=\"\",\"\",Liste_pièces!I884)","v":""},{"$f":"IF(Liste_pièces!J884=\"\",\"\",Liste_pièces!J884)","v":""},{"$f":"IF(Liste_pièces!K884=\"\",\"\",Liste_pièces!K884)","v":""},{"$f":"IF(Liste_pièces!L884=\"\",\"\",Liste_pièces!L884)","v":""},{"$f":"IF(Liste_pièces!M884=\"\",\"\",Liste_pièces!M884)","v":""},0,1,0]
[{"$f":"IF(Liste_pièces!A885=\"\",\"ZZZ\",Liste_pièces!A885)","v":"ZZZ"},{"$f":"IF(Liste_pièces!B885=\"\",\"ZZZ\",Liste_pièces!B885)","v":"ZZZ"},{"$f":"IF(Liste_pièces!C885=\"\",\"\",Liste_pièces!C885)","v":""},{"$f":"IF(Liste_pièces!D885=\"\",\"\",Liste_pièces!D885)","v":""},{"$f":"IF(Liste_pièces!E885=\"\",\"\",Liste_pièces!E885)","v":""},{"$f":"IF(Liste_pièces!F885=\"\",\"\",Liste_pièces!F885)","v":""},{"$f":"IF(Liste_pièces!G885=\"\",\"\",Liste_pièces!G885)","v":""},{"$f":"IF(Liste_pièces!H885=\"\",\"\",Liste_pièces!H885)","v":""},{"$f":"IF(Liste_pièces!I885=\"\",\"\",Liste_pièces!I885)","v":""},{"$f":"IF(Liste_pièces!J885=\"\",\"\",Liste_pièces!J885)","v":""},{"$f":"IF(Liste_pièces!K885=\"\",\"\",Liste_pièces!K885)","v":""},{"$f":"IF(Liste_pièces!L885=\"\",\"\",Liste_pièces!L885)","v":""},{"$f":"IF(Liste_pièces!M885=\"\",\"\",Liste_pièces!M885)","v":""},0,1,0]
[{"$f":"IF(Liste_pièces!A886=\"\",\"ZZZ\",Liste_pièces!A886)","v":"ZZZ"},{"$f":"IF(Liste_pièces!B886=\"\",\"ZZZ\",Liste_pièces!B886)","v":"ZZZ"},{"$f":"IF(Liste_pièces!C886=\"\",\"\",Liste_pièces!C886)","v":""},{"$f":"IF(Liste_pièces!D886=\"\",\"\",Liste_pièces!D886)","v":""},{"$f":"IF(Liste_pièces!E886=\"\",\"\",Liste_pièces!E886)","v":""},{"$f":"IF(Liste_pièces!F886=\"\",\"\",Liste_pièces!F886)","v":""},{"$f":"IF(Liste_pièces!G886=\"\",\"\",Liste_pièces!G886)","v":""},{"$f":"IF(Liste_pièces!H886=\"\",\"\",Liste_pièces!H886)","v":""},{"$f":"IF(Liste_pièces!I886=\"\",\"\",Liste_pièces!I886)","v":""},{"$f":"IF(Liste_pièces!J886=\"\",\"\",Liste_pièces!J886)","v":""},{"$f":"IF(Liste_pièces!K886=\"\",\"\",Liste_pièces!K886)","v":""},{"$f":"IF(Liste_pièces!L886=\"\",\"\",Liste_pièces!L886)","v":""},{"$f":"IF(Liste_pièces!M886=\"\",\"\",Liste_pièces!M886)","v":""},0,1,0]
[{"$f":"IF(Liste_pièces!A887=\"\",\"ZZZ\",Liste_pièces!A887)","v":"ZZZ"},{"$f":"IF(Liste_pièces!B887=\"\",\"ZZZ\",Liste_pièces!B887)","v":"ZZZ"},{"$f":"IF(Liste_pièces!C887=\"\",\"\",Liste_pièces!C887)","v":""},{"$f":"IF(Liste_pièces!D887=\"\",\"\",Liste_pièces!D887)","v":""},{"$f":"IF(Liste_pièces!E887=\"\",\"\",Liste_pièces!E887)","v":""},{"$f":"IF(Liste_pièces!F887=\"\",\"\",Liste_pièces!F887)","v":""},{"$f":"IF(Liste_pièces!G887=\"\",\"\",Liste_pièces!G887)","v":""},{"$f":"IF(Liste_pièces!H887=\"\",\"\",Liste_pièces!H887)","v":""},{"$f":"IF(Liste_pièces!I887=\"\",\"\",Liste_pièces!I887)","v":""},{"$f":"IF(Liste_pièces!J887=\"\",\"\",Liste_pièces!J887)","v":""},{"$f":"IF(Liste_pièces!K887=\"\",\"\",Liste_pièces!K887)","v":""},{"$f":"IF(Liste_pièces!L887=\"\",\"\",Liste_pièces!L887)","v":""},{"$f":"IF(Liste_pièces!M887=\"\",\"\",Liste_pièces!M887)","v":""},0,1,0]
[{"$f":"IF(Liste_pièces!A888=\"\",\"ZZZ\",Liste_pièces!A888)","v":"ZZZ"},{"$f":"IF(Liste_pièces!B888=\"\",\"ZZZ\",Liste_pièces!B888)","v":"ZZZ"},{"$f":"IF(Liste_pièces!C888=\"\",\"\",Liste_pièces!C888)","v":""},{"$f":"IF(Liste_pièces!D888=\"\",\"\",Liste_pièces!D888)","v":""},{"$f":"IF(Liste_pièces!E888=\"\",\"\",Liste_pièces!E888)","v":""},{"$f":"IF(Liste_pièces!F888=\"\",\"\",Liste_pièces!F888)","v":""},{"$f":"IF(Liste_pièces!G888=\"\",\"\",Liste_pièces!G888)","v":""},{"$f":"IF(Liste_pièces!H888=\"\",\"\",Liste_pièces!H888)","v":""},{"$f":"IF(Liste_pièces!I888=\"\",\"\",Liste_pièces!I888)","v":""},{"$f":"IF(Liste_pièces!J888=\"\",\"\",Liste_pièces!J888)","v":""},{"$f":"IF(Liste_pièces!K888=\"\",\"\",Liste_pièces!K888)","v":""},{"$f":"IF(Liste_pièces!L888=\"\",\"\",Liste_pièces!L888)","v":""},{"$f":"IF(Liste_pièces!M888=\"\",\"\",Liste_pièces!M888)","v":""},0,1,0]
[{"$f":"IF(Liste_pièces!A889=\"\",\"ZZZ\",Liste_pièces!A889)","v":"ZZZ"},{"$f":"IF(Liste_pièces!B889=\"\",\"ZZZ\",Liste_pièces!B889)","v":"ZZZ"},{"$f":"IF(Liste_pièces!C889=\"\",\"\",Liste_pièces!C889)","v":""},{"$f":"IF(Liste_pièces!D889=\"\",\"\",Liste_pièces!D889)","v":""},{"$f":"IF(Liste_pièces!E889=\"\",\"\",Liste_pièces!E889)","v":""},{"$f":"IF(Liste_pièces!F889=\"\",\"\",Liste_pièces!F889)","v":""},{"$f":"IF(Liste_pièces!G889=\"\",\"\",Liste_pièces!G889)","v":""},{"$f":"IF(Liste_pièces!H889=\"\",\"\",Liste_pièces!H889)","v":""},{"$f":"IF(Liste_pièces!I889=\"\",\"\",Liste_pièces!I889)","v":""},{"$f":"IF(Liste_pièces!J889=\"\",\"\",Liste_pièces!J889)","v":""},{"$f":"IF(Liste_pièces!K889=\"\",\"\",Liste_pièces!K889)","v":""},{"$f":"IF(Liste_pièces!L889=\"\",\"\",Liste_pièces!L889)","v":""},{"$f":"IF(Liste_pièces!M889=\"\",\"\",Liste_pièces!M889)","v":""},0,1,0]
[{"$f":"IF(Liste_pièces!A890=\"\",\"ZZZ\",Liste_pièces!A890)","v":"ZZZ"},{"$f":"IF(Liste_pièces!B890=\"\",\"ZZZ\",Liste_pièces!B890)","v":"ZZZ"},{"$f":"IF(Liste_pièces!C890=\"\",\"\",Liste_pièces!C890)","v":""},{"$f":"IF(Liste_pièces!D890=\"\",\"\",Liste_pièces!D890)","v":""},{"$f":"IF(Liste_pièces!E890=\"\",\"\",Liste_pièces!E890)","v":""},{"$f":"IF(Liste_pièces!F890=\"\",\"\",Liste_pièces!F890)","v":""},{"$f":"IF(Liste_pièces!G890=\"\",\"\",Liste_pièces!G890)","v":""},{"$f":"IF(Liste_pièces!H890=\"\",\"\",Liste_pièces!H890)","v":""},{"$f":"IF(Liste_pièces!I890=\"\",\"\",Liste_pièces!I890)","v":""},{"$f":"IF(Liste_pièces!J890=\"\",\"\",Liste_pièces!J890)","v":""},{"$f":"IF(Liste_pièces!K890=\"\",\"\",Liste_pièces!K890)","v":""},{"$f":"IF(Liste_pièces!L890=\"\",\"\",Liste_pièces!L890)","v":""},{"$f":"IF(Liste_pièces!M890=\"\",\"\",Liste_pièces!M890)","v":""},0,1,0]
[{"$f":"IF(Liste_pièces!A891=\"\",\"ZZZ\",Liste_pièces!A891)","v":"ZZZ"},{"$f":"IF(Liste_pièces!B891=\"\",\"ZZZ\",Liste_pièces!B891)","v":"ZZZ"},{"$f":"IF(Liste_pièces!C891=\"\",\"\",Liste_pièces!C891)","v":""},{"$f":"IF(Liste_pièces!D891=\"\",\"\",Liste_pièces!D891)","v":""},{"$f":"IF(Liste_pièces!E891=\"\",\"\",Liste_pièces!E891)","v":""},{"$f":"IF(Liste_pièces!F891=\"\",\"\",Liste_pièces!F891)","v":""},{"$f":"IF(Liste_pièces!G891=\"\",\"\",Liste_pièces!G891)","v":""},{"$f":"IF(Liste_pièces!H891=\"\",\"\",Liste_pièces!H891)","v":""},{"$f":"IF(Liste_pièces!I891=\"\",\"\",Liste_pièces!I891)","v":""},{"$f":"IF(Liste_pièces!J891=\"\",\"\",Liste_pièces!J891)","v":""},{"$f":"IF(Liste_pièces!K891=\"\",\"\",Liste_pièces!K891)","v":""},{"$f":"IF(Liste_pièces!L891=\"\",\"\",Liste_pièces!L891)","v":""},{"$f":"IF(Liste_pièces!M891=\"\",\"\",Liste_pièces!M891)","v":""},0,1,0]
[{"$f":"IF(Liste_pièces!A892=\"\",\"ZZZ\",Liste_pièces!A892)","v":"ZZZ"},{"$f":"IF(Liste_pièces!B892=\"\",\"ZZZ\",Liste_pièces!B892)","v":"ZZZ"},{"$f":"IF(Liste_pièces!C892=\"\",\"\",Liste_pièces!C892)","v":""},{"$f":"IF(Liste_pièces!D892=\"\",\"\",Liste_pièces!D892)","v":""},{"$f":"IF(Liste_pièces!E892=\"\",\"\",Liste_pièces!E892)","v":""},{"$f":"IF(Liste_pièces!F892=\"\",\"\",Liste_pièces!F892)","v":""},{"$f":"IF(Liste_pièces!G892=\"\",\"\",Liste_pièces!G892)","v":""},{"$f":"IF(Liste_pièces!H892=\"\",\"\",Liste_pièces!H892)","v":""},{"$f":"IF(Liste_pièces!I892=\"\",\"\",Liste_pièces!I892)","v":""},{"$f":"IF(Liste_pièces!J892=\"\",\"\",Liste_pièces!J892)","v":""},{"$f":"IF(Liste_pièces!K892=\"\",\"\",Liste_pièces!K892)","v":""},{"$f":"IF(Liste_pièces!L892=\"\",\"\",Liste_pièces!L892)","v":""},{"$f":"IF(Liste_pièces!M892=\"\",\"\",Liste_pièces!M892)","v":""},0,1,0]
[{"$f":"IF(Liste_pièces!A893=\"\",\"ZZZ\",Liste_pièces!A893)","v":"ZZZ"},{"$f":"IF(Liste_pièces!B893=\"\",\"ZZZ\",Liste_pièces!B893)","v":"ZZZ"},{"$f":"IF(Liste_pièces!C893=\"\",\"\",Liste_pièces!C893)","v":""},{"$f":"IF(Liste_pièces!D893=\"\",\"\",Liste_pièces!D893)","v":""},{"$f":"IF(Liste_pièces!E893=\"\",\"\",Liste_pièces!E893)","v":""},{"$f":"IF(Liste_pièces!F893=\"\",\"\",Liste_pièces!F893)","v":""},{"$f":"IF(Liste_pièces!G893=\"\",\"\",Liste_pièces!G893)","v":""},{"$f":"IF(Liste_pièces!H893=\"\",\"\",Liste_pièces!H893)","v":""},{"$f":"IF(Liste_pièces!I893=\"\",\"\",Liste_pièces!I893)","v":""},{"$f":"IF(Liste_pièces!J893=\"\",\"\",Liste_pièces!J893)","v":""},{"$f":"IF(Liste_pièces!K893=\"\",\"\",Liste_pièces!K893)","v":""},{"$f":"IF(Liste_pièces!L893=\"\",\"\",Liste_pièces!L893)","v":""},{"$f":"IF(Liste_pièces!M893=\"\",\"\",Liste_pièces!M893)","v":""},0,1,0]
[{"$f":"IF(Liste_pièces!A894=\"\",\"ZZZ\",Liste_pièces!A894)","v":"ZZZ"},{"$f":"IF(Liste_pièces!B894=\"\",\"ZZZ\",Liste_pièces!B894)","v":"ZZZ"},{"$f":"IF(Liste_pièces!C894=\"\",\"\",Liste_pièces!C894)","v":""},{"$f":"IF(Liste_pièces!D894=\"\",\"\",Liste_pièces!D894)","v":""},{"$f":"IF(Liste_pièces!E894=\"\",\"\",Liste_pièces!E894)","v":""},{"$f":"IF(Liste_pièces!F894=\"\",\"\",Liste_pièces!F894)","v":""},{"$f":"IF(Liste_pièces!G894=\"\",\"\",Liste_pièces!G894)","v":""},{"$f":"IF(Liste_pièces!H894=\"\",\"\",Liste_pièces!H894)","v":""},{"$f":"IF(Liste_pièces!I894=\"\",\"\",Liste_pièces!I894)","v":""},{"$f":"IF(Liste_pièces!J894=\"\",\"\",Liste_pièces!J894)","v":""},{"$f":"IF(Liste_pièces!K894=\"\",\"\",Liste_pièces!K894)","v":""},{"$f":"IF(Liste_pièces!L894=\"\",\"\",Liste_pièces!L894)","v":""},{"$f":"IF(Liste_pièces!M894=\"\",\"\",Liste_pièces!M894)","v":""},0,1,0]
[{"$f":"IF(Liste_pièces!A895=\"\",\"ZZZ\",Liste_pièces!A895)","v":"ZZZ"},{"$f":"IF(Liste_pièces!B895=\"\",\"ZZZ\",Liste_pièces!B895)","v":"ZZZ"},{"$f":"IF(Liste_pièces!C895=\"\",\"\",Liste_pièces!C895)","v":""},{"$f":"IF(Liste_pièces!D895=\"\",\"\",Liste_pièces!D895)","v":""},{"$f":"IF(Liste_pièces!E895=\"\",\"\",Liste_pièces!E895)","v":""},{"$f":"IF(Liste_pièces!F895=\"\",\"\",Liste_pièces!F895)","v":""},{"$f":"IF(Liste_pièces!G895=\"\",\"\",Liste_pièces!G895)","v":""},{"$f":"IF(Liste_pièces!H895=\"\",\"\",Liste_pièces!H895)","v":""},{"$f":"IF(Liste_pièces!I895=\"\",\"\",Liste_pièces!I895)","v":""},{"$f":"IF(Liste_pièces!J895=\"\",\"\",Liste_pièces!J895)","v":""},{"$f":"IF(Liste_pièces!K895=\"\",\"\",Liste_pièces!K895)","v":""},{"$f":"IF(Liste_pièces!L895=\"\",\"\",Liste_pièces!L895)","v":""},{"$f":"IF(Liste_pièces!M895=\"\",\"\",Liste_pièces!M895)","v":""},0,1,0]
[{"$f":"IF(Liste_pièces!A896=\"\",\"ZZZ\",Liste_pièces!A896)","v":"ZZZ"},{"$f":"IF(Liste_pièces!B896=\"\",\"ZZZ\",Liste_pièces!B896)","v":"ZZZ"},{"$f":"IF(Liste_pièces!C896=\"\",\"\",Liste_pièces!C896)","v":""},{"$f":"IF(Liste_pièces!D896=\"\",\"\",Liste_pièces!D896)","v":""},{"$f":"IF(Liste_pièces!E896=\"\",\"\",Liste_pièces!E896)","v":""},{"$f":"IF(Liste_pièces!F896=\"\",\"\",Liste_pièces!F896)","v":""},{"$f":"IF(Liste_pièces!G896=\"\",\"\",Liste_pièces!G896)","v":""},{"$f":"IF(Liste_pièces!H896=\"\",\"\",Liste_pièces!H896)","v":""},{"$f":"IF(Liste_pièces!I896=\"\",\"\",Liste_pièces!I896)","v":""},{"$f":"IF(Liste_pièces!J896=\"\",\"\",Liste_pièces!J896)","v":""},{"$f":"IF(Liste_pièces!K896=\"\",\"\",Liste_pièces!K896)","v":""},{"$f":"IF(Liste_pièces!L896=\"\",\"\",Liste_pièces!L896)","v":""},{"$f":"IF(Liste_pièces!M896=\"\",\"\",Liste_pièces!M896)","v":""},0,1,0]
[{"$f":"IF(Liste_pièces!A897=\"\",\"ZZZ\",Liste_pièces!A897)","v":"ZZZ"},{"$f":"IF(Liste_pièces!B897=\"\",\"ZZZ\",Liste_pièces!B897)","v":"ZZZ"},{"$f":"IF(Liste_pièces!C897=\"\",\"\",Liste_pièces!C897)","v":""},{"$f":"IF(Liste_pièces!D897=\"\",\"\",Liste_pièces!D897)","v":""},{"$f":"IF(Liste_pièces!E897=\"\",\"\",Liste_pièces!E897)","v":""},{"$f":"IF(Liste_pièces!F897=\"\",\"\",Liste_pièces!F897)","v":""},{"$f":"IF(Liste_pièces!G897=\"\",\"\",Liste_pièces!G897)","v":""},{"$f":"IF(Liste_pièces!H897=\"\",\"\",Liste_pièces!H897)","v":""},{"$f":"IF(Liste_pièces!I897=\"\",\"\",Liste_pièces!I897)","v":""},{"$f":"IF(Liste_pièces!J897=\"\",\"\",Liste_pièces!J897)","v":""},{"$f":"IF(Liste_pièces!K897=\"\",\"\",Liste_pièces!K897)","v":""},{"$f":"IF(Liste_pièces!L897=\"\",\"\",Liste_pièces!L897)","v":""},{"$f":"IF(Liste_pièces!M897=\"\",\"\",Liste_pièces!M897)","v":""},0,1,0]
[{"$f":"IF(Liste_pièces!A898=\"\",\"ZZZ\",Liste_pièces!A898)","v":"ZZZ"},{"$f":"IF(Liste_pièces!B898=\"\",\"ZZZ\",Liste_pièces!B898)","v":"ZZZ"},{"$f":"IF(Liste_pièces!C898=\"\",\"\",Liste_pièces!C898)","v":""},{"$f":"IF(Liste_pièces!D898=\"\",\"\",Liste_pièces!D898)","v":""},{"$f":"IF(Liste_pièces!E898=\"\",\"\",Liste_pièces!E898)","v":""},{"$f":"IF(Liste_pièces!F898=\"\",\"\",Liste_pièces!F898)","v":""},{"$f":"IF(Liste_pièces!G898=\"\",\"\",Liste_pièces!G898)","v":""},{"$f":"IF(Liste_pièces!H898=\"\",\"\",Liste_pièces!H898)","v":""},{"$f":"IF(Liste_pièces!I898=\"\",\"\",Liste_pièces!I898)","v":""},{"$f":"IF(Liste_pièces!J898=\"\",\"\",Liste_pièces!J898)","v":""},{"$f":"IF(Liste_pièces!K898=\"\",\"\",Liste_pièces!K898)","v":""},{"$f":"IF(Liste_pièces!L898=\"\",\"\",Liste_pièces!L898)","v":""},{"$f":"IF(Liste_pièces!M898=\"\",\"\",Liste_pièces!M898)","v":""},{"$f":"IF(B1642=\"ZZZ\",0,IF(B1642=B1641,N897,1+N897))","v":0},1,0]
[{"$f":"IF(Liste_pièces!A899=\"\",\"ZZZ\",Liste_pièces!A899)","v":"ZZZ"},{"$f":"IF(Liste_pièces!B899=\"\",\"ZZZ\",Liste_pièces!B899)","v":"ZZZ"},{"$f":"IF(Liste_pièces!C899=\"\",\"\",Liste_pièces!C899)","v":""},{"$f":"IF(Liste_pièces!D899=\"\",\"\",Liste_pièces!D899)","v":""},{"$f":"IF(Liste_pièces!E899=\"\",\"\",Liste_pièces!E899)","v":""},{"$f":"IF(Liste_pièces!F899=\"\",\"\",Liste_pièces!F899)","v":""},{"$f":"IF(Liste_pièces!G899=\"\",\"\",Liste_pièces!G899)","v":""},{"$f":"IF(Liste_pièces!H899=\"\",\"\",Liste_pièces!H899)","v":""},{"$f":"IF(Liste_pièces!I899=\"\",\"\",Liste_pièces!I899)","v":""},{"$f":"IF(Liste_pièces!J899=\"\",\"\",Liste_pièces!J899)","v":""},{"$f":"IF(Liste_pièces!K899=\"\",\"\",Liste_pièces!K899)","v":""},{"$f":"IF(Liste_pièces!L899=\"\",\"\",Liste_pièces!L899)","v":""},{"$f":"IF(Liste_pièces!M899=\"\",\"\",Liste_pièces!M899)","v":""},0,1,0]
[{"$f":"IF(Liste_pièces!A900=\"\",\"ZZZ\",Liste_pièces!A900)","v":"ZZZ"},{"$f":"IF(Liste_pièces!B900=\"\",\"ZZZ\",Liste_pièces!B900)","v":"ZZZ"},{"$f":"IF(Liste_pièces!C900=\"\",\"\",Liste_pièces!C900)","v":""},{"$f":"IF(Liste_pièces!D900=\"\",\"\",Liste_pièces!D900)","v":""},{"$f":"IF(Liste_pièces!E900=\"\",\"\",Liste_pièces!E900)","v":""},{"$f":"IF(Liste_pièces!F900=\"\",\"\",Liste_pièces!F900)","v":""},{"$f":"IF(Liste_pièces!G900=\"\",\"\",Liste_pièces!G900)","v":""},{"$f":"IF(Liste_pièces!H900=\"\",\"\",Liste_pièces!H900)","v":""},{"$f":"IF(Liste_pièces!I900=\"\",\"\",Liste_pièces!I900)","v":""},{"$f":"IF(Liste_pièces!J900=\"\",\"\",Liste_pièces!J900)","v":""},{"$f":"IF(Liste_pièces!K900=\"\",\"\",Liste_pièces!K900)","v":""},{"$f":"IF(Liste_pièces!L900=\"\",\"\",Liste_pièces!L900)","v":""},{"$f":"IF(Liste_pièces!M900=\"\",\"\",Liste_pièces!M900)","v":""},0,1,0]
[{"$f":"IF(Liste_pièces!A901=\"\",\"ZZZ\",Liste_pièces!A901)","v":"ZZZ"},{"$f":"IF(Liste_pièces!B901=\"\",\"ZZZ\",Liste_pièces!B901)","v":"ZZZ"},{"$f":"IF(Liste_pièces!C901=\"\",\"\",Liste_pièces!C901)","v":""},{"$f":"IF(Liste_pièces!D901=\"\",\"\",Liste_pièces!D901)","v":""},{"$f":"IF(Liste_pièces!E901=\"\",\"\",Liste_pièces!E901)","v":""},{"$f":"IF(Liste_pièces!F901=\"\",\"\",Liste_pièces!F901)","v":""},{"$f":"IF(Liste_pièces!G901=\"\",\"\",Liste_pièces!G901)","v":""},{"$f":"IF(Liste_pièces!H901=\"\",\"\",Liste_pièces!H901)","v":""},{"$f":"IF(Liste_pièces!I901=\"\",\"\",Liste_pièces!I901)","v":""},{"$f":"IF(Liste_pièces!J901=\"\",\"\",Liste_pièces!J901)","v":""},{"$f":"IF(Liste_pièces!K901=\"\",\"\",Liste_pièces!K901)","v":""},{"$f":"IF(Liste_pièces!L901=\"\",\"\",Liste_pièces!L901)","v":""},{"$f":"IF(Liste_pièces!M901=\"\",\"\",Liste_pièces!M901)","v":""},0,1,0]
[{"$f":"IF(Liste_pièces!A902=\"\",\"ZZZ\",Liste_pièces!A902)","v":"ZZZ"},{"$f":"IF(Liste_pièces!B902=\"\",\"ZZZ\",Liste_pièces!B902)","v":"ZZZ"},{"$f":"IF(Liste_pièces!C902=\"\",\"\",Liste_pièces!C902)","v":""},{"$f":"IF(Liste_pièces!D902=\"\",\"\",Liste_pièces!D902)","v":""},{"$f":"IF(Liste_pièces!E902=\"\",\"\",Liste_pièces!E902)","v":""},{"$f":"IF(Liste_pièces!F902=\"\",\"\",Liste_pièces!F902)","v":""},{"$f":"IF(Liste_pièces!G902=\"\",\"\",Liste_pièces!G902)","v":""},{"$f":"IF(Liste_pièces!H902=\"\",\"\",Liste_pièces!H902)","v":""},{"$f":"IF(Liste_pièces!I902=\"\",\"\",Liste_pièces!I902)","v":""},{"$f":"IF(Liste_pièces!J902=\"\",\"\",Liste_pièces!J902)","v":""},{"$f":"IF(Liste_pièces!K902=\"\",\"\",Liste_pièces!K902)","v":""},{"$f":"IF(Liste_pièces!L902=\"\",\"\",Liste_pièces!L902)","v":""},{"$f":"IF(Liste_pièces!M902=\"\",\"\",Liste_pièces!M902)","v":""},0,1,0]
[{"$f":"IF(Liste_pièces!A903=\"\",\"ZZZ\",Liste_pièces!A903)","v":"ZZZ"},{"$f":"IF(Liste_pièces!B903=\"\",\"ZZZ\",Liste_pièces!B903)","v":"ZZZ"},{"$f":"IF(Liste_pièces!C903=\"\",\"\",Liste_pièces!C903)","v":""},{"$f":"IF(Liste_pièces!D903=\"\",\"\",Liste_pièces!D903)","v":""},{"$f":"IF(Liste_pièces!E903=\"\",\"\",Liste_pièces!E903)","v":""},{"$f":"IF(Liste_pièces!F903=\"\",\"\",Liste_pièces!F903)","v":""},{"$f":"IF(Liste_pièces!G903=\"\",\"\",Liste_pièces!G903)","v":""},{"$f":"IF(Liste_pièces!H903=\"\",\"\",Liste_pièces!H903)","v":""},{"$f":"IF(Liste_pièces!I903=\"\",\"\",Liste_pièces!I903)","v":""},{"$f":"IF(Liste_pièces!J903=\"\",\"\",Liste_pièces!J903)","v":""},{"$f":"IF(Liste_pièces!K903=\"\",\"\",Liste_pièces!K903)","v":""},{"$f":"IF(Liste_pièces!L903=\"\",\"\",Liste_pièces!L903)","v":""},{"$f":"IF(Liste_pièces!M903=\"\",\"\",Liste_pièces!M903)","v":""},0,1,{"$f":"IF(N903=0,0,IF(N903<>N902,MAX(N903+O902,P902+1),IF(O902=O903,P902,P902+O903)))","v":0}]
[{"$f":"IF(Liste_pièces!A904=\"\",\"ZZZ\",Liste_pièces!A904)","v":"ZZZ"},{"$f":"IF(Liste_pièces!B904=\"\",\"ZZZ\",Liste_pièces!B904)","v":"ZZZ"},{"$f":"IF(Liste_pièces!C904=\"\",\"\",Liste_pièces!C904)","v":""},{"$f":"IF(Liste_pièces!D904=\"\",\"\",Liste_pièces!D904)","v":""},{"$f":"IF(Liste_pièces!E904=\"\",\"\",Liste_pièces!E904)","v":""},{"$f":"IF(Liste_pièces!F904=\"\",\"\",Liste_pièces!F904)","v":""},{"$f":"IF(Liste_pièces!G904=\"\",\"\",Liste_pièces!G904)","v":""},{"$f":"IF(Liste_pièces!H904=\"\",\"\",Liste_pièces!H904)","v":""},{"$f":"IF(Liste_pièces!I904=\"\",\"\",Liste_pièces!I904)","v":""},{"$f":"IF(Liste_pièces!J904=\"\",\"\",Liste_pièces!J904)","v":""},{"$f":"IF(Liste_pièces!K904=\"\",\"\",Liste_pièces!K904)","v":""},{"$f":"IF(Liste_pièces!L904=\"\",\"\",Liste_pièces!L904)","v":""},{"$f":"IF(Liste_pièces!M904=\"\",\"\",Liste_pièces!M904)","v":""},0,1,0]
[{"$f":"IF(Liste_pièces!A905=\"\",\"ZZZ\",Liste_pièces!A905)","v":"ZZZ"},{"$f":"IF(Liste_pièces!B905=\"\",\"ZZZ\",Liste_pièces!B905)","v":"ZZZ"},{"$f":"IF(Liste_pièces!C905=\"\",\"\",Liste_pièces!C905)","v":""},{"$f":"IF(Liste_pièces!D905=\"\",\"\",Liste_pièces!D905)","v":""},{"$f":"IF(Liste_pièces!E905=\"\",\"\",Liste_pièces!E905)","v":""},{"$f":"IF(Liste_pièces!F905=\"\",\"\",Liste_pièces!F905)","v":""},{"$f":"IF(Liste_pièces!G905=\"\",\"\",Liste_pièces!G905)","v":""},{"$f":"IF(Liste_pièces!H905=\"\",\"\",Liste_pièces!H905)","v":""},{"$f":"IF(Liste_pièces!I905=\"\",\"\",Liste_pièces!I905)","v":""},{"$f":"IF(Liste_pièces!J905=\"\",\"\",Liste_pièces!J905)","v":""},{"$f":"IF(Liste_pièces!K905=\"\",\"\",Liste_pièces!K905)","v":""},{"$f":"IF(Liste_pièces!L905=\"\",\"\",Liste_pièces!L905)","v":""},{"$f":"IF(Liste_pièces!M905=\"\",\"\",Liste_pièces!M905)","v":""},0,1,0]
[{"$f":"IF(Liste_pièces!A906=\"\",\"ZZZ\",Liste_pièces!A906)","v":"ZZZ"},{"$f":"IF(Liste_pièces!B906=\"\",\"ZZZ\",Liste_pièces!B906)","v":"ZZZ"},{"$f":"IF(Liste_pièces!C906=\"\",\"\",Liste_pièces!C906)","v":""},{"$f":"IF(Liste_pièces!D906=\"\",\"\",Liste_pièces!D906)","v":""},{"$f":"IF(Liste_pièces!E906=\"\",\"\",Liste_pièces!E906)","v":""},{"$f":"IF(Liste_pièces!F906=\"\",\"\",Liste_pièces!F906)","v":""},{"$f":"IF(Liste_pièces!G906=\"\",\"\",Liste_pièces!G906)","v":""},{"$f":"IF(Liste_pièces!H906=\"\",\"\",Liste_pièces!H906)","v":""},{"$f":"IF(Liste_pièces!I906=\"\",\"\",Liste_pièces!I906)","v":""},{"$f":"IF(Liste_pièces!J906=\"\",\"\",Liste_pièces!J906)","v":""},{"$f":"IF(Liste_pièces!K906=\"\",\"\",Liste_pièces!K906)","v":""},{"$f":"IF(Liste_pièces!L906=\"\",\"\",Liste_pièces!L906)","v":""},{"$f":"IF(Liste_pièces!M906=\"\",\"\",Liste_pièces!M906)","v":""},0,1,0]
[{"$f":"IF(Liste_pièces!A907=\"\",\"ZZZ\",Liste_pièces!A907)","v":"ZZZ"},{"$f":"IF(Liste_pièces!B907=\"\",\"ZZZ\",Liste_pièces!B907)","v":"ZZZ"},{"$f":"IF(Liste_pièces!C907=\"\",\"\",Liste_pièces!C907)","v":""},{"$f":"IF(Liste_pièces!D907=\"\",\"\",Liste_pièces!D907)","v":""},{"$f":"IF(Liste_pièces!E907=\"\",\"\",Liste_pièces!E907)","v":""},{"$f":"IF(Liste_pièces!F907=\"\",\"\",Liste_pièces!F907)","v":""},{"$f":"IF(Liste_pièces!G907=\"\",\"\",Liste_pièces!G907)","v":""},{"$f":"IF(Liste_pièces!H907=\"\",\"\",Liste_pièces!H907)","v":""},{"$f":"IF(Liste_pièces!I907=\"\",\"\",Liste_pièces!I907)","v":""},{"$f":"IF(Liste_pièces!J907=\"\",\"\",Liste_pièces!J907)","v":""},{"$f":"IF(Liste_pièces!K907=\"\",\"\",Liste_pièces!K907)","v":""},{"$f":"IF(Liste_pièces!L907=\"\",\"\",Liste_pièces!L907)","v":""},{"$f":"IF(Liste_pièces!M907=\"\",\"\",Liste_pièces!M907)","v":""},0,1,0]
[{"$f":"IF(Liste_pièces!A908=\"\",\"ZZZ\",Liste_pièces!A908)","v":"ZZZ"},{"$f":"IF(Liste_pièces!B908=\"\",\"ZZZ\",Liste_pièces!B908)","v":"ZZZ"},{"$f":"IF(Liste_pièces!C908=\"\",\"\",Liste_pièces!C908)","v":""},{"$f":"IF(Liste_pièces!D908=\"\",\"\",Liste_pièces!D908)","v":""},{"$f":"IF(Liste_pièces!E908=\"\",\"\",Liste_pièces!E908)","v":""},{"$f":"IF(Liste_pièces!F908=\"\",\"\",Liste_pièces!F908)","v":""},{"$f":"IF(Liste_pièces!G908=\"\",\"\",Liste_pièces!G908)","v":""},{"$f":"IF(Liste_pièces!H908=\"\",\"\",Liste_pièces!H908)","v":""},{"$f":"IF(Liste_pièces!I908=\"\",\"\",Liste_pièces!I908)","v":""},{"$f":"IF(Liste_pièces!J908=\"\",\"\",Liste_pièces!J908)","v":""},{"$f":"IF(Liste_pièces!K908=\"\",\"\",Liste_pièces!K908)","v":""},{"$f":"IF(Liste_pièces!L908=\"\",\"\",Liste_pièces!L908)","v":""},{"$f":"IF(Liste_pièces!M908=\"\",\"\",Liste_pièces!M908)","v":""},0,1,0]
[{"$f":"IF(Liste_pièces!A909=\"\",\"ZZZ\",Liste_pièces!A909)","v":"ZZZ"},{"$f":"IF(Liste_pièces!B909=\"\",\"ZZZ\",Liste_pièces!B909)","v":"ZZZ"},{"$f":"IF(Liste_pièces!C909=\"\",\"\",Liste_pièces!C909)","v":""},{"$f":"IF(Liste_pièces!D909=\"\",\"\",Liste_pièces!D909)","v":""},{"$f":"IF(Liste_pièces!E909=\"\",\"\",Liste_pièces!E909)","v":""},{"$f":"IF(Liste_pièces!F909=\"\",\"\",Liste_pièces!F909)","v":""},{"$f":"IF(Liste_pièces!G909=\"\",\"\",Liste_pièces!G909)","v":""},{"$f":"IF(Liste_pièces!H909=\"\",\"\",Liste_pièces!H909)","v":""},{"$f":"IF(Liste_pièces!I909=\"\",\"\",Liste_pièces!I909)","v":""},{"$f":"IF(Liste_pièces!J909=\"\",\"\",Liste_pièces!J909)","v":""},{"$f":"IF(Liste_pièces!K909=\"\",\"\",Liste_pièces!K909)","v":""},{"$f":"IF(Liste_pièces!L909=\"\",\"\",Liste_pièces!L909)","v":""},{"$f":"IF(Liste_pièces!M909=\"\",\"\",Liste_pièces!M909)","v":""},0,1,0]
[{"$f":"IF(Liste_pièces!A910=\"\",\"ZZZ\",Liste_pièces!A910)","v":"ZZZ"},{"$f":"IF(Liste_pièces!B910=\"\",\"ZZZ\",Liste_pièces!B910)","v":"ZZZ"},{"$f":"IF(Liste_pièces!C910=\"\",\"\",Liste_pièces!C910)","v":""},{"$f":"IF(Liste_pièces!D910=\"\",\"\",Liste_pièces!D910)","v":""},{"$f":"IF(Liste_pièces!E910=\"\",\"\",Liste_pièces!E910)","v":""},{"$f":"IF(Liste_pièces!F910=\"\",\"\",Liste_pièces!F910)","v":""},{"$f":"IF(Liste_pièces!G910=\"\",\"\",Liste_pièces!G910)","v":""},{"$f":"IF(Liste_pièces!H910=\"\",\"\",Liste_pièces!H910)","v":""},{"$f":"IF(Liste_pièces!I910=\"\",\"\",Liste_pièces!I910)","v":""},{"$f":"IF(Liste_pièces!J910=\"\",\"\",Liste_pièces!J910)","v":""},{"$f":"IF(Liste_pièces!K910=\"\",\"\",Liste_pièces!K910)","v":""},{"$f":"IF(Liste_pièces!L910=\"\",\"\",Liste_pièces!L910)","v":""},{"$f":"IF(Liste_pièces!M910=\"\",\"\",Liste_pièces!M910)","v":""},0,1,0]
[{"$f":"IF(Liste_pièces!A911=\"\",\"ZZZ\",Liste_pièces!A911)","v":"ZZZ"},{"$f":"IF(Liste_pièces!B911=\"\",\"ZZZ\",Liste_pièces!B911)","v":"ZZZ"},{"$f":"IF(Liste_pièces!C911=\"\",\"\",Liste_pièces!C911)","v":""},{"$f":"IF(Liste_pièces!D911=\"\",\"\",Liste_pièces!D911)","v":""},{"$f":"IF(Liste_pièces!E911=\"\",\"\",Liste_pièces!E911)","v":""},{"$f":"IF(Liste_pièces!F911=\"\",\"\",Liste_pièces!F911)","v":""},{"$f":"IF(Liste_pièces!G911=\"\",\"\",Liste_pièces!G911)","v":""},{"$f":"IF(Liste_pièces!H911=\"\",\"\",Liste_pièces!H911)","v":""},{"$f":"IF(Liste_pièces!I911=\"\",\"\",Liste_pièces!I911)","v":""},{"$f":"IF(Liste_pièces!J911=\"\",\"\",Liste_pièces!J911)","v":""},{"$f":"IF(Liste_pièces!K911=\"\",\"\",Liste_pièces!K911)","v":""},{"$f":"IF(Liste_pièces!L911=\"\",\"\",Liste_pièces!L911)","v":""},{"$f":"IF(Liste_pièces!M911=\"\",\"\",Liste_pièces!M911)","v":""},0,1,0]
[{"$f":"IF(Liste_pièces!A912=\"\",\"ZZZ\",Liste_pièces!A912)","v":"ZZZ"},{"$f":"IF(Liste_pièces!B912=\"\",\"ZZZ\",Liste_pièces!B912)","v":"ZZZ"},{"$f":"IF(Liste_pièces!C912=\"\",\"\",Liste_pièces!C912)","v":""},{"$f":"IF(Liste_pièces!D912=\"\",\"\",Liste_pièces!D912)","v":""},{"$f":"IF(Liste_pièces!E912=\"\",\"\",Liste_pièces!E912)","v":""},{"$f":"IF(Liste_pièces!F912=\"\",\"\",Liste_pièces!F912)","v":""},{"$f":"IF(Liste_pièces!G912=\"\",\"\",Liste_pièces!G912)","v":""},{"$f":"IF(Liste_pièces!H912=\"\",\"\",Liste_pièces!H912)","v":""},{"$f":"IF(Liste_pièces!I912=\"\",\"\",Liste_pièces!I912)","v":""},{"$f":"IF(Liste_pièces!J912=\"\",\"\",Liste_pièces!J912)","v":""},{"$f":"IF(Liste_pièces!K912=\"\",\"\",Liste_pièces!K912)","v":""},{"$f":"IF(Liste_pièces!L912=\"\",\"\",Liste_pièces!L912)","v":""},{"$f":"IF(Liste_pièces!M912=\"\",\"\",Liste_pièces!M912)","v":""},0,1,0]
[{"$f":"IF(Liste_pièces!A913=\"\",\"ZZZ\",Liste_pièces!A913)","v":"ZZZ"},{"$f":"IF(Liste_pièces!B913=\"\",\"ZZZ\",Liste_pièces!B913)","v":"ZZZ"},{"$f":"IF(Liste_pièces!C913=\"\",\"\",Liste_pièces!C913)","v":""},{"$f":"IF(Liste_pièces!D913=\"\",\"\",Liste_pièces!D913)","v":""},{"$f":"IF(Liste_pièces!E913=\"\",\"\",Liste_pièces!E913)","v":""},{"$f":"IF(Liste_pièces!F913=\"\",\"\",Liste_pièces!F913)","v":""},{"$f":"IF(Liste_pièces!G913=\"\",\"\",Liste_pièces!G913)","v":""},{"$f":"IF(Liste_pièces!H913=\"\",\"\",Liste_pièces!H913)","v":""},{"$f":"IF(Liste_pièces!I913=\"\",\"\",Liste_pièces!I913)","v":""},{"$f":"IF(Liste_pièces!J913=\"\",\"\",Liste_pièces!J913)","v":""},{"$f":"IF(Liste_pièces!K913=\"\",\"\",Liste_pièces!K913)","v":""},{"$f":"IF(Liste_pièces!L913=\"\",\"\",Liste_pièces!L913)","v":""},{"$f":"IF(Liste_pièces!M913=\"\",\"\",Liste_pièces!M913)","v":""},0,1,0]
[{"$f":"IF(Liste_pièces!A914=\"\",\"ZZZ\",Liste_pièces!A914)","v":"ZZZ"},{"$f":"IF(Liste_pièces!B914=\"\",\"ZZZ\",Liste_pièces!B914)","v":"ZZZ"},{"$f":"IF(Liste_pièces!C914=\"\",\"\",Liste_pièces!C914)","v":""},{"$f":"IF(Liste_pièces!D914=\"\",\"\",Liste_pièces!D914)","v":""},{"$f":"IF(Liste_pièces!E914=\"\",\"\",Liste_pièces!E914)","v":""},{"$f":"IF(Liste_pièces!F914=\"\",\"\",Liste_pièces!F914)","v":""},{"$f":"IF(Liste_pièces!G914=\"\",\"\",Liste_pièces!G914)","v":""},{"$f":"IF(Liste_pièces!H914=\"\",\"\",Liste_pièces!H914)","v":""},{"$f":"IF(Liste_pièces!I914=\"\",\"\",Liste_pièces!I914)","v":""},{"$f":"IF(Liste_pièces!J914=\"\",\"\",Liste_pièces!J914)","v":""},{"$f":"IF(Liste_pièces!K914=\"\",\"\",Liste_pièces!K914)","v":""},{"$f":"IF(Liste_pièces!L914=\"\",\"\",Liste_pièces!L914)","v":""},{"$f":"IF(Liste_pièces!M914=\"\",\"\",Liste_pièces!M914)","v":""},0,1,0]
[{"$f":"IF(Liste_pièces!A915=\"\",\"ZZZ\",Liste_pièces!A915)","v":"ZZZ"},{"$f":"IF(Liste_pièces!B915=\"\",\"ZZZ\",Liste_pièces!B915)","v":"ZZZ"},{"$f":"IF(Liste_pièces!C915=\"\",\"\",Liste_pièces!C915)","v":""},{"$f":"IF(Liste_pièces!D915=\"\",\"\",Liste_pièces!D915)","v":""},{"$f":"IF(Liste_pièces!E915=\"\",\"\",Liste_pièces!E915)","v":""},{"$f":"IF(Liste_pièces!F915=\"\",\"\",Liste_pièces!F915)","v":""},{"$f":"IF(Liste_pièces!G915=\"\",\"\",Liste_pièces!G915)","v":""},{"$f":"IF(Liste_pièces!H915=\"\",\"\",Liste_pièces!H915)","v":""},{"$f":"IF(Liste_pièces!I915=\"\",\"\",Liste_pièces!I915)","v":""},{"$f":"IF(Liste_pièces!J915=\"\",\"\",Liste_pièces!J915)","v":""},{"$f":"IF(Liste_pièces!K915=\"\",\"\",Liste_pièces!K915)","v":""},{"$f":"IF(Liste_pièces!L915=\"\",\"\",Liste_pièces!L915)","v":""},{"$f":"IF(Liste_pièces!M915=\"\",\"\",Liste_pièces!M915)","v":""},0,1,0]
[{"$f":"IF(Liste_pièces!A916=\"\",\"ZZZ\",Liste_pièces!A916)","v":"ZZZ"},{"$f":"IF(Liste_pièces!B916=\"\",\"ZZZ\",Liste_pièces!B916)","v":"ZZZ"},{"$f":"IF(Liste_pièces!C916=\"\",\"\",Liste_pièces!C916)","v":""},{"$f":"IF(Liste_pièces!D916=\"\",\"\",Liste_pièces!D916)","v":""},{"$f":"IF(Liste_pièces!E916=\"\",\"\",Liste_pièces!E916)","v":""},{"$f":"IF(Liste_pièces!F916=\"\",\"\",Liste_pièces!F916)","v":""},{"$f":"IF(Liste_pièces!G916=\"\",\"\",Liste_pièces!G916)","v":""},{"$f":"IF(Liste_pièces!H916=\"\",\"\",Liste_pièces!H916)","v":""},{"$f":"IF(Liste_pièces!I916=\"\",\"\",Liste_pièces!I916)","v":""},{"$f":"IF(Liste_pièces!J916=\"\",\"\",Liste_pièces!J916)","v":""},{"$f":"IF(Liste_pièces!K916=\"\",\"\",Liste_pièces!K916)","v":""},{"$f":"IF(Liste_pièces!L916=\"\",\"\",Liste_pièces!L916)","v":""},{"$f":"IF(Liste_pièces!M916=\"\",\"\",Liste_pièces!M916)","v":""},0,1,0]
[{"$f":"IF(Liste_pièces!A917=\"\",\"ZZZ\",Liste_pièces!A917)","v":"ZZZ"},{"$f":"IF(Liste_pièces!B917=\"\",\"ZZZ\",Liste_pièces!B917)","v":"ZZZ"},{"$f":"IF(Liste_pièces!C917=\"\",\"\",Liste_pièces!C917)","v":""},{"$f":"IF(Liste_pièces!D917=\"\",\"\",Liste_pièces!D917)","v":""},{"$f":"IF(Liste_pièces!E917=\"\",\"\",Liste_pièces!E917)","v":""},{"$f":"IF(Liste_pièces!F917=\"\",\"\",Liste_pièces!F917)","v":""},{"$f":"IF(Liste_pièces!G917=\"\",\"\",Liste_pièces!G917)","v":""},{"$f":"IF(Liste_pièces!H917=\"\",\"\",Liste_pièces!H917)","v":""},{"$f":"IF(Liste_pièces!I917=\"\",\"\",Liste_pièces!I917)","v":""},{"$f":"IF(Liste_pièces!J917=\"\",\"\",Liste_pièces!J917)","v":""},{"$f":"IF(Liste_pièces!K917=\"\",\"\",Liste_pièces!K917)","v":""},{"$f":"IF(Liste_pièces!L917=\"\",\"\",Liste_pièces!L917)","v":""},{"$f":"IF(Liste_pièces!M917=\"\",\"\",Liste_pièces!M917)","v":""},0,1,0]
[{"$f":"IF(Liste_pièces!A918=\"\",\"ZZZ\",Liste_pièces!A918)","v":"ZZZ"},{"$f":"IF(Liste_pièces!B918=\"\",\"ZZZ\",Liste_pièces!B918)","v":"ZZZ"},{"$f":"IF(Liste_pièces!C918=\"\",\"\",Liste_pièces!C918)","v":""},{"$f":"IF(Liste_pièces!D918=\"\",\"\",Liste_pièces!D918)","v":""},{"$f":"IF(Liste_pièces!E918=\"\",\"\",Liste_pièces!E918)","v":""},{"$f":"IF(Liste_pièces!F918=\"\",\"\",Liste_pièces!F918)","v":""},{"$f":"IF(Liste_pièces!G918=\"\",\"\",Liste_pièces!G918)","v":""},{"$f":"IF(Liste_pièces!H918=\"\",\"\",Liste_pièces!H918)","v":""},{"$f":"IF(Liste_pièces!I918=\"\",\"\",Liste_pièces!I918)","v":""},{"$f":"IF(Liste_pièces!J918=\"\",\"\",Liste_pièces!J918)","v":""},{"$f":"IF(Liste_pièces!K918=\"\",\"\",Liste_pièces!K918)","v":""},{"$f":"IF(Liste_pièces!L918=\"\",\"\",Liste_pièces!L918)","v":""},{"$f":"IF(Liste_pièces!M918=\"\",\"\",Liste_pièces!M918)","v":""},0,1,0]
[{"$f":"IF(Liste_pièces!A919=\"\",\"ZZZ\",Liste_pièces!A919)","v":"ZZZ"},{"$f":"IF(Liste_pièces!B919=\"\",\"ZZZ\",Liste_pièces!B919)","v":"ZZZ"},{"$f":"IF(Liste_pièces!C919=\"\",\"\",Liste_pièces!C919)","v":""},{"$f":"IF(Liste_pièces!D919=\"\",\"\",Liste_pièces!D919)","v":""},{"$f":"IF(Liste_pièces!E919=\"\",\"\",Liste_pièces!E919)","v":""},{"$f":"IF(Liste_pièces!F919=\"\",\"\",Liste_pièces!F919)","v":""},{"$f":"IF(Liste_pièces!G919=\"\",\"\",Liste_pièces!G919)","v":""},{"$f":"IF(Liste_pièces!H919=\"\",\"\",Liste_pièces!H919)","v":""},{"$f":"IF(Liste_pièces!I919=\"\",\"\",Liste_pièces!I919)","v":""},{"$f":"IF(Liste_pièces!J919=\"\",\"\",Liste_pièces!J919)","v":""},{"$f":"IF(Liste_pièces!K919=\"\",\"\",Liste_pièces!K919)","v":""},{"$f":"IF(Liste_pièces!L919=\"\",\"\",Liste_pièces!L919)","v":""},{"$f":"IF(Liste_pièces!M919=\"\",\"\",Liste_pièces!M919)","v":""},0,1,0]
[{"$f":"IF(Liste_pièces!A920=\"\",\"ZZZ\",Liste_pièces!A920)","v":"ZZZ"},{"$f":"IF(Liste_pièces!B920=\"\",\"ZZZ\",Liste_pièces!B920)","v":"ZZZ"},{"$f":"IF(Liste_pièces!C920=\"\",\"\",Liste_pièces!C920)","v":""},{"$f":"IF(Liste_pièces!D920=\"\",\"\",Liste_pièces!D920)","v":""},{"$f":"IF(Liste_pièces!E920=\"\",\"\",Liste_pièces!E920)","v":""},{"$f":"IF(Liste_pièces!F920=\"\",\"\",Liste_pièces!F920)","v":""},{"$f":"IF(Liste_pièces!G920=\"\",\"\",Liste_pièces!G920)","v":""},{"$f":"IF(Liste_pièces!H920=\"\",\"\",Liste_pièces!H920)","v":""},{"$f":"IF(Liste_pièces!I920=\"\",\"\",Liste_pièces!I920)","v":""},{"$f":"IF(Liste_pièces!J920=\"\",\"\",Liste_pièces!J920)","v":""},{"$f":"IF(Liste_pièces!K920=\"\",\"\",Liste_pièces!K920)","v":""},{"$f":"IF(Liste_pièces!L920=\"\",\"\",Liste_pièces!L920)","v":""},{"$f":"IF(Liste_pièces!M920=\"\",\"\",Liste_pièces!M920)","v":""},0,1,0]
[{"$f":"IF(Liste_pièces!A921=\"\",\"ZZZ\",Liste_pièces!A921)","v":"ZZZ"},{"$f":"IF(Liste_pièces!B921=\"\",\"ZZZ\",Liste_pièces!B921)","v":"ZZZ"},{"$f":"IF(Liste_pièces!C921=\"\",\"\",Liste_pièces!C921)","v":""},{"$f":"IF(Liste_pièces!D921=\"\",\"\",Liste_pièces!D921)","v":""},{"$f":"IF(Liste_pièces!E921=\"\",\"\",Liste_pièces!E921)","v":""},{"$f":"IF(Liste_pièces!F921=\"\",\"\",Liste_pièces!F921)","v":""},{"$f":"IF(Liste_pièces!G921=\"\",\"\",Liste_pièces!G921)","v":""},{"$f":"IF(Liste_pièces!H921=\"\",\"\",Liste_pièces!H921)","v":""},{"$f":"IF(Liste_pièces!I921=\"\",\"\",Liste_pièces!I921)","v":""},{"$f":"IF(Liste_pièces!J921=\"\",\"\",Liste_pièces!J921)","v":""},{"$f":"IF(Liste_pièces!K921=\"\",\"\",Liste_pièces!K921)","v":""},{"$f":"IF(Liste_pièces!L921=\"\",\"\",Liste_pièces!L921)","v":""},{"$f":"IF(Liste_pièces!M921=\"\",\"\",Liste_pièces!M921)","v":""},0,1,0]
[{"$f":"IF(Liste_pièces!A922=\"\",\"ZZZ\",Liste_pièces!A922)","v":"ZZZ"},{"$f":"IF(Liste_pièces!B922=\"\",\"ZZZ\",Liste_pièces!B922)","v":"ZZZ"},{"$f":"IF(Liste_pièces!C922=\"\",\"\",Liste_pièces!C922)","v":""},{"$f":"IF(Liste_pièces!D922=\"\",\"\",Liste_pièces!D922)","v":""},{"$f":"IF(Liste_pièces!E922=\"\",\"\",Liste_pièces!E922)","v":""},{"$f":"IF(Liste_pièces!F922=\"\",\"\",Liste_pièces!F922)","v":""},{"$f":"IF(Liste_pièces!G922=\"\",\"\",Liste_pièces!G922)","v":""},{"$f":"IF(Liste_pièces!H922=\"\",\"\",Liste_pièces!H922)","v":""},{"$f":"IF(Liste_pièces!I922=\"\",\"\",Liste_pièces!I922)","v":""},{"$f":"IF(Liste_pièces!J922=\"\",\"\",Liste_pièces!J922)","v":""},{"$f":"IF(Liste_pièces!K922=\"\",\"\",Liste_pièces!K922)","v":""},{"$f":"IF(Liste_pièces!L922=\"\",\"\",Liste_pièces!L922)","v":""},{"$f":"IF(Liste_pièces!M922=\"\",\"\",Liste_pièces!M922)","v":""},0,1,0]
[{"$f":"IF(Liste_pièces!A923=\"\",\"ZZZ\",Liste_pièces!A923)","v":"ZZZ"},{"$f":"IF(Liste_pièces!B923=\"\",\"ZZZ\",Liste_pièces!B923)","v":"ZZZ"},{"$f":"IF(Liste_pièces!C923=\"\",\"\",Liste_pièces!C923)","v":""},{"$f":"IF(Liste_pièces!D923=\"\",\"\",Liste_pièces!D923)","v":""},{"$f":"IF(Liste_pièces!E923=\"\",\"\",Liste_pièces!E923)","v":""},{"$f":"IF(Liste_pièces!F923=\"\",\"\",Liste_pièces!F923)","v":""},{"$f":"IF(Liste_pièces!G923=\"\",\"\",Liste_pièces!G923)","v":""},{"$f":"IF(Liste_pièces!H923=\"\",\"\",Liste_pièces!H923)","v":""},{"$f":"IF(Liste_pièces!I923=\"\",\"\",Liste_pièces!I923)","v":""},{"$f":"IF(Liste_pièces!J923=\"\",\"\",Liste_pièces!J923)","v":""},{"$f":"IF(Liste_pièces!K923=\"\",\"\",Liste_pièces!K923)","v":""},{"$f":"IF(Liste_pièces!L923=\"\",\"\",Liste_pièces!L923)","v":""},{"$f":"IF(Liste_pièces!M923=\"\",\"\",Liste_pièces!M923)","v":""},0,1,0]
[{"$f":"IF(Liste_pièces!A924=\"\",\"ZZZ\",Liste_pièces!A924)","v":"ZZZ"},{"$f":"IF(Liste_pièces!B924=\"\",\"ZZZ\",Liste_pièces!B924)","v":"ZZZ"},{"$f":"IF(Liste_pièces!C924=\"\",\"\",Liste_pièces!C924)","v":""},{"$f":"IF(Liste_pièces!D924=\"\",\"\",Liste_pièces!D924)","v":""},{"$f":"IF(Liste_pièces!E924=\"\",\"\",Liste_pièces!E924)","v":""},{"$f":"IF(Liste_pièces!F924=\"\",\"\",Liste_pièces!F924)","v":""},{"$f":"IF(Liste_pièces!G924=\"\",\"\",Liste_pièces!G924)","v":""},{"$f":"IF(Liste_pièces!H924=\"\",\"\",Liste_pièces!H924)","v":""},{"$f":"IF(Liste_pièces!I924=\"\",\"\",Liste_pièces!I924)","v":""},{"$f":"IF(Liste_pièces!J924=\"\",\"\",Liste_pièces!J924)","v":""},{"$f":"IF(Liste_pièces!K924=\"\",\"\",Liste_pièces!K924)","v":""},{"$f":"IF(Liste_pièces!L924=\"\",\"\",Liste_pièces!L924)","v":""},{"$f":"IF(Liste_pièces!M924=\"\",\"\",Liste_pièces!M924)","v":""},0,1,0]
[{"$f":"IF(Liste_pièces!A925=\"\",\"ZZZ\",Liste_pièces!A925)","v":"ZZZ"},{"$f":"IF(Liste_pièces!B925=\"\",\"ZZZ\",Liste_pièces!B925)","v":"ZZZ"},{"$f":"IF(Liste_pièces!C925=\"\",\"\",Liste_pièces!C925)","v":""},{"$f":"IF(Liste_pièces!D925=\"\",\"\",Liste_pièces!D925)","v":""},{"$f":"IF(Liste_pièces!E925=\"\",\"\",Liste_pièces!E925)","v":""},{"$f":"IF(Liste_pièces!F925=\"\",\"\",Liste_pièces!F925)","v":""},{"$f":"IF(Liste_pièces!G925=\"\",\"\",Liste_pièces!G925)","v":""},{"$f":"IF(Liste_pièces!H925=\"\",\"\",Liste_pièces!H925)","v":""},{"$f":"IF(Liste_pièces!I925=\"\",\"\",Liste_pièces!I925)","v":""},{"$f":"IF(Liste_pièces!J925=\"\",\"\",Liste_pièces!J925)","v":""},{"$f":"IF(Liste_pièces!K925=\"\",\"\",Liste_pièces!K925)","v":""},{"$f":"IF(Liste_pièces!L925=\"\",\"\",Liste_pièces!L925)","v":""},{"$f":"IF(Liste_pièces!M925=\"\",\"\",Liste_pièces!M925)","v":""},0,1,0]
[{"$f":"IF(Liste_pièces!A926=\"\",\"ZZZ\",Liste_pièces!A926)","v":"ZZZ"},{"$f":"IF(Liste_pièces!B926=\"\",\"ZZZ\",Liste_pièces!B926)","v":"ZZZ"},{"$f":"IF(Liste_pièces!C926=\"\",\"\",Liste_pièces!C926)","v":""},{"$f":"IF(Liste_pièces!D926=\"\",\"\",Liste_pièces!D926)","v":""},{"$f":"IF(Liste_pièces!E926=\"\",\"\",Liste_pièces!E926)","v":""},{"$f":"IF(Liste_pièces!F926=\"\",\"\",Liste_pièces!F926)","v":""},{"$f":"IF(Liste_pièces!G926=\"\",\"\",Liste_pièces!G926)","v":""},{"$f":"IF(Liste_pièces!H926=\"\",\"\",Liste_pièces!H926)","v":""},{"$f":"IF(Liste_pièces!I926=\"\",\"\",Liste_pièces!I926)","v":""},{"$f":"IF(Liste_pièces!J926=\"\",\"\",Liste_pièces!J926)","v":""},{"$f":"IF(Liste_pièces!K926=\"\",\"\",Liste_pièces!K926)","v":""},{"$f":"IF(Liste_pièces!L926=\"\",\"\",Liste_pièces!L926)","v":""},{"$f":"IF(Liste_pièces!M926=\"\",\"\",Liste_pièces!M926)","v":""},0,1,0]
[{"$f":"IF(Liste_pièces!A927=\"\",\"ZZZ\",Liste_pièces!A927)","v":"ZZZ"},{"$f":"IF(Liste_pièces!B927=\"\",\"ZZZ\",Liste_pièces!B927)","v":"ZZZ"},{"$f":"IF(Liste_pièces!C927=\"\",\"\",Liste_pièces!C927)","v":""},{"$f":"IF(Liste_pièces!D927=\"\",\"\",Liste_pièces!D927)","v":""},{"$f":"IF(Liste_pièces!E927=\"\",\"\",Liste_pièces!E927)","v":""},{"$f":"IF(Liste_pièces!F927=\"\",\"\",Liste_pièces!F927)","v":""},{"$f":"IF(Liste_pièces!G927=\"\",\"\",Liste_pièces!G927)","v":""},{"$f":"IF(Liste_pièces!H927=\"\",\"\",Liste_pièces!H927)","v":""},{"$f":"IF(Liste_pièces!I927=\"\",\"\",Liste_pièces!I927)","v":""},{"$f":"IF(Liste_pièces!J927=\"\",\"\",Liste_pièces!J927)","v":""},{"$f":"IF(Liste_pièces!K927=\"\",\"\",Liste_pièces!K927)","v":""},{"$f":"IF(Liste_pièces!L927=\"\",\"\",Liste_pièces!L927)","v":""},{"$f":"IF(Liste_pièces!M927=\"\",\"\",Liste_pièces!M927)","v":""},0,1,0]
[{"$f":"IF(Liste_pièces!A928=\"\",\"ZZZ\",Liste_pièces!A928)","v":"ZZZ"},{"$f":"IF(Liste_pièces!B928=\"\",\"ZZZ\",Liste_pièces!B928)","v":"ZZZ"},{"$f":"IF(Liste_pièces!C928=\"\",\"\",Liste_pièces!C928)","v":""},{"$f":"IF(Liste_pièces!D928=\"\",\"\",Liste_pièces!D928)","v":""},{"$f":"IF(Liste_pièces!E928=\"\",\"\",Liste_pièces!E928)","v":""},{"$f":"IF(Liste_pièces!F928=\"\",\"\",Liste_pièces!F928)","v":""},{"$f":"IF(Liste_pièces!G928=\"\",\"\",Liste_pièces!G928)","v":""},{"$f":"IF(Liste_pièces!H928=\"\",\"\",Liste_pièces!H928)","v":""},{"$f":"IF(Liste_pièces!I928=\"\",\"\",Liste_pièces!I928)","v":""},{"$f":"IF(Liste_pièces!J928=\"\",\"\",Liste_pièces!J928)","v":""},{"$f":"IF(Liste_pièces!K928=\"\",\"\",Liste_pièces!K928)","v":""},{"$f":"IF(Liste_pièces!L928=\"\",\"\",Liste_pièces!L928)","v":""},{"$f":"IF(Liste_pièces!M928=\"\",\"\",Liste_pièces!M928)","v":""},0,1,0]
[{"$f":"IF(Liste_pièces!A929=\"\",\"ZZZ\",Liste_pièces!A929)","v":"ZZZ"},{"$f":"IF(Liste_pièces!B929=\"\",\"ZZZ\",Liste_pièces!B929)","v":"ZZZ"},{"$f":"IF(Liste_pièces!C929=\"\",\"\",Liste_pièces!C929)","v":""},{"$f":"IF(Liste_pièces!D929=\"\",\"\",Liste_pièces!D929)","v":""},{"$f":"IF(Liste_pièces!E929=\"\",\"\",Liste_pièces!E929)","v":""},{"$f":"IF(Liste_pièces!F929=\"\",\"\",Liste_pièces!F929)","v":""},{"$f":"IF(Liste_pièces!G929=\"\",\"\",Liste_pièces!G929)","v":""},{"$f":"IF(Liste_pièces!H929=\"\",\"\",Liste_pièces!H929)","v":""},{"$f":"IF(Liste_pièces!I929=\"\",\"\",Liste_pièces!I929)","v":""},{"$f":"IF(Liste_pièces!J929=\"\",\"\",Liste_pièces!J929)","v":""},{"$f":"IF(Liste_pièces!K929=\"\",\"\",Liste_pièces!K929)","v":""},{"$f":"IF(Liste_pièces!L929=\"\",\"\",Liste_pièces!L929)","v":""},{"$f":"IF(Liste_pièces!M929=\"\",\"\",Liste_pièces!M929)","v":""},0,1,0]
[{"$f":"IF(Liste_pièces!A930=\"\",\"ZZZ\",Liste_pièces!A930)","v":"ZZZ"},{"$f":"IF(Liste_pièces!B930=\"\",\"ZZZ\",Liste_pièces!B930)","v":"ZZZ"},{"$f":"IF(Liste_pièces!C930=\"\",\"\",Liste_pièces!C930)","v":""},{"$f":"IF(Liste_pièces!D930=\"\",\"\",Liste_pièces!D930)","v":""},{"$f":"IF(Liste_pièces!E930=\"\",\"\",Liste_pièces!E930)","v":""},{"$f":"IF(Liste_pièces!F930=\"\",\"\",Liste_pièces!F930)","v":""},{"$f":"IF(Liste_pièces!G930=\"\",\"\",Liste_pièces!G930)","v":""},{"$f":"IF(Liste_pièces!H930=\"\",\"\",Liste_pièces!H930)","v":""},{"$f":"IF(Liste_pièces!I930=\"\",\"\",Liste_pièces!I930)","v":""},{"$f":"IF(Liste_pièces!J930=\"\",\"\",Liste_pièces!J930)","v":""},{"$f":"IF(Liste_pièces!K930=\"\",\"\",Liste_pièces!K930)","v":""},{"$f":"IF(Liste_pièces!L930=\"\",\"\",Liste_pièces!L930)","v":""},{"$f":"IF(Liste_pièces!M930=\"\",\"\",Liste_pièces!M930)","v":""},0,1,0]
[{"$f":"IF(Liste_pièces!A931=\"\",\"ZZZ\",Liste_pièces!A931)","v":"ZZZ"},{"$f":"IF(Liste_pièces!B931=\"\",\"ZZZ\",Liste_pièces!B931)","v":"ZZZ"},{"$f":"IF(Liste_pièces!C931=\"\",\"\",Liste_pièces!C931)","v":""},{"$f":"IF(Liste_pièces!D931=\"\",\"\",Liste_pièces!D931)","v":""},{"$f":"IF(Liste_pièces!E931=\"\",\"\",Liste_pièces!E931)","v":""},{"$f":"IF(Liste_pièces!F931=\"\",\"\",Liste_pièces!F931)","v":""},{"$f":"IF(Liste_pièces!G931=\"\",\"\",Liste_pièces!G931)","v":""},{"$f":"IF(Liste_pièces!H931=\"\",\"\",Liste_pièces!H931)","v":""},{"$f":"IF(Liste_pièces!I931=\"\",\"\",Liste_pièces!I931)","v":""},{"$f":"IF(Liste_pièces!J931=\"\",\"\",Liste_pièces!J931)","v":""},{"$f":"IF(Liste_pièces!K931=\"\",\"\",Liste_pièces!K931)","v":""},{"$f":"IF(Liste_pièces!L931=\"\",\"\",Liste_pièces!L931)","v":""},{"$f":"IF(Liste_pièces!M931=\"\",\"\",Liste_pièces!M931)","v":""},0,1,0]
[{"$f":"IF(Liste_pièces!A932=\"\",\"ZZZ\",Liste_pièces!A932)","v":"ZZZ"},{"$f":"IF(Liste_pièces!B932=\"\",\"ZZZ\",Liste_pièces!B932)","v":"ZZZ"},{"$f":"IF(Liste_pièces!C932=\"\",\"\",Liste_pièces!C932)","v":""},{"$f":"IF(Liste_pièces!D932=\"\",\"\",Liste_pièces!D932)","v":""},{"$f":"IF(Liste_pièces!E932=\"\",\"\",Liste_pièces!E932)","v":""},{"$f":"IF(Liste_pièces!F932=\"\",\"\",Liste_pièces!F932)","v":""},{"$f":"IF(Liste_pièces!G932=\"\",\"\",Liste_pièces!G932)","v":""},{"$f":"IF(Liste_pièces!H932=\"\",\"\",Liste_pièces!H932)","v":""},{"$f":"IF(Liste_pièces!I932=\"\",\"\",Liste_pièces!I932)","v":""},{"$f":"IF(Liste_pièces!J932=\"\",\"\",Liste_pièces!J932)","v":""},{"$f":"IF(Liste_pièces!K932=\"\",\"\",Liste_pièces!K932)","v":""},{"$f":"IF(Liste_pièces!L932=\"\",\"\",Liste_pièces!L932)","v":""},{"$f":"IF(Liste_pièces!M932=\"\",\"\",Liste_pièces!M932)","v":""},0,1,0]
[{"$f":"IF(Liste_pièces!A933=\"\",\"ZZZ\",Liste_pièces!A933)","v":"ZZZ"},{"$f":"IF(Liste_pièces!B933=\"\",\"ZZZ\",Liste_pièces!B933)","v":"ZZZ"},{"$f":"IF(Liste_pièces!C933=\"\",\"\",Liste_pièces!C933)","v":""},{"$f":"IF(Liste_pièces!D933=\"\",\"\",Liste_pièces!D933)","v":""},{"$f":"IF(Liste_pièces!E933=\"\",\"\",Liste_pièces!E933)","v":""},{"$f":"IF(Liste_pièces!F933=\"\",\"\",Liste_pièces!F933)","v":""},{"$f":"IF(Liste_pièces!G933=\"\",\"\",Liste_pièces!G933)","v":""},{"$f":"IF(Liste_pièces!H933=\"\",\"\",Liste_pièces!H933)","v":""},{"$f":"IF(Liste_pièces!I933=\"\",\"\",Liste_pièces!I933)","v":""},{"$f":"IF(Liste_pièces!J933=\"\",\"\",Liste_pièces!J933)","v":""},{"$f":"IF(Liste_pièces!K933=\"\",\"\",Liste_pièces!K933)","v":""},{"$f":"IF(Liste_pièces!L933=\"\",\"\",Liste_pièces!L933)","v":""},{"$f":"IF(Liste_pièces!M933=\"\",\"\",Liste_pièces!M933)","v":""},0,1,0]
[{"$f":"IF(Liste_pièces!A934=\"\",\"ZZZ\",Liste_pièces!A934)","v":"ZZZ"},{"$f":"IF(Liste_pièces!B934=\"\",\"ZZZ\",Liste_pièces!B934)","v":"ZZZ"},{"$f":"IF(Liste_pièces!C934=\"\",\"\",Liste_pièces!C934)","v":""},{"$f":"IF(Liste_pièces!D934=\"\",\"\",Liste_pièces!D934)","v":""},{"$f":"IF(Liste_pièces!E934=\"\",\"\",Liste_pièces!E934)","v":""},{"$f":"IF(Liste_pièces!F934=\"\",\"\",Liste_pièces!F934)","v":""},{"$f":"IF(Liste_pièces!G934=\"\",\"\",Liste_pièces!G934)","v":""},{"$f":"IF(Liste_pièces!H934=\"\",\"\",Liste_pièces!H934)","v":""},{"$f":"IF(Liste_pièces!I934=\"\",\"\",Liste_pièces!I934)","v":""},{"$f":"IF(Liste_pièces!J934=\"\",\"\",Liste_pièces!J934)","v":""},{"$f":"IF(Liste_pièces!K934=\"\",\"\",Liste_pièces!K934)","v":""},{"$f":"IF(Liste_pièces!L934=\"\",\"\",Liste_pièces!L934)","v":""},{"$f":"IF(Liste_pièces!M934=\"\",\"\",Liste_pièces!M934)","v":""},0,1,0]
[{"$f":"IF(Liste_pièces!A935=\"\",\"ZZZ\",Liste_pièces!A935)","v":"ZZZ"},{"$f":"IF(Liste_pièces!B935=\"\",\"ZZZ\",Liste_pièces!B935)","v":"ZZZ"},{"$f":"IF(Liste_pièces!C935=\"\",\"\",Liste_pièces!C935)","v":""},{"$f":"IF(Liste_pièces!D935=\"\",\"\",Liste_pièces!D935)","v":""},{"$f":"IF(Liste_pièces!E935=\"\",\"\",Liste_pièces!E935)","v":""},{"$f":"IF(Liste_pièces!F935=\"\",\"\",Liste_pièces!F935)","v":""},{"$f":"IF(Liste_pièces!G935=\"\",\"\",Liste_pièces!G935)","v":""},{"$f":"IF(Liste_pièces!H935=\"\",\"\",Liste_pièces!H935)","v":""},{"$f":"IF(Liste_pièces!I935=\"\",\"\",Liste_pièces!I935)","v":""},{"$f":"IF(Liste_pièces!J935=\"\",\"\",Liste_pièces!J935)","v":""},{"$f":"IF(Liste_pièces!K935=\"\",\"\",Liste_pièces!K935)","v":""},{"$f":"IF(Liste_pièces!L935=\"\",\"\",Liste_pièces!L935)","v":""},{"$f":"IF(Liste_pièces!M935=\"\",\"\",Liste_pièces!M935)","v":""},0,1,0]
[{"$f":"IF(Liste_pièces!A936=\"\",\"ZZZ\",Liste_pièces!A936)","v":"ZZZ"},{"$f":"IF(Liste_pièces!B936=\"\",\"ZZZ\",Liste_pièces!B936)","v":"ZZZ"},{"$f":"IF(Liste_pièces!C936=\"\",\"\",Liste_pièces!C936)","v":""},{"$f":"IF(Liste_pièces!D936=\"\",\"\",Liste_pièces!D936)","v":""},{"$f":"IF(Liste_pièces!E936=\"\",\"\",Liste_pièces!E936)","v":""},{"$f":"IF(Liste_pièces!F936=\"\",\"\",Liste_pièces!F936)","v":""},{"$f":"IF(Liste_pièces!G936=\"\",\"\",Liste_pièces!G936)","v":""},{"$f":"IF(Liste_pièces!H936=\"\",\"\",Liste_pièces!H936)","v":""},{"$f":"IF(Liste_pièces!I936=\"\",\"\",Liste_pièces!I936)","v":""},{"$f":"IF(Liste_pièces!J936=\"\",\"\",Liste_pièces!J936)","v":""},{"$f":"IF(Liste_pièces!K936=\"\",\"\",Liste_pièces!K936)","v":""},{"$f":"IF(Liste_pièces!L936=\"\",\"\",Liste_pièces!L936)","v":""},{"$f":"IF(Liste_pièces!M936=\"\",\"\",Liste_pièces!M936)","v":""},0,1,0]
[{"$f":"IF(Liste_pièces!A937=\"\",\"ZZZ\",Liste_pièces!A937)","v":"ZZZ"},{"$f":"IF(Liste_pièces!B937=\"\",\"ZZZ\",Liste_pièces!B937)","v":"ZZZ"},{"$f":"IF(Liste_pièces!C937=\"\",\"\",Liste_pièces!C937)","v":""},{"$f":"IF(Liste_pièces!D937=\"\",\"\",Liste_pièces!D937)","v":""},{"$f":"IF(Liste_pièces!E937=\"\",\"\",Liste_pièces!E937)","v":""},{"$f":"IF(Liste_pièces!F937=\"\",\"\",Liste_pièces!F937)","v":""},{"$f":"IF(Liste_pièces!G937=\"\",\"\",Liste_pièces!G937)","v":""},{"$f":"IF(Liste_pièces!H937=\"\",\"\",Liste_pièces!H937)","v":""},{"$f":"IF(Liste_pièces!I937=\"\",\"\",Liste_pièces!I937)","v":""},{"$f":"IF(Liste_pièces!J937=\"\",\"\",Liste_pièces!J937)","v":""},{"$f":"IF(Liste_pièces!K937=\"\",\"\",Liste_pièces!K937)","v":""},{"$f":"IF(Liste_pièces!L937=\"\",\"\",Liste_pièces!L937)","v":""},{"$f":"IF(Liste_pièces!M937=\"\",\"\",Liste_pièces!M937)","v":""},0,1,0]
[{"$f":"IF(Liste_pièces!A938=\"\",\"ZZZ\",Liste_pièces!A938)","v":"ZZZ"},{"$f":"IF(Liste_pièces!B938=\"\",\"ZZZ\",Liste_pièces!B938)","v":"ZZZ"},{"$f":"IF(Liste_pièces!C938=\"\",\"\",Liste_pièces!C938)","v":""},{"$f":"IF(Liste_pièces!D938=\"\",\"\",Liste_pièces!D938)","v":""},{"$f":"IF(Liste_pièces!E938=\"\",\"\",Liste_pièces!E938)","v":""},{"$f":"IF(Liste_pièces!F938=\"\",\"\",Liste_pièces!F938)","v":""},{"$f":"IF(Liste_pièces!G938=\"\",\"\",Liste_pièces!G938)","v":""},{"$f":"IF(Liste_pièces!H938=\"\",\"\",Liste_pièces!H938)","v":""},{"$f":"IF(Liste_pièces!I938=\"\",\"\",Liste_pièces!I938)","v":""},{"$f":"IF(Liste_pièces!J938=\"\",\"\",Liste_pièces!J938)","v":""},{"$f":"IF(Liste_pièces!K938=\"\",\"\",Liste_pièces!K938)","v":""},{"$f":"IF(Liste_pièces!L938=\"\",\"\",Liste_pièces!L938)","v":""},{"$f":"IF(Liste_pièces!M938=\"\",\"\",Liste_pièces!M938)","v":""},0,{"$f":"IF(N938*37=SUM(N901:N937),1,0)","v":1},0]
[{"$f":"IF(Liste_pièces!A939=\"\",\"ZZZ\",Liste_pièces!A939)","v":"ZZZ"},{"$f":"IF(Liste_pièces!B939=\"\",\"ZZZ\",Liste_pièces!B939)","v":"ZZZ"},{"$f":"IF(Liste_pièces!C939=\"\",\"\",Liste_pièces!C939)","v":""},{"$f":"IF(Liste_pièces!D939=\"\",\"\",Liste_pièces!D939)","v":""},{"$f":"IF(Liste_pièces!E939=\"\",\"\",Liste_pièces!E939)","v":""},{"$f":"IF(Liste_pièces!F939=\"\",\"\",Liste_pièces!F939)","v":""},{"$f":"IF(Liste_pièces!G939=\"\",\"\",Liste_pièces!G939)","v":""},{"$f":"IF(Liste_pièces!H939=\"\",\"\",Liste_pièces!H939)","v":""},{"$f":"IF(Liste_pièces!I939=\"\",\"\",Liste_pièces!I939)","v":""},{"$f":"IF(Liste_pièces!J939=\"\",\"\",Liste_pièces!J939)","v":""},{"$f":"IF(Liste_pièces!K939=\"\",\"\",Liste_pièces!K939)","v":""},{"$f":"IF(Liste_pièces!L939=\"\",\"\",Liste_pièces!L939)","v":""},{"$f":"IF(Liste_pièces!M939=\"\",\"\",Liste_pièces!M939)","v":""},0,1,0]
[{"$f":"IF(Liste_pièces!A940=\"\",\"ZZZ\",Liste_pièces!A940)","v":"ZZZ"},{"$f":"IF(Liste_pièces!B940=\"\",\"ZZZ\",Liste_pièces!B940)","v":"ZZZ"},{"$f":"IF(Liste_pièces!C940=\"\",\"\",Liste_pièces!C940)","v":""},{"$f":"IF(Liste_pièces!D940=\"\",\"\",Liste_pièces!D940)","v":""},{"$f":"IF(Liste_pièces!E940=\"\",\"\",Liste_pièces!E940)","v":""},{"$f":"IF(Liste_pièces!F940=\"\",\"\",Liste_pièces!F940)","v":""},{"$f":"IF(Liste_pièces!G940=\"\",\"\",Liste_pièces!G940)","v":""},{"$f":"IF(Liste_pièces!H940=\"\",\"\",Liste_pièces!H940)","v":""},{"$f":"IF(Liste_pièces!I940=\"\",\"\",Liste_pièces!I940)","v":""},{"$f":"IF(Liste_pièces!J940=\"\",\"\",Liste_pièces!J940)","v":""},{"$f":"IF(Liste_pièces!K940=\"\",\"\",Liste_pièces!K940)","v":""},{"$f":"IF(Liste_pièces!L940=\"\",\"\",Liste_pièces!L940)","v":""},{"$f":"IF(Liste_pièces!M940=\"\",\"\",Liste_pièces!M940)","v":""},0,1,0]
[{"$f":"IF(Liste_pièces!A941=\"\",\"ZZZ\",Liste_pièces!A941)","v":"ZZZ"},{"$f":"IF(Liste_pièces!B941=\"\",\"ZZZ\",Liste_pièces!B941)","v":"ZZZ"},{"$f":"IF(Liste_pièces!C941=\"\",\"\",Liste_pièces!C941)","v":""},{"$f":"IF(Liste_pièces!D941=\"\",\"\",Liste_pièces!D941)","v":""},{"$f":"IF(Liste_pièces!E941=\"\",\"\",Liste_pièces!E941)","v":""},{"$f":"IF(Liste_pièces!F941=\"\",\"\",Liste_pièces!F941)","v":""},{"$f":"IF(Liste_pièces!G941=\"\",\"\",Liste_pièces!G941)","v":""},{"$f":"IF(Liste_pièces!H941=\"\",\"\",Liste_pièces!H941)","v":""},{"$f":"IF(Liste_pièces!I941=\"\",\"\",Liste_pièces!I941)","v":""},{"$f":"IF(Liste_pièces!J941=\"\",\"\",Liste_pièces!J941)","v":""},{"$f":"IF(Liste_pièces!K941=\"\",\"\",Liste_pièces!K941)","v":""},{"$f":"IF(Liste_pièces!L941=\"\",\"\",Liste_pièces!L941)","v":""},{"$f":"IF(Liste_pièces!M941=\"\",\"\",Liste_pièces!M941)","v":""},0,1,0]
[{"$f":"IF(Liste_pièces!A942=\"\",\"ZZZ\",Liste_pièces!A942)","v":"ZZZ"},{"$f":"IF(Liste_pièces!B942=\"\",\"ZZZ\",Liste_pièces!B942)","v":"ZZZ"},{"$f":"IF(Liste_pièces!C942=\"\",\"\",Liste_pièces!C942)","v":""},{"$f":"IF(Liste_pièces!D942=\"\",\"\",Liste_pièces!D942)","v":""},{"$f":"IF(Liste_pièces!E942=\"\",\"\",Liste_pièces!E942)","v":""},{"$f":"IF(Liste_pièces!F942=\"\",\"\",Liste_pièces!F942)","v":""},{"$f":"IF(Liste_pièces!G942=\"\",\"\",Liste_pièces!G942)","v":""},{"$f":"IF(Liste_pièces!H942=\"\",\"\",Liste_pièces!H942)","v":""},{"$f":"IF(Liste_pièces!I942=\"\",\"\",Liste_pièces!I942)","v":""},{"$f":"IF(Liste_pièces!J942=\"\",\"\",Liste_pièces!J942)","v":""},{"$f":"IF(Liste_pièces!K942=\"\",\"\",Liste_pièces!K942)","v":""},{"$f":"IF(Liste_pièces!L942=\"\",\"\",Liste_pièces!L942)","v":""},{"$f":"IF(Liste_pièces!M942=\"\",\"\",Liste_pièces!M942)","v":""},0,1,0]
[{"$f":"IF(Liste_pièces!A943=\"\",\"ZZZ\",Liste_pièces!A943)","v":"ZZZ"},{"$f":"IF(Liste_pièces!B943=\"\",\"ZZZ\",Liste_pièces!B943)","v":"ZZZ"},{"$f":"IF(Liste_pièces!C943=\"\",\"\",Liste_pièces!C943)","v":""},{"$f":"IF(Liste_pièces!D943=\"\",\"\",Liste_pièces!D943)","v":""},{"$f":"IF(Liste_pièces!E943=\"\",\"\",Liste_pièces!E943)","v":""},{"$f":"IF(Liste_pièces!F943=\"\",\"\",Liste_pièces!F943)","v":""},{"$f":"IF(Liste_pièces!G943=\"\",\"\",Liste_pièces!G943)","v":""},{"$f":"IF(Liste_pièces!H943=\"\",\"\",Liste_pièces!H943)","v":""},{"$f":"IF(Liste_pièces!I943=\"\",\"\",Liste_pièces!I943)","v":""},{"$f":"IF(Liste_pièces!J943=\"\",\"\",Liste_pièces!J943)","v":""},{"$f":"IF(Liste_pièces!K943=\"\",\"\",Liste_pièces!K943)","v":""},{"$f":"IF(Liste_pièces!L943=\"\",\"\",Liste_pièces!L943)","v":""},{"$f":"IF(Liste_pièces!M943=\"\",\"\",Liste_pièces!M943)","v":""},0,1,0]
[{"$f":"IF(Liste_pièces!A944=\"\",\"ZZZ\",Liste_pièces!A944)","v":"ZZZ"},{"$f":"IF(Liste_pièces!B944=\"\",\"ZZZ\",Liste_pièces!B944)","v":"ZZZ"},{"$f":"IF(Liste_pièces!C944=\"\",\"\",Liste_pièces!C944)","v":""},{"$f":"IF(Liste_pièces!D944=\"\",\"\",Liste_pièces!D944)","v":""},{"$f":"IF(Liste_pièces!E944=\"\",\"\",Liste_pièces!E944)","v":""},{"$f":"IF(Liste_pièces!F944=\"\",\"\",Liste_pièces!F944)","v":""},{"$f":"IF(Liste_pièces!G944=\"\",\"\",Liste_pièces!G944)","v":""},{"$f":"IF(Liste_pièces!H944=\"\",\"\",Liste_pièces!H944)","v":""},{"$f":"IF(Liste_pièces!I944=\"\",\"\",Liste_pièces!I944)","v":""},{"$f":"IF(Liste_pièces!J944=\"\",\"\",Liste_pièces!J944)","v":""},{"$f":"IF(Liste_pièces!K944=\"\",\"\",Liste_pièces!K944)","v":""},{"$f":"IF(Liste_pièces!L944=\"\",\"\",Liste_pièces!L944)","v":""},{"$f":"IF(Liste_pièces!M944=\"\",\"\",Liste_pièces!M944)","v":""},0,1,0]
[{"$f":"IF(Liste_pièces!A945=\"\",\"ZZZ\",Liste_pièces!A945)","v":"ZZZ"},{"$f":"IF(Liste_pièces!B945=\"\",\"ZZZ\",Liste_pièces!B945)","v":"ZZZ"},{"$f":"IF(Liste_pièces!C945=\"\",\"\",Liste_pièces!C945)","v":""},{"$f":"IF(Liste_pièces!D945=\"\",\"\",Liste_pièces!D945)","v":""},{"$f":"IF(Liste_pièces!E945=\"\",\"\",Liste_pièces!E945)","v":""},{"$f":"IF(Liste_pièces!F945=\"\",\"\",Liste_pièces!F945)","v":""},{"$f":"IF(Liste_pièces!G945=\"\",\"\",Liste_pièces!G945)","v":""},{"$f":"IF(Liste_pièces!H945=\"\",\"\",Liste_pièces!H945)","v":""},{"$f":"IF(Liste_pièces!I945=\"\",\"\",Liste_pièces!I945)","v":""},{"$f":"IF(Liste_pièces!J945=\"\",\"\",Liste_pièces!J945)","v":""},{"$f":"IF(Liste_pièces!K945=\"\",\"\",Liste_pièces!K945)","v":""},{"$f":"IF(Liste_pièces!L945=\"\",\"\",Liste_pièces!L945)","v":""},{"$f":"IF(Liste_pièces!M945=\"\",\"\",Liste_pièces!M945)","v":""},0,1,0]
[{"$f":"IF(Liste_pièces!A946=\"\",\"ZZZ\",Liste_pièces!A946)","v":"ZZZ"},{"$f":"IF(Liste_pièces!B946=\"\",\"ZZZ\",Liste_pièces!B946)","v":"ZZZ"},{"$f":"IF(Liste_pièces!C946=\"\",\"\",Liste_pièces!C946)","v":""},{"$f":"IF(Liste_pièces!D946=\"\",\"\",Liste_pièces!D946)","v":""},{"$f":"IF(Liste_pièces!E946=\"\",\"\",Liste_pièces!E946)","v":""},{"$f":"IF(Liste_pièces!F946=\"\",\"\",Liste_pièces!F946)","v":""},{"$f":"IF(Liste_pièces!G946=\"\",\"\",Liste_pièces!G946)","v":""},{"$f":"IF(Liste_pièces!H946=\"\",\"\",Liste_pièces!H946)","v":""},{"$f":"IF(Liste_pièces!I946=\"\",\"\",Liste_pièces!I946)","v":""},{"$f":"IF(Liste_pièces!J946=\"\",\"\",Liste_pièces!J946)","v":""},{"$f":"IF(Liste_pièces!K946=\"\",\"\",Liste_pièces!K946)","v":""},{"$f":"IF(Liste_pièces!L946=\"\",\"\",Liste_pièces!L946)","v":""},{"$f":"IF(Liste_pièces!M946=\"\",\"\",Liste_pièces!M946)","v":""},0,1,0]
[{"$f":"IF(Liste_pièces!A947=\"\",\"ZZZ\",Liste_pièces!A947)","v":"ZZZ"},{"$f":"IF(Liste_pièces!B947=\"\",\"ZZZ\",Liste_pièces!B947)","v":"ZZZ"},{"$f":"IF(Liste_pièces!C947=\"\",\"\",Liste_pièces!C947)","v":""},{"$f":"IF(Liste_pièces!D947=\"\",\"\",Liste_pièces!D947)","v":""},{"$f":"IF(Liste_pièces!E947=\"\",\"\",Liste_pièces!E947)","v":""},{"$f":"IF(Liste_pièces!F947=\"\",\"\",Liste_pièces!F947)","v":""},{"$f":"IF(Liste_pièces!G947=\"\",\"\",Liste_pièces!G947)","v":""},{"$f":"IF(Liste_pièces!H947=\"\",\"\",Liste_pièces!H947)","v":""},{"$f":"IF(Liste_pièces!I947=\"\",\"\",Liste_pièces!I947)","v":""},{"$f":"IF(Liste_pièces!J947=\"\",\"\",Liste_pièces!J947)","v":""},{"$f":"IF(Liste_pièces!K947=\"\",\"\",Liste_pièces!K947)","v":""},{"$f":"IF(Liste_pièces!L947=\"\",\"\",Liste_pièces!L947)","v":""},{"$f":"IF(Liste_pièces!M947=\"\",\"\",Liste_pièces!M947)","v":""},0,1,0]
[{"$f":"IF(Liste_pièces!A948=\"\",\"ZZZ\",Liste_pièces!A948)","v":"ZZZ"},{"$f":"IF(Liste_pièces!B948=\"\",\"ZZZ\",Liste_pièces!B948)","v":"ZZZ"},{"$f":"IF(Liste_pièces!C948=\"\",\"\",Liste_pièces!C948)","v":""},{"$f":"IF(Liste_pièces!D948=\"\",\"\",Liste_pièces!D948)","v":""},{"$f":"IF(Liste_pièces!E948=\"\",\"\",Liste_pièces!E948)","v":""},{"$f":"IF(Liste_pièces!F948=\"\",\"\",Liste_pièces!F948)","v":""},{"$f":"IF(Liste_pièces!G948=\"\",\"\",Liste_pièces!G948)","v":""},{"$f":"IF(Liste_pièces!H948=\"\",\"\",Liste_pièces!H948)","v":""},{"$f":"IF(Liste_pièces!I948=\"\",\"\",Liste_pièces!I948)","v":""},{"$f":"IF(Liste_pièces!J948=\"\",\"\",Liste_pièces!J948)","v":""},{"$f":"IF(Liste_pièces!K948=\"\",\"\",Liste_pièces!K948)","v":""},{"$f":"IF(Liste_pièces!L948=\"\",\"\",Liste_pièces!L948)","v":""},{"$f":"IF(Liste_pièces!M948=\"\",\"\",Liste_pièces!M948)","v":""},0,1,0]
[{"$f":"IF(Liste_pièces!A949=\"\",\"ZZZ\",Liste_pièces!A949)","v":"ZZZ"},{"$f":"IF(Liste_pièces!B949=\"\",\"ZZZ\",Liste_pièces!B949)","v":"ZZZ"},{"$f":"IF(Liste_pièces!C949=\"\",\"\",Liste_pièces!C949)","v":""},{"$f":"IF(Liste_pièces!D949=\"\",\"\",Liste_pièces!D949)","v":""},{"$f":"IF(Liste_pièces!E949=\"\",\"\",Liste_pièces!E949)","v":""},{"$f":"IF(Liste_pièces!F949=\"\",\"\",Liste_pièces!F949)","v":""},{"$f":"IF(Liste_pièces!G949=\"\",\"\",Liste_pièces!G949)","v":""},{"$f":"IF(Liste_pièces!H949=\"\",\"\",Liste_pièces!H949)","v":""},{"$f":"IF(Liste_pièces!I949=\"\",\"\",Liste_pièces!I949)","v":""},{"$f":"IF(Liste_pièces!J949=\"\",\"\",Liste_pièces!J949)","v":""},{"$f":"IF(Liste_pièces!K949=\"\",\"\",Liste_pièces!K949)","v":""},{"$f":"IF(Liste_pièces!L949=\"\",\"\",Liste_pièces!L949)","v":""},{"$f":"IF(Liste_pièces!M949=\"\",\"\",Liste_pièces!M949)","v":""},0,1,0]
[{"$f":"IF(Liste_pièces!A950=\"\",\"ZZZ\",Liste_pièces!A950)","v":"ZZZ"},{"$f":"IF(Liste_pièces!B950=\"\",\"ZZZ\",Liste_pièces!B950)","v":"ZZZ"},{"$f":"IF(Liste_pièces!C950=\"\",\"\",Liste_pièces!C950)","v":""},{"$f":"IF(Liste_pièces!D950=\"\",\"\",Liste_pièces!D950)","v":""},{"$f":"IF(Liste_pièces!E950=\"\",\"\",Liste_pièces!E950)","v":""},{"$f":"IF(Liste_pièces!F950=\"\",\"\",Liste_pièces!F950)","v":""},{"$f":"IF(Liste_pièces!G950=\"\",\"\",Liste_pièces!G950)","v":""},{"$f":"IF(Liste_pièces!H950=\"\",\"\",Liste_pièces!H950)","v":""},{"$f":"IF(Liste_pièces!I950=\"\",\"\",Liste_pièces!I950)","v":""},{"$f":"IF(Liste_pièces!J950=\"\",\"\",Liste_pièces!J950)","v":""},{"$f":"IF(Liste_pièces!K950=\"\",\"\",Liste_pièces!K950)","v":""},{"$f":"IF(Liste_pièces!L950=\"\",\"\",Liste_pièces!L950)","v":""},{"$f":"IF(Liste_pièces!M950=\"\",\"\",Liste_pièces!M950)","v":""},0,1,0]
[{"$f":"IF(Liste_pièces!A951=\"\",\"ZZZ\",Liste_pièces!A951)","v":"ZZZ"},{"$f":"IF(Liste_pièces!B951=\"\",\"ZZZ\",Liste_pièces!B951)","v":"ZZZ"},{"$f":"IF(Liste_pièces!C951=\"\",\"\",Liste_pièces!C951)","v":""},{"$f":"IF(Liste_pièces!D951=\"\",\"\",Liste_pièces!D951)","v":""},{"$f":"IF(Liste_pièces!E951=\"\",\"\",Liste_pièces!E951)","v":""},{"$f":"IF(Liste_pièces!F951=\"\",\"\",Liste_pièces!F951)","v":""},{"$f":"IF(Liste_pièces!G951=\"\",\"\",Liste_pièces!G951)","v":""},{"$f":"IF(Liste_pièces!H951=\"\",\"\",Liste_pièces!H951)","v":""},{"$f":"IF(Liste_pièces!I951=\"\",\"\",Liste_pièces!I951)","v":""},{"$f":"IF(Liste_pièces!J951=\"\",\"\",Liste_pièces!J951)","v":""},{"$f":"IF(Liste_pièces!K951=\"\",\"\",Liste_pièces!K951)","v":""},{"$f":"IF(Liste_pièces!L951=\"\",\"\",Liste_pièces!L951)","v":""},{"$f":"IF(Liste_pièces!M951=\"\",\"\",Liste_pièces!M951)","v":""},0,1,0]
[{"$f":"IF(Liste_pièces!A952=\"\",\"ZZZ\",Liste_pièces!A952)","v":"ZZZ"},{"$f":"IF(Liste_pièces!B952=\"\",\"ZZZ\",Liste_pièces!B952)","v":"ZZZ"},{"$f":"IF(Liste_pièces!C952=\"\",\"\",Liste_pièces!C952)","v":""},{"$f":"IF(Liste_pièces!D952=\"\",\"\",Liste_pièces!D952)","v":""},{"$f":"IF(Liste_pièces!E952=\"\",\"\",Liste_pièces!E952)","v":""},{"$f":"IF(Liste_pièces!F952=\"\",\"\",Liste_pièces!F952)","v":""},{"$f":"IF(Liste_pièces!G952=\"\",\"\",Liste_pièces!G952)","v":""},{"$f":"IF(Liste_pièces!H952=\"\",\"\",Liste_pièces!H952)","v":""},{"$f":"IF(Liste_pièces!I952=\"\",\"\",Liste_pièces!I952)","v":""},{"$f":"IF(Liste_pièces!J952=\"\",\"\",Liste_pièces!J952)","v":""},{"$f":"IF(Liste_pièces!K952=\"\",\"\",Liste_pièces!K952)","v":""},{"$f":"IF(Liste_pièces!L952=\"\",\"\",Liste_pièces!L952)","v":""},{"$f":"IF(Liste_pièces!M952=\"\",\"\",Liste_pièces!M952)","v":""},0,1,0]
[{"$f":"IF(Liste_pièces!A953=\"\",\"ZZZ\",Liste_pièces!A953)","v":"ZZZ"},{"$f":"IF(Liste_pièces!B953=\"\",\"ZZZ\",Liste_pièces!B953)","v":"ZZZ"},{"$f":"IF(Liste_pièces!C953=\"\",\"\",Liste_pièces!C953)","v":""},{"$f":"IF(Liste_pièces!D953=\"\",\"\",Liste_pièces!D953)","v":""},{"$f":"IF(Liste_pièces!E953=\"\",\"\",Liste_pièces!E953)","v":""},{"$f":"IF(Liste_pièces!F953=\"\",\"\",Liste_pièces!F953)","v":""},{"$f":"IF(Liste_pièces!G953=\"\",\"\",Liste_pièces!G953)","v":""},{"$f":"IF(Liste_pièces!H953=\"\",\"\",Liste_pièces!H953)","v":""},{"$f":"IF(Liste_pièces!I953=\"\",\"\",Liste_pièces!I953)","v":""},{"$f":"IF(Liste_pièces!J953=\"\",\"\",Liste_pièces!J953)","v":""},{"$f":"IF(Liste_pièces!K953=\"\",\"\",Liste_pièces!K953)","v":""},{"$f":"IF(Liste_pièces!L953=\"\",\"\",Liste_pièces!L953)","v":""},{"$f":"IF(Liste_pièces!M953=\"\",\"\",Liste_pièces!M953)","v":""},0,1,0]
[{"$f":"IF(Liste_pièces!A954=\"\",\"ZZZ\",Liste_pièces!A954)","v":"ZZZ"},{"$f":"IF(Liste_pièces!B954=\"\",\"ZZZ\",Liste_pièces!B954)","v":"ZZZ"},{"$f":"IF(Liste_pièces!C954=\"\",\"\",Liste_pièces!C954)","v":""},{"$f":"IF(Liste_pièces!D954=\"\",\"\",Liste_pièces!D954)","v":""},{"$f":"IF(Liste_pièces!E954=\"\",\"\",Liste_pièces!E954)","v":""},{"$f":"IF(Liste_pièces!F954=\"\",\"\",Liste_pièces!F954)","v":""},{"$f":"IF(Liste_pièces!G954=\"\",\"\",Liste_pièces!G954)","v":""},{"$f":"IF(Liste_pièces!H954=\"\",\"\",Liste_pièces!H954)","v":""},{"$f":"IF(Liste_pièces!I954=\"\",\"\",Liste_pièces!I954)","v":""},{"$f":"IF(Liste_pièces!J954=\"\",\"\",Liste_pièces!J954)","v":""},{"$f":"IF(Liste_pièces!K954=\"\",\"\",Liste_pièces!K954)","v":""},{"$f":"IF(Liste_pièces!L954=\"\",\"\",Liste_pièces!L954)","v":""},{"$f":"IF(Liste_pièces!M954=\"\",\"\",Liste_pièces!M954)","v":""},0,1,0]
[{"$f":"IF(Liste_pièces!A955=\"\",\"ZZZ\",Liste_pièces!A955)","v":"ZZZ"},{"$f":"IF(Liste_pièces!B955=\"\",\"ZZZ\",Liste_pièces!B955)","v":"ZZZ"},{"$f":"IF(Liste_pièces!C955=\"\",\"\",Liste_pièces!C955)","v":""},{"$f":"IF(Liste_pièces!D955=\"\",\"\",Liste_pièces!D955)","v":""},{"$f":"IF(Liste_pièces!E955=\"\",\"\",Liste_pièces!E955)","v":""},{"$f":"IF(Liste_pièces!F955=\"\",\"\",Liste_pièces!F955)","v":""},{"$f":"IF(Liste_pièces!G955=\"\",\"\",Liste_pièces!G955)","v":""},{"$f":"IF(Liste_pièces!H955=\"\",\"\",Liste_pièces!H955)","v":""},{"$f":"IF(Liste_pièces!I955=\"\",\"\",Liste_pièces!I955)","v":""},{"$f":"IF(Liste_pièces!J955=\"\",\"\",Liste_pièces!J955)","v":""},{"$f":"IF(Liste_pièces!K955=\"\",\"\",Liste_pièces!K955)","v":""},{"$f":"IF(Liste_pièces!L955=\"\",\"\",Liste_pièces!L955)","v":""},{"$f":"IF(Liste_pièces!M955=\"\",\"\",Liste_pièces!M955)","v":""},0,1,0]
[{"$f":"IF(Liste_pièces!A956=\"\",\"ZZZ\",Liste_pièces!A956)","v":"ZZZ"},{"$f":"IF(Liste_pièces!B956=\"\",\"ZZZ\",Liste_pièces!B956)","v":"ZZZ"},{"$f":"IF(Liste_pièces!C956=\"\",\"\",Liste_pièces!C956)","v":""},{"$f":"IF(Liste_pièces!D956=\"\",\"\",Liste_pièces!D956)","v":""},{"$f":"IF(Liste_pièces!E956=\"\",\"\",Liste_pièces!E956)","v":""},{"$f":"IF(Liste_pièces!F956=\"\",\"\",Liste_pièces!F956)","v":""},{"$f":"IF(Liste_pièces!G956=\"\",\"\",Liste_pièces!G956)","v":""},{"$f":"IF(Liste_pièces!H956=\"\",\"\",Liste_pièces!H956)","v":""},{"$f":"IF(Liste_pièces!I956=\"\",\"\",Liste_pièces!I956)","v":""},{"$f":"IF(Liste_pièces!J956=\"\",\"\",Liste_pièces!J956)","v":""},{"$f":"IF(Liste_pièces!K956=\"\",\"\",Liste_pièces!K956)","v":""},{"$f":"IF(Liste_pièces!L956=\"\",\"\",Liste_pièces!L956)","v":""},{"$f":"IF(Liste_pièces!M956=\"\",\"\",Liste_pièces!M956)","v":""},0,1,0]
[{"$f":"IF(Liste_pièces!A957=\"\",\"ZZZ\",Liste_pièces!A957)","v":"ZZZ"},{"$f":"IF(Liste_pièces!B957=\"\",\"ZZZ\",Liste_pièces!B957)","v":"ZZZ"},{"$f":"IF(Liste_pièces!C957=\"\",\"\",Liste_pièces!C957)","v":""},{"$f":"IF(Liste_pièces!D957=\"\",\"\",Liste_pièces!D957)","v":""},{"$f":"IF(Liste_pièces!E957=\"\",\"\",Liste_pièces!E957)","v":""},{"$f":"IF(Liste_pièces!F957=\"\",\"\",Liste_pièces!F957)","v":""},{"$f":"IF(Liste_pièces!G957=\"\",\"\",Liste_pièces!G957)","v":""},{"$f":"IF(Liste_pièces!H957=\"\",\"\",Liste_pièces!H957)","v":""},{"$f":"IF(Liste_pièces!I957=\"\",\"\",Liste_pièces!I957)","v":""},{"$f":"IF(Liste_pièces!J957=\"\",\"\",Liste_pièces!J957)","v":""},{"$f":"IF(Liste_pièces!K957=\"\",\"\",Liste_pièces!K957)","v":""},{"$f":"IF(Liste_pièces!L957=\"\",\"\",Liste_pièces!L957)","v":""},{"$f":"IF(Liste_pièces!M957=\"\",\"\",Liste_pièces!M957)","v":""},0,1,0]
[{"$f":"IF(Liste_pièces!A958=\"\",\"ZZZ\",Liste_pièces!A958)","v":"ZZZ"},{"$f":"IF(Liste_pièces!B958=\"\",\"ZZZ\",Liste_pièces!B958)","v":"ZZZ"},{"$f":"IF(Liste_pièces!C958=\"\",\"\",Liste_pièces!C958)","v":""},{"$f":"IF(Liste_pièces!D958=\"\",\"\",Liste_pièces!D958)","v":""},{"$f":"IF(Liste_pièces!E958=\"\",\"\",Liste_pièces!E958)","v":""},{"$f":"IF(Liste_pièces!F958=\"\",\"\",Liste_pièces!F958)","v":""},{"$f":"IF(Liste_pièces!G958=\"\",\"\",Liste_pièces!G958)","v":""},{"$f":"IF(Liste_pièces!H958=\"\",\"\",Liste_pièces!H958)","v":""},{"$f":"IF(Liste_pièces!I958=\"\",\"\",Liste_pièces!I958)","v":""},{"$f":"IF(Liste_pièces!J958=\"\",\"\",Liste_pièces!J958)","v":""},{"$f":"IF(Liste_pièces!K958=\"\",\"\",Liste_pièces!K958)","v":""},{"$f":"IF(Liste_pièces!L958=\"\",\"\",Liste_pièces!L958)","v":""},{"$f":"IF(Liste_pièces!M958=\"\",\"\",Liste_pièces!M958)","v":""},0,1,0]
[{"$f":"IF(Liste_pièces!A959=\"\",\"ZZZ\",Liste_pièces!A959)","v":"ZZZ"},{"$f":"IF(Liste_pièces!B959=\"\",\"ZZZ\",Liste_pièces!B959)","v":"ZZZ"},{"$f":"IF(Liste_pièces!C959=\"\",\"\",Liste_pièces!C959)","v":""},{"$f":"IF(Liste_pièces!D959=\"\",\"\",Liste_pièces!D959)","v":""},{"$f":"IF(Liste_pièces!E959=\"\",\"\",Liste_pièces!E959)","v":""},{"$f":"IF(Liste_pièces!F959=\"\",\"\",Liste_pièces!F959)","v":""},{"$f":"IF(Liste_pièces!G959=\"\",\"\",Liste_pièces!G959)","v":""},{"$f":"IF(Liste_pièces!H959=\"\",\"\",Liste_pièces!H959)","v":""},{"$f":"IF(Liste_pièces!I959=\"\",\"\",Liste_pièces!I959)","v":""},{"$f":"IF(Liste_pièces!J959=\"\",\"\",Liste_pièces!J959)","v":""},{"$f":"IF(Liste_pièces!K959=\"\",\"\",Liste_pièces!K959)","v":""},{"$f":"IF(Liste_pièces!L959=\"\",\"\",Liste_pièces!L959)","v":""},{"$f":"IF(Liste_pièces!M959=\"\",\"\",Liste_pièces!M959)","v":""},0,1,0]
[{"$f":"IF(Liste_pièces!A960=\"\",\"ZZZ\",Liste_pièces!A960)","v":"ZZZ"},{"$f":"IF(Liste_pièces!B960=\"\",\"ZZZ\",Liste_pièces!B960)","v":"ZZZ"},{"$f":"IF(Liste_pièces!C960=\"\",\"\",Liste_pièces!C960)","v":""},{"$f":"IF(Liste_pièces!D960=\"\",\"\",Liste_pièces!D960)","v":""},{"$f":"IF(Liste_pièces!E960=\"\",\"\",Liste_pièces!E960)","v":""},{"$f":"IF(Liste_pièces!F960=\"\",\"\",Liste_pièces!F960)","v":""},{"$f":"IF(Liste_pièces!G960=\"\",\"\",Liste_pièces!G960)","v":""},{"$f":"IF(Liste_pièces!H960=\"\",\"\",Liste_pièces!H960)","v":""},{"$f":"IF(Liste_pièces!I960=\"\",\"\",Liste_pièces!I960)","v":""},{"$f":"IF(Liste_pièces!J960=\"\",\"\",Liste_pièces!J960)","v":""},{"$f":"IF(Liste_pièces!K960=\"\",\"\",Liste_pièces!K960)","v":""},{"$f":"IF(Liste_pièces!L960=\"\",\"\",Liste_pièces!L960)","v":""},{"$f":"IF(Liste_pièces!M960=\"\",\"\",Liste_pièces!M960)","v":""},0,1,0]
[{"$f":"IF(Liste_pièces!A961=\"\",\"ZZZ\",Liste_pièces!A961)","v":"ZZZ"},{"$f":"IF(Liste_pièces!B961=\"\",\"ZZZ\",Liste_pièces!B961)","v":"ZZZ"},{"$f":"IF(Liste_pièces!C961=\"\",\"\",Liste_pièces!C961)","v":""},{"$f":"IF(Liste_pièces!D961=\"\",\"\",Liste_pièces!D961)","v":""},{"$f":"IF(Liste_pièces!E961=\"\",\"\",Liste_pièces!E961)","v":""},{"$f":"IF(Liste_pièces!F961=\"\",\"\",Liste_pièces!F961)","v":""},{"$f":"IF(Liste_pièces!G961=\"\",\"\",Liste_pièces!G961)","v":""},{"$f":"IF(Liste_pièces!H961=\"\",\"\",Liste_pièces!H961)","v":""},{"$f":"IF(Liste_pièces!I961=\"\",\"\",Liste_pièces!I961)","v":""},{"$f":"IF(Liste_pièces!J961=\"\",\"\",Liste_pièces!J961)","v":""},{"$f":"IF(Liste_pièces!K961=\"\",\"\",Liste_pièces!K961)","v":""},{"$f":"IF(Liste_pièces!L961=\"\",\"\",Liste_pièces!L961)","v":""},{"$f":"IF(Liste_pièces!M961=\"\",\"\",Liste_pièces!M961)","v":""},0,1,0]
[{"$f":"IF(Liste_pièces!A962=\"\",\"ZZZ\",Liste_pièces!A962)","v":"ZZZ"},{"$f":"IF(Liste_pièces!B962=\"\",\"ZZZ\",Liste_pièces!B962)","v":"ZZZ"},{"$f":"IF(Liste_pièces!C962=\"\",\"\",Liste_pièces!C962)","v":""},{"$f":"IF(Liste_pièces!D962=\"\",\"\",Liste_pièces!D962)","v":""},{"$f":"IF(Liste_pièces!E962=\"\",\"\",Liste_pièces!E962)","v":""},{"$f":"IF(Liste_pièces!F962=\"\",\"\",Liste_pièces!F962)","v":""},{"$f":"IF(Liste_pièces!G962=\"\",\"\",Liste_pièces!G962)","v":""},{"$f":"IF(Liste_pièces!H962=\"\",\"\",Liste_pièces!H962)","v":""},{"$f":"IF(Liste_pièces!I962=\"\",\"\",Liste_pièces!I962)","v":""},{"$f":"IF(Liste_pièces!J962=\"\",\"\",Liste_pièces!J962)","v":""},{"$f":"IF(Liste_pièces!K962=\"\",\"\",Liste_pièces!K962)","v":""},{"$f":"IF(Liste_pièces!L962=\"\",\"\",Liste_pièces!L962)","v":""},{"$f":"IF(Liste_pièces!M962=\"\",\"\",Liste_pièces!M962)","v":""},{"$f":"IF(B1706=\"ZZZ\",0,IF(B1706=B1705,N961,1+N961))","v":0},1,0]
[{"$f":"IF(Liste_pièces!A963=\"\",\"ZZZ\",Liste_pièces!A963)","v":"ZZZ"},{"$f":"IF(Liste_pièces!B963=\"\",\"ZZZ\",Liste_pièces!B963)","v":"ZZZ"},{"$f":"IF(Liste_pièces!C963=\"\",\"\",Liste_pièces!C963)","v":""},{"$f":"IF(Liste_pièces!D963=\"\",\"\",Liste_pièces!D963)","v":""},{"$f":"IF(Liste_pièces!E963=\"\",\"\",Liste_pièces!E963)","v":""},{"$f":"IF(Liste_pièces!F963=\"\",\"\",Liste_pièces!F963)","v":""},{"$f":"IF(Liste_pièces!G963=\"\",\"\",Liste_pièces!G963)","v":""},{"$f":"IF(Liste_pièces!H963=\"\",\"\",Liste_pièces!H963)","v":""},{"$f":"IF(Liste_pièces!I963=\"\",\"\",Liste_pièces!I963)","v":""},{"$f":"IF(Liste_pièces!J963=\"\",\"\",Liste_pièces!J963)","v":""},{"$f":"IF(Liste_pièces!K963=\"\",\"\",Liste_pièces!K963)","v":""},{"$f":"IF(Liste_pièces!L963=\"\",\"\",Liste_pièces!L963)","v":""},{"$f":"IF(Liste_pièces!M963=\"\",\"\",Liste_pièces!M963)","v":""},0,1,0]
[{"$f":"IF(Liste_pièces!A964=\"\",\"ZZZ\",Liste_pièces!A964)","v":"ZZZ"},{"$f":"IF(Liste_pièces!B964=\"\",\"ZZZ\",Liste_pièces!B964)","v":"ZZZ"},{"$f":"IF(Liste_pièces!C964=\"\",\"\",Liste_pièces!C964)","v":""},{"$f":"IF(Liste_pièces!D964=\"\",\"\",Liste_pièces!D964)","v":""},{"$f":"IF(Liste_pièces!E964=\"\",\"\",Liste_pièces!E964)","v":""},{"$f":"IF(Liste_pièces!F964=\"\",\"\",Liste_pièces!F964)","v":""},{"$f":"IF(Liste_pièces!G964=\"\",\"\",Liste_pièces!G964)","v":""},{"$f":"IF(Liste_pièces!H964=\"\",\"\",Liste_pièces!H964)","v":""},{"$f":"IF(Liste_pièces!I964=\"\",\"\",Liste_pièces!I964)","v":""},{"$f":"IF(Liste_pièces!J964=\"\",\"\",Liste_pièces!J964)","v":""},{"$f":"IF(Liste_pièces!K964=\"\",\"\",Liste_pièces!K964)","v":""},{"$f":"IF(Liste_pièces!L964=\"\",\"\",Liste_pièces!L964)","v":""},{"$f":"IF(Liste_pièces!M964=\"\",\"\",Liste_pièces!M964)","v":""},0,1,0]
[{"$f":"IF(Liste_pièces!A965=\"\",\"ZZZ\",Liste_pièces!A965)","v":"ZZZ"},{"$f":"IF(Liste_pièces!B965=\"\",\"ZZZ\",Liste_pièces!B965)","v":"ZZZ"},{"$f":"IF(Liste_pièces!C965=\"\",\"\",Liste_pièces!C965)","v":""},{"$f":"IF(Liste_pièces!D965=\"\",\"\",Liste_pièces!D965)","v":""},{"$f":"IF(Liste_pièces!E965=\"\",\"\",Liste_pièces!E965)","v":""},{"$f":"IF(Liste_pièces!F965=\"\",\"\",Liste_pièces!F965)","v":""},{"$f":"IF(Liste_pièces!G965=\"\",\"\",Liste_pièces!G965)","v":""},{"$f":"IF(Liste_pièces!H965=\"\",\"\",Liste_pièces!H965)","v":""},{"$f":"IF(Liste_pièces!I965=\"\",\"\",Liste_pièces!I965)","v":""},{"$f":"IF(Liste_pièces!J965=\"\",\"\",Liste_pièces!J965)","v":""},{"$f":"IF(Liste_pièces!K965=\"\",\"\",Liste_pièces!K965)","v":""},{"$f":"IF(Liste_pièces!L965=\"\",\"\",Liste_pièces!L965)","v":""},{"$f":"IF(Liste_pièces!M965=\"\",\"\",Liste_pièces!M965)","v":""},0,1,0]
[{"$f":"IF(Liste_pièces!A966=\"\",\"ZZZ\",Liste_pièces!A966)","v":"ZZZ"},{"$f":"IF(Liste_pièces!B966=\"\",\"ZZZ\",Liste_pièces!B966)","v":"ZZZ"},{"$f":"IF(Liste_pièces!C966=\"\",\"\",Liste_pièces!C966)","v":""},{"$f":"IF(Liste_pièces!D966=\"\",\"\",Liste_pièces!D966)","v":""},{"$f":"IF(Liste_pièces!E966=\"\",\"\",Liste_pièces!E966)","v":""},{"$f":"IF(Liste_pièces!F966=\"\",\"\",Liste_pièces!F966)","v":""},{"$f":"IF(Liste_pièces!G966=\"\",\"\",Liste_pièces!G966)","v":""},{"$f":"IF(Liste_pièces!H966=\"\",\"\",Liste_pièces!H966)","v":""},{"$f":"IF(Liste_pièces!I966=\"\",\"\",Liste_pièces!I966)","v":""},{"$f":"IF(Liste_pièces!J966=\"\",\"\",Liste_pièces!J966)","v":""},{"$f":"IF(Liste_pièces!K966=\"\",\"\",Liste_pièces!K966)","v":""},{"$f":"IF(Liste_pièces!L966=\"\",\"\",Liste_pièces!L966)","v":""},{"$f":"IF(Liste_pièces!M966=\"\",\"\",Liste_pièces!M966)","v":""},0,1,0]
[{"$f":"IF(Liste_pièces!A967=\"\",\"ZZZ\",Liste_pièces!A967)","v":"ZZZ"},{"$f":"IF(Liste_pièces!B967=\"\",\"ZZZ\",Liste_pièces!B967)","v":"ZZZ"},{"$f":"IF(Liste_pièces!C967=\"\",\"\",Liste_pièces!C967)","v":""},{"$f":"IF(Liste_pièces!D967=\"\",\"\",Liste_pièces!D967)","v":""},{"$f":"IF(Liste_pièces!E967=\"\",\"\",Liste_pièces!E967)","v":""},{"$f":"IF(Liste_pièces!F967=\"\",\"\",Liste_pièces!F967)","v":""},{"$f":"IF(Liste_pièces!G967=\"\",\"\",Liste_pièces!G967)","v":""},{"$f":"IF(Liste_pièces!H967=\"\",\"\",Liste_pièces!H967)","v":""},{"$f":"IF(Liste_pièces!I967=\"\",\"\",Liste_pièces!I967)","v":""},{"$f":"IF(Liste_pièces!J967=\"\",\"\",Liste_pièces!J967)","v":""},{"$f":"IF(Liste_pièces!K967=\"\",\"\",Liste_pièces!K967)","v":""},{"$f":"IF(Liste_pièces!L967=\"\",\"\",Liste_pièces!L967)","v":""},{"$f":"IF(Liste_pièces!M967=\"\",\"\",Liste_pièces!M967)","v":""},0,1,{"$f":"IF(N967=0,0,IF(N967<>N966,MAX(N967+O966,P966+1),IF(O966=O967,P966,P966+O967)))","v":0}]
[{"$f":"IF(Liste_pièces!A968=\"\",\"ZZZ\",Liste_pièces!A968)","v":"ZZZ"},{"$f":"IF(Liste_pièces!B968=\"\",\"ZZZ\",Liste_pièces!B968)","v":"ZZZ"},{"$f":"IF(Liste_pièces!C968=\"\",\"\",Liste_pièces!C968)","v":""},{"$f":"IF(Liste_pièces!D968=\"\",\"\",Liste_pièces!D968)","v":""},{"$f":"IF(Liste_pièces!E968=\"\",\"\",Liste_pièces!E968)","v":""},{"$f":"IF(Liste_pièces!F968=\"\",\"\",Liste_pièces!F968)","v":""},{"$f":"IF(Liste_pièces!G968=\"\",\"\",Liste_pièces!G968)","v":""},{"$f":"IF(Liste_pièces!H968=\"\",\"\",Liste_pièces!H968)","v":""},{"$f":"IF(Liste_pièces!I968=\"\",\"\",Liste_pièces!I968)","v":""},{"$f":"IF(Liste_pièces!J968=\"\",\"\",Liste_pièces!J968)","v":""},{"$f":"IF(Liste_pièces!K968=\"\",\"\",Liste_pièces!K968)","v":""},{"$f":"IF(Liste_pièces!L968=\"\",\"\",Liste_pièces!L968)","v":""},{"$f":"IF(Liste_pièces!M968=\"\",\"\",Liste_pièces!M968)","v":""},0,1,0]
[{"$f":"IF(Liste_pièces!A969=\"\",\"ZZZ\",Liste_pièces!A969)","v":"ZZZ"},{"$f":"IF(Liste_pièces!B969=\"\",\"ZZZ\",Liste_pièces!B969)","v":"ZZZ"},{"$f":"IF(Liste_pièces!C969=\"\",\"\",Liste_pièces!C969)","v":""},{"$f":"IF(Liste_pièces!D969=\"\",\"\",Liste_pièces!D969)","v":""},{"$f":"IF(Liste_pièces!E969=\"\",\"\",Liste_pièces!E969)","v":""},{"$f":"IF(Liste_pièces!F969=\"\",\"\",Liste_pièces!F969)","v":""},{"$f":"IF(Liste_pièces!G969=\"\",\"\",Liste_pièces!G969)","v":""},{"$f":"IF(Liste_pièces!H969=\"\",\"\",Liste_pièces!H969)","v":""},{"$f":"IF(Liste_pièces!I969=\"\",\"\",Liste_pièces!I969)","v":""},{"$f":"IF(Liste_pièces!J969=\"\",\"\",Liste_pièces!J969)","v":""},{"$f":"IF(Liste_pièces!K969=\"\",\"\",Liste_pièces!K969)","v":""},{"$f":"IF(Liste_pièces!L969=\"\",\"\",Liste_pièces!L969)","v":""},{"$f":"IF(Liste_pièces!M969=\"\",\"\",Liste_pièces!M969)","v":""},0,1,0]
[{"$f":"IF(Liste_pièces!A970=\"\",\"ZZZ\",Liste_pièces!A970)","v":"ZZZ"},{"$f":"IF(Liste_pièces!B970=\"\",\"ZZZ\",Liste_pièces!B970)","v":"ZZZ"},{"$f":"IF(Liste_pièces!C970=\"\",\"\",Liste_pièces!C970)","v":""},{"$f":"IF(Liste_pièces!D970=\"\",\"\",Liste_pièces!D970)","v":""},{"$f":"IF(Liste_pièces!E970=\"\",\"\",Liste_pièces!E970)","v":""},{"$f":"IF(Liste_pièces!F970=\"\",\"\",Liste_pièces!F970)","v":""},{"$f":"IF(Liste_pièces!G970=\"\",\"\",Liste_pièces!G970)","v":""},{"$f":"IF(Liste_pièces!H970=\"\",\"\",Liste_pièces!H970)","v":""},{"$f":"IF(Liste_pièces!I970=\"\",\"\",Liste_pièces!I970)","v":""},{"$f":"IF(Liste_pièces!J970=\"\",\"\",Liste_pièces!J970)","v":""},{"$f":"IF(Liste_pièces!K970=\"\",\"\",Liste_pièces!K970)","v":""},{"$f":"IF(Liste_pièces!L970=\"\",\"\",Liste_pièces!L970)","v":""},{"$f":"IF(Liste_pièces!M970=\"\",\"\",Liste_pièces!M970)","v":""},0,1,0]
[{"$f":"IF(Liste_pièces!A971=\"\",\"ZZZ\",Liste_pièces!A971)","v":"ZZZ"},{"$f":"IF(Liste_pièces!B971=\"\",\"ZZZ\",Liste_pièces!B971)","v":"ZZZ"},{"$f":"IF(Liste_pièces!C971=\"\",\"\",Liste_pièces!C971)","v":""},{"$f":"IF(Liste_pièces!D971=\"\",\"\",Liste_pièces!D971)","v":""},{"$f":"IF(Liste_pièces!E971=\"\",\"\",Liste_pièces!E971)","v":""},{"$f":"IF(Liste_pièces!F971=\"\",\"\",Liste_pièces!F971)","v":""},{"$f":"IF(Liste_pièces!G971=\"\",\"\",Liste_pièces!G971)","v":""},{"$f":"IF(Liste_pièces!H971=\"\",\"\",Liste_pièces!H971)","v":""},{"$f":"IF(Liste_pièces!I971=\"\",\"\",Liste_pièces!I971)","v":""},{"$f":"IF(Liste_pièces!J971=\"\",\"\",Liste_pièces!J971)","v":""},{"$f":"IF(Liste_pièces!K971=\"\",\"\",Liste_pièces!K971)","v":""},{"$f":"IF(Liste_pièces!L971=\"\",\"\",Liste_pièces!L971)","v":""},{"$f":"IF(Liste_pièces!M971=\"\",\"\",Liste_pièces!M971)","v":""},0,1,0]
[{"$f":"IF(Liste_pièces!A972=\"\",\"ZZZ\",Liste_pièces!A972)","v":"ZZZ"},{"$f":"IF(Liste_pièces!B972=\"\",\"ZZZ\",Liste_pièces!B972)","v":"ZZZ"},{"$f":"IF(Liste_pièces!C972=\"\",\"\",Liste_pièces!C972)","v":""},{"$f":"IF(Liste_pièces!D972=\"\",\"\",Liste_pièces!D972)","v":""},{"$f":"IF(Liste_pièces!E972=\"\",\"\",Liste_pièces!E972)","v":""},{"$f":"IF(Liste_pièces!F972=\"\",\"\",Liste_pièces!F972)","v":""},{"$f":"IF(Liste_pièces!G972=\"\",\"\",Liste_pièces!G972)","v":""},{"$f":"IF(Liste_pièces!H972=\"\",\"\",Liste_pièces!H972)","v":""},{"$f":"IF(Liste_pièces!I972=\"\",\"\",Liste_pièces!I972)","v":""},{"$f":"IF(Liste_pièces!J972=\"\",\"\",Liste_pièces!J972)","v":""},{"$f":"IF(Liste_pièces!K972=\"\",\"\",Liste_pièces!K972)","v":""},{"$f":"IF(Liste_pièces!L972=\"\",\"\",Liste_pièces!L972)","v":""},{"$f":"IF(Liste_pièces!M972=\"\",\"\",Liste_pièces!M972)","v":""},0,1,0]
[{"$f":"IF(Liste_pièces!A973=\"\",\"ZZZ\",Liste_pièces!A973)","v":"ZZZ"},{"$f":"IF(Liste_pièces!B973=\"\",\"ZZZ\",Liste_pièces!B973)","v":"ZZZ"},{"$f":"IF(Liste_pièces!C973=\"\",\"\",Liste_pièces!C973)","v":""},{"$f":"IF(Liste_pièces!D973=\"\",\"\",Liste_pièces!D973)","v":""},{"$f":"IF(Liste_pièces!E973=\"\",\"\",Liste_pièces!E973)","v":""},{"$f":"IF(Liste_pièces!F973=\"\",\"\",Liste_pièces!F973)","v":""},{"$f":"IF(Liste_pièces!G973=\"\",\"\",Liste_pièces!G973)","v":""},{"$f":"IF(Liste_pièces!H973=\"\",\"\",Liste_pièces!H973)","v":""},{"$f":"IF(Liste_pièces!I973=\"\",\"\",Liste_pièces!I973)","v":""},{"$f":"IF(Liste_pièces!J973=\"\",\"\",Liste_pièces!J973)","v":""},{"$f":"IF(Liste_pièces!K973=\"\",\"\",Liste_pièces!K973)","v":""},{"$f":"IF(Liste_pièces!L973=\"\",\"\",Liste_pièces!L973)","v":""},{"$f":"IF(Liste_pièces!M973=\"\",\"\",Liste_pièces!M973)","v":""},0,1,0]
[{"$f":"IF(Liste_pièces!A974=\"\",\"ZZZ\",Liste_pièces!A974)","v":"ZZZ"},{"$f":"IF(Liste_pièces!B974=\"\",\"ZZZ\",Liste_pièces!B974)","v":"ZZZ"},{"$f":"IF(Liste_pièces!C974=\"\",\"\",Liste_pièces!C974)","v":""},{"$f":"IF(Liste_pièces!D974=\"\",\"\",Liste_pièces!D974)","v":""},{"$f":"IF(Liste_pièces!E974=\"\",\"\",Liste_pièces!E974)","v":""},{"$f":"IF(Liste_pièces!F974=\"\",\"\",Liste_pièces!F974)","v":""},{"$f":"IF(Liste_pièces!G974=\"\",\"\",Liste_pièces!G974)","v":""},{"$f":"IF(Liste_pièces!H974=\"\",\"\",Liste_pièces!H974)","v":""},{"$f":"IF(Liste_pièces!I974=\"\",\"\",Liste_pièces!I974)","v":""},{"$f":"IF(Liste_pièces!J974=\"\",\"\",Liste_pièces!J974)","v":""},{"$f":"IF(Liste_pièces!K974=\"\",\"\",Liste_pièces!K974)","v":""},{"$f":"IF(Liste_pièces!L974=\"\",\"\",Liste_pièces!L974)","v":""},{"$f":"IF(Liste_pièces!M974=\"\",\"\",Liste_pièces!M974)","v":""},0,1,0]
[{"$f":"IF(Liste_pièces!A975=\"\",\"ZZZ\",Liste_pièces!A975)","v":"ZZZ"},{"$f":"IF(Liste_pièces!B975=\"\",\"ZZZ\",Liste_pièces!B975)","v":"ZZZ"},{"$f":"IF(Liste_pièces!C975=\"\",\"\",Liste_pièces!C975)","v":""},{"$f":"IF(Liste_pièces!D975=\"\",\"\",Liste_pièces!D975)","v":""},{"$f":"IF(Liste_pièces!E975=\"\",\"\",Liste_pièces!E975)","v":""},{"$f":"IF(Liste_pièces!F975=\"\",\"\",Liste_pièces!F975)","v":""},{"$f":"IF(Liste_pièces!G975=\"\",\"\",Liste_pièces!G975)","v":""},{"$f":"IF(Liste_pièces!H975=\"\",\"\",Liste_pièces!H975)","v":""},{"$f":"IF(Liste_pièces!I975=\"\",\"\",Liste_pièces!I975)","v":""},{"$f":"IF(Liste_pièces!J975=\"\",\"\",Liste_pièces!J975)","v":""},{"$f":"IF(Liste_pièces!K975=\"\",\"\",Liste_pièces!K975)","v":""},{"$f":"IF(Liste_pièces!L975=\"\",\"\",Liste_pièces!L975)","v":""},{"$f":"IF(Liste_pièces!M975=\"\",\"\",Liste_pièces!M975)","v":""},0,1,0]
[{"$f":"IF(Liste_pièces!A976=\"\",\"ZZZ\",Liste_pièces!A976)","v":"ZZZ"},{"$f":"IF(Liste_pièces!B976=\"\",\"ZZZ\",Liste_pièces!B976)","v":"ZZZ"},{"$f":"IF(Liste_pièces!C976=\"\",\"\",Liste_pièces!C976)","v":""},{"$f":"IF(Liste_pièces!D976=\"\",\"\",Liste_pièces!D976)","v":""},{"$f":"IF(Liste_pièces!E976=\"\",\"\",Liste_pièces!E976)","v":""},{"$f":"IF(Liste_pièces!F976=\"\",\"\",Liste_pièces!F976)","v":""},{"$f":"IF(Liste_pièces!G976=\"\",\"\",Liste_pièces!G976)","v":""},{"$f":"IF(Liste_pièces!H976=\"\",\"\",Liste_pièces!H976)","v":""},{"$f":"IF(Liste_pièces!I976=\"\",\"\",Liste_pièces!I976)","v":""},{"$f":"IF(Liste_pièces!J976=\"\",\"\",Liste_pièces!J976)","v":""},{"$f":"IF(Liste_pièces!K976=\"\",\"\",Liste_pièces!K976)","v":""},{"$f":"IF(Liste_pièces!L976=\"\",\"\",Liste_pièces!L976)","v":""},{"$f":"IF(Liste_pièces!M976=\"\",\"\",Liste_pièces!M976)","v":""},0,1,0]
[{"$f":"IF(Liste_pièces!A977=\"\",\"ZZZ\",Liste_pièces!A977)","v":"ZZZ"},{"$f":"IF(Liste_pièces!B977=\"\",\"ZZZ\",Liste_pièces!B977)","v":"ZZZ"},{"$f":"IF(Liste_pièces!C977=\"\",\"\",Liste_pièces!C977)","v":""},{"$f":"IF(Liste_pièces!D977=\"\",\"\",Liste_pièces!D977)","v":""},{"$f":"IF(Liste_pièces!E977=\"\",\"\",Liste_pièces!E977)","v":""},{"$f":"IF(Liste_pièces!F977=\"\",\"\",Liste_pièces!F977)","v":""},{"$f":"IF(Liste_pièces!G977=\"\",\"\",Liste_pièces!G977)","v":""},{"$f":"IF(Liste_pièces!H977=\"\",\"\",Liste_pièces!H977)","v":""},{"$f":"IF(Liste_pièces!I977=\"\",\"\",Liste_pièces!I977)","v":""},{"$f":"IF(Liste_pièces!J977=\"\",\"\",Liste_pièces!J977)","v":""},{"$f":"IF(Liste_pièces!K977=\"\",\"\",Liste_pièces!K977)","v":""},{"$f":"IF(Liste_pièces!L977=\"\",\"\",Liste_pièces!L977)","v":""},{"$f":"IF(Liste_pièces!M977=\"\",\"\",Liste_pièces!M977)","v":""},0,1,0]
[{"$f":"IF(Liste_pièces!A978=\"\",\"ZZZ\",Liste_pièces!A978)","v":"ZZZ"},{"$f":"IF(Liste_pièces!B978=\"\",\"ZZZ\",Liste_pièces!B978)","v":"ZZZ"},{"$f":"IF(Liste_pièces!C978=\"\",\"\",Liste_pièces!C978)","v":""},{"$f":"IF(Liste_pièces!D978=\"\",\"\",Liste_pièces!D978)","v":""},{"$f":"IF(Liste_pièces!E978=\"\",\"\",Liste_pièces!E978)","v":""},{"$f":"IF(Liste_pièces!F978=\"\",\"\",Liste_pièces!F978)","v":""},{"$f":"IF(Liste_pièces!G978=\"\",\"\",Liste_pièces!G978)","v":""},{"$f":"IF(Liste_pièces!H978=\"\",\"\",Liste_pièces!H978)","v":""},{"$f":"IF(Liste_pièces!I978=\"\",\"\",Liste_pièces!I978)","v":""},{"$f":"IF(Liste_pièces!J978=\"\",\"\",Liste_pièces!J978)","v":""},{"$f":"IF(Liste_pièces!K978=\"\",\"\",Liste_pièces!K978)","v":""},{"$f":"IF(Liste_pièces!L978=\"\",\"\",Liste_pièces!L978)","v":""},{"$f":"IF(Liste_pièces!M978=\"\",\"\",Liste_pièces!M978)","v":""},0,1,0]
[{"$f":"IF(Liste_pièces!A979=\"\",\"ZZZ\",Liste_pièces!A979)","v":"ZZZ"},{"$f":"IF(Liste_pièces!B979=\"\",\"ZZZ\",Liste_pièces!B979)","v":"ZZZ"},{"$f":"IF(Liste_pièces!C979=\"\",\"\",Liste_pièces!C979)","v":""},{"$f":"IF(Liste_pièces!D979=\"\",\"\",Liste_pièces!D979)","v":""},{"$f":"IF(Liste_pièces!E979=\"\",\"\",Liste_pièces!E979)","v":""},{"$f":"IF(Liste_pièces!F979=\"\",\"\",Liste_pièces!F979)","v":""},{"$f":"IF(Liste_pièces!G979=\"\",\"\",Liste_pièces!G979)","v":""},{"$f":"IF(Liste_pièces!H979=\"\",\"\",Liste_pièces!H979)","v":""},{"$f":"IF(Liste_pièces!I979=\"\",\"\",Liste_pièces!I979)","v":""},{"$f":"IF(Liste_pièces!J979=\"\",\"\",Liste_pièces!J979)","v":""},{"$f":"IF(Liste_pièces!K979=\"\",\"\",Liste_pièces!K979)","v":""},{"$f":"IF(Liste_pièces!L979=\"\",\"\",Liste_pièces!L979)","v":""},{"$f":"IF(Liste_pièces!M979=\"\",\"\",Liste_pièces!M979)","v":""},0,1,0]
[{"$f":"IF(Liste_pièces!A980=\"\",\"ZZZ\",Liste_pièces!A980)","v":"ZZZ"},{"$f":"IF(Liste_pièces!B980=\"\",\"ZZZ\",Liste_pièces!B980)","v":"ZZZ"},{"$f":"IF(Liste_pièces!C980=\"\",\"\",Liste_pièces!C980)","v":""},{"$f":"IF(Liste_pièces!D980=\"\",\"\",Liste_pièces!D980)","v":""},{"$f":"IF(Liste_pièces!E980=\"\",\"\",Liste_pièces!E980)","v":""},{"$f":"IF(Liste_pièces!F980=\"\",\"\",Liste_pièces!F980)","v":""},{"$f":"IF(Liste_pièces!G980=\"\",\"\",Liste_pièces!G980)","v":""},{"$f":"IF(Liste_pièces!H980=\"\",\"\",Liste_pièces!H980)","v":""},{"$f":"IF(Liste_pièces!I980=\"\",\"\",Liste_pièces!I980)","v":""},{"$f":"IF(Liste_pièces!J980=\"\",\"\",Liste_pièces!J980)","v":""},{"$f":"IF(Liste_pièces!K980=\"\",\"\",Liste_pièces!K980)","v":""},{"$f":"IF(Liste_pièces!L980=\"\",\"\",Liste_pièces!L980)","v":""},{"$f":"IF(Liste_pièces!M980=\"\",\"\",Liste_pièces!M980)","v":""},0,1,0]
[{"$f":"IF(Liste_pièces!A981=\"\",\"ZZZ\",Liste_pièces!A981)","v":"ZZZ"},{"$f":"IF(Liste_pièces!B981=\"\",\"ZZZ\",Liste_pièces!B981)","v":"ZZZ"},{"$f":"IF(Liste_pièces!C981=\"\",\"\",Liste_pièces!C981)","v":""},{"$f":"IF(Liste_pièces!D981=\"\",\"\",Liste_pièces!D981)","v":""},{"$f":"IF(Liste_pièces!E981=\"\",\"\",Liste_pièces!E981)","v":""},{"$f":"IF(Liste_pièces!F981=\"\",\"\",Liste_pièces!F981)","v":""},{"$f":"IF(Liste_pièces!G981=\"\",\"\",Liste_pièces!G981)","v":""},{"$f":"IF(Liste_pièces!H981=\"\",\"\",Liste_pièces!H981)","v":""},{"$f":"IF(Liste_pièces!I981=\"\",\"\",Liste_pièces!I981)","v":""},{"$f":"IF(Liste_pièces!J981=\"\",\"\",Liste_pièces!J981)","v":""},{"$f":"IF(Liste_pièces!K981=\"\",\"\",Liste_pièces!K981)","v":""},{"$f":"IF(Liste_pièces!L981=\"\",\"\",Liste_pièces!L981)","v":""},{"$f":"IF(Liste_pièces!M981=\"\",\"\",Liste_pièces!M981)","v":""},0,1,0]
[{"$f":"IF(Liste_pièces!A982=\"\",\"ZZZ\",Liste_pièces!A982)","v":"ZZZ"},{"$f":"IF(Liste_pièces!B982=\"\",\"ZZZ\",Liste_pièces!B982)","v":"ZZZ"},{"$f":"IF(Liste_pièces!C982=\"\",\"\",Liste_pièces!C982)","v":""},{"$f":"IF(Liste_pièces!D982=\"\",\"\",Liste_pièces!D982)","v":""},{"$f":"IF(Liste_pièces!E982=\"\",\"\",Liste_pièces!E982)","v":""},{"$f":"IF(Liste_pièces!F982=\"\",\"\",Liste_pièces!F982)","v":""},{"$f":"IF(Liste_pièces!G982=\"\",\"\",Liste_pièces!G982)","v":""},{"$f":"IF(Liste_pièces!H982=\"\",\"\",Liste_pièces!H982)","v":""},{"$f":"IF(Liste_pièces!I982=\"\",\"\",Liste_pièces!I982)","v":""},{"$f":"IF(Liste_pièces!J982=\"\",\"\",Liste_pièces!J982)","v":""},{"$f":"IF(Liste_pièces!K982=\"\",\"\",Liste_pièces!K982)","v":""},{"$f":"IF(Liste_pièces!L982=\"\",\"\",Liste_pièces!L982)","v":""},{"$f":"IF(Liste_pièces!M982=\"\",\"\",Liste_pièces!M982)","v":""},0,1,0]
[{"$f":"IF(Liste_pièces!A983=\"\",\"ZZZ\",Liste_pièces!A983)","v":"ZZZ"},{"$f":"IF(Liste_pièces!B983=\"\",\"ZZZ\",Liste_pièces!B983)","v":"ZZZ"},{"$f":"IF(Liste_pièces!C983=\"\",\"\",Liste_pièces!C983)","v":""},{"$f":"IF(Liste_pièces!D983=\"\",\"\",Liste_pièces!D983)","v":""},{"$f":"IF(Liste_pièces!E983=\"\",\"\",Liste_pièces!E983)","v":""},{"$f":"IF(Liste_pièces!F983=\"\",\"\",Liste_pièces!F983)","v":""},{"$f":"IF(Liste_pièces!G983=\"\",\"\",Liste_pièces!G983)","v":""},{"$f":"IF(Liste_pièces!H983=\"\",\"\",Liste_pièces!H983)","v":""},{"$f":"IF(Liste_pièces!I983=\"\",\"\",Liste_pièces!I983)","v":""},{"$f":"IF(Liste_pièces!J983=\"\",\"\",Liste_pièces!J983)","v":""},{"$f":"IF(Liste_pièces!K983=\"\",\"\",Liste_pièces!K983)","v":""},{"$f":"IF(Liste_pièces!L983=\"\",\"\",Liste_pièces!L983)","v":""},{"$f":"IF(Liste_pièces!M983=\"\",\"\",Liste_pièces!M983)","v":""},0,1,0]
[{"$f":"IF(Liste_pièces!A984=\"\",\"ZZZ\",Liste_pièces!A984)","v":"ZZZ"},{"$f":"IF(Liste_pièces!B984=\"\",\"ZZZ\",Liste_pièces!B984)","v":"ZZZ"},{"$f":"IF(Liste_pièces!C984=\"\",\"\",Liste_pièces!C984)","v":""},{"$f":"IF(Liste_pièces!D984=\"\",\"\",Liste_pièces!D984)","v":""},{"$f":"IF(Liste_pièces!E984=\"\",\"\",Liste_pièces!E984)","v":""},{"$f":"IF(Liste_pièces!F984=\"\",\"\",Liste_pièces!F984)","v":""},{"$f":"IF(Liste_pièces!G984=\"\",\"\",Liste_pièces!G984)","v":""},{"$f":"IF(Liste_pièces!H984=\"\",\"\",Liste_pièces!H984)","v":""},{"$f":"IF(Liste_pièces!I984=\"\",\"\",Liste_pièces!I984)","v":""},{"$f":"IF(Liste_pièces!J984=\"\",\"\",Liste_pièces!J984)","v":""},{"$f":"IF(Liste_pièces!K984=\"\",\"\",Liste_pièces!K984)","v":""},{"$f":"IF(Liste_pièces!L984=\"\",\"\",Liste_pièces!L984)","v":""},{"$f":"IF(Liste_pièces!M984=\"\",\"\",Liste_pièces!M984)","v":""},0,1,0]
[{"$f":"IF(Liste_pièces!A985=\"\",\"ZZZ\",Liste_pièces!A985)","v":"ZZZ"},{"$f":"IF(Liste_pièces!B985=\"\",\"ZZZ\",Liste_pièces!B985)","v":"ZZZ"},{"$f":"IF(Liste_pièces!C985=\"\",\"\",Liste_pièces!C985)","v":""},{"$f":"IF(Liste_pièces!D985=\"\",\"\",Liste_pièces!D985)","v":""},{"$f":"IF(Liste_pièces!E985=\"\",\"\",Liste_pièces!E985)","v":""},{"$f":"IF(Liste_pièces!F985=\"\",\"\",Liste_pièces!F985)","v":""},{"$f":"IF(Liste_pièces!G985=\"\",\"\",Liste_pièces!G985)","v":""},{"$f":"IF(Liste_pièces!H985=\"\",\"\",Liste_pièces!H985)","v":""},{"$f":"IF(Liste_pièces!I985=\"\",\"\",Liste_pièces!I985)","v":""},{"$f":"IF(Liste_pièces!J985=\"\",\"\",Liste_pièces!J985)","v":""},{"$f":"IF(Liste_pièces!K985=\"\",\"\",Liste_pièces!K985)","v":""},{"$f":"IF(Liste_pièces!L985=\"\",\"\",Liste_pièces!L985)","v":""},{"$f":"IF(Liste_pièces!M985=\"\",\"\",Liste_pièces!M985)","v":""},0,1,0]
[{"$f":"IF(Liste_pièces!A986=\"\",\"ZZZ\",Liste_pièces!A986)","v":"ZZZ"},{"$f":"IF(Liste_pièces!B986=\"\",\"ZZZ\",Liste_pièces!B986)","v":"ZZZ"},{"$f":"IF(Liste_pièces!C986=\"\",\"\",Liste_pièces!C986)","v":""},{"$f":"IF(Liste_pièces!D986=\"\",\"\",Liste_pièces!D986)","v":""},{"$f":"IF(Liste_pièces!E986=\"\",\"\",Liste_pièces!E986)","v":""},{"$f":"IF(Liste_pièces!F986=\"\",\"\",Liste_pièces!F986)","v":""},{"$f":"IF(Liste_pièces!G986=\"\",\"\",Liste_pièces!G986)","v":""},{"$f":"IF(Liste_pièces!H986=\"\",\"\",Liste_pièces!H986)","v":""},{"$f":"IF(Liste_pièces!I986=\"\",\"\",Liste_pièces!I986)","v":""},{"$f":"IF(Liste_pièces!J986=\"\",\"\",Liste_pièces!J986)","v":""},{"$f":"IF(Liste_pièces!K986=\"\",\"\",Liste_pièces!K986)","v":""},{"$f":"IF(Liste_pièces!L986=\"\",\"\",Liste_pièces!L986)","v":""},{"$f":"IF(Liste_pièces!M986=\"\",\"\",Liste_pièces!M986)","v":""},0,1,0]
[{"$f":"IF(Liste_pièces!A987=\"\",\"ZZZ\",Liste_pièces!A987)","v":"ZZZ"},{"$f":"IF(Liste_pièces!B987=\"\",\"ZZZ\",Liste_pièces!B987)","v":"ZZZ"},{"$f":"IF(Liste_pièces!C987=\"\",\"\",Liste_pièces!C987)","v":""},{"$f":"IF(Liste_pièces!D987=\"\",\"\",Liste_pièces!D987)","v":""},{"$f":"IF(Liste_pièces!E987=\"\",\"\",Liste_pièces!E987)","v":""},{"$f":"IF(Liste_pièces!F987=\"\",\"\",Liste_pièces!F987)","v":""},{"$f":"IF(Liste_pièces!G987=\"\",\"\",Liste_pièces!G987)","v":""},{"$f":"IF(Liste_pièces!H987=\"\",\"\",Liste_pièces!H987)","v":""},{"$f":"IF(Liste_pièces!I987=\"\",\"\",Liste_pièces!I987)","v":""},{"$f":"IF(Liste_pièces!J987=\"\",\"\",Liste_pièces!J987)","v":""},{"$f":"IF(Liste_pièces!K987=\"\",\"\",Liste_pièces!K987)","v":""},{"$f":"IF(Liste_pièces!L987=\"\",\"\",Liste_pièces!L987)","v":""},{"$f":"IF(Liste_pièces!M987=\"\",\"\",Liste_pièces!M987)","v":""},0,1,0]
[{"$f":"IF(Liste_pièces!A988=\"\",\"ZZZ\",Liste_pièces!A988)","v":"ZZZ"},{"$f":"IF(Liste_pièces!B988=\"\",\"ZZZ\",Liste_pièces!B988)","v":"ZZZ"},{"$f":"IF(Liste_pièces!C988=\"\",\"\",Liste_pièces!C988)","v":""},{"$f":"IF(Liste_pièces!D988=\"\",\"\",Liste_pièces!D988)","v":""},{"$f":"IF(Liste_pièces!E988=\"\",\"\",Liste_pièces!E988)","v":""},{"$f":"IF(Liste_pièces!F988=\"\",\"\",Liste_pièces!F988)","v":""},{"$f":"IF(Liste_pièces!G988=\"\",\"\",Liste_pièces!G988)","v":""},{"$f":"IF(Liste_pièces!H988=\"\",\"\",Liste_pièces!H988)","v":""},{"$f":"IF(Liste_pièces!I988=\"\",\"\",Liste_pièces!I988)","v":""},{"$f":"IF(Liste_pièces!J988=\"\",\"\",Liste_pièces!J988)","v":""},{"$f":"IF(Liste_pièces!K988=\"\",\"\",Liste_pièces!K988)","v":""},{"$f":"IF(Liste_pièces!L988=\"\",\"\",Liste_pièces!L988)","v":""},{"$f":"IF(Liste_pièces!M988=\"\",\"\",Liste_pièces!M988)","v":""},0,1,0]
[{"$f":"IF(Liste_pièces!A989=\"\",\"ZZZ\",Liste_pièces!A989)","v":"ZZZ"},{"$f":"IF(Liste_pièces!B989=\"\",\"ZZZ\",Liste_pièces!B989)","v":"ZZZ"},{"$f":"IF(Liste_pièces!C989=\"\",\"\",Liste_pièces!C989)","v":""},{"$f":"IF(Liste_pièces!D989=\"\",\"\",Liste_pièces!D989)","v":""},{"$f":"IF(Liste_pièces!E989=\"\",\"\",Liste_pièces!E989)","v":""},{"$f":"IF(Liste_pièces!F989=\"\",\"\",Liste_pièces!F989)","v":""},{"$f":"IF(Liste_pièces!G989=\"\",\"\",Liste_pièces!G989)","v":""},{"$f":"IF(Liste_pièces!H989=\"\",\"\",Liste_pièces!H989)","v":""},{"$f":"IF(Liste_pièces!I989=\"\",\"\",Liste_pièces!I989)","v":""},{"$f":"IF(Liste_pièces!J989=\"\",\"\",Liste_pièces!J989)","v":""},{"$f":"IF(Liste_pièces!K989=\"\",\"\",Liste_pièces!K989)","v":""},{"$f":"IF(Liste_pièces!L989=\"\",\"\",Liste_pièces!L989)","v":""},{"$f":"IF(Liste_pièces!M989=\"\",\"\",Liste_pièces!M989)","v":""},0,1,0]
[{"$f":"IF(Liste_pièces!A990=\"\",\"ZZZ\",Liste_pièces!A990)","v":"ZZZ"},{"$f":"IF(Liste_pièces!B990=\"\",\"ZZZ\",Liste_pièces!B990)","v":"ZZZ"},{"$f":"IF(Liste_pièces!C990=\"\",\"\",Liste_pièces!C990)","v":""},{"$f":"IF(Liste_pièces!D990=\"\",\"\",Liste_pièces!D990)","v":""},{"$f":"IF(Liste_pièces!E990=\"\",\"\",Liste_pièces!E990)","v":""},{"$f":"IF(Liste_pièces!F990=\"\",\"\",Liste_pièces!F990)","v":""},{"$f":"IF(Liste_pièces!G990=\"\",\"\",Liste_pièces!G990)","v":""},{"$f":"IF(Liste_pièces!H990=\"\",\"\",Liste_pièces!H990)","v":""},{"$f":"IF(Liste_pièces!I990=\"\",\"\",Liste_pièces!I990)","v":""},{"$f":"IF(Liste_pièces!J990=\"\",\"\",Liste_pièces!J990)","v":""},{"$f":"IF(Liste_pièces!K990=\"\",\"\",Liste_pièces!K990)","v":""},{"$f":"IF(Liste_pièces!L990=\"\",\"\",Liste_pièces!L990)","v":""},{"$f":"IF(Liste_pièces!M990=\"\",\"\",Liste_pièces!M990)","v":""},0,1,0]
[{"$f":"IF(Liste_pièces!A991=\"\",\"ZZZ\",Liste_pièces!A991)","v":"ZZZ"},{"$f":"IF(Liste_pièces!B991=\"\",\"ZZZ\",Liste_pièces!B991)","v":"ZZZ"},{"$f":"IF(Liste_pièces!C991=\"\",\"\",Liste_pièces!C991)","v":""},{"$f":"IF(Liste_pièces!D991=\"\",\"\",Liste_pièces!D991)","v":""},{"$f":"IF(Liste_pièces!E991=\"\",\"\",Liste_pièces!E991)","v":""},{"$f":"IF(Liste_pièces!F991=\"\",\"\",Liste_pièces!F991)","v":""},{"$f":"IF(Liste_pièces!G991=\"\",\"\",Liste_pièces!G991)","v":""},{"$f":"IF(Liste_pièces!H991=\"\",\"\",Liste_pièces!H991)","v":""},{"$f":"IF(Liste_pièces!I991=\"\",\"\",Liste_pièces!I991)","v":""},{"$f":"IF(Liste_pièces!J991=\"\",\"\",Liste_pièces!J991)","v":""},{"$f":"IF(Liste_pièces!K991=\"\",\"\",Liste_pièces!K991)","v":""},{"$f":"IF(Liste_pièces!L991=\"\",\"\",Liste_pièces!L991)","v":""},{"$f":"IF(Liste_pièces!M991=\"\",\"\",Liste_pièces!M991)","v":""},0,1,0]
[{"$f":"IF(Liste_pièces!A992=\"\",\"ZZZ\",Liste_pièces!A992)","v":"ZZZ"},{"$f":"IF(Liste_pièces!B992=\"\",\"ZZZ\",Liste_pièces!B992)","v":"ZZZ"},{"$f":"IF(Liste_pièces!C992=\"\",\"\",Liste_pièces!C992)","v":""},{"$f":"IF(Liste_pièces!D992=\"\",\"\",Liste_pièces!D992)","v":""},{"$f":"IF(Liste_pièces!E992=\"\",\"\",Liste_pièces!E992)","v":""},{"$f":"IF(Liste_pièces!F992=\"\",\"\",Liste_pièces!F992)","v":""},{"$f":"IF(Liste_pièces!G992=\"\",\"\",Liste_pièces!G992)","v":""},{"$f":"IF(Liste_pièces!H992=\"\",\"\",Liste_pièces!H992)","v":""},{"$f":"IF(Liste_pièces!I992=\"\",\"\",Liste_pièces!I992)","v":""},{"$f":"IF(Liste_pièces!J992=\"\",\"\",Liste_pièces!J992)","v":""},{"$f":"IF(Liste_pièces!K992=\"\",\"\",Liste_pièces!K992)","v":""},{"$f":"IF(Liste_pièces!L992=\"\",\"\",Liste_pièces!L992)","v":""},{"$f":"IF(Liste_pièces!M992=\"\",\"\",Liste_pièces!M992)","v":""},0,1,0]
[{"$f":"IF(Liste_pièces!A993=\"\",\"ZZZ\",Liste_pièces!A993)","v":"ZZZ"},{"$f":"IF(Liste_pièces!B993=\"\",\"ZZZ\",Liste_pièces!B993)","v":"ZZZ"},{"$f":"IF(Liste_pièces!C993=\"\",\"\",Liste_pièces!C993)","v":""},{"$f":"IF(Liste_pièces!D993=\"\",\"\",Liste_pièces!D993)","v":""},{"$f":"IF(Liste_pièces!E993=\"\",\"\",Liste_pièces!E993)","v":""},{"$f":"IF(Liste_pièces!F993=\"\",\"\",Liste_pièces!F993)","v":""},{"$f":"IF(Liste_pièces!G993=\"\",\"\",Liste_pièces!G993)","v":""},{"$f":"IF(Liste_pièces!H993=\"\",\"\",Liste_pièces!H993)","v":""},{"$f":"IF(Liste_pièces!I993=\"\",\"\",Liste_pièces!I993)","v":""},{"$f":"IF(Liste_pièces!J993=\"\",\"\",Liste_pièces!J993)","v":""},{"$f":"IF(Liste_pièces!K993=\"\",\"\",Liste_pièces!K993)","v":""},{"$f":"IF(Liste_pièces!L993=\"\",\"\",Liste_pièces!L993)","v":""},{"$f":"IF(Liste_pièces!M993=\"\",\"\",Liste_pièces!M993)","v":""},0,1,0]
[{"$f":"IF(Liste_pièces!A994=\"\",\"ZZZ\",Liste_pièces!A994)","v":"ZZZ"},{"$f":"IF(Liste_pièces!B994=\"\",\"ZZZ\",Liste_pièces!B994)","v":"ZZZ"},{"$f":"IF(Liste_pièces!C994=\"\",\"\",Liste_pièces!C994)","v":""},{"$f":"IF(Liste_pièces!D994=\"\",\"\",Liste_pièces!D994)","v":""},{"$f":"IF(Liste_pièces!E994=\"\",\"\",Liste_pièces!E994)","v":""},{"$f":"IF(Liste_pièces!F994=\"\",\"\",Liste_pièces!F994)","v":""},{"$f":"IF(Liste_pièces!G994=\"\",\"\",Liste_pièces!G994)","v":""},{"$f":"IF(Liste_pièces!H994=\"\",\"\",Liste_pièces!H994)","v":""},{"$f":"IF(Liste_pièces!I994=\"\",\"\",Liste_pièces!I994)","v":""},{"$f":"IF(Liste_pièces!J994=\"\",\"\",Liste_pièces!J994)","v":""},{"$f":"IF(Liste_pièces!K994=\"\",\"\",Liste_pièces!K994)","v":""},{"$f":"IF(Liste_pièces!L994=\"\",\"\",Liste_pièces!L994)","v":""},{"$f":"IF(Liste_pièces!M994=\"\",\"\",Liste_pièces!M994)","v":""},0,1,0]
[{"$f":"IF(Liste_pièces!A995=\"\",\"ZZZ\",Liste_pièces!A995)","v":"ZZZ"},{"$f":"IF(Liste_pièces!B995=\"\",\"ZZZ\",Liste_pièces!B995)","v":"ZZZ"},{"$f":"IF(Liste_pièces!C995=\"\",\"\",Liste_pièces!C995)","v":""},{"$f":"IF(Liste_pièces!D995=\"\",\"\",Liste_pièces!D995)","v":""},{"$f":"IF(Liste_pièces!E995=\"\",\"\",Liste_pièces!E995)","v":""},{"$f":"IF(Liste_pièces!F995=\"\",\"\",Liste_pièces!F995)","v":""},{"$f":"IF(Liste_pièces!G995=\"\",\"\",Liste_pièces!G995)","v":""},{"$f":"IF(Liste_pièces!H995=\"\",\"\",Liste_pièces!H995)","v":""},{"$f":"IF(Liste_pièces!I995=\"\",\"\",Liste_pièces!I995)","v":""},{"$f":"IF(Liste_pièces!J995=\"\",\"\",Liste_pièces!J995)","v":""},{"$f":"IF(Liste_pièces!K995=\"\",\"\",Liste_pièces!K995)","v":""},{"$f":"IF(Liste_pièces!L995=\"\",\"\",Liste_pièces!L995)","v":""},{"$f":"IF(Liste_pièces!M995=\"\",\"\",Liste_pièces!M995)","v":""},0,1,0]
[{"$f":"IF(Liste_pièces!A996=\"\",\"ZZZ\",Liste_pièces!A996)","v":"ZZZ"},{"$f":"IF(Liste_pièces!B996=\"\",\"ZZZ\",Liste_pièces!B996)","v":"ZZZ"},{"$f":"IF(Liste_pièces!C996=\"\",\"\",Liste_pièces!C996)","v":""},{"$f":"IF(Liste_pièces!D996=\"\",\"\",Liste_pièces!D996)","v":""},{"$f":"IF(Liste_pièces!E996=\"\",\"\",Liste_pièces!E996)","v":""},{"$f":"IF(Liste_pièces!F996=\"\",\"\",Liste_pièces!F996)","v":""},{"$f":"IF(Liste_pièces!G996=\"\",\"\",Liste_pièces!G996)","v":""},{"$f":"IF(Liste_pièces!H996=\"\",\"\",Liste_pièces!H996)","v":""},{"$f":"IF(Liste_pièces!I996=\"\",\"\",Liste_pièces!I996)","v":""},{"$f":"IF(Liste_pièces!J996=\"\",\"\",Liste_pièces!J996)","v":""},{"$f":"IF(Liste_pièces!K996=\"\",\"\",Liste_pièces!K996)","v":""},{"$f":"IF(Liste_pièces!L996=\"\",\"\",Liste_pièces!L996)","v":""},{"$f":"IF(Liste_pièces!M996=\"\",\"\",Liste_pièces!M996)","v":""},0,1,0]
[{"$f":"IF(Liste_pièces!A997=\"\",\"ZZZ\",Liste_pièces!A997)","v":"ZZZ"},{"$f":"IF(Liste_pièces!B997=\"\",\"ZZZ\",Liste_pièces!B997)","v":"ZZZ"},{"$f":"IF(Liste_pièces!C997=\"\",\"\",Liste_pièces!C997)","v":""},{"$f":"IF(Liste_pièces!D997=\"\",\"\",Liste_pièces!D997)","v":""},{"$f":"IF(Liste_pièces!E997=\"\",\"\",Liste_pièces!E997)","v":""},{"$f":"IF(Liste_pièces!F997=\"\",\"\",Liste_pièces!F997)","v":""},{"$f":"IF(Liste_pièces!G997=\"\",\"\",Liste_pièces!G997)","v":""},{"$f":"IF(Liste_pièces!H997=\"\",\"\",Liste_pièces!H997)","v":""},{"$f":"IF(Liste_pièces!I997=\"\",\"\",Liste_pièces!I997)","v":""},{"$f":"IF(Liste_pièces!J997=\"\",\"\",Liste_pièces!J997)","v":""},{"$f":"IF(Liste_pièces!K997=\"\",\"\",Liste_pièces!K997)","v":""},{"$f":"IF(Liste_pièces!L997=\"\",\"\",Liste_pièces!L997)","v":""},{"$f":"IF(Liste_pièces!M997=\"\",\"\",Liste_pièces!M997)","v":""},0,1,0]
[{"$f":"IF(Liste_pièces!A998=\"\",\"ZZZ\",Liste_pièces!A998)","v":"ZZZ"},{"$f":"IF(Liste_pièces!B998=\"\",\"ZZZ\",Liste_pièces!B998)","v":"ZZZ"},{"$f":"IF(Liste_pièces!C998=\"\",\"\",Liste_pièces!C998)","v":""},{"$f":"IF(Liste_pièces!D998=\"\",\"\",Liste_pièces!D998)","v":""},{"$f":"IF(Liste_pièces!E998=\"\",\"\",Liste_pièces!E998)","v":""},{"$f":"IF(Liste_pièces!F998=\"\",\"\",Liste_pièces!F998)","v":""},{"$f":"IF(Liste_pièces!G998=\"\",\"\",Liste_pièces!G998)","v":""},{"$f":"IF(Liste_pièces!H998=\"\",\"\",Liste_pièces!H998)","v":""},{"$f":"IF(Liste_pièces!I998=\"\",\"\",Liste_pièces!I998)","v":""},{"$f":"IF(Liste_pièces!J998=\"\",\"\",Liste_pièces!J998)","v":""},{"$f":"IF(Liste_pièces!K998=\"\",\"\",Liste_pièces!K998)","v":""},{"$f":"IF(Liste_pièces!L998=\"\",\"\",Liste_pièces!L998)","v":""},{"$f":"IF(Liste_pièces!M998=\"\",\"\",Liste_pièces!M998)","v":""},0,1,0]
[{"$f":"IF(Liste_pièces!A999=\"\",\"ZZZ\",Liste_pièces!A999)","v":"ZZZ"},{"$f":"IF(Liste_pièces!B999=\"\",\"ZZZ\",Liste_pièces!B999)","v":"ZZZ"},{"$f":"IF(Liste_pièces!C999=\"\",\"\",Liste_pièces!C999)","v":""},{"$f":"IF(Liste_pièces!D999=\"\",\"\",Liste_pièces!D999)","v":""},{"$f":"IF(Liste_pièces!E999=\"\",\"\",Liste_pièces!E999)","v":""},{"$f":"IF(Liste_pièces!F999=\"\",\"\",Liste_pièces!F999)","v":""},{"$f":"IF(Liste_pièces!G999=\"\",\"\",Liste_pièces!G999)","v":""},{"$f":"IF(Liste_pièces!H999=\"\",\"\",Liste_pièces!H999)","v":""},{"$f":"IF(Liste_pièces!I999=\"\",\"\",Liste_pièces!I999)","v":""},{"$f":"IF(Liste_pièces!J999=\"\",\"\",Liste_pièces!J999)","v":""},{"$f":"IF(Liste_pièces!K999=\"\",\"\",Liste_pièces!K999)","v":""},{"$f":"IF(Liste_pièces!L999=\"\",\"\",Liste_pièces!L999)","v":""},{"$f":"IF(Liste_pièces!M999=\"\",\"\",Liste_pièces!M999)","v":""},0,1,0]
[{"$f":"IF(Liste_pièces!A1000=\"\",\"ZZZ\",Liste_pièces!A1000)","v":"ZZZ"},{"$f":"IF(Liste_pièces!B1000=\"\",\"ZZZ\",Liste_pièces!B1000)","v":"ZZZ"},{"$f":"IF(Liste_pièces!C1000=\"\",\"\",Liste_pièces!C1000)","v":""},{"$f":"IF(Liste_pièces!D1000=\"\",\"\",Liste_pièces!D1000)","v":""},{"$f":"IF(Liste_pièces!E1000=\"\",\"\",Liste_pièces!E1000)","v":""},{"$f":"IF(Liste_pièces!F1000=\"\",\"\",Liste_pièces!F1000)","v":""},{"$f":"IF(Liste_pièces!G1000=\"\",\"\",Liste_pièces!G1000)","v":""},{"$f":"IF(Liste_pièces!H1000=\"\",\"\",Liste_pièces!H1000)","v":""},{"$f":"IF(Liste_pièces!I1000=\"\",\"\",Liste_pièces!I1000)","v":""},{"$f":"IF(Liste_pièces!J1000=\"\",\"\",Liste_pièces!J1000)","v":""},{"$f":"IF(Liste_pièces!K1000=\"\",\"\",Liste_pièces!K1000)","v":""},{"$f":"IF(Liste_pièces!L1000=\"\",\"\",Liste_pièces!L1000)","v":""},{"$f":"IF(Liste_pièces!M1000=\"\",\"\",Liste_pièces!M1000)","v":""},0,1,0]
[{"$f":"IF(Liste_pièces!A257=\"\",\"ZZZ\",Liste_pièces!A257)","v":"ZZZ"},{"$f":"IF(Liste_pièces!B257=\"\",\"ZZZ\",Liste_pièces!B257)","v":"ZZZ"},{"$f":"IF(Liste_pièces!C257=\"\",\"\",Liste_pièces!C257)","v":""},{"$f":"IF(Liste_pièces!D257=\"\",\"\",Liste_pièces!D257)","v":""},{"$f":"IF(Liste_pièces!E257=\"\",\"\",Liste_pièces!E257)","v":""},{"$f":"IF(Liste_pièces!F257=\"\",\"\",Liste_pièces!F257)","v":""},{"$f":"IF(Liste_pièces!G257=\"\",\"\",Liste_pièces!G257)","v":""},{"$f":"IF(Liste_pièces!H257=\"\",\"\",Liste_pièces!H257)","v":""},{"$f":"IF(Liste_pièces!I257=\"\",\"\",Liste_pièces!I257)","v":""},{"$f":"IF(Liste_pièces!J257=\"\",\"\",Liste_pièces!J257)","v":""},{"$f":"IF(Liste_pièces!K257=\"\",\"\",Liste_pièces!K257)","v":""},{"$f":"IF(Liste_pièces!L257=\"\",\"\",Liste_pièces!L257)","v":""},{"$f":"IF(Liste_pièces!M257=\"\",\"\",Liste_pièces!M257)","v":""}]
[{"$f":"IF(Liste_pièces!A258=\"\",\"ZZZ\",Liste_pièces!A258)","v":"ZZZ"},{"$f":"IF(Liste_pièces!B258=\"\",\"ZZZ\",Liste_pièces!B258)","v":"ZZZ"},{"$f":"IF(Liste_pièces!C258=\"\",\"\",Liste_pièces!C258)","v":""},{"$f":"IF(Liste_pièces!D258=\"\",\"\",Liste_pièces!D258)","v":""},{"$f":"IF(Liste_pièces!E258=\"\",\"\",Liste_pièces!E258)","v":""},{"$f":"IF(Liste_pièces!F258=\"\",\"\",Liste_pièces!F258)","v":""},{"$f":"IF(Liste_pièces!G258=\"\",\"\",Liste_pièces!G258)","v":""},{"$f":"IF(Liste_pièces!H258=\"\",\"\",Liste_pièces!H258)","v":""},{"$f":"IF(Liste_pièces!I258=\"\",\"\",Liste_pièces!I258)","v":""},{"$f":"IF(Liste_pièces!J258=\"\",\"\",Liste_pièces!J258)","v":""},{"$f":"IF(Liste_pièces!K258=\"\",\"\",Liste_pièces!K258)","v":""},{"$f":"IF(Liste_pièces!L258=\"\",\"\",Liste_pièces!L258)","v":""},{"$f":"IF(Liste_pièces!M258=\"\",\"\",Liste_pièces!M258)","v":""}]
[{"$f":"IF(Liste_pièces!A259=\"\",\"ZZZ\",Liste_pièces!A259)","v":"ZZZ"},{"$f":"IF(Liste_pièces!B259=\"\",\"ZZZ\",Liste_pièces!B259)","v":"ZZZ"},{"$f":"IF(Liste_pièces!C259=\"\",\"\",Liste_pièces!C259)","v":""},{"$f":"IF(Liste_pièces!D259=\"\",\"\",Liste_pièces!D259)","v":""},{"$f":"IF(Liste_pièces!E259=\"\",\"\",Liste_pièces!E259)","v":""},{"$f":"IF(Liste_pièces!F259=\"\",\"\",Liste_pièces!F259)","v":""},{"$f":"IF(Liste_pièces!G259=\"\",\"\",Liste_pièces!G259)","v":""},{"$f":"IF(Liste_pièces!H259=\"\",\"\",Liste_pièces!H259)","v":""},{"$f":"IF(Liste_pièces!I259=\"\",\"\",Liste_pièces!I259)","v":""},{"$f":"IF(Liste_pièces!J259=\"\",\"\",Liste_pièces!J259)","v":""},{"$f":"IF(Liste_pièces!K259=\"\",\"\",Liste_pièces!K259)","v":""},{"$f":"IF(Liste_pièces!L259=\"\",\"\",Liste_pièces!L259)","v":""},{"$f":"IF(Liste_pièces!M259=\"\",\"\",Liste_pièces!M259)","v":""}]
[{"$f":"IF(Liste_pièces!A260=\"\",\"ZZZ\",Liste_pièces!A260)","v":"ZZZ"},{"$f":"IF(Liste_pièces!B260=\"\",\"ZZZ\",Liste_pièces!B260)","v":"ZZZ"},{"$f":"IF(Liste_pièces!C260=\"\",\"\",Liste_pièces!C260)","v":""},{"$f":"IF(Liste_pièces!D260=\"\",\"\",Liste_pièces!D260)","v":""},{"$f":"IF(Liste_pièces!E260=\"\",\"\",Liste_pièces!E260)","v":""},{"$f":"IF(Liste_pièces!F260=\"\",\"\",Liste_pièces!F260)","v":""},{"$f":"IF(Liste_pièces!G260=\"\",\"\",Liste_pièces!G260)","v":""},{"$f":"IF(Liste_pièces!H260=\"\",\"\",Liste_pièces!H260)","v":""},{"$f":"IF(Liste_pièces!I260=\"\",\"\",Liste_pièces!I260)","v":""},{"$f":"IF(Liste_pièces!J260=\"\",\"\",Liste_pièces!J260)","v":""},{"$f":"IF(Liste_pièces!K260=\"\",\"\",Liste_pièces!K260)","v":""},{"$f":"IF(Liste_pièces!L260=\"\",\"\",Liste_pièces!L260)","v":""},{"$f":"IF(Liste_pièces!M260=\"\",\"\",Liste_pièces!M260)","v":""}]
[{"$f":"IF(Liste_pièces!A261=\"\",\"ZZZ\",Liste_pièces!A261)","v":"ZZZ"},{"$f":"IF(Liste_pièces!B261=\"\",\"ZZZ\",Liste_pièces!B261)","v":"ZZZ"},{"$f":"IF(Liste_pièces!C261=\"\",\"\",Liste_pièces!C261)","v":""},{"$f":"IF(Liste_pièces!D261=\"\",\"\",Liste_pièces!D261)","v":""},{"$f":"IF(Liste_pièces!E261=\"\",\"\",Liste_pièces!E261)","v":""},{"$f":"IF(Liste_pièces!F261=\"\",\"\",Liste_pièces!F261)","v":""},{"$f":"IF(Liste_pièces!G261=\"\",\"\",Liste_pièces!G261)","v":""},{"$f":"IF(Liste_pièces!H261=\"\",\"\",Liste_pièces!H261)","v":""},{"$f":"IF(Liste_pièces!I261=\"\",\"\",Liste_pièces!I261)","v":""},{"$f":"IF(Liste_pièces!J261=\"\",\"\",Liste_pièces!J261)","v":""},{"$f":"IF(Liste_pièces!K261=\"\",\"\",Liste_pièces!K261)","v":""},{"$f":"IF(Liste_pièces!L261=\"\",\"\",Liste_pièces!L261)","v":""},{"$f":"IF(Liste_pièces!M261=\"\",\"\",Liste_pièces!M261)","v":""}]
[{"$f":"IF(Liste_pièces!A262=\"\",\"ZZZ\",Liste_pièces!A262)","v":"ZZZ"},{"$f":"IF(Liste_pièces!B262=\"\",\"ZZZ\",Liste_pièces!B262)","v":"ZZZ"},{"$f":"IF(Liste_pièces!C262=\"\",\"\",Liste_pièces!C262)","v":""},{"$f":"IF(Liste_pièces!D262=\"\",\"\",Liste_pièces!D262)","v":""},{"$f":"IF(Liste_pièces!E262=\"\",\"\",Liste_pièces!E262)","v":""},{"$f":"IF(Liste_pièces!F262=\"\",\"\",Liste_pièces!F262)","v":""},{"$f":"IF(Liste_pièces!G262=\"\",\"\",Liste_pièces!G262)","v":""},{"$f":"IF(Liste_pièces!H262=\"\",\"\",Liste_pièces!H262)","v":""},{"$f":"IF(Liste_pièces!I262=\"\",\"\",Liste_pièces!I262)","v":""},{"$f":"IF(Liste_pièces!J262=\"\",\"\",Liste_pièces!J262)","v":""},{"$f":"IF(Liste_pièces!K262=\"\",\"\",Liste_pièces!K262)","v":""},{"$f":"IF(Liste_pièces!L262=\"\",\"\",Liste_pièces!L262)","v":""},{"$f":"IF(Liste_pièces!M262=\"\",\"\",Liste_pièces!M262)","v":""}]
[{"$f":"IF(Liste_pièces!A263=\"\",\"ZZZ\",Liste_pièces!A263)","v":"ZZZ"},{"$f":"IF(Liste_pièces!B263=\"\",\"ZZZ\",Liste_pièces!B263)","v":"ZZZ"},{"$f":"IF(Liste_pièces!C263=\"\",\"\",Liste_pièces!C263)","v":""},{"$f":"IF(Liste_pièces!D263=\"\",\"\",Liste_pièces!D263)","v":""},{"$f":"IF(Liste_pièces!E263=\"\",\"\",Liste_pièces!E263)","v":""},{"$f":"IF(Liste_pièces!F263=\"\",\"\",Liste_pièces!F263)","v":""},{"$f":"IF(Liste_pièces!G263=\"\",\"\",Liste_pièces!G263)","v":""},{"$f":"IF(Liste_pièces!H263=\"\",\"\",Liste_pièces!H263)","v":""},{"$f":"IF(Liste_pièces!I263=\"\",\"\",Liste_pièces!I263)","v":""},{"$f":"IF(Liste_pièces!J263=\"\",\"\",Liste_pièces!J263)","v":""},{"$f":"IF(Liste_pièces!K263=\"\",\"\",Liste_pièces!K263)","v":""},{"$f":"IF(Liste_pièces!L263=\"\",\"\",Liste_pièces!L263)","v":""},{"$f":"IF(Liste_pièces!M263=\"\",\"\",Liste_pièces!M263)","v":""}]
[{"$f":"IF(Liste_pièces!A264=\"\",\"ZZZ\",Liste_pièces!A264)","v":"ZZZ"},{"$f":"IF(Liste_pièces!B264=\"\",\"ZZZ\",Liste_pièces!B264)","v":"ZZZ"},{"$f":"IF(Liste_pièces!C264=\"\",\"\",Liste_pièces!C264)","v":""},{"$f":"IF(Liste_pièces!D264=\"\",\"\",Liste_pièces!D264)","v":""},{"$f":"IF(Liste_pièces!E264=\"\",\"\",Liste_pièces!E264)","v":""},{"$f":"IF(Liste_pièces!F264=\"\",\"\",Liste_pièces!F264)","v":""},{"$f":"IF(Liste_pièces!G264=\"\",\"\",Liste_pièces!G264)","v":""},{"$f":"IF(Liste_pièces!H264=\"\",\"\",Liste_pièces!H264)","v":""},{"$f":"IF(Liste_pièces!I264=\"\",\"\",Liste_pièces!I264)","v":""},{"$f":"IF(Liste_pièces!J264=\"\",\"\",Liste_pièces!J264)","v":""},{"$f":"IF(Liste_pièces!K264=\"\",\"\",Liste_pièces!K264)","v":""},{"$f":"IF(Liste_pièces!L264=\"\",\"\",Liste_pièces!L264)","v":""},{"$f":"IF(Liste_pièces!M264=\"\",\"\",Liste_pièces!M264)","v":""}]
[{"$f":"IF(Liste_pièces!A265=\"\",\"ZZZ\",Liste_pièces!A265)","v":"ZZZ"},{"$f":"IF(Liste_pièces!B265=\"\",\"ZZZ\",Liste_pièces!B265)","v":"ZZZ"},{"$f":"IF(Liste_pièces!C265=\"\",\"\",Liste_pièces!C265)","v":""},{"$f":"IF(Liste_pièces!D265=\"\",\"\",Liste_pièces!D265)","v":""},{"$f":"IF(Liste_pièces!E265=\"\",\"\",Liste_pièces!E265)","v":""},{"$f":"IF(Liste_pièces!F265=\"\",\"\",Liste_pièces!F265)","v":""},{"$f":"IF(Liste_pièces!G265=\"\",\"\",Liste_pièces!G265)","v":""},{"$f":"IF(Liste_pièces!H265=\"\",\"\",Liste_pièces!H265)","v":""},{"$f":"IF(Liste_pièces!I265=\"\",\"\",Liste_pièces!I265)","v":""},{"$f":"IF(Liste_pièces!J265=\"\",\"\",Liste_pièces!J265)","v":""},{"$f":"IF(Liste_pièces!K265=\"\",\"\",Liste_pièces!K265)","v":""},{"$f":"IF(Liste_pièces!L265=\"\",\"\",Liste_pièces!L265)","v":""},{"$f":"IF(Liste_pièces!M265=\"\",\"\",Liste_pièces!M265)","v":""}]
[{"$f":"IF(Liste_pièces!A266=\"\",\"ZZZ\",Liste_pièces!A266)","v":"ZZZ"},{"$f":"IF(Liste_pièces!B266=\"\",\"ZZZ\",Liste_pièces!B266)","v":"ZZZ"},{"$f":"IF(Liste_pièces!C266=\"\",\"\",Liste_pièces!C266)","v":""},{"$f":"IF(Liste_pièces!D266=\"\",\"\",Liste_pièces!D266)","v":""},{"$f":"IF(Liste_pièces!E266=\"\",\"\",Liste_pièces!E266)","v":""},{"$f":"IF(Liste_pièces!F266=\"\",\"\",Liste_pièces!F266)","v":""},{"$f":"IF(Liste_pièces!G266=\"\",\"\",Liste_pièces!G266)","v":""},{"$f":"IF(Liste_pièces!H266=\"\",\"\",Liste_pièces!H266)","v":""},{"$f":"IF(Liste_pièces!I266=\"\",\"\",Liste_pièces!I266)","v":""},{"$f":"IF(Liste_pièces!J266=\"\",\"\",Liste_pièces!J266)","v":""},{"$f":"IF(Liste_pièces!K266=\"\",\"\",Liste_pièces!K266)","v":""},{"$f":"IF(Liste_pièces!L266=\"\",\"\",Liste_pièces!L266)","v":""},{"$f":"IF(Liste_pièces!M266=\"\",\"\",Liste_pièces!M266)","v":""}]
[{"$f":"IF(Liste_pièces!A267=\"\",\"ZZZ\",Liste_pièces!A267)","v":"ZZZ"},{"$f":"IF(Liste_pièces!B267=\"\",\"ZZZ\",Liste_pièces!B267)","v":"ZZZ"},{"$f":"IF(Liste_pièces!C267=\"\",\"\",Liste_pièces!C267)","v":""},{"$f":"IF(Liste_pièces!D267=\"\",\"\",Liste_pièces!D267)","v":""},{"$f":"IF(Liste_pièces!E267=\"\",\"\",Liste_pièces!E267)","v":""},{"$f":"IF(Liste_pièces!F267=\"\",\"\",Liste_pièces!F267)","v":""},{"$f":"IF(Liste_pièces!G267=\"\",\"\",Liste_pièces!G267)","v":""},{"$f":"IF(Liste_pièces!H267=\"\",\"\",Liste_pièces!H267)","v":""},{"$f":"IF(Liste_pièces!I267=\"\",\"\",Liste_pièces!I267)","v":""},{"$f":"IF(Liste_pièces!J267=\"\",\"\",Liste_pièces!J267)","v":""},{"$f":"IF(Liste_pièces!K267=\"\",\"\",Liste_pièces!K267)","v":""},{"$f":"IF(Liste_pièces!L267=\"\",\"\",Liste_pièces!L267)","v":""},{"$f":"IF(Liste_pièces!M267=\"\",\"\",Liste_pièces!M267)","v":""}]
[{"$f":"IF(Liste_pièces!A268=\"\",\"ZZZ\",Liste_pièces!A268)","v":"ZZZ"},{"$f":"IF(Liste_pièces!B268=\"\",\"ZZZ\",Liste_pièces!B268)","v":"ZZZ"},{"$f":"IF(Liste_pièces!C268=\"\",\"\",Liste_pièces!C268)","v":""},{"$f":"IF(Liste_pièces!D268=\"\",\"\",Liste_pièces!D268)","v":""},{"$f":"IF(Liste_pièces!E268=\"\",\"\",Liste_pièces!E268)","v":""},{"$f":"IF(Liste_pièces!F268=\"\",\"\",Liste_pièces!F268)","v":""},{"$f":"IF(Liste_pièces!G268=\"\",\"\",Liste_pièces!G268)","v":""},{"$f":"IF(Liste_pièces!H268=\"\",\"\",Liste_pièces!H268)","v":""},{"$f":"IF(Liste_pièces!I268=\"\",\"\",Liste_pièces!I268)","v":""},{"$f":"IF(Liste_pièces!J268=\"\",\"\",Liste_pièces!J268)","v":""},{"$f":"IF(Liste_pièces!K268=\"\",\"\",Liste_pièces!K268)","v":""},{"$f":"IF(Liste_pièces!L268=\"\",\"\",Liste_pièces!L268)","v":""},{"$f":"IF(Liste_pièces!M268=\"\",\"\",Liste_pièces!M268)","v":""}]
[{"$f":"IF(Liste_pièces!A269=\"\",\"ZZZ\",Liste_pièces!A269)","v":"ZZZ"},{"$f":"IF(Liste_pièces!B269=\"\",\"ZZZ\",Liste_pièces!B269)","v":"ZZZ"},{"$f":"IF(Liste_pièces!C269=\"\",\"\",Liste_pièces!C269)","v":""},{"$f":"IF(Liste_pièces!D269=\"\",\"\",Liste_pièces!D269)","v":""},{"$f":"IF(Liste_pièces!E269=\"\",\"\",Liste_pièces!E269)","v":""},{"$f":"IF(Liste_pièces!F269=\"\",\"\",Liste_pièces!F269)","v":""},{"$f":"IF(Liste_pièces!G269=\"\",\"\",Liste_pièces!G269)","v":""},{"$f":"IF(Liste_pièces!H269=\"\",\"\",Liste_pièces!H269)","v":""},{"$f":"IF(Liste_pièces!I269=\"\",\"\",Liste_pièces!I269)","v":""},{"$f":"IF(Liste_pièces!J269=\"\",\"\",Liste_pièces!J269)","v":""},{"$f":"IF(Liste_pièces!K269=\"\",\"\",Liste_pièces!K269)","v":""},{"$f":"IF(Liste_pièces!L269=\"\",\"\",Liste_pièces!L269)","v":""},{"$f":"IF(Liste_pièces!M269=\"\",\"\",Liste_pièces!M269)","v":""}]
[{"$f":"IF(Liste_pièces!A270=\"\",\"ZZZ\",Liste_pièces!A270)","v":"ZZZ"},{"$f":"IF(Liste_pièces!B270=\"\",\"ZZZ\",Liste_pièces!B270)","v":"ZZZ"},{"$f":"IF(Liste_pièces!C270=\"\",\"\",Liste_pièces!C270)","v":""},{"$f":"IF(Liste_pièces!D270=\"\",\"\",Liste_pièces!D270)","v":""},{"$f":"IF(Liste_pièces!E270=\"\",\"\",Liste_pièces!E270)","v":""},{"$f":"IF(Liste_pièces!F270=\"\",\"\",Liste_pièces!F270)","v":""},{"$f":"IF(Liste_pièces!G270=\"\",\"\",Liste_pièces!G270)","v":""},{"$f":"IF(Liste_pièces!H270=\"\",\"\",Liste_pièces!H270)","v":""},{"$f":"IF(Liste_pièces!I270=\"\",\"\",Liste_pièces!I270)","v":""},{"$f":"IF(Liste_pièces!J270=\"\",\"\",Liste_pièces!J270)","v":""},{"$f":"IF(Liste_pièces!K270=\"\",\"\",Liste_pièces!K270)","v":""},{"$f":"IF(Liste_pièces!L270=\"\",\"\",Liste_pièces!L270)","v":""},{"$f":"IF(Liste_pièces!M270=\"\",\"\",Liste_pièces!M270)","v":""}]
[{"$f":"IF(Liste_pièces!A271=\"\",\"ZZZ\",Liste_pièces!A271)","v":"ZZZ"},{"$f":"IF(Liste_pièces!B271=\"\",\"ZZZ\",Liste_pièces!B271)","v":"ZZZ"},{"$f":"IF(Liste_pièces!C271=\"\",\"\",Liste_pièces!C271)","v":""},{"$f":"IF(Liste_pièces!D271=\"\",\"\",Liste_pièces!D271)","v":""},{"$f":"IF(Liste_pièces!E271=\"\",\"\",Liste_pièces!E271)","v":""},{"$f":"IF(Liste_pièces!F271=\"\",\"\",Liste_pièces!F271)","v":""},{"$f":"IF(Liste_pièces!G271=\"\",\"\",Liste_pièces!G271)","v":""},{"$f":"IF(Liste_pièces!H271=\"\",\"\",Liste_pièces!H271)","v":""},{"$f":"IF(Liste_pièces!I271=\"\",\"\",Liste_pièces!I271)","v":""},{"$f":"IF(Liste_pièces!J271=\"\",\"\",Liste_pièces!J271)","v":""},{"$f":"IF(Liste_pièces!K271=\"\",\"\",Liste_pièces!K271)","v":""},{"$f":"IF(Liste_pièces!L271=\"\",\"\",Liste_pièces!L271)","v":""},{"$f":"IF(Liste_pièces!M271=\"\",\"\",Liste_pièces!M271)","v":""}]
[{"$f":"IF(Liste_pièces!A272=\"\",\"ZZZ\",Liste_pièces!A272)","v":"ZZZ"},{"$f":"IF(Liste_pièces!B272=\"\",\"ZZZ\",Liste_pièces!B272)","v":"ZZZ"},{"$f":"IF(Liste_pièces!C272=\"\",\"\",Liste_pièces!C272)","v":""},{"$f":"IF(Liste_pièces!D272=\"\",\"\",Liste_pièces!D272)","v":""},{"$f":"IF(Liste_pièces!E272=\"\",\"\",Liste_pièces!E272)","v":""},{"$f":"IF(Liste_pièces!F272=\"\",\"\",Liste_pièces!F272)","v":""},{"$f":"IF(Liste_pièces!G272=\"\",\"\",Liste_pièces!G272)","v":""},{"$f":"IF(Liste_pièces!H272=\"\",\"\",Liste_pièces!H272)","v":""},{"$f":"IF(Liste_pièces!I272=\"\",\"\",Liste_pièces!I272)","v":""},{"$f":"IF(Liste_pièces!J272=\"\",\"\",Liste_pièces!J272)","v":""},{"$f":"IF(Liste_pièces!K272=\"\",\"\",Liste_pièces!K272)","v":""},{"$f":"IF(Liste_pièces!L272=\"\",\"\",Liste_pièces!L272)","v":""},{"$f":"IF(Liste_pièces!M272=\"\",\"\",Liste_pièces!M272)","v":""}]
[{"$f":"IF(Liste_pièces!A273=\"\",\"ZZZ\",Liste_pièces!A273)","v":"ZZZ"},{"$f":"IF(Liste_pièces!B273=\"\",\"ZZZ\",Liste_pièces!B273)","v":"ZZZ"},{"$f":"IF(Liste_pièces!C273=\"\",\"\",Liste_pièces!C273)","v":""},{"$f":"IF(Liste_pièces!D273=\"\",\"\",Liste_pièces!D273)","v":""},{"$f":"IF(Liste_pièces!E273=\"\",\"\",Liste_pièces!E273)","v":""},{"$f":"IF(Liste_pièces!F273=\"\",\"\",Liste_pièces!F273)","v":""},{"$f":"IF(Liste_pièces!G273=\"\",\"\",Liste_pièces!G273)","v":""},{"$f":"IF(Liste_pièces!H273=\"\",\"\",Liste_pièces!H273)","v":""},{"$f":"IF(Liste_pièces!I273=\"\",\"\",Liste_pièces!I273)","v":""},{"$f":"IF(Liste_pièces!J273=\"\",\"\",Liste_pièces!J273)","v":""},{"$f":"IF(Liste_pièces!K273=\"\",\"\",Liste_pièces!K273)","v":""},{"$f":"IF(Liste_pièces!L273=\"\",\"\",Liste_pièces!L273)","v":""},{"$f":"IF(Liste_pièces!M273=\"\",\"\",Liste_pièces!M273)","v":""}]
[{"$f":"IF(Liste_pièces!A274=\"\",\"ZZZ\",Liste_pièces!A274)","v":"ZZZ"},{"$f":"IF(Liste_pièces!B274=\"\",\"ZZZ\",Liste_pièces!B274)","v":"ZZZ"},{"$f":"IF(Liste_pièces!C274=\"\",\"\",Liste_pièces!C274)","v":""},{"$f":"IF(Liste_pièces!D274=\"\",\"\",Liste_pièces!D274)","v":""},{"$f":"IF(Liste_pièces!E274=\"\",\"\",Liste_pièces!E274)","v":""},{"$f":"IF(Liste_pièces!F274=\"\",\"\",Liste_pièces!F274)","v":""},{"$f":"IF(Liste_pièces!G274=\"\",\"\",Liste_pièces!G274)","v":""},{"$f":"IF(Liste_pièces!H274=\"\",\"\",Liste_pièces!H274)","v":""},{"$f":"IF(Liste_pièces!I274=\"\",\"\",Liste_pièces!I274)","v":""},{"$f":"IF(Liste_pièces!J274=\"\",\"\",Liste_pièces!J274)","v":""},{"$f":"IF(Liste_pièces!K274=\"\",\"\",Liste_pièces!K274)","v":""},{"$f":"IF(Liste_pièces!L274=\"\",\"\",Liste_pièces!L274)","v":""},{"$f":"IF(Liste_pièces!M274=\"\",\"\",Liste_pièces!M274)","v":""}]
[{"$f":"IF(Liste_pièces!A275=\"\",\"ZZZ\",Liste_pièces!A275)","v":"ZZZ"},{"$f":"IF(Liste_pièces!B275=\"\",\"ZZZ\",Liste_pièces!B275)","v":"ZZZ"},{"$f":"IF(Liste_pièces!C275=\"\",\"\",Liste_pièces!C275)","v":""},{"$f":"IF(Liste_pièces!D275=\"\",\"\",Liste_pièces!D275)","v":""},{"$f":"IF(Liste_pièces!E275=\"\",\"\",Liste_pièces!E275)","v":""},{"$f":"IF(Liste_pièces!F275=\"\",\"\",Liste_pièces!F275)","v":""},{"$f":"IF(Liste_pièces!G275=\"\",\"\",Liste_pièces!G275)","v":""},{"$f":"IF(Liste_pièces!H275=\"\",\"\",Liste_pièces!H275)","v":""},{"$f":"IF(Liste_pièces!I275=\"\",\"\",Liste_pièces!I275)","v":""},{"$f":"IF(Liste_pièces!J275=\"\",\"\",Liste_pièces!J275)","v":""},{"$f":"IF(Liste_pièces!K275=\"\",\"\",Liste_pièces!K275)","v":""},{"$f":"IF(Liste_pièces!L275=\"\",\"\",Liste_pièces!L275)","v":""},{"$f":"IF(Liste_pièces!M275=\"\",\"\",Liste_pièces!M275)","v":""}]
[{"$f":"IF(Liste_pièces!A276=\"\",\"ZZZ\",Liste_pièces!A276)","v":"ZZZ"},{"$f":"IF(Liste_pièces!B276=\"\",\"ZZZ\",Liste_pièces!B276)","v":"ZZZ"},{"$f":"IF(Liste_pièces!C276=\"\",\"\",Liste_pièces!C276)","v":""},{"$f":"IF(Liste_pièces!D276=\"\",\"\",Liste_pièces!D276)","v":""},{"$f":"IF(Liste_pièces!E276=\"\",\"\",Liste_pièces!E276)","v":""},{"$f":"IF(Liste_pièces!F276=\"\",\"\",Liste_pièces!F276)","v":""},{"$f":"IF(Liste_pièces!G276=\"\",\"\",Liste_pièces!G276)","v":""},{"$f":"IF(Liste_pièces!H276=\"\",\"\",Liste_pièces!H276)","v":""},{"$f":"IF(Liste_pièces!I276=\"\",\"\",Liste_pièces!I276)","v":""},{"$f":"IF(Liste_pièces!J276=\"\",\"\",Liste_pièces!J276)","v":""},{"$f":"IF(Liste_pièces!K276=\"\",\"\",Liste_pièces!K276)","v":""},{"$f":"IF(Liste_pièces!L276=\"\",\"\",Liste_pièces!L276)","v":""},{"$f":"IF(Liste_pièces!M276=\"\",\"\",Liste_pièces!M276)","v":""}]
[{"$f":"IF(Liste_pièces!A277=\"\",\"ZZZ\",Liste_pièces!A277)","v":"ZZZ"},{"$f":"IF(Liste_pièces!B277=\"\",\"ZZZ\",Liste_pièces!B277)","v":"ZZZ"},{"$f":"IF(Liste_pièces!C277=\"\",\"\",Liste_pièces!C277)","v":""},{"$f":"IF(Liste_pièces!D277=\"\",\"\",Liste_pièces!D277)","v":""},{"$f":"IF(Liste_pièces!E277=\"\",\"\",Liste_pièces!E277)","v":""},{"$f":"IF(Liste_pièces!F277=\"\",\"\",Liste_pièces!F277)","v":""},{"$f":"IF(Liste_pièces!G277=\"\",\"\",Liste_pièces!G277)","v":""},{"$f":"IF(Liste_pièces!H277=\"\",\"\",Liste_pièces!H277)","v":""},{"$f":"IF(Liste_pièces!I277=\"\",\"\",Liste_pièces!I277)","v":""},{"$f":"IF(Liste_pièces!J277=\"\",\"\",Liste_pièces!J277)","v":""},{"$f":"IF(Liste_pièces!K277=\"\",\"\",Liste_pièces!K277)","v":""},{"$f":"IF(Liste_pièces!L277=\"\",\"\",Liste_pièces!L277)","v":""},{"$f":"IF(Liste_pièces!M277=\"\",\"\",Liste_pièces!M277)","v":""}]
[{"$f":"IF(Liste_pièces!A278=\"\",\"ZZZ\",Liste_pièces!A278)","v":"ZZZ"},{"$f":"IF(Liste_pièces!B278=\"\",\"ZZZ\",Liste_pièces!B278)","v":"ZZZ"},{"$f":"IF(Liste_pièces!C278=\"\",\"\",Liste_pièces!C278)","v":""},{"$f":"IF(Liste_pièces!D278=\"\",\"\",Liste_pièces!D278)","v":""},{"$f":"IF(Liste_pièces!E278=\"\",\"\",Liste_pièces!E278)","v":""},{"$f":"IF(Liste_pièces!F278=\"\",\"\",Liste_pièces!F278)","v":""},{"$f":"IF(Liste_pièces!G278=\"\",\"\",Liste_pièces!G278)","v":""},{"$f":"IF(Liste_pièces!H278=\"\",\"\",Liste_pièces!H278)","v":""},{"$f":"IF(Liste_pièces!I278=\"\",\"\",Liste_pièces!I278)","v":""},{"$f":"IF(Liste_pièces!J278=\"\",\"\",Liste_pièces!J278)","v":""},{"$f":"IF(Liste_pièces!K278=\"\",\"\",Liste_pièces!K278)","v":""},{"$f":"IF(Liste_pièces!L278=\"\",\"\",Liste_pièces!L278)","v":""},{"$f":"IF(Liste_pièces!M278=\"\",\"\",Liste_pièces!M278)","v":""}]
[{"$f":"IF(Liste_pièces!A279=\"\",\"ZZZ\",Liste_pièces!A279)","v":"ZZZ"},{"$f":"IF(Liste_pièces!B279=\"\",\"ZZZ\",Liste_pièces!B279)","v":"ZZZ"},{"$f":"IF(Liste_pièces!C279=\"\",\"\",Liste_pièces!C279)","v":""},{"$f":"IF(Liste_pièces!D279=\"\",\"\",Liste_pièces!D279)","v":""},{"$f":"IF(Liste_pièces!E279=\"\",\"\",Liste_pièces!E279)","v":""},{"$f":"IF(Liste_pièces!F279=\"\",\"\",Liste_pièces!F279)","v":""},{"$f":"IF(Liste_pièces!G279=\"\",\"\",Liste_pièces!G279)","v":""},{"$f":"IF(Liste_pièces!H279=\"\",\"\",Liste_pièces!H279)","v":""},{"$f":"IF(Liste_pièces!I279=\"\",\"\",Liste_pièces!I279)","v":""},{"$f":"IF(Liste_pièces!J279=\"\",\"\",Liste_pièces!J279)","v":""},{"$f":"IF(Liste_pièces!K279=\"\",\"\",Liste_pièces!K279)","v":""},{"$f":"IF(Liste_pièces!L279=\"\",\"\",Liste_pièces!L279)","v":""},{"$f":"IF(Liste_pièces!M279=\"\",\"\",Liste_pièces!M279)","v":""}]
[{"$f":"IF(Liste_pièces!A280=\"\",\"ZZZ\",Liste_pièces!A280)","v":"ZZZ"},{"$f":"IF(Liste_pièces!B280=\"\",\"ZZZ\",Liste_pièces!B280)","v":"ZZZ"},{"$f":"IF(Liste_pièces!C280=\"\",\"\",Liste_pièces!C280)","v":""},{"$f":"IF(Liste_pièces!D280=\"\",\"\",Liste_pièces!D280)","v":""},{"$f":"IF(Liste_pièces!E280=\"\",\"\",Liste_pièces!E280)","v":""},{"$f":"IF(Liste_pièces!F280=\"\",\"\",Liste_pièces!F280)","v":""},{"$f":"IF(Liste_pièces!G280=\"\",\"\",Liste_pièces!G280)","v":""},{"$f":"IF(Liste_pièces!H280=\"\",\"\",Liste_pièces!H280)","v":""},{"$f":"IF(Liste_pièces!I280=\"\",\"\",Liste_pièces!I280)","v":""},{"$f":"IF(Liste_pièces!J280=\"\",\"\",Liste_pièces!J280)","v":""},{"$f":"IF(Liste_pièces!K280=\"\",\"\",Liste_pièces!K280)","v":""},{"$f":"IF(Liste_pièces!L280=\"\",\"\",Liste_pièces!L280)","v":""},{"$f":"IF(Liste_pièces!M280=\"\",\"\",Liste_pièces!M280)","v":""}]
[{"$f":"IF(Liste_pièces!A281=\"\",\"ZZZ\",Liste_pièces!A281)","v":"ZZZ"},{"$f":"IF(Liste_pièces!B281=\"\",\"ZZZ\",Liste_pièces!B281)","v":"ZZZ"},{"$f":"IF(Liste_pièces!C281=\"\",\"\",Liste_pièces!C281)","v":""},{"$f":"IF(Liste_pièces!D281=\"\",\"\",Liste_pièces!D281)","v":""},{"$f":"IF(Liste_pièces!E281=\"\",\"\",Liste_pièces!E281)","v":""},{"$f":"IF(Liste_pièces!F281=\"\",\"\",Liste_pièces!F281)","v":""},{"$f":"IF(Liste_pièces!G281=\"\",\"\",Liste_pièces!G281)","v":""},{"$f":"IF(Liste_pièces!H281=\"\",\"\",Liste_pièces!H281)","v":""},{"$f":"IF(Liste_pièces!I281=\"\",\"\",Liste_pièces!I281)","v":""},{"$f":"IF(Liste_pièces!J281=\"\",\"\",Liste_pièces!J281)","v":""},{"$f":"IF(Liste_pièces!K281=\"\",\"\",Liste_pièces!K281)","v":""},{"$f":"IF(Liste_pièces!L281=\"\",\"\",Liste_pièces!L281)","v":""},{"$f":"IF(Liste_pièces!M281=\"\",\"\",Liste_pièces!M281)","v":""}]
[{"$f":"IF(Liste_pièces!A282=\"\",\"ZZZ\",Liste_pièces!A282)","v":"ZZZ"},{"$f":"IF(Liste_pièces!B282=\"\",\"ZZZ\",Liste_pièces!B282)","v":"ZZZ"},{"$f":"IF(Liste_pièces!C282=\"\",\"\",Liste_pièces!C282)","v":""},{"$f":"IF(Liste_pièces!D282=\"\",\"\",Liste_pièces!D282)","v":""},{"$f":"IF(Liste_pièces!E282=\"\",\"\",Liste_pièces!E282)","v":""},{"$f":"IF(Liste_pièces!F282=\"\",\"\",Liste_pièces!F282)","v":""},{"$f":"IF(Liste_pièces!G282=\"\",\"\",Liste_pièces!G282)","v":""},{"$f":"IF(Liste_pièces!H282=\"\",\"\",Liste_pièces!H282)","v":""},{"$f":"IF(Liste_pièces!I282=\"\",\"\",Liste_pièces!I282)","v":""},{"$f":"IF(Liste_pièces!J282=\"\",\"\",Liste_pièces!J282)","v":""},{"$f":"IF(Liste_pièces!K282=\"\",\"\",Liste_pièces!K282)","v":""},{"$f":"IF(Liste_pièces!L282=\"\",\"\",Liste_pièces!L282)","v":""},{"$f":"IF(Liste_pièces!M282=\"\",\"\",Liste_pièces!M282)","v":""}]
[{"$f":"IF(Liste_pièces!A283=\"\",\"ZZZ\",Liste_pièces!A283)","v":"ZZZ"},{"$f":"IF(Liste_pièces!B283=\"\",\"ZZZ\",Liste_pièces!B283)","v":"ZZZ"},{"$f":"IF(Liste_pièces!C283=\"\",\"\",Liste_pièces!C283)","v":""},{"$f":"IF(Liste_pièces!D283=\"\",\"\",Liste_pièces!D283)","v":""},{"$f":"IF(Liste_pièces!E283=\"\",\"\",Liste_pièces!E283)","v":""},{"$f":"IF(Liste_pièces!F283=\"\",\"\",Liste_pièces!F283)","v":""},{"$f":"IF(Liste_pièces!G283=\"\",\"\",Liste_pièces!G283)","v":""},{"$f":"IF(Liste_pièces!H283=\"\",\"\",Liste_pièces!H283)","v":""},{"$f":"IF(Liste_pièces!I283=\"\",\"\",Liste_pièces!I283)","v":""},{"$f":"IF(Liste_pièces!J283=\"\",\"\",Liste_pièces!J283)","v":""},{"$f":"IF(Liste_pièces!K283=\"\",\"\",Liste_pièces!K283)","v":""},{"$f":"IF(Liste_pièces!L283=\"\",\"\",Liste_pièces!L283)","v":""},{"$f":"IF(Liste_pièces!M283=\"\",\"\",Liste_pièces!M283)","v":""}]
[{"$f":"IF(Liste_pièces!A284=\"\",\"ZZZ\",Liste_pièces!A284)","v":"ZZZ"},{"$f":"IF(Liste_pièces!B284=\"\",\"ZZZ\",Liste_pièces!B284)","v":"ZZZ"},{"$f":"IF(Liste_pièces!C284=\"\",\"\",Liste_pièces!C284)","v":""},{"$f":"IF(Liste_pièces!D284=\"\",\"\",Liste_pièces!D284)","v":""},{"$f":"IF(Liste_pièces!E284=\"\",\"\",Liste_pièces!E284)","v":""},{"$f":"IF(Liste_pièces!F284=\"\",\"\",Liste_pièces!F284)","v":""},{"$f":"IF(Liste_pièces!G284=\"\",\"\",Liste_pièces!G284)","v":""},{"$f":"IF(Liste_pièces!H284=\"\",\"\",Liste_pièces!H284)","v":""},{"$f":"IF(Liste_pièces!I284=\"\",\"\",Liste_pièces!I284)","v":""},{"$f":"IF(Liste_pièces!J284=\"\",\"\",Liste_pièces!J284)","v":""},{"$f":"IF(Liste_pièces!K284=\"\",\"\",Liste_pièces!K284)","v":""},{"$f":"IF(Liste_pièces!L284=\"\",\"\",Liste_pièces!L284)","v":""},{"$f":"IF(Liste_pièces!M284=\"\",\"\",Liste_pièces!M284)","v":""}]
[{"$f":"IF(Liste_pièces!A285=\"\",\"ZZZ\",Liste_pièces!A285)","v":"ZZZ"},{"$f":"IF(Liste_pièces!B285=\"\",\"ZZZ\",Liste_pièces!B285)","v":"ZZZ"},{"$f":"IF(Liste_pièces!C285=\"\",\"\",Liste_pièces!C285)","v":""},{"$f":"IF(Liste_pièces!D285=\"\",\"\",Liste_pièces!D285)","v":""},{"$f":"IF(Liste_pièces!E285=\"\",\"\",Liste_pièces!E285)","v":""},{"$f":"IF(Liste_pièces!F285=\"\",\"\",Liste_pièces!F285)","v":""},{"$f":"IF(Liste_pièces!G285=\"\",\"\",Liste_pièces!G285)","v":""},{"$f":"IF(Liste_pièces!H285=\"\",\"\",Liste_pièces!H285)","v":""},{"$f":"IF(Liste_pièces!I285=\"\",\"\",Liste_pièces!I285)","v":""},{"$f":"IF(Liste_pièces!J285=\"\",\"\",Liste_pièces!J285)","v":""},{"$f":"IF(Liste_pièces!K285=\"\",\"\",Liste_pièces!K285)","v":""},{"$f":"IF(Liste_pièces!L285=\"\",\"\",Liste_pièces!L285)","v":""},{"$f":"IF(Liste_pièces!M285=\"\",\"\",Liste_pièces!M285)","v":""}]
[{"$f":"IF(Liste_pièces!A286=\"\",\"ZZZ\",Liste_pièces!A286)","v":"ZZZ"},{"$f":"IF(Liste_pièces!B286=\"\",\"ZZZ\",Liste_pièces!B286)","v":"ZZZ"},{"$f":"IF(Liste_pièces!C286=\"\",\"\",Liste_pièces!C286)","v":""},{"$f":"IF(Liste_pièces!D286=\"\",\"\",Liste_pièces!D286)","v":""},{"$f":"IF(Liste_pièces!E286=\"\",\"\",Liste_pièces!E286)","v":""},{"$f":"IF(Liste_pièces!F286=\"\",\"\",Liste_pièces!F286)","v":""},{"$f":"IF(Liste_pièces!G286=\"\",\"\",Liste_pièces!G286)","v":""},{"$f":"IF(Liste_pièces!H286=\"\",\"\",Liste_pièces!H286)","v":""},{"$f":"IF(Liste_pièces!I286=\"\",\"\",Liste_pièces!I286)","v":""},{"$f":"IF(Liste_pièces!J286=\"\",\"\",Liste_pièces!J286)","v":""},{"$f":"IF(Liste_pièces!K286=\"\",\"\",Liste_pièces!K286)","v":""},{"$f":"IF(Liste_pièces!L286=\"\",\"\",Liste_pièces!L286)","v":""},{"$f":"IF(Liste_pièces!M286=\"\",\"\",Liste_pièces!M286)","v":""}]
[{"$f":"IF(Liste_pièces!A287=\"\",\"ZZZ\",Liste_pièces!A287)","v":"ZZZ"},{"$f":"IF(Liste_pièces!B287=\"\",\"ZZZ\",Liste_pièces!B287)","v":"ZZZ"},{"$f":"IF(Liste_pièces!C287=\"\",\"\",Liste_pièces!C287)","v":""},{"$f":"IF(Liste_pièces!D287=\"\",\"\",Liste_pièces!D287)","v":""},{"$f":"IF(Liste_pièces!E287=\"\",\"\",Liste_pièces!E287)","v":""},{"$f":"IF(Liste_pièces!F287=\"\",\"\",Liste_pièces!F287)","v":""},{"$f":"IF(Liste_pièces!G287=\"\",\"\",Liste_pièces!G287)","v":""},{"$f":"IF(Liste_pièces!H287=\"\",\"\",Liste_pièces!H287)","v":""},{"$f":"IF(Liste_pièces!I287=\"\",\"\",Liste_pièces!I287)","v":""},{"$f":"IF(Liste_pièces!J287=\"\",\"\",Liste_pièces!J287)","v":""},{"$f":"IF(Liste_pièces!K287=\"\",\"\",Liste_pièces!K287)","v":""},{"$f":"IF(Liste_pièces!L287=\"\",\"\",Liste_pièces!L287)","v":""},{"$f":"IF(Liste_pièces!M287=\"\",\"\",Liste_pièces!M287)","v":""}]
[{"$f":"IF(Liste_pièces!A288=\"\",\"ZZZ\",Liste_pièces!A288)","v":"ZZZ"},{"$f":"IF(Liste_pièces!B288=\"\",\"ZZZ\",Liste_pièces!B288)","v":"ZZZ"},{"$f":"IF(Liste_pièces!C288=\"\",\"\",Liste_pièces!C288)","v":""},{"$f":"IF(Liste_pièces!D288=\"\",\"\",Liste_pièces!D288)","v":""},{"$f":"IF(Liste_pièces!E288=\"\",\"\",Liste_pièces!E288)","v":""},{"$f":"IF(Liste_pièces!F288=\"\",\"\",Liste_pièces!F288)","v":""},{"$f":"IF(Liste_pièces!G288=\"\",\"\",Liste_pièces!G288)","v":""},{"$f":"IF(Liste_pièces!H288=\"\",\"\",Liste_pièces!H288)","v":""},{"$f":"IF(Liste_pièces!I288=\"\",\"\",Liste_pièces!I288)","v":""},{"$f":"IF(Liste_pièces!J288=\"\",\"\",Liste_pièces!J288)","v":""},{"$f":"IF(Liste_pièces!K288=\"\",\"\",Liste_pièces!K288)","v":""},{"$f":"IF(Liste_pièces!L288=\"\",\"\",Liste_pièces!L288)","v":""},{"$f":"IF(Liste_pièces!M288=\"\",\"\",Liste_pièces!M288)","v":""}]
[{"$f":"IF(Liste_pièces!A289=\"\",\"ZZZ\",Liste_pièces!A289)","v":"ZZZ"},{"$f":"IF(Liste_pièces!B289=\"\",\"ZZZ\",Liste_pièces!B289)","v":"ZZZ"},{"$f":"IF(Liste_pièces!C289=\"\",\"\",Liste_pièces!C289)","v":""},{"$f":"IF(Liste_pièces!D289=\"\",\"\",Liste_pièces!D289)","v":""},{"$f":"IF(Liste_pièces!E289=\"\",\"\",Liste_pièces!E289)","v":""},{"$f":"IF(Liste_pièces!F289=\"\",\"\",Liste_pièces!F289)","v":""},{"$f":"IF(Liste_pièces!G289=\"\",\"\",Liste_pièces!G289)","v":""},{"$f":"IF(Liste_pièces!H289=\"\",\"\",Liste_pièces!H289)","v":""},{"$f":"IF(Liste_pièces!I289=\"\",\"\",Liste_pièces!I289)","v":""},{"$f":"IF(Liste_pièces!J289=\"\",\"\",Liste_pièces!J289)","v":""},{"$f":"IF(Liste_pièces!K289=\"\",\"\",Liste_pièces!K289)","v":""},{"$f":"IF(Liste_pièces!L289=\"\",\"\",Liste_pièces!L289)","v":""},{"$f":"IF(Liste_pièces!M289=\"\",\"\",Liste_pièces!M289)","v":""}]
[{"$f":"IF(Liste_pièces!A290=\"\",\"ZZZ\",Liste_pièces!A290)","v":"ZZZ"},{"$f":"IF(Liste_pièces!B290=\"\",\"ZZZ\",Liste_pièces!B290)","v":"ZZZ"},{"$f":"IF(Liste_pièces!C290=\"\",\"\",Liste_pièces!C290)","v":""},{"$f":"IF(Liste_pièces!D290=\"\",\"\",Liste_pièces!D290)","v":""},{"$f":"IF(Liste_pièces!E290=\"\",\"\",Liste_pièces!E290)","v":""},{"$f":"IF(Liste_pièces!F290=\"\",\"\",Liste_pièces!F290)","v":""},{"$f":"IF(Liste_pièces!G290=\"\",\"\",Liste_pièces!G290)","v":""},{"$f":"IF(Liste_pièces!H290=\"\",\"\",Liste_pièces!H290)","v":""},{"$f":"IF(Liste_pièces!I290=\"\",\"\",Liste_pièces!I290)","v":""},{"$f":"IF(Liste_pièces!J290=\"\",\"\",Liste_pièces!J290)","v":""},{"$f":"IF(Liste_pièces!K290=\"\",\"\",Liste_pièces!K290)","v":""},{"$f":"IF(Liste_pièces!L290=\"\",\"\",Liste_pièces!L290)","v":""},{"$f":"IF(Liste_pièces!M290=\"\",\"\",Liste_pièces!M290)","v":""}]
[{"$f":"IF(Liste_pièces!A291=\"\",\"ZZZ\",Liste_pièces!A291)","v":"ZZZ"},{"$f":"IF(Liste_pièces!B291=\"\",\"ZZZ\",Liste_pièces!B291)","v":"ZZZ"},{"$f":"IF(Liste_pièces!C291=\"\",\"\",Liste_pièces!C291)","v":""},{"$f":"IF(Liste_pièces!D291=\"\",\"\",Liste_pièces!D291)","v":""},{"$f":"IF(Liste_pièces!E291=\"\",\"\",Liste_pièces!E291)","v":""},{"$f":"IF(Liste_pièces!F291=\"\",\"\",Liste_pièces!F291)","v":""},{"$f":"IF(Liste_pièces!G291=\"\",\"\",Liste_pièces!G291)","v":""},{"$f":"IF(Liste_pièces!H291=\"\",\"\",Liste_pièces!H291)","v":""},{"$f":"IF(Liste_pièces!I291=\"\",\"\",Liste_pièces!I291)","v":""},{"$f":"IF(Liste_pièces!J291=\"\",\"\",Liste_pièces!J291)","v":""},{"$f":"IF(Liste_pièces!K291=\"\",\"\",Liste_pièces!K291)","v":""},{"$f":"IF(Liste_pièces!L291=\"\",\"\",Liste_pièces!L291)","v":""},{"$f":"IF(Liste_pièces!M291=\"\",\"\",Liste_pièces!M291)","v":""}]
[{"$f":"IF(Liste_pièces!A292=\"\",\"ZZZ\",Liste_pièces!A292)","v":"ZZZ"},{"$f":"IF(Liste_pièces!B292=\"\",\"ZZZ\",Liste_pièces!B292)","v":"ZZZ"},{"$f":"IF(Liste_pièces!C292=\"\",\"\",Liste_pièces!C292)","v":""},{"$f":"IF(Liste_pièces!D292=\"\",\"\",Liste_pièces!D292)","v":""},{"$f":"IF(Liste_pièces!E292=\"\",\"\",Liste_pièces!E292)","v":""},{"$f":"IF(Liste_pièces!F292=\"\",\"\",Liste_pièces!F292)","v":""},{"$f":"IF(Liste_pièces!G292=\"\",\"\",Liste_pièces!G292)","v":""},{"$f":"IF(Liste_pièces!H292=\"\",\"\",Liste_pièces!H292)","v":""},{"$f":"IF(Liste_pièces!I292=\"\",\"\",Liste_pièces!I292)","v":""},{"$f":"IF(Liste_pièces!J292=\"\",\"\",Liste_pièces!J292)","v":""},{"$f":"IF(Liste_pièces!K292=\"\",\"\",Liste_pièces!K292)","v":""},{"$f":"IF(Liste_pièces!L292=\"\",\"\",Liste_pièces!L292)","v":""},{"$f":"IF(Liste_pièces!M292=\"\",\"\",Liste_pièces!M292)","v":""}]
[{"$f":"IF(Liste_pièces!A293=\"\",\"ZZZ\",Liste_pièces!A293)","v":"ZZZ"},{"$f":"IF(Liste_pièces!B293=\"\",\"ZZZ\",Liste_pièces!B293)","v":"ZZZ"},{"$f":"IF(Liste_pièces!C293=\"\",\"\",Liste_pièces!C293)","v":""},{"$f":"IF(Liste_pièces!D293=\"\",\"\",Liste_pièces!D293)","v":""},{"$f":"IF(Liste_pièces!E293=\"\",\"\",Liste_pièces!E293)","v":""},{"$f":"IF(Liste_pièces!F293=\"\",\"\",Liste_pièces!F293)","v":""},{"$f":"IF(Liste_pièces!G293=\"\",\"\",Liste_pièces!G293)","v":""},{"$f":"IF(Liste_pièces!H293=\"\",\"\",Liste_pièces!H293)","v":""},{"$f":"IF(Liste_pièces!I293=\"\",\"\",Liste_pièces!I293)","v":""},{"$f":"IF(Liste_pièces!J293=\"\",\"\",Liste_pièces!J293)","v":""},{"$f":"IF(Liste_pièces!K293=\"\",\"\",Liste_pièces!K293)","v":""},{"$f":"IF(Liste_pièces!L293=\"\",\"\",Liste_pièces!L293)","v":""},{"$f":"IF(Liste_pièces!M293=\"\",\"\",Liste_pièces!M293)","v":""}]
[{"$f":"IF(Liste_pièces!A294=\"\",\"ZZZ\",Liste_pièces!A294)","v":"ZZZ"},{"$f":"IF(Liste_pièces!B294=\"\",\"ZZZ\",Liste_pièces!B294)","v":"ZZZ"},{"$f":"IF(Liste_pièces!C294=\"\",\"\",Liste_pièces!C294)","v":""},{"$f":"IF(Liste_pièces!D294=\"\",\"\",Liste_pièces!D294)","v":""},{"$f":"IF(Liste_pièces!E294=\"\",\"\",Liste_pièces!E294)","v":""},{"$f":"IF(Liste_pièces!F294=\"\",\"\",Liste_pièces!F294)","v":""},{"$f":"IF(Liste_pièces!G294=\"\",\"\",Liste_pièces!G294)","v":""},{"$f":"IF(Liste_pièces!H294=\"\",\"\",Liste_pièces!H294)","v":""},{"$f":"IF(Liste_pièces!I294=\"\",\"\",Liste_pièces!I294)","v":""},{"$f":"IF(Liste_pièces!J294=\"\",\"\",Liste_pièces!J294)","v":""},{"$f":"IF(Liste_pièces!K294=\"\",\"\",Liste_pièces!K294)","v":""},{"$f":"IF(Liste_pièces!L294=\"\",\"\",Liste_pièces!L294)","v":""},{"$f":"IF(Liste_pièces!M294=\"\",\"\",Liste_pièces!M294)","v":""}]
[{"$f":"IF(Liste_pièces!A295=\"\",\"ZZZ\",Liste_pièces!A295)","v":"ZZZ"},{"$f":"IF(Liste_pièces!B295=\"\",\"ZZZ\",Liste_pièces!B295)","v":"ZZZ"},{"$f":"IF(Liste_pièces!C295=\"\",\"\",Liste_pièces!C295)","v":""},{"$f":"IF(Liste_pièces!D295=\"\",\"\",Liste_pièces!D295)","v":""},{"$f":"IF(Liste_pièces!E295=\"\",\"\",Liste_pièces!E295)","v":""},{"$f":"IF(Liste_pièces!F295=\"\",\"\",Liste_pièces!F295)","v":""},{"$f":"IF(Liste_pièces!G295=\"\",\"\",Liste_pièces!G295)","v":""},{"$f":"IF(Liste_pièces!H295=\"\",\"\",Liste_pièces!H295)","v":""},{"$f":"IF(Liste_pièces!I295=\"\",\"\",Liste_pièces!I295)","v":""},{"$f":"IF(Liste_pièces!J295=\"\",\"\",Liste_pièces!J295)","v":""},{"$f":"IF(Liste_pièces!K295=\"\",\"\",Liste_pièces!K295)","v":""},{"$f":"IF(Liste_pièces!L295=\"\",\"\",Liste_pièces!L295)","v":""},{"$f":"IF(Liste_pièces!M295=\"\",\"\",Liste_pièces!M295)","v":""}]
[{"$f":"IF(Liste_pièces!A296=\"\",\"ZZZ\",Liste_pièces!A296)","v":"ZZZ"},{"$f":"IF(Liste_pièces!B296=\"\",\"ZZZ\",Liste_pièces!B296)","v":"ZZZ"},{"$f":"IF(Liste_pièces!C296=\"\",\"\",Liste_pièces!C296)","v":""},{"$f":"IF(Liste_pièces!D296=\"\",\"\",Liste_pièces!D296)","v":""},{"$f":"IF(Liste_pièces!E296=\"\",\"\",Liste_pièces!E296)","v":""},{"$f":"IF(Liste_pièces!F296=\"\",\"\",Liste_pièces!F296)","v":""},{"$f":"IF(Liste_pièces!G296=\"\",\"\",Liste_pièces!G296)","v":""},{"$f":"IF(Liste_pièces!H296=\"\",\"\",Liste_pièces!H296)","v":""},{"$f":"IF(Liste_pièces!I296=\"\",\"\",Liste_pièces!I296)","v":""},{"$f":"IF(Liste_pièces!J296=\"\",\"\",Liste_pièces!J296)","v":""},{"$f":"IF(Liste_pièces!K296=\"\",\"\",Liste_pièces!K296)","v":""},{"$f":"IF(Liste_pièces!L296=\"\",\"\",Liste_pièces!L296)","v":""},{"$f":"IF(Liste_pièces!M296=\"\",\"\",Liste_pièces!M296)","v":""}]
[{"$f":"IF(Liste_pièces!A297=\"\",\"ZZZ\",Liste_pièces!A297)","v":"ZZZ"},{"$f":"IF(Liste_pièces!B297=\"\",\"ZZZ\",Liste_pièces!B297)","v":"ZZZ"},{"$f":"IF(Liste_pièces!C297=\"\",\"\",Liste_pièces!C297)","v":""},{"$f":"IF(Liste_pièces!D297=\"\",\"\",Liste_pièces!D297)","v":""},{"$f":"IF(Liste_pièces!E297=\"\",\"\",Liste_pièces!E297)","v":""},{"$f":"IF(Liste_pièces!F297=\"\",\"\",Liste_pièces!F297)","v":""},{"$f":"IF(Liste_pièces!G297=\"\",\"\",Liste_pièces!G297)","v":""},{"$f":"IF(Liste_pièces!H297=\"\",\"\",Liste_pièces!H297)","v":""},{"$f":"IF(Liste_pièces!I297=\"\",\"\",Liste_pièces!I297)","v":""},{"$f":"IF(Liste_pièces!J297=\"\",\"\",Liste_pièces!J297)","v":""},{"$f":"IF(Liste_pièces!K297=\"\",\"\",Liste_pièces!K297)","v":""},{"$f":"IF(Liste_pièces!L297=\"\",\"\",Liste_pièces!L297)","v":""},{"$f":"IF(Liste_pièces!M297=\"\",\"\",Liste_pièces!M297)","v":""}]
[{"$f":"IF(Liste_pièces!A298=\"\",\"ZZZ\",Liste_pièces!A298)","v":"ZZZ"},{"$f":"IF(Liste_pièces!B298=\"\",\"ZZZ\",Liste_pièces!B298)","v":"ZZZ"},{"$f":"IF(Liste_pièces!C298=\"\",\"\",Liste_pièces!C298)","v":""},{"$f":"IF(Liste_pièces!D298=\"\",\"\",Liste_pièces!D298)","v":""},{"$f":"IF(Liste_pièces!E298=\"\",\"\",Liste_pièces!E298)","v":""},{"$f":"IF(Liste_pièces!F298=\"\",\"\",Liste_pièces!F298)","v":""},{"$f":"IF(Liste_pièces!G298=\"\",\"\",Liste_pièces!G298)","v":""},{"$f":"IF(Liste_pièces!H298=\"\",\"\",Liste_pièces!H298)","v":""},{"$f":"IF(Liste_pièces!I298=\"\",\"\",Liste_pièces!I298)","v":""},{"$f":"IF(Liste_pièces!J298=\"\",\"\",Liste_pièces!J298)","v":""},{"$f":"IF(Liste_pièces!K298=\"\",\"\",Liste_pièces!K298)","v":""},{"$f":"IF(Liste_pièces!L298=\"\",\"\",Liste_pièces!L298)","v":""},{"$f":"IF(Liste_pièces!M298=\"\",\"\",Liste_pièces!M298)","v":""}]
[{"$f":"IF(Liste_pièces!A299=\"\",\"ZZZ\",Liste_pièces!A299)","v":"ZZZ"},{"$f":"IF(Liste_pièces!B299=\"\",\"ZZZ\",Liste_pièces!B299)","v":"ZZZ"},{"$f":"IF(Liste_pièces!C299=\"\",\"\",Liste_pièces!C299)","v":""},{"$f":"IF(Liste_pièces!D299=\"\",\"\",Liste_pièces!D299)","v":""},{"$f":"IF(Liste_pièces!E299=\"\",\"\",Liste_pièces!E299)","v":""},{"$f":"IF(Liste_pièces!F299=\"\",\"\",Liste_pièces!F299)","v":""},{"$f":"IF(Liste_pièces!G299=\"\",\"\",Liste_pièces!G299)","v":""},{"$f":"IF(Liste_pièces!H299=\"\",\"\",Liste_pièces!H299)","v":""},{"$f":"IF(Liste_pièces!I299=\"\",\"\",Liste_pièces!I299)","v":""},{"$f":"IF(Liste_pièces!J299=\"\",\"\",Liste_pièces!J299)","v":""},{"$f":"IF(Liste_pièces!K299=\"\",\"\",Liste_pièces!K299)","v":""},{"$f":"IF(Liste_pièces!L299=\"\",\"\",Liste_pièces!L299)","v":""},{"$f":"IF(Liste_pièces!M299=\"\",\"\",Liste_pièces!M299)","v":""}]
[{"$f":"IF(Liste_pièces!A300=\"\",\"ZZZ\",Liste_pièces!A300)","v":"ZZZ"},{"$f":"IF(Liste_pièces!B300=\"\",\"ZZZ\",Liste_pièces!B300)","v":"ZZZ"},{"$f":"IF(Liste_pièces!C300=\"\",\"\",Liste_pièces!C300)","v":""},{"$f":"IF(Liste_pièces!D300=\"\",\"\",Liste_pièces!D300)","v":""},{"$f":"IF(Liste_pièces!E300=\"\",\"\",Liste_pièces!E300)","v":""},{"$f":"IF(Liste_pièces!F300=\"\",\"\",Liste_pièces!F300)","v":""},{"$f":"IF(Liste_pièces!G300=\"\",\"\",Liste_pièces!G300)","v":""},{"$f":"IF(Liste_pièces!H300=\"\",\"\",Liste_pièces!H300)","v":""},{"$f":"IF(Liste_pièces!I300=\"\",\"\",Liste_pièces!I300)","v":""},{"$f":"IF(Liste_pièces!J300=\"\",\"\",Liste_pièces!J300)","v":""},{"$f":"IF(Liste_pièces!K300=\"\",\"\",Liste_pièces!K300)","v":""},{"$f":"IF(Liste_pièces!L300=\"\",\"\",Liste_pièces!L300)","v":""},{"$f":"IF(Liste_pièces!M300=\"\",\"\",Liste_pièces!M300)","v":""}]
[{"$f":"IF(Liste_pièces!A301=\"\",\"ZZZ\",Liste_pièces!A301)","v":"ZZZ"},{"$f":"IF(Liste_pièces!B301=\"\",\"ZZZ\",Liste_pièces!B301)","v":"ZZZ"},{"$f":"IF(Liste_pièces!C301=\"\",\"\",Liste_pièces!C301)","v":""},{"$f":"IF(Liste_pièces!D301=\"\",\"\",Liste_pièces!D301)","v":""},{"$f":"IF(Liste_pièces!E301=\"\",\"\",Liste_pièces!E301)","v":""},{"$f":"IF(Liste_pièces!F301=\"\",\"\",Liste_pièces!F301)","v":""},{"$f":"IF(Liste_pièces!G301=\"\",\"\",Liste_pièces!G301)","v":""},{"$f":"IF(Liste_pièces!H301=\"\",\"\",Liste_pièces!H301)","v":""},{"$f":"IF(Liste_pièces!I301=\"\",\"\",Liste_pièces!I301)","v":""},{"$f":"IF(Liste_pièces!J301=\"\",\"\",Liste_pièces!J301)","v":""},{"$f":"IF(Liste_pièces!K301=\"\",\"\",Liste_pièces!K301)","v":""},{"$f":"IF(Liste_pièces!L301=\"\",\"\",Liste_pièces!L301)","v":""},{"$f":"IF(Liste_pièces!M301=\"\",\"\",Liste_pièces!M301)","v":""}]
[{"$f":"IF(Liste_pièces!A302=\"\",\"ZZZ\",Liste_pièces!A302)","v":"ZZZ"},{"$f":"IF(Liste_pièces!B302=\"\",\"ZZZ\",Liste_pièces!B302)","v":"ZZZ"},{"$f":"IF(Liste_pièces!C302=\"\",\"\",Liste_pièces!C302)","v":""},{"$f":"IF(Liste_pièces!D302=\"\",\"\",Liste_pièces!D302)","v":""},{"$f":"IF(Liste_pièces!E302=\"\",\"\",Liste_pièces!E302)","v":""},{"$f":"IF(Liste_pièces!F302=\"\",\"\",Liste_pièces!F302)","v":""},{"$f":"IF(Liste_pièces!G302=\"\",\"\",Liste_pièces!G302)","v":""},{"$f":"IF(Liste_pièces!H302=\"\",\"\",Liste_pièces!H302)","v":""},{"$f":"IF(Liste_pièces!I302=\"\",\"\",Liste_pièces!I302)","v":""},{"$f":"IF(Liste_pièces!J302=\"\",\"\",Liste_pièces!J302)","v":""},{"$f":"IF(Liste_pièces!K302=\"\",\"\",Liste_pièces!K302)","v":""},{"$f":"IF(Liste_pièces!L302=\"\",\"\",Liste_pièces!L302)","v":""},{"$f":"IF(Liste_pièces!M302=\"\",\"\",Liste_pièces!M302)","v":""}]
[{"$f":"IF(Liste_pièces!A303=\"\",\"ZZZ\",Liste_pièces!A303)","v":"ZZZ"},{"$f":"IF(Liste_pièces!B303=\"\",\"ZZZ\",Liste_pièces!B303)","v":"ZZZ"},{"$f":"IF(Liste_pièces!C303=\"\",\"\",Liste_pièces!C303)","v":""},{"$f":"IF(Liste_pièces!D303=\"\",\"\",Liste_pièces!D303)","v":""},{"$f":"IF(Liste_pièces!E303=\"\",\"\",Liste_pièces!E303)","v":""},{"$f":"IF(Liste_pièces!F303=\"\",\"\",Liste_pièces!F303)","v":""},{"$f":"IF(Liste_pièces!G303=\"\",\"\",Liste_pièces!G303)","v":""},{"$f":"IF(Liste_pièces!H303=\"\",\"\",Liste_pièces!H303)","v":""},{"$f":"IF(Liste_pièces!I303=\"\",\"\",Liste_pièces!I303)","v":""},{"$f":"IF(Liste_pièces!J303=\"\",\"\",Liste_pièces!J303)","v":""},{"$f":"IF(Liste_pièces!K303=\"\",\"\",Liste_pièces!K303)","v":""},{"$f":"IF(Liste_pièces!L303=\"\",\"\",Liste_pièces!L303)","v":""},{"$f":"IF(Liste_pièces!M303=\"\",\"\",Liste_pièces!M303)","v":""}]
[{"$f":"IF(Liste_pièces!A304=\"\",\"ZZZ\",Liste_pièces!A304)","v":"ZZZ"},{"$f":"IF(Liste_pièces!B304=\"\",\"ZZZ\",Liste_pièces!B304)","v":"ZZZ"},{"$f":"IF(Liste_pièces!C304=\"\",\"\",Liste_pièces!C304)","v":""},{"$f":"IF(Liste_pièces!D304=\"\",\"\",Liste_pièces!D304)","v":""},{"$f":"IF(Liste_pièces!E304=\"\",\"\",Liste_pièces!E304)","v":""},{"$f":"IF(Liste_pièces!F304=\"\",\"\",Liste_pièces!F304)","v":""},{"$f":"IF(Liste_pièces!G304=\"\",\"\",Liste_pièces!G304)","v":""},{"$f":"IF(Liste_pièces!H304=\"\",\"\",Liste_pièces!H304)","v":""},{"$f":"IF(Liste_pièces!I304=\"\",\"\",Liste_pièces!I304)","v":""},{"$f":"IF(Liste_pièces!J304=\"\",\"\",Liste_pièces!J304)","v":""},{"$f":"IF(Liste_pièces!K304=\"\",\"\",Liste_pièces!K304)","v":""},{"$f":"IF(Liste_pièces!L304=\"\",\"\",Liste_pièces!L304)","v":""},{"$f":"IF(Liste_pièces!M304=\"\",\"\",Liste_pièces!M304)","v":""}]
[{"$f":"IF(Liste_pièces!A305=\"\",\"ZZZ\",Liste_pièces!A305)","v":"ZZZ"},{"$f":"IF(Liste_pièces!B305=\"\",\"ZZZ\",Liste_pièces!B305)","v":"ZZZ"},{"$f":"IF(Liste_pièces!C305=\"\",\"\",Liste_pièces!C305)","v":""},{"$f":"IF(Liste_pièces!D305=\"\",\"\",Liste_pièces!D305)","v":""},{"$f":"IF(Liste_pièces!E305=\"\",\"\",Liste_pièces!E305)","v":""},{"$f":"IF(Liste_pièces!F305=\"\",\"\",Liste_pièces!F305)","v":""},{"$f":"IF(Liste_pièces!G305=\"\",\"\",Liste_pièces!G305)","v":""},{"$f":"IF(Liste_pièces!H305=\"\",\"\",Liste_pièces!H305)","v":""},{"$f":"IF(Liste_pièces!I305=\"\",\"\",Liste_pièces!I305)","v":""},{"$f":"IF(Liste_pièces!J305=\"\",\"\",Liste_pièces!J305)","v":""},{"$f":"IF(Liste_pièces!K305=\"\",\"\",Liste_pièces!K305)","v":""},{"$f":"IF(Liste_pièces!L305=\"\",\"\",Liste_pièces!L305)","v":""},{"$f":"IF(Liste_pièces!M305=\"\",\"\",Liste_pièces!M305)","v":""}]
[{"$f":"IF(Liste_pièces!A306=\"\",\"ZZZ\",Liste_pièces!A306)","v":"ZZZ"},{"$f":"IF(Liste_pièces!B306=\"\",\"ZZZ\",Liste_pièces!B306)","v":"ZZZ"},{"$f":"IF(Liste_pièces!C306=\"\",\"\",Liste_pièces!C306)","v":""},{"$f":"IF(Liste_pièces!D306=\"\",\"\",Liste_pièces!D306)","v":""},{"$f":"IF(Liste_pièces!E306=\"\",\"\",Liste_pièces!E306)","v":""},{"$f":"IF(Liste_pièces!F306=\"\",\"\",Liste_pièces!F306)","v":""},{"$f":"IF(Liste_pièces!G306=\"\",\"\",Liste_pièces!G306)","v":""},{"$f":"IF(Liste_pièces!H306=\"\",\"\",Liste_pièces!H306)","v":""},{"$f":"IF(Liste_pièces!I306=\"\",\"\",Liste_pièces!I306)","v":""},{"$f":"IF(Liste_pièces!J306=\"\",\"\",Liste_pièces!J306)","v":""},{"$f":"IF(Liste_pièces!K306=\"\",\"\",Liste_pièces!K306)","v":""},{"$f":"IF(Liste_pièces!L306=\"\",\"\",Liste_pièces!L306)","v":""},{"$f":"IF(Liste_pièces!M306=\"\",\"\",Liste_pièces!M306)","v":""}]
[{"$f":"IF(Liste_pièces!A307=\"\",\"ZZZ\",Liste_pièces!A307)","v":"ZZZ"},{"$f":"IF(Liste_pièces!B307=\"\",\"ZZZ\",Liste_pièces!B307)","v":"ZZZ"},{"$f":"IF(Liste_pièces!C307=\"\",\"\",Liste_pièces!C307)","v":""},{"$f":"IF(Liste_pièces!D307=\"\",\"\",Liste_pièces!D307)","v":""},{"$f":"IF(Liste_pièces!E307=\"\",\"\",Liste_pièces!E307)","v":""},{"$f":"IF(Liste_pièces!F307=\"\",\"\",Liste_pièces!F307)","v":""},{"$f":"IF(Liste_pièces!G307=\"\",\"\",Liste_pièces!G307)","v":""},{"$f":"IF(Liste_pièces!H307=\"\",\"\",Liste_pièces!H307)","v":""},{"$f":"IF(Liste_pièces!I307=\"\",\"\",Liste_pièces!I307)","v":""},{"$f":"IF(Liste_pièces!J307=\"\",\"\",Liste_pièces!J307)","v":""},{"$f":"IF(Liste_pièces!K307=\"\",\"\",Liste_pièces!K307)","v":""},{"$f":"IF(Liste_pièces!L307=\"\",\"\",Liste_pièces!L307)","v":""},{"$f":"IF(Liste_pièces!M307=\"\",\"\",Liste_pièces!M307)","v":""}]
[{"$f":"IF(Liste_pièces!A308=\"\",\"ZZZ\",Liste_pièces!A308)","v":"ZZZ"},{"$f":"IF(Liste_pièces!B308=\"\",\"ZZZ\",Liste_pièces!B308)","v":"ZZZ"},{"$f":"IF(Liste_pièces!C308=\"\",\"\",Liste_pièces!C308)","v":""},{"$f":"IF(Liste_pièces!D308=\"\",\"\",Liste_pièces!D308)","v":""},{"$f":"IF(Liste_pièces!E308=\"\",\"\",Liste_pièces!E308)","v":""},{"$f":"IF(Liste_pièces!F308=\"\",\"\",Liste_pièces!F308)","v":""},{"$f":"IF(Liste_pièces!G308=\"\",\"\",Liste_pièces!G308)","v":""},{"$f":"IF(Liste_pièces!H308=\"\",\"\",Liste_pièces!H308)","v":""},{"$f":"IF(Liste_pièces!I308=\"\",\"\",Liste_pièces!I308)","v":""},{"$f":"IF(Liste_pièces!J308=\"\",\"\",Liste_pièces!J308)","v":""},{"$f":"IF(Liste_pièces!K308=\"\",\"\",Liste_pièces!K308)","v":""},{"$f":"IF(Liste_pièces!L308=\"\",\"\",Liste_pièces!L308)","v":""},{"$f":"IF(Liste_pièces!M308=\"\",\"\",Liste_pièces!M308)","v":""}]
[{"$f":"IF(Liste_pièces!A309=\"\",\"ZZZ\",Liste_pièces!A309)","v":"ZZZ"},{"$f":"IF(Liste_pièces!B309=\"\",\"ZZZ\",Liste_pièces!B309)","v":"ZZZ"},{"$f":"IF(Liste_pièces!C309=\"\",\"\",Liste_pièces!C309)","v":""},{"$f":"IF(Liste_pièces!D309=\"\",\"\",Liste_pièces!D309)","v":""},{"$f":"IF(Liste_pièces!E309=\"\",\"\",Liste_pièces!E309)","v":""},{"$f":"IF(Liste_pièces!F309=\"\",\"\",Liste_pièces!F309)","v":""},{"$f":"IF(Liste_pièces!G309=\"\",\"\",Liste_pièces!G309)","v":""},{"$f":"IF(Liste_pièces!H309=\"\",\"\",Liste_pièces!H309)","v":""},{"$f":"IF(Liste_pièces!I309=\"\",\"\",Liste_pièces!I309)","v":""},{"$f":"IF(Liste_pièces!J309=\"\",\"\",Liste_pièces!J309)","v":""},{"$f":"IF(Liste_pièces!K309=\"\",\"\",Liste_pièces!K309)","v":""},{"$f":"IF(Liste_pièces!L309=\"\",\"\",Liste_pièces!L309)","v":""},{"$f":"IF(Liste_pièces!M309=\"\",\"\",Liste_pièces!M309)","v":""}]
[{"$f":"IF(Liste_pièces!A310=\"\",\"ZZZ\",Liste_pièces!A310)","v":"ZZZ"},{"$f":"IF(Liste_pièces!B310=\"\",\"ZZZ\",Liste_pièces!B310)","v":"ZZZ"},{"$f":"IF(Liste_pièces!C310=\"\",\"\",Liste_pièces!C310)","v":""},{"$f":"IF(Liste_pièces!D310=\"\",\"\",Liste_pièces!D310)","v":""},{"$f":"IF(Liste_pièces!E310=\"\",\"\",Liste_pièces!E310)","v":""},{"$f":"IF(Liste_pièces!F310=\"\",\"\",Liste_pièces!F310)","v":""},{"$f":"IF(Liste_pièces!G310=\"\",\"\",Liste_pièces!G310)","v":""},{"$f":"IF(Liste_pièces!H310=\"\",\"\",Liste_pièces!H310)","v":""},{"$f":"IF(Liste_pièces!I310=\"\",\"\",Liste_pièces!I310)","v":""},{"$f":"IF(Liste_pièces!J310=\"\",\"\",Liste_pièces!J310)","v":""},{"$f":"IF(Liste_pièces!K310=\"\",\"\",Liste_pièces!K310)","v":""},{"$f":"IF(Liste_pièces!L310=\"\",\"\",Liste_pièces!L310)","v":""},{"$f":"IF(Liste_pièces!M310=\"\",\"\",Liste_pièces!M310)","v":""}]
[{"$f":"IF(Liste_pièces!A311=\"\",\"ZZZ\",Liste_pièces!A311)","v":"ZZZ"},{"$f":"IF(Liste_pièces!B311=\"\",\"ZZZ\",Liste_pièces!B311)","v":"ZZZ"},{"$f":"IF(Liste_pièces!C311=\"\",\"\",Liste_pièces!C311)","v":""},{"$f":"IF(Liste_pièces!D311=\"\",\"\",Liste_pièces!D311)","v":""},{"$f":"IF(Liste_pièces!E311=\"\",\"\",Liste_pièces!E311)","v":""},{"$f":"IF(Liste_pièces!F311=\"\",\"\",Liste_pièces!F311)","v":""},{"$f":"IF(Liste_pièces!G311=\"\",\"\",Liste_pièces!G311)","v":""},{"$f":"IF(Liste_pièces!H311=\"\",\"\",Liste_pièces!H311)","v":""},{"$f":"IF(Liste_pièces!I311=\"\",\"\",Liste_pièces!I311)","v":""},{"$f":"IF(Liste_pièces!J311=\"\",\"\",Liste_pièces!J311)","v":""},{"$f":"IF(Liste_pièces!K311=\"\",\"\",Liste_pièces!K311)","v":""},{"$f":"IF(Liste_pièces!L311=\"\",\"\",Liste_pièces!L311)","v":""},{"$f":"IF(Liste_pièces!M311=\"\",\"\",Liste_pièces!M311)","v":""}]
[{"$f":"IF(Liste_pièces!A312=\"\",\"ZZZ\",Liste_pièces!A312)","v":"ZZZ"},{"$f":"IF(Liste_pièces!B312=\"\",\"ZZZ\",Liste_pièces!B312)","v":"ZZZ"},{"$f":"IF(Liste_pièces!C312=\"\",\"\",Liste_pièces!C312)","v":""},{"$f":"IF(Liste_pièces!D312=\"\",\"\",Liste_pièces!D312)","v":""},{"$f":"IF(Liste_pièces!E312=\"\",\"\",Liste_pièces!E312)","v":""},{"$f":"IF(Liste_pièces!F312=\"\",\"\",Liste_pièces!F312)","v":""},{"$f":"IF(Liste_pièces!G312=\"\",\"\",Liste_pièces!G312)","v":""},{"$f":"IF(Liste_pièces!H312=\"\",\"\",Liste_pièces!H312)","v":""},{"$f":"IF(Liste_pièces!I312=\"\",\"\",Liste_pièces!I312)","v":""},{"$f":"IF(Liste_pièces!J312=\"\",\"\",Liste_pièces!J312)","v":""},{"$f":"IF(Liste_pièces!K312=\"\",\"\",Liste_pièces!K312)","v":""},{"$f":"IF(Liste_pièces!L312=\"\",\"\",Liste_pièces!L312)","v":""},{"$f":"IF(Liste_pièces!M312=\"\",\"\",Liste_pièces!M312)","v":""}]
[{"$f":"IF(Liste_pièces!A313=\"\",\"ZZZ\",Liste_pièces!A313)","v":"ZZZ"},{"$f":"IF(Liste_pièces!B313=\"\",\"ZZZ\",Liste_pièces!B313)","v":"ZZZ"},{"$f":"IF(Liste_pièces!C313=\"\",\"\",Liste_pièces!C313)","v":""},{"$f":"IF(Liste_pièces!D313=\"\",\"\",Liste_pièces!D313)","v":""},{"$f":"IF(Liste_pièces!E313=\"\",\"\",Liste_pièces!E313)","v":""},{"$f":"IF(Liste_pièces!F313=\"\",\"\",Liste_pièces!F313)","v":""},{"$f":"IF(Liste_pièces!G313=\"\",\"\",Liste_pièces!G313)","v":""},{"$f":"IF(Liste_pièces!H313=\"\",\"\",Liste_pièces!H313)","v":""},{"$f":"IF(Liste_pièces!I313=\"\",\"\",Liste_pièces!I313)","v":""},{"$f":"IF(Liste_pièces!J313=\"\",\"\",Liste_pièces!J313)","v":""},{"$f":"IF(Liste_pièces!K313=\"\",\"\",Liste_pièces!K313)","v":""},{"$f":"IF(Liste_pièces!L313=\"\",\"\",Liste_pièces!L313)","v":""},{"$f":"IF(Liste_pièces!M313=\"\",\"\",Liste_pièces!M313)","v":""}]
[{"$f":"IF(Liste_pièces!A314=\"\",\"ZZZ\",Liste_pièces!A314)","v":"ZZZ"},{"$f":"IF(Liste_pièces!B314=\"\",\"ZZZ\",Liste_pièces!B314)","v":"ZZZ"},{"$f":"IF(Liste_pièces!C314=\"\",\"\",Liste_pièces!C314)","v":""},{"$f":"IF(Liste_pièces!D314=\"\",\"\",Liste_pièces!D314)","v":""},{"$f":"IF(Liste_pièces!E314=\"\",\"\",Liste_pièces!E314)","v":""},{"$f":"IF(Liste_pièces!F314=\"\",\"\",Liste_pièces!F314)","v":""},{"$f":"IF(Liste_pièces!G314=\"\",\"\",Liste_pièces!G314)","v":""},{"$f":"IF(Liste_pièces!H314=\"\",\"\",Liste_pièces!H314)","v":""},{"$f":"IF(Liste_pièces!I314=\"\",\"\",Liste_pièces!I314)","v":""},{"$f":"IF(Liste_pièces!J314=\"\",\"\",Liste_pièces!J314)","v":""},{"$f":"IF(Liste_pièces!K314=\"\",\"\",Liste_pièces!K314)","v":""},{"$f":"IF(Liste_pièces!L314=\"\",\"\",Liste_pièces!L314)","v":""},{"$f":"IF(Liste_pièces!M314=\"\",\"\",Liste_pièces!M314)","v":""}]
[{"$f":"IF(Liste_pièces!A315=\"\",\"ZZZ\",Liste_pièces!A315)","v":"ZZZ"},{"$f":"IF(Liste_pièces!B315=\"\",\"ZZZ\",Liste_pièces!B315)","v":"ZZZ"},{"$f":"IF(Liste_pièces!C315=\"\",\"\",Liste_pièces!C315)","v":""},{"$f":"IF(Liste_pièces!D315=\"\",\"\",Liste_pièces!D315)","v":""},{"$f":"IF(Liste_pièces!E315=\"\",\"\",Liste_pièces!E315)","v":""},{"$f":"IF(Liste_pièces!F315=\"\",\"\",Liste_pièces!F315)","v":""},{"$f":"IF(Liste_pièces!G315=\"\",\"\",Liste_pièces!G315)","v":""},{"$f":"IF(Liste_pièces!H315=\"\",\"\",Liste_pièces!H315)","v":""},{"$f":"IF(Liste_pièces!I315=\"\",\"\",Liste_pièces!I315)","v":""},{"$f":"IF(Liste_pièces!J315=\"\",\"\",Liste_pièces!J315)","v":""},{"$f":"IF(Liste_pièces!K315=\"\",\"\",Liste_pièces!K315)","v":""},{"$f":"IF(Liste_pièces!L315=\"\",\"\",Liste_pièces!L315)","v":""},{"$f":"IF(Liste_pièces!M315=\"\",\"\",Liste_pièces!M315)","v":""}]
[{"$f":"IF(Liste_pièces!A316=\"\",\"ZZZ\",Liste_pièces!A316)","v":"ZZZ"},{"$f":"IF(Liste_pièces!B316=\"\",\"ZZZ\",Liste_pièces!B316)","v":"ZZZ"},{"$f":"IF(Liste_pièces!C316=\"\",\"\",Liste_pièces!C316)","v":""},{"$f":"IF(Liste_pièces!D316=\"\",\"\",Liste_pièces!D316)","v":""},{"$f":"IF(Liste_pièces!E316=\"\",\"\",Liste_pièces!E316)","v":""},{"$f":"IF(Liste_pièces!F316=\"\",\"\",Liste_pièces!F316)","v":""},{"$f":"IF(Liste_pièces!G316=\"\",\"\",Liste_pièces!G316)","v":""},{"$f":"IF(Liste_pièces!H316=\"\",\"\",Liste_pièces!H316)","v":""},{"$f":"IF(Liste_pièces!I316=\"\",\"\",Liste_pièces!I316)","v":""},{"$f":"IF(Liste_pièces!J316=\"\",\"\",Liste_pièces!J316)","v":""},{"$f":"IF(Liste_pièces!K316=\"\",\"\",Liste_pièces!K316)","v":""},{"$f":"IF(Liste_pièces!L316=\"\",\"\",Liste_pièces!L316)","v":""},{"$f":"IF(Liste_pièces!M316=\"\",\"\",Liste_pièces!M316)","v":""}]
[{"$f":"IF(Liste_pièces!A317=\"\",\"ZZZ\",Liste_pièces!A317)","v":"ZZZ"},{"$f":"IF(Liste_pièces!B317=\"\",\"ZZZ\",Liste_pièces!B317)","v":"ZZZ"},{"$f":"IF(Liste_pièces!C317=\"\",\"\",Liste_pièces!C317)","v":""},{"$f":"IF(Liste_pièces!D317=\"\",\"\",Liste_pièces!D317)","v":""},{"$f":"IF(Liste_pièces!E317=\"\",\"\",Liste_pièces!E317)","v":""},{"$f":"IF(Liste_pièces!F317=\"\",\"\",Liste_pièces!F317)","v":""},{"$f":"IF(Liste_pièces!G317=\"\",\"\",Liste_pièces!G317)","v":""},{"$f":"IF(Liste_pièces!H317=\"\",\"\",Liste_pièces!H317)","v":""},{"$f":"IF(Liste_pièces!I317=\"\",\"\",Liste_pièces!I317)","v":""},{"$f":"IF(Liste_pièces!J317=\"\",\"\",Liste_pièces!J317)","v":""},{"$f":"IF(Liste_pièces!K317=\"\",\"\",Liste_pièces!K317)","v":""},{"$f":"IF(Liste_pièces!L317=\"\",\"\",Liste_pièces!L317)","v":""},{"$f":"IF(Liste_pièces!M317=\"\",\"\",Liste_pièces!M317)","v":""}]
[{"$f":"IF(Liste_pièces!A318=\"\",\"ZZZ\",Liste_pièces!A318)","v":"ZZZ"},{"$f":"IF(Liste_pièces!B318=\"\",\"ZZZ\",Liste_pièces!B318)","v":"ZZZ"},{"$f":"IF(Liste_pièces!C318=\"\",\"\",Liste_pièces!C318)","v":""},{"$f":"IF(Liste_pièces!D318=\"\",\"\",Liste_pièces!D318)","v":""},{"$f":"IF(Liste_pièces!E318=\"\",\"\",Liste_pièces!E318)","v":""},{"$f":"IF(Liste_pièces!F318=\"\",\"\",Liste_pièces!F318)","v":""},{"$f":"IF(Liste_pièces!G318=\"\",\"\",Liste_pièces!G318)","v":""},{"$f":"IF(Liste_pièces!H318=\"\",\"\",Liste_pièces!H318)","v":""},{"$f":"IF(Liste_pièces!I318=\"\",\"\",Liste_pièces!I318)","v":""},{"$f":"IF(Liste_pièces!J318=\"\",\"\",Liste_pièces!J318)","v":""},{"$f":"IF(Liste_pièces!K318=\"\",\"\",Liste_pièces!K318)","v":""},{"$f":"IF(Liste_pièces!L318=\"\",\"\",Liste_pièces!L318)","v":""},{"$f":"IF(Liste_pièces!M318=\"\",\"\",Liste_pièces!M318)","v":""}]
[{"$f":"IF(Liste_pièces!A319=\"\",\"ZZZ\",Liste_pièces!A319)","v":"ZZZ"},{"$f":"IF(Liste_pièces!B319=\"\",\"ZZZ\",Liste_pièces!B319)","v":"ZZZ"},{"$f":"IF(Liste_pièces!C319=\"\",\"\",Liste_pièces!C319)","v":""},{"$f":"IF(Liste_pièces!D319=\"\",\"\",Liste_pièces!D319)","v":""},{"$f":"IF(Liste_pièces!E319=\"\",\"\",Liste_pièces!E319)","v":""},{"$f":"IF(Liste_pièces!F319=\"\",\"\",Liste_pièces!F319)","v":""},{"$f":"IF(Liste_pièces!G319=\"\",\"\",Liste_pièces!G319)","v":""},{"$f":"IF(Liste_pièces!H319=\"\",\"\",Liste_pièces!H319)","v":""},{"$f":"IF(Liste_pièces!I319=\"\",\"\",Liste_pièces!I319)","v":""},{"$f":"IF(Liste_pièces!J319=\"\",\"\",Liste_pièces!J319)","v":""},{"$f":"IF(Liste_pièces!K319=\"\",\"\",Liste_pièces!K319)","v":""},{"$f":"IF(Liste_pièces!L319=\"\",\"\",Liste_pièces!L319)","v":""},{"$f":"IF(Liste_pièces!M319=\"\",\"\",Liste_pièces!M319)","v":""}]
[{"$f":"IF(Liste_pièces!A320=\"\",\"ZZZ\",Liste_pièces!A320)","v":"ZZZ"},{"$f":"IF(Liste_pièces!B320=\"\",\"ZZZ\",Liste_pièces!B320)","v":"ZZZ"},{"$f":"IF(Liste_pièces!C320=\"\",\"\",Liste_pièces!C320)","v":""},{"$f":"IF(Liste_pièces!D320=\"\",\"\",Liste_pièces!D320)","v":""},{"$f":"IF(Liste_pièces!E320=\"\",\"\",Liste_pièces!E320)","v":""},{"$f":"IF(Liste_pièces!F320=\"\",\"\",Liste_pièces!F320)","v":""},{"$f":"IF(Liste_pièces!G320=\"\",\"\",Liste_pièces!G320)","v":""},{"$f":"IF(Liste_pièces!H320=\"\",\"\",Liste_pièces!H320)","v":""},{"$f":"IF(Liste_pièces!I320=\"\",\"\",Liste_pièces!I320)","v":""},{"$f":"IF(Liste_pièces!J320=\"\",\"\",Liste_pièces!J320)","v":""},{"$f":"IF(Liste_pièces!K320=\"\",\"\",Liste_pièces!K320)","v":""},{"$f":"IF(Liste_pièces!L320=\"\",\"\",Liste_pièces!L320)","v":""},{"$f":"IF(Liste_pièces!M320=\"\",\"\",Liste_pièces!M320)","v":""}]
[{"$f":"IF(Liste_pièces!A321=\"\",\"ZZZ\",Liste_pièces!A321)","v":"ZZZ"},{"$f":"IF(Liste_pièces!B321=\"\",\"ZZZ\",Liste_pièces!B321)","v":"ZZZ"},{"$f":"IF(Liste_pièces!C321=\"\",\"\",Liste_pièces!C321)","v":""},{"$f":"IF(Liste_pièces!D321=\"\",\"\",Liste_pièces!D321)","v":""},{"$f":"IF(Liste_pièces!E321=\"\",\"\",Liste_pièces!E321)","v":""},{"$f":"IF(Liste_pièces!F321=\"\",\"\",Liste_pièces!F321)","v":""},{"$f":"IF(Liste_pièces!G321=\"\",\"\",Liste_pièces!G321)","v":""},{"$f":"IF(Liste_pièces!H321=\"\",\"\",Liste_pièces!H321)","v":""},{"$f":"IF(Liste_pièces!I321=\"\",\"\",Liste_pièces!I321)","v":""},{"$f":"IF(Liste_pièces!J321=\"\",\"\",Liste_pièces!J321)","v":""},{"$f":"IF(Liste_pièces!K321=\"\",\"\",Liste_pièces!K321)","v":""},{"$f":"IF(Liste_pièces!L321=\"\",\"\",Liste_pièces!L321)","v":""},{"$f":"IF(Liste_pièces!M321=\"\",\"\",Liste_pièces!M321)","v":""}]
[{"$f":"IF(Liste_pièces!A322=\"\",\"ZZZ\",Liste_pièces!A322)","v":"ZZZ"},{"$f":"IF(Liste_pièces!B322=\"\",\"ZZZ\",Liste_pièces!B322)","v":"ZZZ"},{"$f":"IF(Liste_pièces!C322=\"\",\"\",Liste_pièces!C322)","v":""},{"$f":"IF(Liste_pièces!D322=\"\",\"\",Liste_pièces!D322)","v":""},{"$f":"IF(Liste_pièces!E322=\"\",\"\",Liste_pièces!E322)","v":""},{"$f":"IF(Liste_pièces!F322=\"\",\"\",Liste_pièces!F322)","v":""},{"$f":"IF(Liste_pièces!G322=\"\",\"\",Liste_pièces!G322)","v":""},{"$f":"IF(Liste_pièces!H322=\"\",\"\",Liste_pièces!H322)","v":""},{"$f":"IF(Liste_pièces!I322=\"\",\"\",Liste_pièces!I322)","v":""},{"$f":"IF(Liste_pièces!J322=\"\",\"\",Liste_pièces!J322)","v":""},{"$f":"IF(Liste_pièces!K322=\"\",\"\",Liste_pièces!K322)","v":""},{"$f":"IF(Liste_pièces!L322=\"\",\"\",Liste_pièces!L322)","v":""},{"$f":"IF(Liste_pièces!M322=\"\",\"\",Liste_pièces!M322)","v":""}]
[{"$f":"IF(Liste_pièces!A323=\"\",\"ZZZ\",Liste_pièces!A323)","v":"ZZZ"},{"$f":"IF(Liste_pièces!B323=\"\",\"ZZZ\",Liste_pièces!B323)","v":"ZZZ"},{"$f":"IF(Liste_pièces!C323=\"\",\"\",Liste_pièces!C323)","v":""},{"$f":"IF(Liste_pièces!D323=\"\",\"\",Liste_pièces!D323)","v":""},{"$f":"IF(Liste_pièces!E323=\"\",\"\",Liste_pièces!E323)","v":""},{"$f":"IF(Liste_pièces!F323=\"\",\"\",Liste_pièces!F323)","v":""},{"$f":"IF(Liste_pièces!G323=\"\",\"\",Liste_pièces!G323)","v":""},{"$f":"IF(Liste_pièces!H323=\"\",\"\",Liste_pièces!H323)","v":""},{"$f":"IF(Liste_pièces!I323=\"\",\"\",Liste_pièces!I323)","v":""},{"$f":"IF(Liste_pièces!J323=\"\",\"\",Liste_pièces!J323)","v":""},{"$f":"IF(Liste_pièces!K323=\"\",\"\",Liste_pièces!K323)","v":""},{"$f":"IF(Liste_pièces!L323=\"\",\"\",Liste_pièces!L323)","v":""},{"$f":"IF(Liste_pièces!M323=\"\",\"\",Liste_pièces!M323)","v":""}]
[{"$f":"IF(Liste_pièces!A324=\"\",\"ZZZ\",Liste_pièces!A324)","v":"ZZZ"},{"$f":"IF(Liste_pièces!B324=\"\",\"ZZZ\",Liste_pièces!B324)","v":"ZZZ"},{"$f":"IF(Liste_pièces!C324=\"\",\"\",Liste_pièces!C324)","v":""},{"$f":"IF(Liste_pièces!D324=\"\",\"\",Liste_pièces!D324)","v":""},{"$f":"IF(Liste_pièces!E324=\"\",\"\",Liste_pièces!E324)","v":""},{"$f":"IF(Liste_pièces!F324=\"\",\"\",Liste_pièces!F324)","v":""},{"$f":"IF(Liste_pièces!G324=\"\",\"\",Liste_pièces!G324)","v":""},{"$f":"IF(Liste_pièces!H324=\"\",\"\",Liste_pièces!H324)","v":""},{"$f":"IF(Liste_pièces!I324=\"\",\"\",Liste_pièces!I324)","v":""},{"$f":"IF(Liste_pièces!J324=\"\",\"\",Liste_pièces!J324)","v":""},{"$f":"IF(Liste_pièces!K324=\"\",\"\",Liste_pièces!K324)","v":""},{"$f":"IF(Liste_pièces!L324=\"\",\"\",Liste_pièces!L324)","v":""},{"$f":"IF(Liste_pièces!M324=\"\",\"\",Liste_pièces!M324)","v":""}]
[{"$f":"IF(Liste_pièces!A325=\"\",\"ZZZ\",Liste_pièces!A325)","v":"ZZZ"},{"$f":"IF(Liste_pièces!B325=\"\",\"ZZZ\",Liste_pièces!B325)","v":"ZZZ"},{"$f":"IF(Liste_pièces!C325=\"\",\"\",Liste_pièces!C325)","v":""},{"$f":"IF(Liste_pièces!D325=\"\",\"\",Liste_pièces!D325)","v":""},{"$f":"IF(Liste_pièces!E325=\"\",\"\",Liste_pièces!E325)","v":""},{"$f":"IF(Liste_pièces!F325=\"\",\"\",Liste_pièces!F325)","v":""},{"$f":"IF(Liste_pièces!G325=\"\",\"\",Liste_pièces!G325)","v":""},{"$f":"IF(Liste_pièces!H325=\"\",\"\",Liste_pièces!H325)","v":""},{"$f":"IF(Liste_pièces!I325=\"\",\"\",Liste_pièces!I325)","v":""},{"$f":"IF(Liste_pièces!J325=\"\",\"\",Liste_pièces!J325)","v":""},{"$f":"IF(Liste_pièces!K325=\"\",\"\",Liste_pièces!K325)","v":""},{"$f":"IF(Liste_pièces!L325=\"\",\"\",Liste_pièces!L325)","v":""},{"$f":"IF(Liste_pièces!M325=\"\",\"\",Liste_pièces!M325)","v":""}]
[{"$f":"IF(Liste_pièces!A326=\"\",\"ZZZ\",Liste_pièces!A326)","v":"ZZZ"},{"$f":"IF(Liste_pièces!B326=\"\",\"ZZZ\",Liste_pièces!B326)","v":"ZZZ"},{"$f":"IF(Liste_pièces!C326=\"\",\"\",Liste_pièces!C326)","v":""},{"$f":"IF(Liste_pièces!D326=\"\",\"\",Liste_pièces!D326)","v":""},{"$f":"IF(Liste_pièces!E326=\"\",\"\",Liste_pièces!E326)","v":""},{"$f":"IF(Liste_pièces!F326=\"\",\"\",Liste_pièces!F326)","v":""},{"$f":"IF(Liste_pièces!G326=\"\",\"\",Liste_pièces!G326)","v":""},{"$f":"IF(Liste_pièces!H326=\"\",\"\",Liste_pièces!H326)","v":""},{"$f":"IF(Liste_pièces!I326=\"\",\"\",Liste_pièces!I326)","v":""},{"$f":"IF(Liste_pièces!J326=\"\",\"\",Liste_pièces!J326)","v":""},{"$f":"IF(Liste_pièces!K326=\"\",\"\",Liste_pièces!K326)","v":""},{"$f":"IF(Liste_pièces!L326=\"\",\"\",Liste_pièces!L326)","v":""},{"$f":"IF(Liste_pièces!M326=\"\",\"\",Liste_pièces!M326)","v":""}]
[{"$f":"IF(Liste_pièces!A327=\"\",\"ZZZ\",Liste_pièces!A327)","v":"ZZZ"},{"$f":"IF(Liste_pièces!B327=\"\",\"ZZZ\",Liste_pièces!B327)","v":"ZZZ"},{"$f":"IF(Liste_pièces!C327=\"\",\"\",Liste_pièces!C327)","v":""},{"$f":"IF(Liste_pièces!D327=\"\",\"\",Liste_pièces!D327)","v":""},{"$f":"IF(Liste_pièces!E327=\"\",\"\",Liste_pièces!E327)","v":""},{"$f":"IF(Liste_pièces!F327=\"\",\"\",Liste_pièces!F327)","v":""},{"$f":"IF(Liste_pièces!G327=\"\",\"\",Liste_pièces!G327)","v":""},{"$f":"IF(Liste_pièces!H327=\"\",\"\",Liste_pièces!H327)","v":""},{"$f":"IF(Liste_pièces!I327=\"\",\"\",Liste_pièces!I327)","v":""},{"$f":"IF(Liste_pièces!J327=\"\",\"\",Liste_pièces!J327)","v":""},{"$f":"IF(Liste_pièces!K327=\"\",\"\",Liste_pièces!K327)","v":""},{"$f":"IF(Liste_pièces!L327=\"\",\"\",Liste_pièces!L327)","v":""},{"$f":"IF(Liste_pièces!M327=\"\",\"\",Liste_pièces!M327)","v":""}]
[{"$f":"IF(Liste_pièces!A328=\"\",\"ZZZ\",Liste_pièces!A328)","v":"ZZZ"},{"$f":"IF(Liste_pièces!B328=\"\",\"ZZZ\",Liste_pièces!B328)","v":"ZZZ"},{"$f":"IF(Liste_pièces!C328=\"\",\"\",Liste_pièces!C328)","v":""},{"$f":"IF(Liste_pièces!D328=\"\",\"\",Liste_pièces!D328)","v":""},{"$f":"IF(Liste_pièces!E328=\"\",\"\",Liste_pièces!E328)","v":""},{"$f":"IF(Liste_pièces!F328=\"\",\"\",Liste_pièces!F328)","v":""},{"$f":"IF(Liste_pièces!G328=\"\",\"\",Liste_pièces!G328)","v":""},{"$f":"IF(Liste_pièces!H328=\"\",\"\",Liste_pièces!H328)","v":""},{"$f":"IF(Liste_pièces!I328=\"\",\"\",Liste_pièces!I328)","v":""},{"$f":"IF(Liste_pièces!J328=\"\",\"\",Liste_pièces!J328)","v":""},{"$f":"IF(Liste_pièces!K328=\"\",\"\",Liste_pièces!K328)","v":""},{"$f":"IF(Liste_pièces!L328=\"\",\"\",Liste_pièces!L328)","v":""},{"$f":"IF(Liste_pièces!M328=\"\",\"\",Liste_pièces!M328)","v":""}]
[{"$f":"IF(Liste_pièces!A329=\"\",\"ZZZ\",Liste_pièces!A329)","v":"ZZZ"},{"$f":"IF(Liste_pièces!B329=\"\",\"ZZZ\",Liste_pièces!B329)","v":"ZZZ"},{"$f":"IF(Liste_pièces!C329=\"\",\"\",Liste_pièces!C329)","v":""},{"$f":"IF(Liste_pièces!D329=\"\",\"\",Liste_pièces!D329)","v":""},{"$f":"IF(Liste_pièces!E329=\"\",\"\",Liste_pièces!E329)","v":""},{"$f":"IF(Liste_pièces!F329=\"\",\"\",Liste_pièces!F329)","v":""},{"$f":"IF(Liste_pièces!G329=\"\",\"\",Liste_pièces!G329)","v":""},{"$f":"IF(Liste_pièces!H329=\"\",\"\",Liste_pièces!H329)","v":""},{"$f":"IF(Liste_pièces!I329=\"\",\"\",Liste_pièces!I329)","v":""},{"$f":"IF(Liste_pièces!J329=\"\",\"\",Liste_pièces!J329)","v":""},{"$f":"IF(Liste_pièces!K329=\"\",\"\",Liste_pièces!K329)","v":""},{"$f":"IF(Liste_pièces!L329=\"\",\"\",Liste_pièces!L329)","v":""},{"$f":"IF(Liste_pièces!M329=\"\",\"\",Liste_pièces!M329)","v":""}]
[{"$f":"IF(Liste_pièces!A330=\"\",\"ZZZ\",Liste_pièces!A330)","v":"ZZZ"},{"$f":"IF(Liste_pièces!B330=\"\",\"ZZZ\",Liste_pièces!B330)","v":"ZZZ"},{"$f":"IF(Liste_pièces!C330=\"\",\"\",Liste_pièces!C330)","v":""},{"$f":"IF(Liste_pièces!D330=\"\",\"\",Liste_pièces!D330)","v":""},{"$f":"IF(Liste_pièces!E330=\"\",\"\",Liste_pièces!E330)","v":""},{"$f":"IF(Liste_pièces!F330=\"\",\"\",Liste_pièces!F330)","v":""},{"$f":"IF(Liste_pièces!G330=\"\",\"\",Liste_pièces!G330)","v":""},{"$f":"IF(Liste_pièces!H330=\"\",\"\",Liste_pièces!H330)","v":""},{"$f":"IF(Liste_pièces!I330=\"\",\"\",Liste_pièces!I330)","v":""},{"$f":"IF(Liste_pièces!J330=\"\",\"\",Liste_pièces!J330)","v":""},{"$f":"IF(Liste_pièces!K330=\"\",\"\",Liste_pièces!K330)","v":""},{"$f":"IF(Liste_pièces!L330=\"\",\"\",Liste_pièces!L330)","v":""},{"$f":"IF(Liste_pièces!M330=\"\",\"\",Liste_pièces!M330)","v":""}]
[{"$f":"IF(Liste_pièces!A331=\"\",\"ZZZ\",Liste_pièces!A331)","v":"ZZZ"},{"$f":"IF(Liste_pièces!B331=\"\",\"ZZZ\",Liste_pièces!B331)","v":"ZZZ"},{"$f":"IF(Liste_pièces!C331=\"\",\"\",Liste_pièces!C331)","v":""},{"$f":"IF(Liste_pièces!D331=\"\",\"\",Liste_pièces!D331)","v":""},{"$f":"IF(Liste_pièces!E331=\"\",\"\",Liste_pièces!E331)","v":""},{"$f":"IF(Liste_pièces!F331=\"\",\"\",Liste_pièces!F331)","v":""},{"$f":"IF(Liste_pièces!G331=\"\",\"\",Liste_pièces!G331)","v":""},{"$f":"IF(Liste_pièces!H331=\"\",\"\",Liste_pièces!H331)","v":""},{"$f":"IF(Liste_pièces!I331=\"\",\"\",Liste_pièces!I331)","v":""},{"$f":"IF(Liste_pièces!J331=\"\",\"\",Liste_pièces!J331)","v":""},{"$f":"IF(Liste_pièces!K331=\"\",\"\",Liste_pièces!K331)","v":""},{"$f":"IF(Liste_pièces!L331=\"\",\"\",Liste_pièces!L331)","v":""},{"$f":"IF(Liste_pièces!M331=\"\",\"\",Liste_pièces!M331)","v":""}]
[{"$f":"IF(Liste_pièces!A332=\"\",\"ZZZ\",Liste_pièces!A332)","v":"ZZZ"},{"$f":"IF(Liste_pièces!B332=\"\",\"ZZZ\",Liste_pièces!B332)","v":"ZZZ"},{"$f":"IF(Liste_pièces!C332=\"\",\"\",Liste_pièces!C332)","v":""},{"$f":"IF(Liste_pièces!D332=\"\",\"\",Liste_pièces!D332)","v":""},{"$f":"IF(Liste_pièces!E332=\"\",\"\",Liste_pièces!E332)","v":""},{"$f":"IF(Liste_pièces!F332=\"\",\"\",Liste_pièces!F332)","v":""},{"$f":"IF(Liste_pièces!G332=\"\",\"\",Liste_pièces!G332)","v":""},{"$f":"IF(Liste_pièces!H332=\"\",\"\",Liste_pièces!H332)","v":""},{"$f":"IF(Liste_pièces!I332=\"\",\"\",Liste_pièces!I332)","v":""},{"$f":"IF(Liste_pièces!J332=\"\",\"\",Liste_pièces!J332)","v":""},{"$f":"IF(Liste_pièces!K332=\"\",\"\",Liste_pièces!K332)","v":""},{"$f":"IF(Liste_pièces!L332=\"\",\"\",Liste_pièces!L332)","v":""},{"$f":"IF(Liste_pièces!M332=\"\",\"\",Liste_pièces!M332)","v":""}]
[{"$f":"IF(Liste_pièces!A333=\"\",\"ZZZ\",Liste_pièces!A333)","v":"ZZZ"},{"$f":"IF(Liste_pièces!B333=\"\",\"ZZZ\",Liste_pièces!B333)","v":"ZZZ"},{"$f":"IF(Liste_pièces!C333=\"\",\"\",Liste_pièces!C333)","v":""},{"$f":"IF(Liste_pièces!D333=\"\",\"\",Liste_pièces!D333)","v":""},{"$f":"IF(Liste_pièces!E333=\"\",\"\",Liste_pièces!E333)","v":""},{"$f":"IF(Liste_pièces!F333=\"\",\"\",Liste_pièces!F333)","v":""},{"$f":"IF(Liste_pièces!G333=\"\",\"\",Liste_pièces!G333)","v":""},{"$f":"IF(Liste_pièces!H333=\"\",\"\",Liste_pièces!H333)","v":""},{"$f":"IF(Liste_pièces!I333=\"\",\"\",Liste_pièces!I333)","v":""},{"$f":"IF(Liste_pièces!J333=\"\",\"\",Liste_pièces!J333)","v":""},{"$f":"IF(Liste_pièces!K333=\"\",\"\",Liste_pièces!K333)","v":""},{"$f":"IF(Liste_pièces!L333=\"\",\"\",Liste_pièces!L333)","v":""},{"$f":"IF(Liste_pièces!M333=\"\",\"\",Liste_pièces!M333)","v":""}]
[{"$f":"IF(Liste_pièces!A334=\"\",\"ZZZ\",Liste_pièces!A334)","v":"ZZZ"},{"$f":"IF(Liste_pièces!B334=\"\",\"ZZZ\",Liste_pièces!B334)","v":"ZZZ"},{"$f":"IF(Liste_pièces!C334=\"\",\"\",Liste_pièces!C334)","v":""},{"$f":"IF(Liste_pièces!D334=\"\",\"\",Liste_pièces!D334)","v":""},{"$f":"IF(Liste_pièces!E334=\"\",\"\",Liste_pièces!E334)","v":""},{"$f":"IF(Liste_pièces!F334=\"\",\"\",Liste_pièces!F334)","v":""},{"$f":"IF(Liste_pièces!G334=\"\",\"\",Liste_pièces!G334)","v":""},{"$f":"IF(Liste_pièces!H334=\"\",\"\",Liste_pièces!H334)","v":""},{"$f":"IF(Liste_pièces!I334=\"\",\"\",Liste_pièces!I334)","v":""},{"$f":"IF(Liste_pièces!J334=\"\",\"\",Liste_pièces!J334)","v":""},{"$f":"IF(Liste_pièces!K334=\"\",\"\",Liste_pièces!K334)","v":""},{"$f":"IF(Liste_pièces!L334=\"\",\"\",Liste_pièces!L334)","v":""},{"$f":"IF(Liste_pièces!M334=\"\",\"\",Liste_pièces!M334)","v":""}]
[{"$f":"IF(Liste_pièces!A335=\"\",\"ZZZ\",Liste_pièces!A335)","v":"ZZZ"},{"$f":"IF(Liste_pièces!B335=\"\",\"ZZZ\",Liste_pièces!B335)","v":"ZZZ"},{"$f":"IF(Liste_pièces!C335=\"\",\"\",Liste_pièces!C335)","v":""},{"$f":"IF(Liste_pièces!D335=\"\",\"\",Liste_pièces!D335)","v":""},{"$f":"IF(Liste_pièces!E335=\"\",\"\",Liste_pièces!E335)","v":""},{"$f":"IF(Liste_pièces!F335=\"\",\"\",Liste_pièces!F335)","v":""},{"$f":"IF(Liste_pièces!G335=\"\",\"\",Liste_pièces!G335)","v":""},{"$f":"IF(Liste_pièces!H335=\"\",\"\",Liste_pièces!H335)","v":""},{"$f":"IF(Liste_pièces!I335=\"\",\"\",Liste_pièces!I335)","v":""},{"$f":"IF(Liste_pièces!J335=\"\",\"\",Liste_pièces!J335)","v":""},{"$f":"IF(Liste_pièces!K335=\"\",\"\",Liste_pièces!K335)","v":""},{"$f":"IF(Liste_pièces!L335=\"\",\"\",Liste_pièces!L335)","v":""},{"$f":"IF(Liste_pièces!M335=\"\",\"\",Liste_pièces!M335)","v":""}]
[{"$f":"IF(Liste_pièces!A336=\"\",\"ZZZ\",Liste_pièces!A336)","v":"ZZZ"},{"$f":"IF(Liste_pièces!B336=\"\",\"ZZZ\",Liste_pièces!B336)","v":"ZZZ"},{"$f":"IF(Liste_pièces!C336=\"\",\"\",Liste_pièces!C336)","v":""},{"$f":"IF(Liste_pièces!D336=\"\",\"\",Liste_pièces!D336)","v":""},{"$f":"IF(Liste_pièces!E336=\"\",\"\",Liste_pièces!E336)","v":""},{"$f":"IF(Liste_pièces!F336=\"\",\"\",Liste_pièces!F336)","v":""},{"$f":"IF(Liste_pièces!G336=\"\",\"\",Liste_pièces!G336)","v":""},{"$f":"IF(Liste_pièces!H336=\"\",\"\",Liste_pièces!H336)","v":""},{"$f":"IF(Liste_pièces!I336=\"\",\"\",Liste_pièces!I336)","v":""},{"$f":"IF(Liste_pièces!J336=\"\",\"\",Liste_pièces!J336)","v":""},{"$f":"IF(Liste_pièces!K336=\"\",\"\",Liste_pièces!K336)","v":""},{"$f":"IF(Liste_pièces!L336=\"\",\"\",Liste_pièces!L336)","v":""},{"$f":"IF(Liste_pièces!M336=\"\",\"\",Liste_pièces!M336)","v":""}]
[{"$f":"IF(Liste_pièces!A337=\"\",\"ZZZ\",Liste_pièces!A337)","v":"ZZZ"},{"$f":"IF(Liste_pièces!B337=\"\",\"ZZZ\",Liste_pièces!B337)","v":"ZZZ"},{"$f":"IF(Liste_pièces!C337=\"\",\"\",Liste_pièces!C337)","v":""},{"$f":"IF(Liste_pièces!D337=\"\",\"\",Liste_pièces!D337)","v":""},{"$f":"IF(Liste_pièces!E337=\"\",\"\",Liste_pièces!E337)","v":""},{"$f":"IF(Liste_pièces!F337=\"\",\"\",Liste_pièces!F337)","v":""},{"$f":"IF(Liste_pièces!G337=\"\",\"\",Liste_pièces!G337)","v":""},{"$f":"IF(Liste_pièces!H337=\"\",\"\",Liste_pièces!H337)","v":""},{"$f":"IF(Liste_pièces!I337=\"\",\"\",Liste_pièces!I337)","v":""},{"$f":"IF(Liste_pièces!J337=\"\",\"\",Liste_pièces!J337)","v":""},{"$f":"IF(Liste_pièces!K337=\"\",\"\",Liste_pièces!K337)","v":""},{"$f":"IF(Liste_pièces!L337=\"\",\"\",Liste_pièces!L337)","v":""},{"$f":"IF(Liste_pièces!M337=\"\",\"\",Liste_pièces!M337)","v":""}]
[{"$f":"IF(Liste_pièces!A338=\"\",\"ZZZ\",Liste_pièces!A338)","v":"ZZZ"},{"$f":"IF(Liste_pièces!B338=\"\",\"ZZZ\",Liste_pièces!B338)","v":"ZZZ"},{"$f":"IF(Liste_pièces!C338=\"\",\"\",Liste_pièces!C338)","v":""},{"$f":"IF(Liste_pièces!D338=\"\",\"\",Liste_pièces!D338)","v":""},{"$f":"IF(Liste_pièces!E338=\"\",\"\",Liste_pièces!E338)","v":""},{"$f":"IF(Liste_pièces!F338=\"\",\"\",Liste_pièces!F338)","v":""},{"$f":"IF(Liste_pièces!G338=\"\",\"\",Liste_pièces!G338)","v":""},{"$f":"IF(Liste_pièces!H338=\"\",\"\",Liste_pièces!H338)","v":""},{"$f":"IF(Liste_pièces!I338=\"\",\"\",Liste_pièces!I338)","v":""},{"$f":"IF(Liste_pièces!J338=\"\",\"\",Liste_pièces!J338)","v":""},{"$f":"IF(Liste_pièces!K338=\"\",\"\",Liste_pièces!K338)","v":""},{"$f":"IF(Liste_pièces!L338=\"\",\"\",Liste_pièces!L338)","v":""},{"$f":"IF(Liste_pièces!M338=\"\",\"\",Liste_pièces!M338)","v":""}]
[{"$f":"IF(Liste_pièces!A339=\"\",\"ZZZ\",Liste_pièces!A339)","v":"ZZZ"},{"$f":"IF(Liste_pièces!B339=\"\",\"ZZZ\",Liste_pièces!B339)","v":"ZZZ"},{"$f":"IF(Liste_pièces!C339=\"\",\"\",Liste_pièces!C339)","v":""},{"$f":"IF(Liste_pièces!D339=\"\",\"\",Liste_pièces!D339)","v":""},{"$f":"IF(Liste_pièces!E339=\"\",\"\",Liste_pièces!E339)","v":""},{"$f":"IF(Liste_pièces!F339=\"\",\"\",Liste_pièces!F339)","v":""},{"$f":"IF(Liste_pièces!G339=\"\",\"\",Liste_pièces!G339)","v":""},{"$f":"IF(Liste_pièces!H339=\"\",\"\",Liste_pièces!H339)","v":""},{"$f":"IF(Liste_pièces!I339=\"\",\"\",Liste_pièces!I339)","v":""},{"$f":"IF(Liste_pièces!J339=\"\",\"\",Liste_pièces!J339)","v":""},{"$f":"IF(Liste_pièces!K339=\"\",\"\",Liste_pièces!K339)","v":""},{"$f":"IF(Liste_pièces!L339=\"\",\"\",Liste_pièces!L339)","v":""},{"$f":"IF(Liste_pièces!M339=\"\",\"\",Liste_pièces!M339)","v":""}]
[{"$f":"IF(Liste_pièces!A340=\"\",\"ZZZ\",Liste_pièces!A340)","v":"ZZZ"},{"$f":"IF(Liste_pièces!B340=\"\",\"ZZZ\",Liste_pièces!B340)","v":"ZZZ"},{"$f":"IF(Liste_pièces!C340=\"\",\"\",Liste_pièces!C340)","v":""},{"$f":"IF(Liste_pièces!D340=\"\",\"\",Liste_pièces!D340)","v":""},{"$f":"IF(Liste_pièces!E340=\"\",\"\",Liste_pièces!E340)","v":""},{"$f":"IF(Liste_pièces!F340=\"\",\"\",Liste_pièces!F340)","v":""},{"$f":"IF(Liste_pièces!G340=\"\",\"\",Liste_pièces!G340)","v":""},{"$f":"IF(Liste_pièces!H340=\"\",\"\",Liste_pièces!H340)","v":""},{"$f":"IF(Liste_pièces!I340=\"\",\"\",Liste_pièces!I340)","v":""},{"$f":"IF(Liste_pièces!J340=\"\",\"\",Liste_pièces!J340)","v":""},{"$f":"IF(Liste_pièces!K340=\"\",\"\",Liste_pièces!K340)","v":""},{"$f":"IF(Liste_pièces!L340=\"\",\"\",Liste_pièces!L340)","v":""},{"$f":"IF(Liste_pièces!M340=\"\",\"\",Liste_pièces!M340)","v":""}]
[{"$f":"IF(Liste_pièces!A341=\"\",\"ZZZ\",Liste_pièces!A341)","v":"ZZZ"},{"$f":"IF(Liste_pièces!B341=\"\",\"ZZZ\",Liste_pièces!B341)","v":"ZZZ"},{"$f":"IF(Liste_pièces!C341=\"\",\"\",Liste_pièces!C341)","v":""},{"$f":"IF(Liste_pièces!D341=\"\",\"\",Liste_pièces!D341)","v":""},{"$f":"IF(Liste_pièces!E341=\"\",\"\",Liste_pièces!E341)","v":""},{"$f":"IF(Liste_pièces!F341=\"\",\"\",Liste_pièces!F341)","v":""},{"$f":"IF(Liste_pièces!G341=\"\",\"\",Liste_pièces!G341)","v":""},{"$f":"IF(Liste_pièces!H341=\"\",\"\",Liste_pièces!H341)","v":""},{"$f":"IF(Liste_pièces!I341=\"\",\"\",Liste_pièces!I341)","v":""},{"$f":"IF(Liste_pièces!J341=\"\",\"\",Liste_pièces!J341)","v":""},{"$f":"IF(Liste_pièces!K341=\"\",\"\",Liste_pièces!K341)","v":""},{"$f":"IF(Liste_pièces!L341=\"\",\"\",Liste_pièces!L341)","v":""},{"$f":"IF(Liste_pièces!M341=\"\",\"\",Liste_pièces!M341)","v":""}]
[{"$f":"IF(Liste_pièces!A342=\"\",\"ZZZ\",Liste_pièces!A342)","v":"ZZZ"},{"$f":"IF(Liste_pièces!B342=\"\",\"ZZZ\",Liste_pièces!B342)","v":"ZZZ"},{"$f":"IF(Liste_pièces!C342=\"\",\"\",Liste_pièces!C342)","v":""},{"$f":"IF(Liste_pièces!D342=\"\",\"\",Liste_pièces!D342)","v":""},{"$f":"IF(Liste_pièces!E342=\"\",\"\",Liste_pièces!E342)","v":""},{"$f":"IF(Liste_pièces!F342=\"\",\"\",Liste_pièces!F342)","v":""},{"$f":"IF(Liste_pièces!G342=\"\",\"\",Liste_pièces!G342)","v":""},{"$f":"IF(Liste_pièces!H342=\"\",\"\",Liste_pièces!H342)","v":""},{"$f":"IF(Liste_pièces!I342=\"\",\"\",Liste_pièces!I342)","v":""},{"$f":"IF(Liste_pièces!J342=\"\",\"\",Liste_pièces!J342)","v":""},{"$f":"IF(Liste_pièces!K342=\"\",\"\",Liste_pièces!K342)","v":""},{"$f":"IF(Liste_pièces!L342=\"\",\"\",Liste_pièces!L342)","v":""},{"$f":"IF(Liste_pièces!M342=\"\",\"\",Liste_pièces!M342)","v":""}]
[{"$f":"IF(Liste_pièces!A343=\"\",\"ZZZ\",Liste_pièces!A343)","v":"ZZZ"},{"$f":"IF(Liste_pièces!B343=\"\",\"ZZZ\",Liste_pièces!B343)","v":"ZZZ"},{"$f":"IF(Liste_pièces!C343=\"\",\"\",Liste_pièces!C343)","v":""},{"$f":"IF(Liste_pièces!D343=\"\",\"\",Liste_pièces!D343)","v":""},{"$f":"IF(Liste_pièces!E343=\"\",\"\",Liste_pièces!E343)","v":""},{"$f":"IF(Liste_pièces!F343=\"\",\"\",Liste_pièces!F343)","v":""},{"$f":"IF(Liste_pièces!G343=\"\",\"\",Liste_pièces!G343)","v":""},{"$f":"IF(Liste_pièces!H343=\"\",\"\",Liste_pièces!H343)","v":""},{"$f":"IF(Liste_pièces!I343=\"\",\"\",Liste_pièces!I343)","v":""},{"$f":"IF(Liste_pièces!J343=\"\",\"\",Liste_pièces!J343)","v":""},{"$f":"IF(Liste_pièces!K343=\"\",\"\",Liste_pièces!K343)","v":""},{"$f":"IF(Liste_pièces!L343=\"\",\"\",Liste_pièces!L343)","v":""},{"$f":"IF(Liste_pièces!M343=\"\",\"\",Liste_pièces!M343)","v":""}]
[{"$f":"IF(Liste_pièces!A344=\"\",\"ZZZ\",Liste_pièces!A344)","v":"ZZZ"},{"$f":"IF(Liste_pièces!B344=\"\",\"ZZZ\",Liste_pièces!B344)","v":"ZZZ"},{"$f":"IF(Liste_pièces!C344=\"\",\"\",Liste_pièces!C344)","v":""},{"$f":"IF(Liste_pièces!D344=\"\",\"\",Liste_pièces!D344)","v":""},{"$f":"IF(Liste_pièces!E344=\"\",\"\",Liste_pièces!E344)","v":""},{"$f":"IF(Liste_pièces!F344=\"\",\"\",Liste_pièces!F344)","v":""},{"$f":"IF(Liste_pièces!G344=\"\",\"\",Liste_pièces!G344)","v":""},{"$f":"IF(Liste_pièces!H344=\"\",\"\",Liste_pièces!H344)","v":""},{"$f":"IF(Liste_pièces!I344=\"\",\"\",Liste_pièces!I344)","v":""},{"$f":"IF(Liste_pièces!J344=\"\",\"\",Liste_pièces!J344)","v":""},{"$f":"IF(Liste_pièces!K344=\"\",\"\",Liste_pièces!K344)","v":""},{"$f":"IF(Liste_pièces!L344=\"\",\"\",Liste_pièces!L344)","v":""},{"$f":"IF(Liste_pièces!M344=\"\",\"\",Liste_pièces!M344)","v":""}]
[{"$f":"IF(Liste_pièces!A345=\"\",\"ZZZ\",Liste_pièces!A345)","v":"ZZZ"},{"$f":"IF(Liste_pièces!B345=\"\",\"ZZZ\",Liste_pièces!B345)","v":"ZZZ"},{"$f":"IF(Liste_pièces!C345=\"\",\"\",Liste_pièces!C345)","v":""},{"$f":"IF(Liste_pièces!D345=\"\",\"\",Liste_pièces!D345)","v":""},{"$f":"IF(Liste_pièces!E345=\"\",\"\",Liste_pièces!E345)","v":""},{"$f":"IF(Liste_pièces!F345=\"\",\"\",Liste_pièces!F345)","v":""},{"$f":"IF(Liste_pièces!G345=\"\",\"\",Liste_pièces!G345)","v":""},{"$f":"IF(Liste_pièces!H345=\"\",\"\",Liste_pièces!H345)","v":""},{"$f":"IF(Liste_pièces!I345=\"\",\"\",Liste_pièces!I345)","v":""},{"$f":"IF(Liste_pièces!J345=\"\",\"\",Liste_pièces!J345)","v":""},{"$f":"IF(Liste_pièces!K345=\"\",\"\",Liste_pièces!K345)","v":""},{"$f":"IF(Liste_pièces!L345=\"\",\"\",Liste_pièces!L345)","v":""},{"$f":"IF(Liste_pièces!M345=\"\",\"\",Liste_pièces!M345)","v":""}]
[{"$f":"IF(Liste_pièces!A346=\"\",\"ZZZ\",Liste_pièces!A346)","v":"ZZZ"},{"$f":"IF(Liste_pièces!B346=\"\",\"ZZZ\",Liste_pièces!B346)","v":"ZZZ"},{"$f":"IF(Liste_pièces!C346=\"\",\"\",Liste_pièces!C346)","v":""},{"$f":"IF(Liste_pièces!D346=\"\",\"\",Liste_pièces!D346)","v":""},{"$f":"IF(Liste_pièces!E346=\"\",\"\",Liste_pièces!E346)","v":""},{"$f":"IF(Liste_pièces!F346=\"\",\"\",Liste_pièces!F346)","v":""},{"$f":"IF(Liste_pièces!G346=\"\",\"\",Liste_pièces!G346)","v":""},{"$f":"IF(Liste_pièces!H346=\"\",\"\",Liste_pièces!H346)","v":""},{"$f":"IF(Liste_pièces!I346=\"\",\"\",Liste_pièces!I346)","v":""},{"$f":"IF(Liste_pièces!J346=\"\",\"\",Liste_pièces!J346)","v":""},{"$f":"IF(Liste_pièces!K346=\"\",\"\",Liste_pièces!K346)","v":""},{"$f":"IF(Liste_pièces!L346=\"\",\"\",Liste_pièces!L346)","v":""},{"$f":"IF(Liste_pièces!M346=\"\",\"\",Liste_pièces!M346)","v":""}]
[{"$f":"IF(Liste_pièces!A347=\"\",\"ZZZ\",Liste_pièces!A347)","v":"ZZZ"},{"$f":"IF(Liste_pièces!B347=\"\",\"ZZZ\",Liste_pièces!B347)","v":"ZZZ"},{"$f":"IF(Liste_pièces!C347=\"\",\"\",Liste_pièces!C347)","v":""},{"$f":"IF(Liste_pièces!D347=\"\",\"\",Liste_pièces!D347)","v":""},{"$f":"IF(Liste_pièces!E347=\"\",\"\",Liste_pièces!E347)","v":""},{"$f":"IF(Liste_pièces!F347=\"\",\"\",Liste_pièces!F347)","v":""},{"$f":"IF(Liste_pièces!G347=\"\",\"\",Liste_pièces!G347)","v":""},{"$f":"IF(Liste_pièces!H347=\"\",\"\",Liste_pièces!H347)","v":""},{"$f":"IF(Liste_pièces!I347=\"\",\"\",Liste_pièces!I347)","v":""},{"$f":"IF(Liste_pièces!J347=\"\",\"\",Liste_pièces!J347)","v":""},{"$f":"IF(Liste_pièces!K347=\"\",\"\",Liste_pièces!K347)","v":""},{"$f":"IF(Liste_pièces!L347=\"\",\"\",Liste_pièces!L347)","v":""},{"$f":"IF(Liste_pièces!M347=\"\",\"\",Liste_pièces!M347)","v":""}]
[{"$f":"IF(Liste_pièces!A348=\"\",\"ZZZ\",Liste_pièces!A348)","v":"ZZZ"},{"$f":"IF(Liste_pièces!B348=\"\",\"ZZZ\",Liste_pièces!B348)","v":"ZZZ"},{"$f":"IF(Liste_pièces!C348=\"\",\"\",Liste_pièces!C348)","v":""},{"$f":"IF(Liste_pièces!D348=\"\",\"\",Liste_pièces!D348)","v":""},{"$f":"IF(Liste_pièces!E348=\"\",\"\",Liste_pièces!E348)","v":""},{"$f":"IF(Liste_pièces!F348=\"\",\"\",Liste_pièces!F348)","v":""},{"$f":"IF(Liste_pièces!G348=\"\",\"\",Liste_pièces!G348)","v":""},{"$f":"IF(Liste_pièces!H348=\"\",\"\",Liste_pièces!H348)","v":""},{"$f":"IF(Liste_pièces!I348=\"\",\"\",Liste_pièces!I348)","v":""},{"$f":"IF(Liste_pièces!J348=\"\",\"\",Liste_pièces!J348)","v":""},{"$f":"IF(Liste_pièces!K348=\"\",\"\",Liste_pièces!K348)","v":""},{"$f":"IF(Liste_pièces!L348=\"\",\"\",Liste_pièces!L348)","v":""},{"$f":"IF(Liste_pièces!M348=\"\",\"\",Liste_pièces!M348)","v":""}]
[{"$f":"IF(Liste_pièces!A349=\"\",\"ZZZ\",Liste_pièces!A349)","v":"ZZZ"},{"$f":"IF(Liste_pièces!B349=\"\",\"ZZZ\",Liste_pièces!B349)","v":"ZZZ"},{"$f":"IF(Liste_pièces!C349=\"\",\"\",Liste_pièces!C349)","v":""},{"$f":"IF(Liste_pièces!D349=\"\",\"\",Liste_pièces!D349)","v":""},{"$f":"IF(Liste_pièces!E349=\"\",\"\",Liste_pièces!E349)","v":""},{"$f":"IF(Liste_pièces!F349=\"\",\"\",Liste_pièces!F349)","v":""},{"$f":"IF(Liste_pièces!G349=\"\",\"\",Liste_pièces!G349)","v":""},{"$f":"IF(Liste_pièces!H349=\"\",\"\",Liste_pièces!H349)","v":""},{"$f":"IF(Liste_pièces!I349=\"\",\"\",Liste_pièces!I349)","v":""},{"$f":"IF(Liste_pièces!J349=\"\",\"\",Liste_pièces!J349)","v":""},{"$f":"IF(Liste_pièces!K349=\"\",\"\",Liste_pièces!K349)","v":""},{"$f":"IF(Liste_pièces!L349=\"\",\"\",Liste_pièces!L349)","v":""},{"$f":"IF(Liste_pièces!M349=\"\",\"\",Liste_pièces!M349)","v":""}]
[{"$f":"IF(Liste_pièces!A350=\"\",\"ZZZ\",Liste_pièces!A350)","v":"ZZZ"},{"$f":"IF(Liste_pièces!B350=\"\",\"ZZZ\",Liste_pièces!B350)","v":"ZZZ"},{"$f":"IF(Liste_pièces!C350=\"\",\"\",Liste_pièces!C350)","v":""},{"$f":"IF(Liste_pièces!D350=\"\",\"\",Liste_pièces!D350)","v":""},{"$f":"IF(Liste_pièces!E350=\"\",\"\",Liste_pièces!E350)","v":""},{"$f":"IF(Liste_pièces!F350=\"\",\"\",Liste_pièces!F350)","v":""},{"$f":"IF(Liste_pièces!G350=\"\",\"\",Liste_pièces!G350)","v":""},{"$f":"IF(Liste_pièces!H350=\"\",\"\",Liste_pièces!H350)","v":""},{"$f":"IF(Liste_pièces!I350=\"\",\"\",Liste_pièces!I350)","v":""},{"$f":"IF(Liste_pièces!J350=\"\",\"\",Liste_pièces!J350)","v":""},{"$f":"IF(Liste_pièces!K350=\"\",\"\",Liste_pièces!K350)","v":""},{"$f":"IF(Liste_pièces!L350=\"\",\"\",Liste_pièces!L350)","v":""},{"$f":"IF(Liste_pièces!M350=\"\",\"\",Liste_pièces!M350)","v":""}]
[{"$f":"IF(Liste_pièces!A351=\"\",\"ZZZ\",Liste_pièces!A351)","v":"ZZZ"},{"$f":"IF(Liste_pièces!B351=\"\",\"ZZZ\",Liste_pièces!B351)","v":"ZZZ"},{"$f":"IF(Liste_pièces!C351=\"\",\"\",Liste_pièces!C351)","v":""},{"$f":"IF(Liste_pièces!D351=\"\",\"\",Liste_pièces!D351)","v":""},{"$f":"IF(Liste_pièces!E351=\"\",\"\",Liste_pièces!E351)","v":""},{"$f":"IF(Liste_pièces!F351=\"\",\"\",Liste_pièces!F351)","v":""},{"$f":"IF(Liste_pièces!G351=\"\",\"\",Liste_pièces!G351)","v":""},{"$f":"IF(Liste_pièces!H351=\"\",\"\",Liste_pièces!H351)","v":""},{"$f":"IF(Liste_pièces!I351=\"\",\"\",Liste_pièces!I351)","v":""},{"$f":"IF(Liste_pièces!J351=\"\",\"\",Liste_pièces!J351)","v":""},{"$f":"IF(Liste_pièces!K351=\"\",\"\",Liste_pièces!K351)","v":""},{"$f":"IF(Liste_pièces!L351=\"\",\"\",Liste_pièces!L351)","v":""},{"$f":"IF(Liste_pièces!M351=\"\",\"\",Liste_pièces!M351)","v":""}]
[{"$f":"IF(Liste_pièces!A352=\"\",\"ZZZ\",Liste_pièces!A352)","v":"ZZZ"},{"$f":"IF(Liste_pièces!B352=\"\",\"ZZZ\",Liste_pièces!B352)","v":"ZZZ"},{"$f":"IF(Liste_pièces!C352=\"\",\"\",Liste_pièces!C352)","v":""},{"$f":"IF(Liste_pièces!D352=\"\",\"\",Liste_pièces!D352)","v":""},{"$f":"IF(Liste_pièces!E352=\"\",\"\",Liste_pièces!E352)","v":""},{"$f":"IF(Liste_pièces!F352=\"\",\"\",Liste_pièces!F352)","v":""},{"$f":"IF(Liste_pièces!G352=\"\",\"\",Liste_pièces!G352)","v":""},{"$f":"IF(Liste_pièces!H352=\"\",\"\",Liste_pièces!H352)","v":""},{"$f":"IF(Liste_pièces!I352=\"\",\"\",Liste_pièces!I352)","v":""},{"$f":"IF(Liste_pièces!J352=\"\",\"\",Liste_pièces!J352)","v":""},{"$f":"IF(Liste_pièces!K352=\"\",\"\",Liste_pièces!K352)","v":""},{"$f":"IF(Liste_pièces!L352=\"\",\"\",Liste_pièces!L352)","v":""},{"$f":"IF(Liste_pièces!M352=\"\",\"\",Liste_pièces!M352)","v":""}]
[{"$f":"IF(Liste_pièces!A353=\"\",\"ZZZ\",Liste_pièces!A353)","v":"ZZZ"},{"$f":"IF(Liste_pièces!B353=\"\",\"ZZZ\",Liste_pièces!B353)","v":"ZZZ"},{"$f":"IF(Liste_pièces!C353=\"\",\"\",Liste_pièces!C353)","v":""},{"$f":"IF(Liste_pièces!D353=\"\",\"\",Liste_pièces!D353)","v":""},{"$f":"IF(Liste_pièces!E353=\"\",\"\",Liste_pièces!E353)","v":""},{"$f":"IF(Liste_pièces!F353=\"\",\"\",Liste_pièces!F353)","v":""},{"$f":"IF(Liste_pièces!G353=\"\",\"\",Liste_pièces!G353)","v":""},{"$f":"IF(Liste_pièces!H353=\"\",\"\",Liste_pièces!H353)","v":""},{"$f":"IF(Liste_pièces!I353=\"\",\"\",Liste_pièces!I353)","v":""},{"$f":"IF(Liste_pièces!J353=\"\",\"\",Liste_pièces!J353)","v":""},{"$f":"IF(Liste_pièces!K353=\"\",\"\",Liste_pièces!K353)","v":""},{"$f":"IF(Liste_pièces!L353=\"\",\"\",Liste_pièces!L353)","v":""},{"$f":"IF(Liste_pièces!M353=\"\",\"\",Liste_pièces!M353)","v":""}]
[{"$f":"IF(Liste_pièces!A354=\"\",\"ZZZ\",Liste_pièces!A354)","v":"ZZZ"},{"$f":"IF(Liste_pièces!B354=\"\",\"ZZZ\",Liste_pièces!B354)","v":"ZZZ"},{"$f":"IF(Liste_pièces!C354=\"\",\"\",Liste_pièces!C354)","v":""},{"$f":"IF(Liste_pièces!D354=\"\",\"\",Liste_pièces!D354)","v":""},{"$f":"IF(Liste_pièces!E354=\"\",\"\",Liste_pièces!E354)","v":""},{"$f":"IF(Liste_pièces!F354=\"\",\"\",Liste_pièces!F354)","v":""},{"$f":"IF(Liste_pièces!G354=\"\",\"\",Liste_pièces!G354)","v":""},{"$f":"IF(Liste_pièces!H354=\"\",\"\",Liste_pièces!H354)","v":""},{"$f":"IF(Liste_pièces!I354=\"\",\"\",Liste_pièces!I354)","v":""},{"$f":"IF(Liste_pièces!J354=\"\",\"\",Liste_pièces!J354)","v":""},{"$f":"IF(Liste_pièces!K354=\"\",\"\",Liste_pièces!K354)","v":""},{"$f":"IF(Liste_pièces!L354=\"\",\"\",Liste_pièces!L354)","v":""},{"$f":"IF(Liste_pièces!M354=\"\",\"\",Liste_pièces!M354)","v":""}]
[{"$f":"IF(Liste_pièces!A355=\"\",\"ZZZ\",Liste_pièces!A355)","v":"ZZZ"},{"$f":"IF(Liste_pièces!B355=\"\",\"ZZZ\",Liste_pièces!B355)","v":"ZZZ"},{"$f":"IF(Liste_pièces!C355=\"\",\"\",Liste_pièces!C355)","v":""},{"$f":"IF(Liste_pièces!D355=\"\",\"\",Liste_pièces!D355)","v":""},{"$f":"IF(Liste_pièces!E355=\"\",\"\",Liste_pièces!E355)","v":""},{"$f":"IF(Liste_pièces!F355=\"\",\"\",Liste_pièces!F355)","v":""},{"$f":"IF(Liste_pièces!G355=\"\",\"\",Liste_pièces!G355)","v":""},{"$f":"IF(Liste_pièces!H355=\"\",\"\",Liste_pièces!H355)","v":""},{"$f":"IF(Liste_pièces!I355=\"\",\"\",Liste_pièces!I355)","v":""},{"$f":"IF(Liste_pièces!J355=\"\",\"\",Liste_pièces!J355)","v":""},{"$f":"IF(Liste_pièces!K355=\"\",\"\",Liste_pièces!K355)","v":""},{"$f":"IF(Liste_pièces!L355=\"\",\"\",Liste_pièces!L355)","v":""},{"$f":"IF(Liste_pièces!M355=\"\",\"\",Liste_pièces!M355)","v":""}]
[{"$f":"IF(Liste_pièces!A356=\"\",\"ZZZ\",Liste_pièces!A356)","v":"ZZZ"},{"$f":"IF(Liste_pièces!B356=\"\",\"ZZZ\",Liste_pièces!B356)","v":"ZZZ"},{"$f":"IF(Liste_pièces!C356=\"\",\"\",Liste_pièces!C356)","v":""},{"$f":"IF(Liste_pièces!D356=\"\",\"\",Liste_pièces!D356)","v":""},{"$f":"IF(Liste_pièces!E356=\"\",\"\",Liste_pièces!E356)","v":""},{"$f":"IF(Liste_pièces!F356=\"\",\"\",Liste_pièces!F356)","v":""},{"$f":"IF(Liste_pièces!G356=\"\",\"\",Liste_pièces!G356)","v":""},{"$f":"IF(Liste_pièces!H356=\"\",\"\",Liste_pièces!H356)","v":""},{"$f":"IF(Liste_pièces!I356=\"\",\"\",Liste_pièces!I356)","v":""},{"$f":"IF(Liste_pièces!J356=\"\",\"\",Liste_pièces!J356)","v":""},{"$f":"IF(Liste_pièces!K356=\"\",\"\",Liste_pièces!K356)","v":""},{"$f":"IF(Liste_pièces!L356=\"\",\"\",Liste_pièces!L356)","v":""},{"$f":"IF(Liste_pièces!M356=\"\",\"\",Liste_pièces!M356)","v":""}]
[{"$f":"IF(Liste_pièces!A357=\"\",\"ZZZ\",Liste_pièces!A357)","v":"ZZZ"},{"$f":"IF(Liste_pièces!B357=\"\",\"ZZZ\",Liste_pièces!B357)","v":"ZZZ"},{"$f":"IF(Liste_pièces!C357=\"\",\"\",Liste_pièces!C357)","v":""},{"$f":"IF(Liste_pièces!D357=\"\",\"\",Liste_pièces!D357)","v":""},{"$f":"IF(Liste_pièces!E357=\"\",\"\",Liste_pièces!E357)","v":""},{"$f":"IF(Liste_pièces!F357=\"\",\"\",Liste_pièces!F357)","v":""},{"$f":"IF(Liste_pièces!G357=\"\",\"\",Liste_pièces!G357)","v":""},{"$f":"IF(Liste_pièces!H357=\"\",\"\",Liste_pièces!H357)","v":""},{"$f":"IF(Liste_pièces!I357=\"\",\"\",Liste_pièces!I357)","v":""},{"$f":"IF(Liste_pièces!J357=\"\",\"\",Liste_pièces!J357)","v":""},{"$f":"IF(Liste_pièces!K357=\"\",\"\",Liste_pièces!K357)","v":""},{"$f":"IF(Liste_pièces!L357=\"\",\"\",Liste_pièces!L357)","v":""},{"$f":"IF(Liste_pièces!M357=\"\",\"\",Liste_pièces!M357)","v":""}]
[{"$f":"IF(Liste_pièces!A358=\"\",\"ZZZ\",Liste_pièces!A358)","v":"ZZZ"},{"$f":"IF(Liste_pièces!B358=\"\",\"ZZZ\",Liste_pièces!B358)","v":"ZZZ"},{"$f":"IF(Liste_pièces!C358=\"\",\"\",Liste_pièces!C358)","v":""},{"$f":"IF(Liste_pièces!D358=\"\",\"\",Liste_pièces!D358)","v":""},{"$f":"IF(Liste_pièces!E358=\"\",\"\",Liste_pièces!E358)","v":""},{"$f":"IF(Liste_pièces!F358=\"\",\"\",Liste_pièces!F358)","v":""},{"$f":"IF(Liste_pièces!G358=\"\",\"\",Liste_pièces!G358)","v":""},{"$f":"IF(Liste_pièces!H358=\"\",\"\",Liste_pièces!H358)","v":""},{"$f":"IF(Liste_pièces!I358=\"\",\"\",Liste_pièces!I358)","v":""},{"$f":"IF(Liste_pièces!J358=\"\",\"\",Liste_pièces!J358)","v":""},{"$f":"IF(Liste_pièces!K358=\"\",\"\",Liste_pièces!K358)","v":""},{"$f":"IF(Liste_pièces!L358=\"\",\"\",Liste_pièces!L358)","v":""},{"$f":"IF(Liste_pièces!M358=\"\",\"\",Liste_pièces!M358)","v":""}]
[{"$f":"IF(Liste_pièces!A359=\"\",\"ZZZ\",Liste_pièces!A359)","v":"ZZZ"},{"$f":"IF(Liste_pièces!B359=\"\",\"ZZZ\",Liste_pièces!B359)","v":"ZZZ"},{"$f":"IF(Liste_pièces!C359=\"\",\"\",Liste_pièces!C359)","v":""},{"$f":"IF(Liste_pièces!D359=\"\",\"\",Liste_pièces!D359)","v":""},{"$f":"IF(Liste_pièces!E359=\"\",\"\",Liste_pièces!E359)","v":""},{"$f":"IF(Liste_pièces!F359=\"\",\"\",Liste_pièces!F359)","v":""},{"$f":"IF(Liste_pièces!G359=\"\",\"\",Liste_pièces!G359)","v":""},{"$f":"IF(Liste_pièces!H359=\"\",\"\",Liste_pièces!H359)","v":""},{"$f":"IF(Liste_pièces!I359=\"\",\"\",Liste_pièces!I359)","v":""},{"$f":"IF(Liste_pièces!J359=\"\",\"\",Liste_pièces!J359)","v":""},{"$f":"IF(Liste_pièces!K359=\"\",\"\",Liste_pièces!K359)","v":""},{"$f":"IF(Liste_pièces!L359=\"\",\"\",Liste_pièces!L359)","v":""},{"$f":"IF(Liste_pièces!M359=\"\",\"\",Liste_pièces!M359)","v":""}]
[{"$f":"IF(Liste_pièces!A360=\"\",\"ZZZ\",Liste_pièces!A360)","v":"ZZZ"},{"$f":"IF(Liste_pièces!B360=\"\",\"ZZZ\",Liste_pièces!B360)","v":"ZZZ"},{"$f":"IF(Liste_pièces!C360=\"\",\"\",Liste_pièces!C360)","v":""},{"$f":"IF(Liste_pièces!D360=\"\",\"\",Liste_pièces!D360)","v":""},{"$f":"IF(Liste_pièces!E360=\"\",\"\",Liste_pièces!E360)","v":""},{"$f":"IF(Liste_pièces!F360=\"\",\"\",Liste_pièces!F360)","v":""},{"$f":"IF(Liste_pièces!G360=\"\",\"\",Liste_pièces!G360)","v":""},{"$f":"IF(Liste_pièces!H360=\"\",\"\",Liste_pièces!H360)","v":""},{"$f":"IF(Liste_pièces!I360=\"\",\"\",Liste_pièces!I360)","v":""},{"$f":"IF(Liste_pièces!J360=\"\",\"\",Liste_pièces!J360)","v":""},{"$f":"IF(Liste_pièces!K360=\"\",\"\",Liste_pièces!K360)","v":""},{"$f":"IF(Liste_pièces!L360=\"\",\"\",Liste_pièces!L360)","v":""},{"$f":"IF(Liste_pièces!M360=\"\",\"\",Liste_pièces!M360)","v":""}]
[{"$f":"IF(Liste_pièces!A361=\"\",\"ZZZ\",Liste_pièces!A361)","v":"ZZZ"},{"$f":"IF(Liste_pièces!B361=\"\",\"ZZZ\",Liste_pièces!B361)","v":"ZZZ"},{"$f":"IF(Liste_pièces!C361=\"\",\"\",Liste_pièces!C361)","v":""},{"$f":"IF(Liste_pièces!D361=\"\",\"\",Liste_pièces!D361)","v":""},{"$f":"IF(Liste_pièces!E361=\"\",\"\",Liste_pièces!E361)","v":""},{"$f":"IF(Liste_pièces!F361=\"\",\"\",Liste_pièces!F361)","v":""},{"$f":"IF(Liste_pièces!G361=\"\",\"\",Liste_pièces!G361)","v":""},{"$f":"IF(Liste_pièces!H361=\"\",\"\",Liste_pièces!H361)","v":""},{"$f":"IF(Liste_pièces!I361=\"\",\"\",Liste_pièces!I361)","v":""},{"$f":"IF(Liste_pièces!J361=\"\",\"\",Liste_pièces!J361)","v":""},{"$f":"IF(Liste_pièces!K361=\"\",\"\",Liste_pièces!K361)","v":""},{"$f":"IF(Liste_pièces!L361=\"\",\"\",Liste_pièces!L361)","v":""},{"$f":"IF(Liste_pièces!M361=\"\",\"\",Liste_pièces!M361)","v":""}]
[{"$f":"IF(Liste_pièces!A362=\"\",\"ZZZ\",Liste_pièces!A362)","v":"ZZZ"},{"$f":"IF(Liste_pièces!B362=\"\",\"ZZZ\",Liste_pièces!B362)","v":"ZZZ"},{"$f":"IF(Liste_pièces!C362=\"\",\"\",Liste_pièces!C362)","v":""},{"$f":"IF(Liste_pièces!D362=\"\",\"\",Liste_pièces!D362)","v":""},{"$f":"IF(Liste_pièces!E362=\"\",\"\",Liste_pièces!E362)","v":""},{"$f":"IF(Liste_pièces!F362=\"\",\"\",Liste_pièces!F362)","v":""},{"$f":"IF(Liste_pièces!G362=\"\",\"\",Liste_pièces!G362)","v":""},{"$f":"IF(Liste_pièces!H362=\"\",\"\",Liste_pièces!H362)","v":""},{"$f":"IF(Liste_pièces!I362=\"\",\"\",Liste_pièces!I362)","v":""},{"$f":"IF(Liste_pièces!J362=\"\",\"\",Liste_pièces!J362)","v":""},{"$f":"IF(Liste_pièces!K362=\"\",\"\",Liste_pièces!K362)","v":""},{"$f":"IF(Liste_pièces!L362=\"\",\"\",Liste_pièces!L362)","v":""},{"$f":"IF(Liste_pièces!M362=\"\",\"\",Liste_pièces!M362)","v":""}]
[{"$f":"IF(Liste_pièces!A363=\"\",\"ZZZ\",Liste_pièces!A363)","v":"ZZZ"},{"$f":"IF(Liste_pièces!B363=\"\",\"ZZZ\",Liste_pièces!B363)","v":"ZZZ"},{"$f":"IF(Liste_pièces!C363=\"\",\"\",Liste_pièces!C363)","v":""},{"$f":"IF(Liste_pièces!D363=\"\",\"\",Liste_pièces!D363)","v":""},{"$f":"IF(Liste_pièces!E363=\"\",\"\",Liste_pièces!E363)","v":""},{"$f":"IF(Liste_pièces!F363=\"\",\"\",Liste_pièces!F363)","v":""},{"$f":"IF(Liste_pièces!G363=\"\",\"\",Liste_pièces!G363)","v":""},{"$f":"IF(Liste_pièces!H363=\"\",\"\",Liste_pièces!H363)","v":""},{"$f":"IF(Liste_pièces!I363=\"\",\"\",Liste_pièces!I363)","v":""},{"$f":"IF(Liste_pièces!J363=\"\",\"\",Liste_pièces!J363)","v":""},{"$f":"IF(Liste_pièces!K363=\"\",\"\",Liste_pièces!K363)","v":""},{"$f":"IF(Liste_pièces!L363=\"\",\"\",Liste_pièces!L363)","v":""},{"$f":"IF(Liste_pièces!M363=\"\",\"\",Liste_pièces!M363)","v":""}]
[{"$f":"IF(Liste_pièces!A364=\"\",\"ZZZ\",Liste_pièces!A364)","v":"ZZZ"},{"$f":"IF(Liste_pièces!B364=\"\",\"ZZZ\",Liste_pièces!B364)","v":"ZZZ"},{"$f":"IF(Liste_pièces!C364=\"\",\"\",Liste_pièces!C364)","v":""},{"$f":"IF(Liste_pièces!D364=\"\",\"\",Liste_pièces!D364)","v":""},{"$f":"IF(Liste_pièces!E364=\"\",\"\",Liste_pièces!E364)","v":""},{"$f":"IF(Liste_pièces!F364=\"\",\"\",Liste_pièces!F364)","v":""},{"$f":"IF(Liste_pièces!G364=\"\",\"\",Liste_pièces!G364)","v":""},{"$f":"IF(Liste_pièces!H364=\"\",\"\",Liste_pièces!H364)","v":""},{"$f":"IF(Liste_pièces!I364=\"\",\"\",Liste_pièces!I364)","v":""},{"$f":"IF(Liste_pièces!J364=\"\",\"\",Liste_pièces!J364)","v":""},{"$f":"IF(Liste_pièces!K364=\"\",\"\",Liste_pièces!K364)","v":""},{"$f":"IF(Liste_pièces!L364=\"\",\"\",Liste_pièces!L364)","v":""},{"$f":"IF(Liste_pièces!M364=\"\",\"\",Liste_pièces!M364)","v":""}]
[{"$f":"IF(Liste_pièces!A365=\"\",\"ZZZ\",Liste_pièces!A365)","v":"ZZZ"},{"$f":"IF(Liste_pièces!B365=\"\",\"ZZZ\",Liste_pièces!B365)","v":"ZZZ"},{"$f":"IF(Liste_pièces!C365=\"\",\"\",Liste_pièces!C365)","v":""},{"$f":"IF(Liste_pièces!D365=\"\",\"\",Liste_pièces!D365)","v":""},{"$f":"IF(Liste_pièces!E365=\"\",\"\",Liste_pièces!E365)","v":""},{"$f":"IF(Liste_pièces!F365=\"\",\"\",Liste_pièces!F365)","v":""},{"$f":"IF(Liste_pièces!G365=\"\",\"\",Liste_pièces!G365)","v":""},{"$f":"IF(Liste_pièces!H365=\"\",\"\",Liste_pièces!H365)","v":""},{"$f":"IF(Liste_pièces!I365=\"\",\"\",Liste_pièces!I365)","v":""},{"$f":"IF(Liste_pièces!J365=\"\",\"\",Liste_pièces!J365)","v":""},{"$f":"IF(Liste_pièces!K365=\"\",\"\",Liste_pièces!K365)","v":""},{"$f":"IF(Liste_pièces!L365=\"\",\"\",Liste_pièces!L365)","v":""},{"$f":"IF(Liste_pièces!M365=\"\",\"\",Liste_pièces!M365)","v":""}]
[{"$f":"IF(Liste_pièces!A366=\"\",\"ZZZ\",Liste_pièces!A366)","v":"ZZZ"},{"$f":"IF(Liste_pièces!B366=\"\",\"ZZZ\",Liste_pièces!B366)","v":"ZZZ"},{"$f":"IF(Liste_pièces!C366=\"\",\"\",Liste_pièces!C366)","v":""},{"$f":"IF(Liste_pièces!D366=\"\",\"\",Liste_pièces!D366)","v":""},{"$f":"IF(Liste_pièces!E366=\"\",\"\",Liste_pièces!E366)","v":""},{"$f":"IF(Liste_pièces!F366=\"\",\"\",Liste_pièces!F366)","v":""},{"$f":"IF(Liste_pièces!G366=\"\",\"\",Liste_pièces!G366)","v":""},{"$f":"IF(Liste_pièces!H366=\"\",\"\",Liste_pièces!H366)","v":""},{"$f":"IF(Liste_pièces!I366=\"\",\"\",Liste_pièces!I366)","v":""},{"$f":"IF(Liste_pièces!J366=\"\",\"\",Liste_pièces!J366)","v":""},{"$f":"IF(Liste_pièces!K366=\"\",\"\",Liste_pièces!K366)","v":""},{"$f":"IF(Liste_pièces!L366=\"\",\"\",Liste_pièces!L366)","v":""},{"$f":"IF(Liste_pièces!M366=\"\",\"\",Liste_pièces!M366)","v":""}]
[{"$f":"IF(Liste_pièces!A367=\"\",\"ZZZ\",Liste_pièces!A367)","v":"ZZZ"},{"$f":"IF(Liste_pièces!B367=\"\",\"ZZZ\",Liste_pièces!B367)","v":"ZZZ"},{"$f":"IF(Liste_pièces!C367=\"\",\"\",Liste_pièces!C367)","v":""},{"$f":"IF(Liste_pièces!D367=\"\",\"\",Liste_pièces!D367)","v":""},{"$f":"IF(Liste_pièces!E367=\"\",\"\",Liste_pièces!E367)","v":""},{"$f":"IF(Liste_pièces!F367=\"\",\"\",Liste_pièces!F367)","v":""},{"$f":"IF(Liste_pièces!G367=\"\",\"\",Liste_pièces!G367)","v":""},{"$f":"IF(Liste_pièces!H367=\"\",\"\",Liste_pièces!H367)","v":""},{"$f":"IF(Liste_pièces!I367=\"\",\"\",Liste_pièces!I367)","v":""},{"$f":"IF(Liste_pièces!J367=\"\",\"\",Liste_pièces!J367)","v":""},{"$f":"IF(Liste_pièces!K367=\"\",\"\",Liste_pièces!K367)","v":""},{"$f":"IF(Liste_pièces!L367=\"\",\"\",Liste_pièces!L367)","v":""},{"$f":"IF(Liste_pièces!M367=\"\",\"\",Liste_pièces!M367)","v":""}]
[{"$f":"IF(Liste_pièces!A368=\"\",\"ZZZ\",Liste_pièces!A368)","v":"ZZZ"},{"$f":"IF(Liste_pièces!B368=\"\",\"ZZZ\",Liste_pièces!B368)","v":"ZZZ"},{"$f":"IF(Liste_pièces!C368=\"\",\"\",Liste_pièces!C368)","v":""},{"$f":"IF(Liste_pièces!D368=\"\",\"\",Liste_pièces!D368)","v":""},{"$f":"IF(Liste_pièces!E368=\"\",\"\",Liste_pièces!E368)","v":""},{"$f":"IF(Liste_pièces!F368=\"\",\"\",Liste_pièces!F368)","v":""},{"$f":"IF(Liste_pièces!G368=\"\",\"\",Liste_pièces!G368)","v":""},{"$f":"IF(Liste_pièces!H368=\"\",\"\",Liste_pièces!H368)","v":""},{"$f":"IF(Liste_pièces!I368=\"\",\"\",Liste_pièces!I368)","v":""},{"$f":"IF(Liste_pièces!J368=\"\",\"\",Liste_pièces!J368)","v":""},{"$f":"IF(Liste_pièces!K368=\"\",\"\",Liste_pièces!K368)","v":""},{"$f":"IF(Liste_pièces!L368=\"\",\"\",Liste_pièces!L368)","v":""},{"$f":"IF(Liste_pièces!M368=\"\",\"\",Liste_pièces!M368)","v":""}]
[{"$f":"IF(Liste_pièces!A369=\"\",\"ZZZ\",Liste_pièces!A369)","v":"ZZZ"},{"$f":"IF(Liste_pièces!B369=\"\",\"ZZZ\",Liste_pièces!B369)","v":"ZZZ"},{"$f":"IF(Liste_pièces!C369=\"\",\"\",Liste_pièces!C369)","v":""},{"$f":"IF(Liste_pièces!D369=\"\",\"\",Liste_pièces!D369)","v":""},{"$f":"IF(Liste_pièces!E369=\"\",\"\",Liste_pièces!E369)","v":""},{"$f":"IF(Liste_pièces!F369=\"\",\"\",Liste_pièces!F369)","v":""},{"$f":"IF(Liste_pièces!G369=\"\",\"\",Liste_pièces!G369)","v":""},{"$f":"IF(Liste_pièces!H369=\"\",\"\",Liste_pièces!H369)","v":""},{"$f":"IF(Liste_pièces!I369=\"\",\"\",Liste_pièces!I369)","v":""},{"$f":"IF(Liste_pièces!J369=\"\",\"\",Liste_pièces!J369)","v":""},{"$f":"IF(Liste_pièces!K369=\"\",\"\",Liste_pièces!K369)","v":""},{"$f":"IF(Liste_pièces!L369=\"\",\"\",Liste_pièces!L369)","v":""},{"$f":"IF(Liste_pièces!M369=\"\",\"\",Liste_pièces!M369)","v":""}]
[{"$f":"IF(Liste_pièces!A370=\"\",\"ZZZ\",Liste_pièces!A370)","v":"ZZZ"},{"$f":"IF(Liste_pièces!B370=\"\",\"ZZZ\",Liste_pièces!B370)","v":"ZZZ"},{"$f":"IF(Liste_pièces!C370=\"\",\"\",Liste_pièces!C370)","v":""},{"$f":"IF(Liste_pièces!D370=\"\",\"\",Liste_pièces!D370)","v":""},{"$f":"IF(Liste_pièces!E370=\"\",\"\",Liste_pièces!E370)","v":""},{"$f":"IF(Liste_pièces!F370=\"\",\"\",Liste_pièces!F370)","v":""},{"$f":"IF(Liste_pièces!G370=\"\",\"\",Liste_pièces!G370)","v":""},{"$f":"IF(Liste_pièces!H370=\"\",\"\",Liste_pièces!H370)","v":""},{"$f":"IF(Liste_pièces!I370=\"\",\"\",Liste_pièces!I370)","v":""},{"$f":"IF(Liste_pièces!J370=\"\",\"\",Liste_pièces!J370)","v":""},{"$f":"IF(Liste_pièces!K370=\"\",\"\",Liste_pièces!K370)","v":""},{"$f":"IF(Liste_pièces!L370=\"\",\"\",Liste_pièces!L370)","v":""},{"$f":"IF(Liste_pièces!M370=\"\",\"\",Liste_pièces!M370)","v":""}]
[{"$f":"IF(Liste_pièces!A371=\"\",\"ZZZ\",Liste_pièces!A371)","v":"ZZZ"},{"$f":"IF(Liste_pièces!B371=\"\",\"ZZZ\",Liste_pièces!B371)","v":"ZZZ"},{"$f":"IF(Liste_pièces!C371=\"\",\"\",Liste_pièces!C371)","v":""},{"$f":"IF(Liste_pièces!D371=\"\",\"\",Liste_pièces!D371)","v":""},{"$f":"IF(Liste_pièces!E371=\"\",\"\",Liste_pièces!E371)","v":""},{"$f":"IF(Liste_pièces!F371=\"\",\"\",Liste_pièces!F371)","v":""},{"$f":"IF(Liste_pièces!G371=\"\",\"\",Liste_pièces!G371)","v":""},{"$f":"IF(Liste_pièces!H371=\"\",\"\",Liste_pièces!H371)","v":""},{"$f":"IF(Liste_pièces!I371=\"\",\"\",Liste_pièces!I371)","v":""},{"$f":"IF(Liste_pièces!J371=\"\",\"\",Liste_pièces!J371)","v":""},{"$f":"IF(Liste_pièces!K371=\"\",\"\",Liste_pièces!K371)","v":""},{"$f":"IF(Liste_pièces!L371=\"\",\"\",Liste_pièces!L371)","v":""},{"$f":"IF(Liste_pièces!M371=\"\",\"\",Liste_pièces!M371)","v":""}]
[{"$f":"IF(Liste_pièces!A372=\"\",\"ZZZ\",Liste_pièces!A372)","v":"ZZZ"},{"$f":"IF(Liste_pièces!B372=\"\",\"ZZZ\",Liste_pièces!B372)","v":"ZZZ"},{"$f":"IF(Liste_pièces!C372=\"\",\"\",Liste_pièces!C372)","v":""},{"$f":"IF(Liste_pièces!D372=\"\",\"\",Liste_pièces!D372)","v":""},{"$f":"IF(Liste_pièces!E372=\"\",\"\",Liste_pièces!E372)","v":""},{"$f":"IF(Liste_pièces!F372=\"\",\"\",Liste_pièces!F372)","v":""},{"$f":"IF(Liste_pièces!G372=\"\",\"\",Liste_pièces!G372)","v":""},{"$f":"IF(Liste_pièces!H372=\"\",\"\",Liste_pièces!H372)","v":""},{"$f":"IF(Liste_pièces!I372=\"\",\"\",Liste_pièces!I372)","v":""},{"$f":"IF(Liste_pièces!J372=\"\",\"\",Liste_pièces!J372)","v":""},{"$f":"IF(Liste_pièces!K372=\"\",\"\",Liste_pièces!K372)","v":""},{"$f":"IF(Liste_pièces!L372=\"\",\"\",Liste_pièces!L372)","v":""},{"$f":"IF(Liste_pièces!M372=\"\",\"\",Liste_pièces!M372)","v":""}]
[{"$f":"IF(Liste_pièces!A373=\"\",\"ZZZ\",Liste_pièces!A373)","v":"ZZZ"},{"$f":"IF(Liste_pièces!B373=\"\",\"ZZZ\",Liste_pièces!B373)","v":"ZZZ"},{"$f":"IF(Liste_pièces!C373=\"\",\"\",Liste_pièces!C373)","v":""},{"$f":"IF(Liste_pièces!D373=\"\",\"\",Liste_pièces!D373)","v":""},{"$f":"IF(Liste_pièces!E373=\"\",\"\",Liste_pièces!E373)","v":""},{"$f":"IF(Liste_pièces!F373=\"\",\"\",Liste_pièces!F373)","v":""},{"$f":"IF(Liste_pièces!G373=\"\",\"\",Liste_pièces!G373)","v":""},{"$f":"IF(Liste_pièces!H373=\"\",\"\",Liste_pièces!H373)","v":""},{"$f":"IF(Liste_pièces!I373=\"\",\"\",Liste_pièces!I373)","v":""},{"$f":"IF(Liste_pièces!J373=\"\",\"\",Liste_pièces!J373)","v":""},{"$f":"IF(Liste_pièces!K373=\"\",\"\",Liste_pièces!K373)","v":""},{"$f":"IF(Liste_pièces!L373=\"\",\"\",Liste_pièces!L373)","v":""},{"$f":"IF(Liste_pièces!M373=\"\",\"\",Liste_pièces!M373)","v":""}]
[{"$f":"IF(Liste_pièces!A374=\"\",\"ZZZ\",Liste_pièces!A374)","v":"ZZZ"},{"$f":"IF(Liste_pièces!B374=\"\",\"ZZZ\",Liste_pièces!B374)","v":"ZZZ"},{"$f":"IF(Liste_pièces!C374=\"\",\"\",Liste_pièces!C374)","v":""},{"$f":"IF(Liste_pièces!D374=\"\",\"\",Liste_pièces!D374)","v":""},{"$f":"IF(Liste_pièces!E374=\"\",\"\",Liste_pièces!E374)","v":""},{"$f":"IF(Liste_pièces!F374=\"\",\"\",Liste_pièces!F374)","v":""},{"$f":"IF(Liste_pièces!G374=\"\",\"\",Liste_pièces!G374)","v":""},{"$f":"IF(Liste_pièces!H374=\"\",\"\",Liste_pièces!H374)","v":""},{"$f":"IF(Liste_pièces!I374=\"\",\"\",Liste_pièces!I374)","v":""},{"$f":"IF(Liste_pièces!J374=\"\",\"\",Liste_pièces!J374)","v":""},{"$f":"IF(Liste_pièces!K374=\"\",\"\",Liste_pièces!K374)","v":""},{"$f":"IF(Liste_pièces!L374=\"\",\"\",Liste_pièces!L374)","v":""},{"$f":"IF(Liste_pièces!M374=\"\",\"\",Liste_pièces!M374)","v":""}]
[{"$f":"IF(Liste_pièces!A375=\"\",\"ZZZ\",Liste_pièces!A375)","v":"ZZZ"},{"$f":"IF(Liste_pièces!B375=\"\",\"ZZZ\",Liste_pièces!B375)","v":"ZZZ"},{"$f":"IF(Liste_pièces!C375=\"\",\"\",Liste_pièces!C375)","v":""},{"$f":"IF(Liste_pièces!D375=\"\",\"\",Liste_pièces!D375)","v":""},{"$f":"IF(Liste_pièces!E375=\"\",\"\",Liste_pièces!E375)","v":""},{"$f":"IF(Liste_pièces!F375=\"\",\"\",Liste_pièces!F375)","v":""},{"$f":"IF(Liste_pièces!G375=\"\",\"\",Liste_pièces!G375)","v":""},{"$f":"IF(Liste_pièces!H375=\"\",\"\",Liste_pièces!H375)","v":""},{"$f":"IF(Liste_pièces!I375=\"\",\"\",Liste_pièces!I375)","v":""},{"$f":"IF(Liste_pièces!J375=\"\",\"\",Liste_pièces!J375)","v":""},{"$f":"IF(Liste_pièces!K375=\"\",\"\",Liste_pièces!K375)","v":""},{"$f":"IF(Liste_pièces!L375=\"\",\"\",Liste_pièces!L375)","v":""},{"$f":"IF(Liste_pièces!M375=\"\",\"\",Liste_pièces!M375)","v":""}]
[{"$f":"IF(Liste_pièces!A376=\"\",\"ZZZ\",Liste_pièces!A376)","v":"ZZZ"},{"$f":"IF(Liste_pièces!B376=\"\",\"ZZZ\",Liste_pièces!B376)","v":"ZZZ"},{"$f":"IF(Liste_pièces!C376=\"\",\"\",Liste_pièces!C376)","v":""},{"$f":"IF(Liste_pièces!D376=\"\",\"\",Liste_pièces!D376)","v":""},{"$f":"IF(Liste_pièces!E376=\"\",\"\",Liste_pièces!E376)","v":""},{"$f":"IF(Liste_pièces!F376=\"\",\"\",Liste_pièces!F376)","v":""},{"$f":"IF(Liste_pièces!G376=\"\",\"\",Liste_pièces!G376)","v":""},{"$f":"IF(Liste_pièces!H376=\"\",\"\",Liste_pièces!H376)","v":""},{"$f":"IF(Liste_pièces!I376=\"\",\"\",Liste_pièces!I376)","v":""},{"$f":"IF(Liste_pièces!J376=\"\",\"\",Liste_pièces!J376)","v":""},{"$f":"IF(Liste_pièces!K376=\"\",\"\",Liste_pièces!K376)","v":""},{"$f":"IF(Liste_pièces!L376=\"\",\"\",Liste_pièces!L376)","v":""},{"$f":"IF(Liste_pièces!M376=\"\",\"\",Liste_pièces!M376)","v":""}]
[{"$f":"IF(Liste_pièces!A377=\"\",\"ZZZ\",Liste_pièces!A377)","v":"ZZZ"},{"$f":"IF(Liste_pièces!B377=\"\",\"ZZZ\",Liste_pièces!B377)","v":"ZZZ"},{"$f":"IF(Liste_pièces!C377=\"\",\"\",Liste_pièces!C377)","v":""},{"$f":"IF(Liste_pièces!D377=\"\",\"\",Liste_pièces!D377)","v":""},{"$f":"IF(Liste_pièces!E377=\"\",\"\",Liste_pièces!E377)","v":""},{"$f":"IF(Liste_pièces!F377=\"\",\"\",Liste_pièces!F377)","v":""},{"$f":"IF(Liste_pièces!G377=\"\",\"\",Liste_pièces!G377)","v":""},{"$f":"IF(Liste_pièces!H377=\"\",\"\",Liste_pièces!H377)","v":""},{"$f":"IF(Liste_pièces!I377=\"\",\"\",Liste_pièces!I377)","v":""},{"$f":"IF(Liste_pièces!J377=\"\",\"\",Liste_pièces!J377)","v":""},{"$f":"IF(Liste_pièces!K377=\"\",\"\",Liste_pièces!K377)","v":""},{"$f":"IF(Liste_pièces!L377=\"\",\"\",Liste_pièces!L377)","v":""},{"$f":"IF(Liste_pièces!M377=\"\",\"\",Liste_pièces!M377)","v":""}]
[{"$f":"IF(Liste_pièces!A378=\"\",\"ZZZ\",Liste_pièces!A378)","v":"ZZZ"},{"$f":"IF(Liste_pièces!B378=\"\",\"ZZZ\",Liste_pièces!B378)","v":"ZZZ"},{"$f":"IF(Liste_pièces!C378=\"\",\"\",Liste_pièces!C378)","v":""},{"$f":"IF(Liste_pièces!D378=\"\",\"\",Liste_pièces!D378)","v":""},{"$f":"IF(Liste_pièces!E378=\"\",\"\",Liste_pièces!E378)","v":""},{"$f":"IF(Liste_pièces!F378=\"\",\"\",Liste_pièces!F378)","v":""},{"$f":"IF(Liste_pièces!G378=\"\",\"\",Liste_pièces!G378)","v":""},{"$f":"IF(Liste_pièces!H378=\"\",\"\",Liste_pièces!H378)","v":""},{"$f":"IF(Liste_pièces!I378=\"\",\"\",Liste_pièces!I378)","v":""},{"$f":"IF(Liste_pièces!J378=\"\",\"\",Liste_pièces!J378)","v":""},{"$f":"IF(Liste_pièces!K378=\"\",\"\",Liste_pièces!K378)","v":""},{"$f":"IF(Liste_pièces!L378=\"\",\"\",Liste_pièces!L378)","v":""},{"$f":"IF(Liste_pièces!M378=\"\",\"\",Liste_pièces!M378)","v":""}]
[{"$f":"IF(Liste_pièces!A379=\"\",\"ZZZ\",Liste_pièces!A379)","v":"ZZZ"},{"$f":"IF(Liste_pièces!B379=\"\",\"ZZZ\",Liste_pièces!B379)","v":"ZZZ"},{"$f":"IF(Liste_pièces!C379=\"\",\"\",Liste_pièces!C379)","v":""},{"$f":"IF(Liste_pièces!D379=\"\",\"\",Liste_pièces!D379)","v":""},{"$f":"IF(Liste_pièces!E379=\"\",\"\",Liste_pièces!E379)","v":""},{"$f":"IF(Liste_pièces!F379=\"\",\"\",Liste_pièces!F379)","v":""},{"$f":"IF(Liste_pièces!G379=\"\",\"\",Liste_pièces!G379)","v":""},{"$f":"IF(Liste_pièces!H379=\"\",\"\",Liste_pièces!H379)","v":""},{"$f":"IF(Liste_pièces!I379=\"\",\"\",Liste_pièces!I379)","v":""},{"$f":"IF(Liste_pièces!J379=\"\",\"\",Liste_pièces!J379)","v":""},{"$f":"IF(Liste_pièces!K379=\"\",\"\",Liste_pièces!K379)","v":""},{"$f":"IF(Liste_pièces!L379=\"\",\"\",Liste_pièces!L379)","v":""},{"$f":"IF(Liste_pièces!M379=\"\",\"\",Liste_pièces!M379)","v":""}]
[{"$f":"IF(Liste_pièces!A380=\"\",\"ZZZ\",Liste_pièces!A380)","v":"ZZZ"},{"$f":"IF(Liste_pièces!B380=\"\",\"ZZZ\",Liste_pièces!B380)","v":"ZZZ"},{"$f":"IF(Liste_pièces!C380=\"\",\"\",Liste_pièces!C380)","v":""},{"$f":"IF(Liste_pièces!D380=\"\",\"\",Liste_pièces!D380)","v":""},{"$f":"IF(Liste_pièces!E380=\"\",\"\",Liste_pièces!E380)","v":""},{"$f":"IF(Liste_pièces!F380=\"\",\"\",Liste_pièces!F380)","v":""},{"$f":"IF(Liste_pièces!G380=\"\",\"\",Liste_pièces!G380)","v":""},{"$f":"IF(Liste_pièces!H380=\"\",\"\",Liste_pièces!H380)","v":""},{"$f":"IF(Liste_pièces!I380=\"\",\"\",Liste_pièces!I380)","v":""},{"$f":"IF(Liste_pièces!J380=\"\",\"\",Liste_pièces!J380)","v":""},{"$f":"IF(Liste_pièces!K380=\"\",\"\",Liste_pièces!K380)","v":""},{"$f":"IF(Liste_pièces!L380=\"\",\"\",Liste_pièces!L380)","v":""},{"$f":"IF(Liste_pièces!M380=\"\",\"\",Liste_pièces!M380)","v":""}]
[{"$f":"IF(Liste_pièces!A381=\"\",\"ZZZ\",Liste_pièces!A381)","v":"ZZZ"},{"$f":"IF(Liste_pièces!B381=\"\",\"ZZZ\",Liste_pièces!B381)","v":"ZZZ"},{"$f":"IF(Liste_pièces!C381=\"\",\"\",Liste_pièces!C381)","v":""},{"$f":"IF(Liste_pièces!D381=\"\",\"\",Liste_pièces!D381)","v":""},{"$f":"IF(Liste_pièces!E381=\"\",\"\",Liste_pièces!E381)","v":""},{"$f":"IF(Liste_pièces!F381=\"\",\"\",Liste_pièces!F381)","v":""},{"$f":"IF(Liste_pièces!G381=\"\",\"\",Liste_pièces!G381)","v":""},{"$f":"IF(Liste_pièces!H381=\"\",\"\",Liste_pièces!H381)","v":""},{"$f":"IF(Liste_pièces!I381=\"\",\"\",Liste_pièces!I381)","v":""},{"$f":"IF(Liste_pièces!J381=\"\",\"\",Liste_pièces!J381)","v":""},{"$f":"IF(Liste_pièces!K381=\"\",\"\",Liste_pièces!K381)","v":""},{"$f":"IF(Liste_pièces!L381=\"\",\"\",Liste_pièces!L381)","v":""},{"$f":"IF(Liste_pièces!M381=\"\",\"\",Liste_pièces!M381)","v":""}]
[{"$f":"IF(Liste_pièces!A382=\"\",\"ZZZ\",Liste_pièces!A382)","v":"ZZZ"},{"$f":"IF(Liste_pièces!B382=\"\",\"ZZZ\",Liste_pièces!B382)","v":"ZZZ"},{"$f":"IF(Liste_pièces!C382=\"\",\"\",Liste_pièces!C382)","v":""},{"$f":"IF(Liste_pièces!D382=\"\",\"\",Liste_pièces!D382)","v":""},{"$f":"IF(Liste_pièces!E382=\"\",\"\",Liste_pièces!E382)","v":""},{"$f":"IF(Liste_pièces!F382=\"\",\"\",Liste_pièces!F382)","v":""},{"$f":"IF(Liste_pièces!G382=\"\",\"\",Liste_pièces!G382)","v":""},{"$f":"IF(Liste_pièces!H382=\"\",\"\",Liste_pièces!H382)","v":""},{"$f":"IF(Liste_pièces!I382=\"\",\"\",Liste_pièces!I382)","v":""},{"$f":"IF(Liste_pièces!J382=\"\",\"\",Liste_pièces!J382)","v":""},{"$f":"IF(Liste_pièces!K382=\"\",\"\",Liste_pièces!K382)","v":""},{"$f":"IF(Liste_pièces!L382=\"\",\"\",Liste_pièces!L382)","v":""},{"$f":"IF(Liste_pièces!M382=\"\",\"\",Liste_pièces!M382)","v":""}]
[{"$f":"IF(Liste_pièces!A383=\"\",\"ZZZ\",Liste_pièces!A383)","v":"ZZZ"},{"$f":"IF(Liste_pièces!B383=\"\",\"ZZZ\",Liste_pièces!B383)","v":"ZZZ"},{"$f":"IF(Liste_pièces!C383=\"\",\"\",Liste_pièces!C383)","v":""},{"$f":"IF(Liste_pièces!D383=\"\",\"\",Liste_pièces!D383)","v":""},{"$f":"IF(Liste_pièces!E383=\"\",\"\",Liste_pièces!E383)","v":""},{"$f":"IF(Liste_pièces!F383=\"\",\"\",Liste_pièces!F383)","v":""},{"$f":"IF(Liste_pièces!G383=\"\",\"\",Liste_pièces!G383)","v":""},{"$f":"IF(Liste_pièces!H383=\"\",\"\",Liste_pièces!H383)","v":""},{"$f":"IF(Liste_pièces!I383=\"\",\"\",Liste_pièces!I383)","v":""},{"$f":"IF(Liste_pièces!J383=\"\",\"\",Liste_pièces!J383)","v":""},{"$f":"IF(Liste_pièces!K383=\"\",\"\",Liste_pièces!K383)","v":""},{"$f":"IF(Liste_pièces!L383=\"\",\"\",Liste_pièces!L383)","v":""},{"$f":"IF(Liste_pièces!M383=\"\",\"\",Liste_pièces!M383)","v":""}]
[{"$f":"IF(Liste_pièces!A384=\"\",\"ZZZ\",Liste_pièces!A384)","v":"ZZZ"},{"$f":"IF(Liste_pièces!B384=\"\",\"ZZZ\",Liste_pièces!B384)","v":"ZZZ"},{"$f":"IF(Liste_pièces!C384=\"\",\"\",Liste_pièces!C384)","v":""},{"$f":"IF(Liste_pièces!D384=\"\",\"\",Liste_pièces!D384)","v":""},{"$f":"IF(Liste_pièces!E384=\"\",\"\",Liste_pièces!E384)","v":""},{"$f":"IF(Liste_pièces!F384=\"\",\"\",Liste_pièces!F384)","v":""},{"$f":"IF(Liste_pièces!G384=\"\",\"\",Liste_pièces!G384)","v":""},{"$f":"IF(Liste_pièces!H384=\"\",\"\",Liste_pièces!H384)","v":""},{"$f":"IF(Liste_pièces!I384=\"\",\"\",Liste_pièces!I384)","v":""},{"$f":"IF(Liste_pièces!J384=\"\",\"\",Liste_pièces!J384)","v":""},{"$f":"IF(Liste_pièces!K384=\"\",\"\",Liste_pièces!K384)","v":""},{"$f":"IF(Liste_pièces!L384=\"\",\"\",Liste_pièces!L384)","v":""},{"$f":"IF(Liste_pièces!M384=\"\",\"\",Liste_pièces!M384)","v":""}]
[{"$f":"IF(Liste_pièces!A385=\"\",\"ZZZ\",Liste_pièces!A385)","v":"ZZZ"},{"$f":"IF(Liste_pièces!B385=\"\",\"ZZZ\",Liste_pièces!B385)","v":"ZZZ"},{"$f":"IF(Liste_pièces!C385=\"\",\"\",Liste_pièces!C385)","v":""},{"$f":"IF(Liste_pièces!D385=\"\",\"\",Liste_pièces!D385)","v":""},{"$f":"IF(Liste_pièces!E385=\"\",\"\",Liste_pièces!E385)","v":""},{"$f":"IF(Liste_pièces!F385=\"\",\"\",Liste_pièces!F385)","v":""},{"$f":"IF(Liste_pièces!G385=\"\",\"\",Liste_pièces!G385)","v":""},{"$f":"IF(Liste_pièces!H385=\"\",\"\",Liste_pièces!H385)","v":""},{"$f":"IF(Liste_pièces!I385=\"\",\"\",Liste_pièces!I385)","v":""},{"$f":"IF(Liste_pièces!J385=\"\",\"\",Liste_pièces!J385)","v":""},{"$f":"IF(Liste_pièces!K385=\"\",\"\",Liste_pièces!K385)","v":""},{"$f":"IF(Liste_pièces!L385=\"\",\"\",Liste_pièces!L385)","v":""},{"$f":"IF(Liste_pièces!M385=\"\",\"\",Liste_pièces!M385)","v":""}]
[{"$f":"IF(Liste_pièces!A386=\"\",\"ZZZ\",Liste_pièces!A386)","v":"ZZZ"},{"$f":"IF(Liste_pièces!B386=\"\",\"ZZZ\",Liste_pièces!B386)","v":"ZZZ"},{"$f":"IF(Liste_pièces!C386=\"\",\"\",Liste_pièces!C386)","v":""},{"$f":"IF(Liste_pièces!D386=\"\",\"\",Liste_pièces!D386)","v":""},{"$f":"IF(Liste_pièces!E386=\"\",\"\",Liste_pièces!E386)","v":""},{"$f":"IF(Liste_pièces!F386=\"\",\"\",Liste_pièces!F386)","v":""},{"$f":"IF(Liste_pièces!G386=\"\",\"\",Liste_pièces!G386)","v":""},{"$f":"IF(Liste_pièces!H386=\"\",\"\",Liste_pièces!H386)","v":""},{"$f":"IF(Liste_pièces!I386=\"\",\"\",Liste_pièces!I386)","v":""},{"$f":"IF(Liste_pièces!J386=\"\",\"\",Liste_pièces!J386)","v":""},{"$f":"IF(Liste_pièces!K386=\"\",\"\",Liste_pièces!K386)","v":""},{"$f":"IF(Liste_pièces!L386=\"\",\"\",Liste_pièces!L386)","v":""},{"$f":"IF(Liste_pièces!M386=\"\",\"\",Liste_pièces!M386)","v":""}]
[{"$f":"IF(Liste_pièces!A387=\"\",\"ZZZ\",Liste_pièces!A387)","v":"ZZZ"},{"$f":"IF(Liste_pièces!B387=\"\",\"ZZZ\",Liste_pièces!B387)","v":"ZZZ"},{"$f":"IF(Liste_pièces!C387=\"\",\"\",Liste_pièces!C387)","v":""},{"$f":"IF(Liste_pièces!D387=\"\",\"\",Liste_pièces!D387)","v":""},{"$f":"IF(Liste_pièces!E387=\"\",\"\",Liste_pièces!E387)","v":""},{"$f":"IF(Liste_pièces!F387=\"\",\"\",Liste_pièces!F387)","v":""},{"$f":"IF(Liste_pièces!G387=\"\",\"\",Liste_pièces!G387)","v":""},{"$f":"IF(Liste_pièces!H387=\"\",\"\",Liste_pièces!H387)","v":""},{"$f":"IF(Liste_pièces!I387=\"\",\"\",Liste_pièces!I387)","v":""},{"$f":"IF(Liste_pièces!J387=\"\",\"\",Liste_pièces!J387)","v":""},{"$f":"IF(Liste_pièces!K387=\"\",\"\",Liste_pièces!K387)","v":""},{"$f":"IF(Liste_pièces!L387=\"\",\"\",Liste_pièces!L387)","v":""},{"$f":"IF(Liste_pièces!M387=\"\",\"\",Liste_pièces!M387)","v":""}]
[{"$f":"IF(Liste_pièces!A388=\"\",\"ZZZ\",Liste_pièces!A388)","v":"ZZZ"},{"$f":"IF(Liste_pièces!B388=\"\",\"ZZZ\",Liste_pièces!B388)","v":"ZZZ"},{"$f":"IF(Liste_pièces!C388=\"\",\"\",Liste_pièces!C388)","v":""},{"$f":"IF(Liste_pièces!D388=\"\",\"\",Liste_pièces!D388)","v":""},{"$f":"IF(Liste_pièces!E388=\"\",\"\",Liste_pièces!E388)","v":""},{"$f":"IF(Liste_pièces!F388=\"\",\"\",Liste_pièces!F388)","v":""},{"$f":"IF(Liste_pièces!G388=\"\",\"\",Liste_pièces!G388)","v":""},{"$f":"IF(Liste_pièces!H388=\"\",\"\",Liste_pièces!H388)","v":""},{"$f":"IF(Liste_pièces!I388=\"\",\"\",Liste_pièces!I388)","v":""},{"$f":"IF(Liste_pièces!J388=\"\",\"\",Liste_pièces!J388)","v":""},{"$f":"IF(Liste_pièces!K388=\"\",\"\",Liste_pièces!K388)","v":""},{"$f":"IF(Liste_pièces!L388=\"\",\"\",Liste_pièces!L388)","v":""},{"$f":"IF(Liste_pièces!M388=\"\",\"\",Liste_pièces!M388)","v":""}]
[{"$f":"IF(Liste_pièces!A389=\"\",\"ZZZ\",Liste_pièces!A389)","v":"ZZZ"},{"$f":"IF(Liste_pièces!B389=\"\",\"ZZZ\",Liste_pièces!B389)","v":"ZZZ"},{"$f":"IF(Liste_pièces!C389=\"\",\"\",Liste_pièces!C389)","v":""},{"$f":"IF(Liste_pièces!D389=\"\",\"\",Liste_pièces!D389)","v":""},{"$f":"IF(Liste_pièces!E389=\"\",\"\",Liste_pièces!E389)","v":""},{"$f":"IF(Liste_pièces!F389=\"\",\"\",Liste_pièces!F389)","v":""},{"$f":"IF(Liste_pièces!G389=\"\",\"\",Liste_pièces!G389)","v":""},{"$f":"IF(Liste_pièces!H389=\"\",\"\",Liste_pièces!H389)","v":""},{"$f":"IF(Liste_pièces!I389=\"\",\"\",Liste_pièces!I389)","v":""},{"$f":"IF(Liste_pièces!J389=\"\",\"\",Liste_pièces!J389)","v":""},{"$f":"IF(Liste_pièces!K389=\"\",\"\",Liste_pièces!K389)","v":""},{"$f":"IF(Liste_pièces!L389=\"\",\"\",Liste_pièces!L389)","v":""},{"$f":"IF(Liste_pièces!M389=\"\",\"\",Liste_pièces!M389)","v":""}]
[{"$f":"IF(Liste_pièces!A390=\"\",\"ZZZ\",Liste_pièces!A390)","v":"ZZZ"},{"$f":"IF(Liste_pièces!B390=\"\",\"ZZZ\",Liste_pièces!B390)","v":"ZZZ"},{"$f":"IF(Liste_pièces!C390=\"\",\"\",Liste_pièces!C390)","v":""},{"$f":"IF(Liste_pièces!D390=\"\",\"\",Liste_pièces!D390)","v":""},{"$f":"IF(Liste_pièces!E390=\"\",\"\",Liste_pièces!E390)","v":""},{"$f":"IF(Liste_pièces!F390=\"\",\"\",Liste_pièces!F390)","v":""},{"$f":"IF(Liste_pièces!G390=\"\",\"\",Liste_pièces!G390)","v":""},{"$f":"IF(Liste_pièces!H390=\"\",\"\",Liste_pièces!H390)","v":""},{"$f":"IF(Liste_pièces!I390=\"\",\"\",Liste_pièces!I390)","v":""},{"$f":"IF(Liste_pièces!J390=\"\",\"\",Liste_pièces!J390)","v":""},{"$f":"IF(Liste_pièces!K390=\"\",\"\",Liste_pièces!K390)","v":""},{"$f":"IF(Liste_pièces!L390=\"\",\"\",Liste_pièces!L390)","v":""},{"$f":"IF(Liste_pièces!M390=\"\",\"\",Liste_pièces!M390)","v":""}]
[{"$f":"IF(Liste_pièces!A391=\"\",\"ZZZ\",Liste_pièces!A391)","v":"ZZZ"},{"$f":"IF(Liste_pièces!B391=\"\",\"ZZZ\",Liste_pièces!B391)","v":"ZZZ"},{"$f":"IF(Liste_pièces!C391=\"\",\"\",Liste_pièces!C391)","v":""},{"$f":"IF(Liste_pièces!D391=\"\",\"\",Liste_pièces!D391)","v":""},{"$f":"IF(Liste_pièces!E391=\"\",\"\",Liste_pièces!E391)","v":""},{"$f":"IF(Liste_pièces!F391=\"\",\"\",Liste_pièces!F391)","v":""},{"$f":"IF(Liste_pièces!G391=\"\",\"\",Liste_pièces!G391)","v":""},{"$f":"IF(Liste_pièces!H391=\"\",\"\",Liste_pièces!H391)","v":""},{"$f":"IF(Liste_pièces!I391=\"\",\"\",Liste_pièces!I391)","v":""},{"$f":"IF(Liste_pièces!J391=\"\",\"\",Liste_pièces!J391)","v":""},{"$f":"IF(Liste_pièces!K391=\"\",\"\",Liste_pièces!K391)","v":""},{"$f":"IF(Liste_pièces!L391=\"\",\"\",Liste_pièces!L391)","v":""},{"$f":"IF(Liste_pièces!M391=\"\",\"\",Liste_pièces!M391)","v":""}]
[{"$f":"IF(Liste_pièces!A392=\"\",\"ZZZ\",Liste_pièces!A392)","v":"ZZZ"},{"$f":"IF(Liste_pièces!B392=\"\",\"ZZZ\",Liste_pièces!B392)","v":"ZZZ"},{"$f":"IF(Liste_pièces!C392=\"\",\"\",Liste_pièces!C392)","v":""},{"$f":"IF(Liste_pièces!D392=\"\",\"\",Liste_pièces!D392)","v":""},{"$f":"IF(Liste_pièces!E392=\"\",\"\",Liste_pièces!E392)","v":""},{"$f":"IF(Liste_pièces!F392=\"\",\"\",Liste_pièces!F392)","v":""},{"$f":"IF(Liste_pièces!G392=\"\",\"\",Liste_pièces!G392)","v":""},{"$f":"IF(Liste_pièces!H392=\"\",\"\",Liste_pièces!H392)","v":""},{"$f":"IF(Liste_pièces!I392=\"\",\"\",Liste_pièces!I392)","v":""},{"$f":"IF(Liste_pièces!J392=\"\",\"\",Liste_pièces!J392)","v":""},{"$f":"IF(Liste_pièces!K392=\"\",\"\",Liste_pièces!K392)","v":""},{"$f":"IF(Liste_pièces!L392=\"\",\"\",Liste_pièces!L392)","v":""},{"$f":"IF(Liste_pièces!M392=\"\",\"\",Liste_pièces!M392)","v":""}]
[{"$f":"IF(Liste_pièces!A393=\"\",\"ZZZ\",Liste_pièces!A393)","v":"ZZZ"},{"$f":"IF(Liste_pièces!B393=\"\",\"ZZZ\",Liste_pièces!B393)","v":"ZZZ"},{"$f":"IF(Liste_pièces!C393=\"\",\"\",Liste_pièces!C393)","v":""},{"$f":"IF(Liste_pièces!D393=\"\",\"\",Liste_pièces!D393)","v":""},{"$f":"IF(Liste_pièces!E393=\"\",\"\",Liste_pièces!E393)","v":""},{"$f":"IF(Liste_pièces!F393=\"\",\"\",Liste_pièces!F393)","v":""},{"$f":"IF(Liste_pièces!G393=\"\",\"\",Liste_pièces!G393)","v":""},{"$f":"IF(Liste_pièces!H393=\"\",\"\",Liste_pièces!H393)","v":""},{"$f":"IF(Liste_pièces!I393=\"\",\"\",Liste_pièces!I393)","v":""},{"$f":"IF(Liste_pièces!J393=\"\",\"\",Liste_pièces!J393)","v":""},{"$f":"IF(Liste_pièces!K393=\"\",\"\",Liste_pièces!K393)","v":""},{"$f":"IF(Liste_pièces!L393=\"\",\"\",Liste_pièces!L393)","v":""},{"$f":"IF(Liste_pièces!M393=\"\",\"\",Liste_pièces!M393)","v":""}]
[{"$f":"IF(Liste_pièces!A394=\"\",\"ZZZ\",Liste_pièces!A394)","v":"ZZZ"},{"$f":"IF(Liste_pièces!B394=\"\",\"ZZZ\",Liste_pièces!B394)","v":"ZZZ"},{"$f":"IF(Liste_pièces!C394=\"\",\"\",Liste_pièces!C394)","v":""},{"$f":"IF(Liste_pièces!D394=\"\",\"\",Liste_pièces!D394)","v":""},{"$f":"IF(Liste_pièces!E394=\"\",\"\",Liste_pièces!E394)","v":""},{"$f":"IF(Liste_pièces!F394=\"\",\"\",Liste_pièces!F394)","v":""},{"$f":"IF(Liste_pièces!G394=\"\",\"\",Liste_pièces!G394)","v":""},{"$f":"IF(Liste_pièces!H394=\"\",\"\",Liste_pièces!H394)","v":""},{"$f":"IF(Liste_pièces!I394=\"\",\"\",Liste_pièces!I394)","v":""},{"$f":"IF(Liste_pièces!J394=\"\",\"\",Liste_pièces!J394)","v":""},{"$f":"IF(Liste_pièces!K394=\"\",\"\",Liste_pièces!K394)","v":""},{"$f":"IF(Liste_pièces!L394=\"\",\"\",Liste_pièces!L394)","v":""},{"$f":"IF(Liste_pièces!M394=\"\",\"\",Liste_pièces!M394)","v":""}]
[{"$f":"IF(Liste_pièces!A395=\"\",\"ZZZ\",Liste_pièces!A395)","v":"ZZZ"},{"$f":"IF(Liste_pièces!B395=\"\",\"ZZZ\",Liste_pièces!B395)","v":"ZZZ"},{"$f":"IF(Liste_pièces!C395=\"\",\"\",Liste_pièces!C395)","v":""},{"$f":"IF(Liste_pièces!D395=\"\",\"\",Liste_pièces!D395)","v":""},{"$f":"IF(Liste_pièces!E395=\"\",\"\",Liste_pièces!E395)","v":""},{"$f":"IF(Liste_pièces!F395=\"\",\"\",Liste_pièces!F395)","v":""},{"$f":"IF(Liste_pièces!G395=\"\",\"\",Liste_pièces!G395)","v":""},{"$f":"IF(Liste_pièces!H395=\"\",\"\",Liste_pièces!H395)","v":""},{"$f":"IF(Liste_pièces!I395=\"\",\"\",Liste_pièces!I395)","v":""},{"$f":"IF(Liste_pièces!J395=\"\",\"\",Liste_pièces!J395)","v":""},{"$f":"IF(Liste_pièces!K395=\"\",\"\",Liste_pièces!K395)","v":""},{"$f":"IF(Liste_pièces!L395=\"\",\"\",Liste_pièces!L395)","v":""},{"$f":"IF(Liste_pièces!M395=\"\",\"\",Liste_pièces!M395)","v":""}]
[{"$f":"IF(Liste_pièces!A396=\"\",\"ZZZ\",Liste_pièces!A396)","v":"ZZZ"},{"$f":"IF(Liste_pièces!B396=\"\",\"ZZZ\",Liste_pièces!B396)","v":"ZZZ"},{"$f":"IF(Liste_pièces!C396=\"\",\"\",Liste_pièces!C396)","v":""},{"$f":"IF(Liste_pièces!D396=\"\",\"\",Liste_pièces!D396)","v":""},{"$f":"IF(Liste_pièces!E396=\"\",\"\",Liste_pièces!E396)","v":""},{"$f":"IF(Liste_pièces!F396=\"\",\"\",Liste_pièces!F396)","v":""},{"$f":"IF(Liste_pièces!G396=\"\",\"\",Liste_pièces!G396)","v":""},{"$f":"IF(Liste_pièces!H396=\"\",\"\",Liste_pièces!H396)","v":""},{"$f":"IF(Liste_pièces!I396=\"\",\"\",Liste_pièces!I396)","v":""},{"$f":"IF(Liste_pièces!J396=\"\",\"\",Liste_pièces!J396)","v":""},{"$f":"IF(Liste_pièces!K396=\"\",\"\",Liste_pièces!K396)","v":""},{"$f":"IF(Liste_pièces!L396=\"\",\"\",Liste_pièces!L396)","v":""},{"$f":"IF(Liste_pièces!M396=\"\",\"\",Liste_pièces!M396)","v":""}]
[{"$f":"IF(Liste_pièces!A397=\"\",\"ZZZ\",Liste_pièces!A397)","v":"ZZZ"},{"$f":"IF(Liste_pièces!B397=\"\",\"ZZZ\",Liste_pièces!B397)","v":"ZZZ"},{"$f":"IF(Liste_pièces!C397=\"\",\"\",Liste_pièces!C397)","v":""},{"$f":"IF(Liste_pièces!D397=\"\",\"\",Liste_pièces!D397)","v":""},{"$f":"IF(Liste_pièces!E397=\"\",\"\",Liste_pièces!E397)","v":""},{"$f":"IF(Liste_pièces!F397=\"\",\"\",Liste_pièces!F397)","v":""},{"$f":"IF(Liste_pièces!G397=\"\",\"\",Liste_pièces!G397)","v":""},{"$f":"IF(Liste_pièces!H397=\"\",\"\",Liste_pièces!H397)","v":""},{"$f":"IF(Liste_pièces!I397=\"\",\"\",Liste_pièces!I397)","v":""},{"$f":"IF(Liste_pièces!J397=\"\",\"\",Liste_pièces!J397)","v":""},{"$f":"IF(Liste_pièces!K397=\"\",\"\",Liste_pièces!K397)","v":""},{"$f":"IF(Liste_pièces!L397=\"\",\"\",Liste_pièces!L397)","v":""},{"$f":"IF(Liste_pièces!M397=\"\",\"\",Liste_pièces!M397)","v":""}]
[{"$f":"IF(Liste_pièces!A398=\"\",\"ZZZ\",Liste_pièces!A398)","v":"ZZZ"},{"$f":"IF(Liste_pièces!B398=\"\",\"ZZZ\",Liste_pièces!B398)","v":"ZZZ"},{"$f":"IF(Liste_pièces!C398=\"\",\"\",Liste_pièces!C398)","v":""},{"$f":"IF(Liste_pièces!D398=\"\",\"\",Liste_pièces!D398)","v":""},{"$f":"IF(Liste_pièces!E398=\"\",\"\",Liste_pièces!E398)","v":""},{"$f":"IF(Liste_pièces!F398=\"\",\"\",Liste_pièces!F398)","v":""},{"$f":"IF(Liste_pièces!G398=\"\",\"\",Liste_pièces!G398)","v":""},{"$f":"IF(Liste_pièces!H398=\"\",\"\",Liste_pièces!H398)","v":""},{"$f":"IF(Liste_pièces!I398=\"\",\"\",Liste_pièces!I398)","v":""},{"$f":"IF(Liste_pièces!J398=\"\",\"\",Liste_pièces!J398)","v":""},{"$f":"IF(Liste_pièces!K398=\"\",\"\",Liste_pièces!K398)","v":""},{"$f":"IF(Liste_pièces!L398=\"\",\"\",Liste_pièces!L398)","v":""},{"$f":"IF(Liste_pièces!M398=\"\",\"\",Liste_pièces!M398)","v":""}]
[{"$f":"IF(Liste_pièces!A399=\"\",\"ZZZ\",Liste_pièces!A399)","v":"ZZZ"},{"$f":"IF(Liste_pièces!B399=\"\",\"ZZZ\",Liste_pièces!B399)","v":"ZZZ"},{"$f":"IF(Liste_pièces!C399=\"\",\"\",Liste_pièces!C399)","v":""},{"$f":"IF(Liste_pièces!D399=\"\",\"\",Liste_pièces!D399)","v":""},{"$f":"IF(Liste_pièces!E399=\"\",\"\",Liste_pièces!E399)","v":""},{"$f":"IF(Liste_pièces!F399=\"\",\"\",Liste_pièces!F399)","v":""},{"$f":"IF(Liste_pièces!G399=\"\",\"\",Liste_pièces!G399)","v":""},{"$f":"IF(Liste_pièces!H399=\"\",\"\",Liste_pièces!H399)","v":""},{"$f":"IF(Liste_pièces!I399=\"\",\"\",Liste_pièces!I399)","v":""},{"$f":"IF(Liste_pièces!J399=\"\",\"\",Liste_pièces!J399)","v":""},{"$f":"IF(Liste_pièces!K399=\"\",\"\",Liste_pièces!K399)","v":""},{"$f":"IF(Liste_pièces!L399=\"\",\"\",Liste_pièces!L399)","v":""},{"$f":"IF(Liste_pièces!M399=\"\",\"\",Liste_pièces!M399)","v":""}]
[{"$f":"IF(Liste_pièces!A400=\"\",\"ZZZ\",Liste_pièces!A400)","v":"ZZZ"},{"$f":"IF(Liste_pièces!B400=\"\",\"ZZZ\",Liste_pièces!B400)","v":"ZZZ"},{"$f":"IF(Liste_pièces!C400=\"\",\"\",Liste_pièces!C400)","v":""},{"$f":"IF(Liste_pièces!D400=\"\",\"\",Liste_pièces!D400)","v":""},{"$f":"IF(Liste_pièces!E400=\"\",\"\",Liste_pièces!E400)","v":""},{"$f":"IF(Liste_pièces!F400=\"\",\"\",Liste_pièces!F400)","v":""},{"$f":"IF(Liste_pièces!G400=\"\",\"\",Liste_pièces!G400)","v":""},{"$f":"IF(Liste_pièces!H400=\"\",\"\",Liste_pièces!H400)","v":""},{"$f":"IF(Liste_pièces!I400=\"\",\"\",Liste_pièces!I400)","v":""},{"$f":"IF(Liste_pièces!J400=\"\",\"\",Liste_pièces!J400)","v":""},{"$f":"IF(Liste_pièces!K400=\"\",\"\",Liste_pièces!K400)","v":""},{"$f":"IF(Liste_pièces!L400=\"\",\"\",Liste_pièces!L400)","v":""},{"$f":"IF(Liste_pièces!M400=\"\",\"\",Liste_pièces!M400)","v":""}]
[{"$f":"IF(Liste_pièces!A401=\"\",\"ZZZ\",Liste_pièces!A401)","v":"ZZZ"},{"$f":"IF(Liste_pièces!B401=\"\",\"ZZZ\",Liste_pièces!B401)","v":"ZZZ"},{"$f":"IF(Liste_pièces!C401=\"\",\"\",Liste_pièces!C401)","v":""},{"$f":"IF(Liste_pièces!D401=\"\",\"\",Liste_pièces!D401)","v":""},{"$f":"IF(Liste_pièces!E401=\"\",\"\",Liste_pièces!E401)","v":""},{"$f":"IF(Liste_pièces!F401=\"\",\"\",Liste_pièces!F401)","v":""},{"$f":"IF(Liste_pièces!G401=\"\",\"\",Liste_pièces!G401)","v":""},{"$f":"IF(Liste_pièces!H401=\"\",\"\",Liste_pièces!H401)","v":""},{"$f":"IF(Liste_pièces!I401=\"\",\"\",Liste_pièces!I401)","v":""},{"$f":"IF(Liste_pièces!J401=\"\",\"\",Liste_pièces!J401)","v":""},{"$f":"IF(Liste_pièces!K401=\"\",\"\",Liste_pièces!K401)","v":""},{"$f":"IF(Liste_pièces!L401=\"\",\"\",Liste_pièces!L401)","v":""},{"$f":"IF(Liste_pièces!M401=\"\",\"\",Liste_pièces!M401)","v":""}]
[{"$f":"IF(Liste_pièces!A402=\"\",\"ZZZ\",Liste_pièces!A402)","v":"ZZZ"},{"$f":"IF(Liste_pièces!B402=\"\",\"ZZZ\",Liste_pièces!B402)","v":"ZZZ"},{"$f":"IF(Liste_pièces!C402=\"\",\"\",Liste_pièces!C402)","v":""},{"$f":"IF(Liste_pièces!D402=\"\",\"\",Liste_pièces!D402)","v":""},{"$f":"IF(Liste_pièces!E402=\"\",\"\",Liste_pièces!E402)","v":""},{"$f":"IF(Liste_pièces!F402=\"\",\"\",Liste_pièces!F402)","v":""},{"$f":"IF(Liste_pièces!G402=\"\",\"\",Liste_pièces!G402)","v":""},{"$f":"IF(Liste_pièces!H402=\"\",\"\",Liste_pièces!H402)","v":""},{"$f":"IF(Liste_pièces!I402=\"\",\"\",Liste_pièces!I402)","v":""},{"$f":"IF(Liste_pièces!J402=\"\",\"\",Liste_pièces!J402)","v":""},{"$f":"IF(Liste_pièces!K402=\"\",\"\",Liste_pièces!K402)","v":""},{"$f":"IF(Liste_pièces!L402=\"\",\"\",Liste_pièces!L402)","v":""},{"$f":"IF(Liste_pièces!M402=\"\",\"\",Liste_pièces!M402)","v":""}]
[{"$f":"IF(Liste_pièces!A403=\"\",\"ZZZ\",Liste_pièces!A403)","v":"ZZZ"},{"$f":"IF(Liste_pièces!B403=\"\",\"ZZZ\",Liste_pièces!B403)","v":"ZZZ"},{"$f":"IF(Liste_pièces!C403=\"\",\"\",Liste_pièces!C403)","v":""},{"$f":"IF(Liste_pièces!D403=\"\",\"\",Liste_pièces!D403)","v":""},{"$f":"IF(Liste_pièces!E403=\"\",\"\",Liste_pièces!E403)","v":""},{"$f":"IF(Liste_pièces!F403=\"\",\"\",Liste_pièces!F403)","v":""},{"$f":"IF(Liste_pièces!G403=\"\",\"\",Liste_pièces!G403)","v":""},{"$f":"IF(Liste_pièces!H403=\"\",\"\",Liste_pièces!H403)","v":""},{"$f":"IF(Liste_pièces!I403=\"\",\"\",Liste_pièces!I403)","v":""},{"$f":"IF(Liste_pièces!J403=\"\",\"\",Liste_pièces!J403)","v":""},{"$f":"IF(Liste_pièces!K403=\"\",\"\",Liste_pièces!K403)","v":""},{"$f":"IF(Liste_pièces!L403=\"\",\"\",Liste_pièces!L403)","v":""},{"$f":"IF(Liste_pièces!M403=\"\",\"\",Liste_pièces!M403)","v":""}]
[{"$f":"IF(Liste_pièces!A404=\"\",\"ZZZ\",Liste_pièces!A404)","v":"ZZZ"},{"$f":"IF(Liste_pièces!B404=\"\",\"ZZZ\",Liste_pièces!B404)","v":"ZZZ"},{"$f":"IF(Liste_pièces!C404=\"\",\"\",Liste_pièces!C404)","v":""},{"$f":"IF(Liste_pièces!D404=\"\",\"\",Liste_pièces!D404)","v":""},{"$f":"IF(Liste_pièces!E404=\"\",\"\",Liste_pièces!E404)","v":""},{"$f":"IF(Liste_pièces!F404=\"\",\"\",Liste_pièces!F404)","v":""},{"$f":"IF(Liste_pièces!G404=\"\",\"\",Liste_pièces!G404)","v":""},{"$f":"IF(Liste_pièces!H404=\"\",\"\",Liste_pièces!H404)","v":""},{"$f":"IF(Liste_pièces!I404=\"\",\"\",Liste_pièces!I404)","v":""},{"$f":"IF(Liste_pièces!J404=\"\",\"\",Liste_pièces!J404)","v":""},{"$f":"IF(Liste_pièces!K404=\"\",\"\",Liste_pièces!K404)","v":""},{"$f":"IF(Liste_pièces!L404=\"\",\"\",Liste_pièces!L404)","v":""},{"$f":"IF(Liste_pièces!M404=\"\",\"\",Liste_pièces!M404)","v":""}]
[{"$f":"IF(Liste_pièces!A405=\"\",\"ZZZ\",Liste_pièces!A405)","v":"ZZZ"},{"$f":"IF(Liste_pièces!B405=\"\",\"ZZZ\",Liste_pièces!B405)","v":"ZZZ"},{"$f":"IF(Liste_pièces!C405=\"\",\"\",Liste_pièces!C405)","v":""},{"$f":"IF(Liste_pièces!D405=\"\",\"\",Liste_pièces!D405)","v":""},{"$f":"IF(Liste_pièces!E405=\"\",\"\",Liste_pièces!E405)","v":""},{"$f":"IF(Liste_pièces!F405=\"\",\"\",Liste_pièces!F405)","v":""},{"$f":"IF(Liste_pièces!G405=\"\",\"\",Liste_pièces!G405)","v":""},{"$f":"IF(Liste_pièces!H405=\"\",\"\",Liste_pièces!H405)","v":""},{"$f":"IF(Liste_pièces!I405=\"\",\"\",Liste_pièces!I405)","v":""},{"$f":"IF(Liste_pièces!J405=\"\",\"\",Liste_pièces!J405)","v":""},{"$f":"IF(Liste_pièces!K405=\"\",\"\",Liste_pièces!K405)","v":""},{"$f":"IF(Liste_pièces!L405=\"\",\"\",Liste_pièces!L405)","v":""},{"$f":"IF(Liste_pièces!M405=\"\",\"\",Liste_pièces!M405)","v":""}]
[{"$f":"IF(Liste_pièces!A406=\"\",\"ZZZ\",Liste_pièces!A406)","v":"ZZZ"},{"$f":"IF(Liste_pièces!B406=\"\",\"ZZZ\",Liste_pièces!B406)","v":"ZZZ"},{"$f":"IF(Liste_pièces!C406=\"\",\"\",Liste_pièces!C406)","v":""},{"$f":"IF(Liste_pièces!D406=\"\",\"\",Liste_pièces!D406)","v":""},{"$f":"IF(Liste_pièces!E406=\"\",\"\",Liste_pièces!E406)","v":""},{"$f":"IF(Liste_pièces!F406=\"\",\"\",Liste_pièces!F406)","v":""},{"$f":"IF(Liste_pièces!G406=\"\",\"\",Liste_pièces!G406)","v":""},{"$f":"IF(Liste_pièces!H406=\"\",\"\",Liste_pièces!H406)","v":""},{"$f":"IF(Liste_pièces!I406=\"\",\"\",Liste_pièces!I406)","v":""},{"$f":"IF(Liste_pièces!J406=\"\",\"\",Liste_pièces!J406)","v":""},{"$f":"IF(Liste_pièces!K406=\"\",\"\",Liste_pièces!K406)","v":""},{"$f":"IF(Liste_pièces!L406=\"\",\"\",Liste_pièces!L406)","v":""},{"$f":"IF(Liste_pièces!M406=\"\",\"\",Liste_pièces!M406)","v":""}]
[{"$f":"IF(Liste_pièces!A407=\"\",\"ZZZ\",Liste_pièces!A407)","v":"ZZZ"},{"$f":"IF(Liste_pièces!B407=\"\",\"ZZZ\",Liste_pièces!B407)","v":"ZZZ"},{"$f":"IF(Liste_pièces!C407=\"\",\"\",Liste_pièces!C407)","v":""},{"$f":"IF(Liste_pièces!D407=\"\",\"\",Liste_pièces!D407)","v":""},{"$f":"IF(Liste_pièces!E407=\"\",\"\",Liste_pièces!E407)","v":""},{"$f":"IF(Liste_pièces!F407=\"\",\"\",Liste_pièces!F407)","v":""},{"$f":"IF(Liste_pièces!G407=\"\",\"\",Liste_pièces!G407)","v":""},{"$f":"IF(Liste_pièces!H407=\"\",\"\",Liste_pièces!H407)","v":""},{"$f":"IF(Liste_pièces!I407=\"\",\"\",Liste_pièces!I407)","v":""},{"$f":"IF(Liste_pièces!J407=\"\",\"\",Liste_pièces!J407)","v":""},{"$f":"IF(Liste_pièces!K407=\"\",\"\",Liste_pièces!K407)","v":""},{"$f":"IF(Liste_pièces!L407=\"\",\"\",Liste_pièces!L407)","v":""},{"$f":"IF(Liste_pièces!M407=\"\",\"\",Liste_pièces!M407)","v":""}]
[{"$f":"IF(Liste_pièces!A408=\"\",\"ZZZ\",Liste_pièces!A408)","v":"ZZZ"},{"$f":"IF(Liste_pièces!B408=\"\",\"ZZZ\",Liste_pièces!B408)","v":"ZZZ"},{"$f":"IF(Liste_pièces!C408=\"\",\"\",Liste_pièces!C408)","v":""},{"$f":"IF(Liste_pièces!D408=\"\",\"\",Liste_pièces!D408)","v":""},{"$f":"IF(Liste_pièces!E408=\"\",\"\",Liste_pièces!E408)","v":""},{"$f":"IF(Liste_pièces!F408=\"\",\"\",Liste_pièces!F408)","v":""},{"$f":"IF(Liste_pièces!G408=\"\",\"\",Liste_pièces!G408)","v":""},{"$f":"IF(Liste_pièces!H408=\"\",\"\",Liste_pièces!H408)","v":""},{"$f":"IF(Liste_pièces!I408=\"\",\"\",Liste_pièces!I408)","v":""},{"$f":"IF(Liste_pièces!J408=\"\",\"\",Liste_pièces!J408)","v":""},{"$f":"IF(Liste_pièces!K408=\"\",\"\",Liste_pièces!K408)","v":""},{"$f":"IF(Liste_pièces!L408=\"\",\"\",Liste_pièces!L408)","v":""},{"$f":"IF(Liste_pièces!M408=\"\",\"\",Liste_pièces!M408)","v":""}]
[{"$f":"IF(Liste_pièces!A409=\"\",\"ZZZ\",Liste_pièces!A409)","v":"ZZZ"},{"$f":"IF(Liste_pièces!B409=\"\",\"ZZZ\",Liste_pièces!B409)","v":"ZZZ"},{"$f":"IF(Liste_pièces!C409=\"\",\"\",Liste_pièces!C409)","v":""},{"$f":"IF(Liste_pièces!D409=\"\",\"\",Liste_pièces!D409)","v":""},{"$f":"IF(Liste_pièces!E409=\"\",\"\",Liste_pièces!E409)","v":""},{"$f":"IF(Liste_pièces!F409=\"\",\"\",Liste_pièces!F409)","v":""},{"$f":"IF(Liste_pièces!G409=\"\",\"\",Liste_pièces!G409)","v":""},{"$f":"IF(Liste_pièces!H409=\"\",\"\",Liste_pièces!H409)","v":""},{"$f":"IF(Liste_pièces!I409=\"\",\"\",Liste_pièces!I409)","v":""},{"$f":"IF(Liste_pièces!J409=\"\",\"\",Liste_pièces!J409)","v":""},{"$f":"IF(Liste_pièces!K409=\"\",\"\",Liste_pièces!K409)","v":""},{"$f":"IF(Liste_pièces!L409=\"\",\"\",Liste_pièces!L409)","v":""},{"$f":"IF(Liste_pièces!M409=\"\",\"\",Liste_pièces!M409)","v":""}]
[{"$f":"IF(Liste_pièces!A410=\"\",\"ZZZ\",Liste_pièces!A410)","v":"ZZZ"},{"$f":"IF(Liste_pièces!B410=\"\",\"ZZZ\",Liste_pièces!B410)","v":"ZZZ"},{"$f":"IF(Liste_pièces!C410=\"\",\"\",Liste_pièces!C410)","v":""},{"$f":"IF(Liste_pièces!D410=\"\",\"\",Liste_pièces!D410)","v":""},{"$f":"IF(Liste_pièces!E410=\"\",\"\",Liste_pièces!E410)","v":""},{"$f":"IF(Liste_pièces!F410=\"\",\"\",Liste_pièces!F410)","v":""},{"$f":"IF(Liste_pièces!G410=\"\",\"\",Liste_pièces!G410)","v":""},{"$f":"IF(Liste_pièces!H410=\"\",\"\",Liste_pièces!H410)","v":""},{"$f":"IF(Liste_pièces!I410=\"\",\"\",Liste_pièces!I410)","v":""},{"$f":"IF(Liste_pièces!J410=\"\",\"\",Liste_pièces!J410)","v":""},{"$f":"IF(Liste_pièces!K410=\"\",\"\",Liste_pièces!K410)","v":""},{"$f":"IF(Liste_pièces!L410=\"\",\"\",Liste_pièces!L410)","v":""},{"$f":"IF(Liste_pièces!M410=\"\",\"\",Liste_pièces!M410)","v":""}]
[{"$f":"IF(Liste_pièces!A411=\"\",\"ZZZ\",Liste_pièces!A411)","v":"ZZZ"},{"$f":"IF(Liste_pièces!B411=\"\",\"ZZZ\",Liste_pièces!B411)","v":"ZZZ"},{"$f":"IF(Liste_pièces!C411=\"\",\"\",Liste_pièces!C411)","v":""},{"$f":"IF(Liste_pièces!D411=\"\",\"\",Liste_pièces!D411)","v":""},{"$f":"IF(Liste_pièces!E411=\"\",\"\",Liste_pièces!E411)","v":""},{"$f":"IF(Liste_pièces!F411=\"\",\"\",Liste_pièces!F411)","v":""},{"$f":"IF(Liste_pièces!G411=\"\",\"\",Liste_pièces!G411)","v":""},{"$f":"IF(Liste_pièces!H411=\"\",\"\",Liste_pièces!H411)","v":""},{"$f":"IF(Liste_pièces!I411=\"\",\"\",Liste_pièces!I411)","v":""},{"$f":"IF(Liste_pièces!J411=\"\",\"\",Liste_pièces!J411)","v":""},{"$f":"IF(Liste_pièces!K411=\"\",\"\",Liste_pièces!K411)","v":""},{"$f":"IF(Liste_pièces!L411=\"\",\"\",Liste_pièces!L411)","v":""},{"$f":"IF(Liste_pièces!M411=\"\",\"\",Liste_pièces!M411)","v":""}]
[{"$f":"IF(Liste_pièces!A412=\"\",\"ZZZ\",Liste_pièces!A412)","v":"ZZZ"},{"$f":"IF(Liste_pièces!B412=\"\",\"ZZZ\",Liste_pièces!B412)","v":"ZZZ"},{"$f":"IF(Liste_pièces!C412=\"\",\"\",Liste_pièces!C412)","v":""},{"$f":"IF(Liste_pièces!D412=\"\",\"\",Liste_pièces!D412)","v":""},{"$f":"IF(Liste_pièces!E412=\"\",\"\",Liste_pièces!E412)","v":""},{"$f":"IF(Liste_pièces!F412=\"\",\"\",Liste_pièces!F412)","v":""},{"$f":"IF(Liste_pièces!G412=\"\",\"\",Liste_pièces!G412)","v":""},{"$f":"IF(Liste_pièces!H412=\"\",\"\",Liste_pièces!H412)","v":""},{"$f":"IF(Liste_pièces!I412=\"\",\"\",Liste_pièces!I412)","v":""},{"$f":"IF(Liste_pièces!J412=\"\",\"\",Liste_pièces!J412)","v":""},{"$f":"IF(Liste_pièces!K412=\"\",\"\",Liste_pièces!K412)","v":""},{"$f":"IF(Liste_pièces!L412=\"\",\"\",Liste_pièces!L412)","v":""},{"$f":"IF(Liste_pièces!M412=\"\",\"\",Liste_pièces!M412)","v":""}]
[{"$f":"IF(Liste_pièces!A413=\"\",\"ZZZ\",Liste_pièces!A413)","v":"ZZZ"},{"$f":"IF(Liste_pièces!B413=\"\",\"ZZZ\",Liste_pièces!B413)","v":"ZZZ"},{"$f":"IF(Liste_pièces!C413=\"\",\"\",Liste_pièces!C413)","v":""},{"$f":"IF(Liste_pièces!D413=\"\",\"\",Liste_pièces!D413)","v":""},{"$f":"IF(Liste_pièces!E413=\"\",\"\",Liste_pièces!E413)","v":""},{"$f":"IF(Liste_pièces!F413=\"\",\"\",Liste_pièces!F413)","v":""},{"$f":"IF(Liste_pièces!G413=\"\",\"\",Liste_pièces!G413)","v":""},{"$f":"IF(Liste_pièces!H413=\"\",\"\",Liste_pièces!H413)","v":""},{"$f":"IF(Liste_pièces!I413=\"\",\"\",Liste_pièces!I413)","v":""},{"$f":"IF(Liste_pièces!J413=\"\",\"\",Liste_pièces!J413)","v":""},{"$f":"IF(Liste_pièces!K413=\"\",\"\",Liste_pièces!K413)","v":""},{"$f":"IF(Liste_pièces!L413=\"\",\"\",Liste_pièces!L413)","v":""},{"$f":"IF(Liste_pièces!M413=\"\",\"\",Liste_pièces!M413)","v":""}]
[{"$f":"IF(Liste_pièces!A414=\"\",\"ZZZ\",Liste_pièces!A414)","v":"ZZZ"},{"$f":"IF(Liste_pièces!B414=\"\",\"ZZZ\",Liste_pièces!B414)","v":"ZZZ"},{"$f":"IF(Liste_pièces!C414=\"\",\"\",Liste_pièces!C414)","v":""},{"$f":"IF(Liste_pièces!D414=\"\",\"\",Liste_pièces!D414)","v":""},{"$f":"IF(Liste_pièces!E414=\"\",\"\",Liste_pièces!E414)","v":""},{"$f":"IF(Liste_pièces!F414=\"\",\"\",Liste_pièces!F414)","v":""},{"$f":"IF(Liste_pièces!G414=\"\",\"\",Liste_pièces!G414)","v":""},{"$f":"IF(Liste_pièces!H414=\"\",\"\",Liste_pièces!H414)","v":""},{"$f":"IF(Liste_pièces!I414=\"\",\"\",Liste_pièces!I414)","v":""},{"$f":"IF(Liste_pièces!J414=\"\",\"\",Liste_pièces!J414)","v":""},{"$f":"IF(Liste_pièces!K414=\"\",\"\",Liste_pièces!K414)","v":""},{"$f":"IF(Liste_pièces!L414=\"\",\"\",Liste_pièces!L414)","v":""},{"$f":"IF(Liste_pièces!M414=\"\",\"\",Liste_pièces!M414)","v":""}]
[{"$f":"IF(Liste_pièces!A415=\"\",\"ZZZ\",Liste_pièces!A415)","v":"ZZZ"},{"$f":"IF(Liste_pièces!B415=\"\",\"ZZZ\",Liste_pièces!B415)","v":"ZZZ"},{"$f":"IF(Liste_pièces!C415=\"\",\"\",Liste_pièces!C415)","v":""},{"$f":"IF(Liste_pièces!D415=\"\",\"\",Liste_pièces!D415)","v":""},{"$f":"IF(Liste_pièces!E415=\"\",\"\",Liste_pièces!E415)","v":""},{"$f":"IF(Liste_pièces!F415=\"\",\"\",Liste_pièces!F415)","v":""},{"$f":"IF(Liste_pièces!G415=\"\",\"\",Liste_pièces!G415)","v":""},{"$f":"IF(Liste_pièces!H415=\"\",\"\",Liste_pièces!H415)","v":""},{"$f":"IF(Liste_pièces!I415=\"\",\"\",Liste_pièces!I415)","v":""},{"$f":"IF(Liste_pièces!J415=\"\",\"\",Liste_pièces!J415)","v":""},{"$f":"IF(Liste_pièces!K415=\"\",\"\",Liste_pièces!K415)","v":""},{"$f":"IF(Liste_pièces!L415=\"\",\"\",Liste_pièces!L415)","v":""},{"$f":"IF(Liste_pièces!M415=\"\",\"\",Liste_pièces!M415)","v":""}]
[{"$f":"IF(Liste_pièces!A416=\"\",\"ZZZ\",Liste_pièces!A416)","v":"ZZZ"},{"$f":"IF(Liste_pièces!B416=\"\",\"ZZZ\",Liste_pièces!B416)","v":"ZZZ"},{"$f":"IF(Liste_pièces!C416=\"\",\"\",Liste_pièces!C416)","v":""},{"$f":"IF(Liste_pièces!D416=\"\",\"\",Liste_pièces!D416)","v":""},{"$f":"IF(Liste_pièces!E416=\"\",\"\",Liste_pièces!E416)","v":""},{"$f":"IF(Liste_pièces!F416=\"\",\"\",Liste_pièces!F416)","v":""},{"$f":"IF(Liste_pièces!G416=\"\",\"\",Liste_pièces!G416)","v":""},{"$f":"IF(Liste_pièces!H416=\"\",\"\",Liste_pièces!H416)","v":""},{"$f":"IF(Liste_pièces!I416=\"\",\"\",Liste_pièces!I416)","v":""},{"$f":"IF(Liste_pièces!J416=\"\",\"\",Liste_pièces!J416)","v":""},{"$f":"IF(Liste_pièces!K416=\"\",\"\",Liste_pièces!K416)","v":""},{"$f":"IF(Liste_pièces!L416=\"\",\"\",Liste_pièces!L416)","v":""},{"$f":"IF(Liste_pièces!M416=\"\",\"\",Liste_pièces!M416)","v":""}]
[{"$f":"IF(Liste_pièces!A417=\"\",\"ZZZ\",Liste_pièces!A417)","v":"ZZZ"},{"$f":"IF(Liste_pièces!B417=\"\",\"ZZZ\",Liste_pièces!B417)","v":"ZZZ"},{"$f":"IF(Liste_pièces!C417=\"\",\"\",Liste_pièces!C417)","v":""},{"$f":"IF(Liste_pièces!D417=\"\",\"\",Liste_pièces!D417)","v":""},{"$f":"IF(Liste_pièces!E417=\"\",\"\",Liste_pièces!E417)","v":""},{"$f":"IF(Liste_pièces!F417=\"\",\"\",Liste_pièces!F417)","v":""},{"$f":"IF(Liste_pièces!G417=\"\",\"\",Liste_pièces!G417)","v":""},{"$f":"IF(Liste_pièces!H417=\"\",\"\",Liste_pièces!H417)","v":""},{"$f":"IF(Liste_pièces!I417=\"\",\"\",Liste_pièces!I417)","v":""},{"$f":"IF(Liste_pièces!J417=\"\",\"\",Liste_pièces!J417)","v":""},{"$f":"IF(Liste_pièces!K417=\"\",\"\",Liste_pièces!K417)","v":""},{"$f":"IF(Liste_pièces!L417=\"\",\"\",Liste_pièces!L417)","v":""},{"$f":"IF(Liste_pièces!M417=\"\",\"\",Liste_pièces!M417)","v":""}]
[{"$f":"IF(Liste_pièces!A418=\"\",\"ZZZ\",Liste_pièces!A418)","v":"ZZZ"},{"$f":"IF(Liste_pièces!B418=\"\",\"ZZZ\",Liste_pièces!B418)","v":"ZZZ"},{"$f":"IF(Liste_pièces!C418=\"\",\"\",Liste_pièces!C418)","v":""},{"$f":"IF(Liste_pièces!D418=\"\",\"\",Liste_pièces!D418)","v":""},{"$f":"IF(Liste_pièces!E418=\"\",\"\",Liste_pièces!E418)","v":""},{"$f":"IF(Liste_pièces!F418=\"\",\"\",Liste_pièces!F418)","v":""},{"$f":"IF(Liste_pièces!G418=\"\",\"\",Liste_pièces!G418)","v":""},{"$f":"IF(Liste_pièces!H418=\"\",\"\",Liste_pièces!H418)","v":""},{"$f":"IF(Liste_pièces!I418=\"\",\"\",Liste_pièces!I418)","v":""},{"$f":"IF(Liste_pièces!J418=\"\",\"\",Liste_pièces!J418)","v":""},{"$f":"IF(Liste_pièces!K418=\"\",\"\",Liste_pièces!K418)","v":""},{"$f":"IF(Liste_pièces!L418=\"\",\"\",Liste_pièces!L418)","v":""},{"$f":"IF(Liste_pièces!M418=\"\",\"\",Liste_pièces!M418)","v":""}]
[{"$f":"IF(Liste_pièces!A419=\"\",\"ZZZ\",Liste_pièces!A419)","v":"ZZZ"},{"$f":"IF(Liste_pièces!B419=\"\",\"ZZZ\",Liste_pièces!B419)","v":"ZZZ"},{"$f":"IF(Liste_pièces!C419=\"\",\"\",Liste_pièces!C419)","v":""},{"$f":"IF(Liste_pièces!D419=\"\",\"\",Liste_pièces!D419)","v":""},{"$f":"IF(Liste_pièces!E419=\"\",\"\",Liste_pièces!E419)","v":""},{"$f":"IF(Liste_pièces!F419=\"\",\"\",Liste_pièces!F419)","v":""},{"$f":"IF(Liste_pièces!G419=\"\",\"\",Liste_pièces!G419)","v":""},{"$f":"IF(Liste_pièces!H419=\"\",\"\",Liste_pièces!H419)","v":""},{"$f":"IF(Liste_pièces!I419=\"\",\"\",Liste_pièces!I419)","v":""},{"$f":"IF(Liste_pièces!J419=\"\",\"\",Liste_pièces!J419)","v":""},{"$f":"IF(Liste_pièces!K419=\"\",\"\",Liste_pièces!K419)","v":""},{"$f":"IF(Liste_pièces!L419=\"\",\"\",Liste_pièces!L419)","v":""},{"$f":"IF(Liste_pièces!M419=\"\",\"\",Liste_pièces!M419)","v":""}]
[{"$f":"IF(Liste_pièces!A420=\"\",\"ZZZ\",Liste_pièces!A420)","v":"ZZZ"},{"$f":"IF(Liste_pièces!B420=\"\",\"ZZZ\",Liste_pièces!B420)","v":"ZZZ"},{"$f":"IF(Liste_pièces!C420=\"\",\"\",Liste_pièces!C420)","v":""},{"$f":"IF(Liste_pièces!D420=\"\",\"\",Liste_pièces!D420)","v":""},{"$f":"IF(Liste_pièces!E420=\"\",\"\",Liste_pièces!E420)","v":""},{"$f":"IF(Liste_pièces!F420=\"\",\"\",Liste_pièces!F420)","v":""},{"$f":"IF(Liste_pièces!G420=\"\",\"\",Liste_pièces!G420)","v":""},{"$f":"IF(Liste_pièces!H420=\"\",\"\",Liste_pièces!H420)","v":""},{"$f":"IF(Liste_pièces!I420=\"\",\"\",Liste_pièces!I420)","v":""},{"$f":"IF(Liste_pièces!J420=\"\",\"\",Liste_pièces!J420)","v":""},{"$f":"IF(Liste_pièces!K420=\"\",\"\",Liste_pièces!K420)","v":""},{"$f":"IF(Liste_pièces!L420=\"\",\"\",Liste_pièces!L420)","v":""},{"$f":"IF(Liste_pièces!M420=\"\",\"\",Liste_pièces!M420)","v":""}]
[{"$f":"IF(Liste_pièces!A421=\"\",\"ZZZ\",Liste_pièces!A421)","v":"ZZZ"},{"$f":"IF(Liste_pièces!B421=\"\",\"ZZZ\",Liste_pièces!B421)","v":"ZZZ"},{"$f":"IF(Liste_pièces!C421=\"\",\"\",Liste_pièces!C421)","v":""},{"$f":"IF(Liste_pièces!D421=\"\",\"\",Liste_pièces!D421)","v":""},{"$f":"IF(Liste_pièces!E421=\"\",\"\",Liste_pièces!E421)","v":""},{"$f":"IF(Liste_pièces!F421=\"\",\"\",Liste_pièces!F421)","v":""},{"$f":"IF(Liste_pièces!G421=\"\",\"\",Liste_pièces!G421)","v":""},{"$f":"IF(Liste_pièces!H421=\"\",\"\",Liste_pièces!H421)","v":""},{"$f":"IF(Liste_pièces!I421=\"\",\"\",Liste_pièces!I421)","v":""},{"$f":"IF(Liste_pièces!J421=\"\",\"\",Liste_pièces!J421)","v":""},{"$f":"IF(Liste_pièces!K421=\"\",\"\",Liste_pièces!K421)","v":""},{"$f":"IF(Liste_pièces!L421=\"\",\"\",Liste_pièces!L421)","v":""},{"$f":"IF(Liste_pièces!M421=\"\",\"\",Liste_pièces!M421)","v":""}]
[{"$f":"IF(Liste_pièces!A422=\"\",\"ZZZ\",Liste_pièces!A422)","v":"ZZZ"},{"$f":"IF(Liste_pièces!B422=\"\",\"ZZZ\",Liste_pièces!B422)","v":"ZZZ"},{"$f":"IF(Liste_pièces!C422=\"\",\"\",Liste_pièces!C422)","v":""},{"$f":"IF(Liste_pièces!D422=\"\",\"\",Liste_pièces!D422)","v":""},{"$f":"IF(Liste_pièces!E422=\"\",\"\",Liste_pièces!E422)","v":""},{"$f":"IF(Liste_pièces!F422=\"\",\"\",Liste_pièces!F422)","v":""},{"$f":"IF(Liste_pièces!G422=\"\",\"\",Liste_pièces!G422)","v":""},{"$f":"IF(Liste_pièces!H422=\"\",\"\",Liste_pièces!H422)","v":""},{"$f":"IF(Liste_pièces!I422=\"\",\"\",Liste_pièces!I422)","v":""},{"$f":"IF(Liste_pièces!J422=\"\",\"\",Liste_pièces!J422)","v":""},{"$f":"IF(Liste_pièces!K422=\"\",\"\",Liste_pièces!K422)","v":""},{"$f":"IF(Liste_pièces!L422=\"\",\"\",Liste_pièces!L422)","v":""},{"$f":"IF(Liste_pièces!M422=\"\",\"\",Liste_pièces!M422)","v":""}]
[{"$f":"IF(Liste_pièces!A423=\"\",\"ZZZ\",Liste_pièces!A423)","v":"ZZZ"},{"$f":"IF(Liste_pièces!B423=\"\",\"ZZZ\",Liste_pièces!B423)","v":"ZZZ"},{"$f":"IF(Liste_pièces!C423=\"\",\"\",Liste_pièces!C423)","v":""},{"$f":"IF(Liste_pièces!D423=\"\",\"\",Liste_pièces!D423)","v":""},{"$f":"IF(Liste_pièces!E423=\"\",\"\",Liste_pièces!E423)","v":""},{"$f":"IF(Liste_pièces!F423=\"\",\"\",Liste_pièces!F423)","v":""},{"$f":"IF(Liste_pièces!G423=\"\",\"\",Liste_pièces!G423)","v":""},{"$f":"IF(Liste_pièces!H423=\"\",\"\",Liste_pièces!H423)","v":""},{"$f":"IF(Liste_pièces!I423=\"\",\"\",Liste_pièces!I423)","v":""},{"$f":"IF(Liste_pièces!J423=\"\",\"\",Liste_pièces!J423)","v":""},{"$f":"IF(Liste_pièces!K423=\"\",\"\",Liste_pièces!K423)","v":""},{"$f":"IF(Liste_pièces!L423=\"\",\"\",Liste_pièces!L423)","v":""},{"$f":"IF(Liste_pièces!M423=\"\",\"\",Liste_pièces!M423)","v":""}]
[{"$f":"IF(Liste_pièces!A424=\"\",\"ZZZ\",Liste_pièces!A424)","v":"ZZZ"},{"$f":"IF(Liste_pièces!B424=\"\",\"ZZZ\",Liste_pièces!B424)","v":"ZZZ"},{"$f":"IF(Liste_pièces!C424=\"\",\"\",Liste_pièces!C424)","v":""},{"$f":"IF(Liste_pièces!D424=\"\",\"\",Liste_pièces!D424)","v":""},{"$f":"IF(Liste_pièces!E424=\"\",\"\",Liste_pièces!E424)","v":""},{"$f":"IF(Liste_pièces!F424=\"\",\"\",Liste_pièces!F424)","v":""},{"$f":"IF(Liste_pièces!G424=\"\",\"\",Liste_pièces!G424)","v":""},{"$f":"IF(Liste_pièces!H424=\"\",\"\",Liste_pièces!H424)","v":""},{"$f":"IF(Liste_pièces!I424=\"\",\"\",Liste_pièces!I424)","v":""},{"$f":"IF(Liste_pièces!J424=\"\",\"\",Liste_pièces!J424)","v":""},{"$f":"IF(Liste_pièces!K424=\"\",\"\",Liste_pièces!K424)","v":""},{"$f":"IF(Liste_pièces!L424=\"\",\"\",Liste_pièces!L424)","v":""},{"$f":"IF(Liste_pièces!M424=\"\",\"\",Liste_pièces!M424)","v":""}]
[{"$f":"IF(Liste_pièces!A425=\"\",\"ZZZ\",Liste_pièces!A425)","v":"ZZZ"},{"$f":"IF(Liste_pièces!B425=\"\",\"ZZZ\",Liste_pièces!B425)","v":"ZZZ"},{"$f":"IF(Liste_pièces!C425=\"\",\"\",Liste_pièces!C425)","v":""},{"$f":"IF(Liste_pièces!D425=\"\",\"\",Liste_pièces!D425)","v":""},{"$f":"IF(Liste_pièces!E425=\"\",\"\",Liste_pièces!E425)","v":""},{"$f":"IF(Liste_pièces!F425=\"\",\"\",Liste_pièces!F425)","v":""},{"$f":"IF(Liste_pièces!G425=\"\",\"\",Liste_pièces!G425)","v":""},{"$f":"IF(Liste_pièces!H425=\"\",\"\",Liste_pièces!H425)","v":""},{"$f":"IF(Liste_pièces!I425=\"\",\"\",Liste_pièces!I425)","v":""},{"$f":"IF(Liste_pièces!J425=\"\",\"\",Liste_pièces!J425)","v":""},{"$f":"IF(Liste_pièces!K425=\"\",\"\",Liste_pièces!K425)","v":""},{"$f":"IF(Liste_pièces!L425=\"\",\"\",Liste_pièces!L425)","v":""},{"$f":"IF(Liste_pièces!M425=\"\",\"\",Liste_pièces!M425)","v":""}]
[{"$f":"IF(Liste_pièces!A426=\"\",\"ZZZ\",Liste_pièces!A426)","v":"ZZZ"},{"$f":"IF(Liste_pièces!B426=\"\",\"ZZZ\",Liste_pièces!B426)","v":"ZZZ"},{"$f":"IF(Liste_pièces!C426=\"\",\"\",Liste_pièces!C426)","v":""},{"$f":"IF(Liste_pièces!D426=\"\",\"\",Liste_pièces!D426)","v":""},{"$f":"IF(Liste_pièces!E426=\"\",\"\",Liste_pièces!E426)","v":""},{"$f":"IF(Liste_pièces!F426=\"\",\"\",Liste_pièces!F426)","v":""},{"$f":"IF(Liste_pièces!G426=\"\",\"\",Liste_pièces!G426)","v":""},{"$f":"IF(Liste_pièces!H426=\"\",\"\",Liste_pièces!H426)","v":""},{"$f":"IF(Liste_pièces!I426=\"\",\"\",Liste_pièces!I426)","v":""},{"$f":"IF(Liste_pièces!J426=\"\",\"\",Liste_pièces!J426)","v":""},{"$f":"IF(Liste_pièces!K426=\"\",\"\",Liste_pièces!K426)","v":""},{"$f":"IF(Liste_pièces!L426=\"\",\"\",Liste_pièces!L426)","v":""},{"$f":"IF(Liste_pièces!M426=\"\",\"\",Liste_pièces!M426)","v":""}]
[{"$f":"IF(Liste_pièces!A427=\"\",\"ZZZ\",Liste_pièces!A427)","v":"ZZZ"},{"$f":"IF(Liste_pièces!B427=\"\",\"ZZZ\",Liste_pièces!B427)","v":"ZZZ"},{"$f":"IF(Liste_pièces!C427=\"\",\"\",Liste_pièces!C427)","v":""},{"$f":"IF(Liste_pièces!D427=\"\",\"\",Liste_pièces!D427)","v":""},{"$f":"IF(Liste_pièces!E427=\"\",\"\",Liste_pièces!E427)","v":""},{"$f":"IF(Liste_pièces!F427=\"\",\"\",Liste_pièces!F427)","v":""},{"$f":"IF(Liste_pièces!G427=\"\",\"\",Liste_pièces!G427)","v":""},{"$f":"IF(Liste_pièces!H427=\"\",\"\",Liste_pièces!H427)","v":""},{"$f":"IF(Liste_pièces!I427=\"\",\"\",Liste_pièces!I427)","v":""},{"$f":"IF(Liste_pièces!J427=\"\",\"\",Liste_pièces!J427)","v":""},{"$f":"IF(Liste_pièces!K427=\"\",\"\",Liste_pièces!K427)","v":""},{"$f":"IF(Liste_pièces!L427=\"\",\"\",Liste_pièces!L427)","v":""},{"$f":"IF(Liste_pièces!M427=\"\",\"\",Liste_pièces!M427)","v":""}]
[{"$f":"IF(Liste_pièces!A428=\"\",\"ZZZ\",Liste_pièces!A428)","v":"ZZZ"},{"$f":"IF(Liste_pièces!B428=\"\",\"ZZZ\",Liste_pièces!B428)","v":"ZZZ"},{"$f":"IF(Liste_pièces!C428=\"\",\"\",Liste_pièces!C428)","v":""},{"$f":"IF(Liste_pièces!D428=\"\",\"\",Liste_pièces!D428)","v":""},{"$f":"IF(Liste_pièces!E428=\"\",\"\",Liste_pièces!E428)","v":""},{"$f":"IF(Liste_pièces!F428=\"\",\"\",Liste_pièces!F428)","v":""},{"$f":"IF(Liste_pièces!G428=\"\",\"\",Liste_pièces!G428)","v":""},{"$f":"IF(Liste_pièces!H428=\"\",\"\",Liste_pièces!H428)","v":""},{"$f":"IF(Liste_pièces!I428=\"\",\"\",Liste_pièces!I428)","v":""},{"$f":"IF(Liste_pièces!J428=\"\",\"\",Liste_pièces!J428)","v":""},{"$f":"IF(Liste_pièces!K428=\"\",\"\",Liste_pièces!K428)","v":""},{"$f":"IF(Liste_pièces!L428=\"\",\"\",Liste_pièces!L428)","v":""},{"$f":"IF(Liste_pièces!M428=\"\",\"\",Liste_pièces!M428)","v":""}]
[{"$f":"IF(Liste_pièces!A429=\"\",\"ZZZ\",Liste_pièces!A429)","v":"ZZZ"},{"$f":"IF(Liste_pièces!B429=\"\",\"ZZZ\",Liste_pièces!B429)","v":"ZZZ"},{"$f":"IF(Liste_pièces!C429=\"\",\"\",Liste_pièces!C429)","v":""},{"$f":"IF(Liste_pièces!D429=\"\",\"\",Liste_pièces!D429)","v":""},{"$f":"IF(Liste_pièces!E429=\"\",\"\",Liste_pièces!E429)","v":""},{"$f":"IF(Liste_pièces!F429=\"\",\"\",Liste_pièces!F429)","v":""},{"$f":"IF(Liste_pièces!G429=\"\",\"\",Liste_pièces!G429)","v":""},{"$f":"IF(Liste_pièces!H429=\"\",\"\",Liste_pièces!H429)","v":""},{"$f":"IF(Liste_pièces!I429=\"\",\"\",Liste_pièces!I429)","v":""},{"$f":"IF(Liste_pièces!J429=\"\",\"\",Liste_pièces!J429)","v":""},{"$f":"IF(Liste_pièces!K429=\"\",\"\",Liste_pièces!K429)","v":""},{"$f":"IF(Liste_pièces!L429=\"\",\"\",Liste_pièces!L429)","v":""},{"$f":"IF(Liste_pièces!M429=\"\",\"\",Liste_pièces!M429)","v":""}]
[{"$f":"IF(Liste_pièces!A430=\"\",\"ZZZ\",Liste_pièces!A430)","v":"ZZZ"},{"$f":"IF(Liste_pièces!B430=\"\",\"ZZZ\",Liste_pièces!B430)","v":"ZZZ"},{"$f":"IF(Liste_pièces!C430=\"\",\"\",Liste_pièces!C430)","v":""},{"$f":"IF(Liste_pièces!D430=\"\",\"\",Liste_pièces!D430)","v":""},{"$f":"IF(Liste_pièces!E430=\"\",\"\",Liste_pièces!E430)","v":""},{"$f":"IF(Liste_pièces!F430=\"\",\"\",Liste_pièces!F430)","v":""},{"$f":"IF(Liste_pièces!G430=\"\",\"\",Liste_pièces!G430)","v":""},{"$f":"IF(Liste_pièces!H430=\"\",\"\",Liste_pièces!H430)","v":""},{"$f":"IF(Liste_pièces!I430=\"\",\"\",Liste_pièces!I430)","v":""},{"$f":"IF(Liste_pièces!J430=\"\",\"\",Liste_pièces!J430)","v":""},{"$f":"IF(Liste_pièces!K430=\"\",\"\",Liste_pièces!K430)","v":""},{"$f":"IF(Liste_pièces!L430=\"\",\"\",Liste_pièces!L430)","v":""},{"$f":"IF(Liste_pièces!M430=\"\",\"\",Liste_pièces!M430)","v":""}]
[{"$f":"IF(Liste_pièces!A431=\"\",\"ZZZ\",Liste_pièces!A431)","v":"ZZZ"},{"$f":"IF(Liste_pièces!B431=\"\",\"ZZZ\",Liste_pièces!B431)","v":"ZZZ"},{"$f":"IF(Liste_pièces!C431=\"\",\"\",Liste_pièces!C431)","v":""},{"$f":"IF(Liste_pièces!D431=\"\",\"\",Liste_pièces!D431)","v":""},{"$f":"IF(Liste_pièces!E431=\"\",\"\",Liste_pièces!E431)","v":""},{"$f":"IF(Liste_pièces!F431=\"\",\"\",Liste_pièces!F431)","v":""},{"$f":"IF(Liste_pièces!G431=\"\",\"\",Liste_pièces!G431)","v":""},{"$f":"IF(Liste_pièces!H431=\"\",\"\",Liste_pièces!H431)","v":""},{"$f":"IF(Liste_pièces!I431=\"\",\"\",Liste_pièces!I431)","v":""},{"$f":"IF(Liste_pièces!J431=\"\",\"\",Liste_pièces!J431)","v":""},{"$f":"IF(Liste_pièces!K431=\"\",\"\",Liste_pièces!K431)","v":""},{"$f":"IF(Liste_pièces!L431=\"\",\"\",Liste_pièces!L431)","v":""},{"$f":"IF(Liste_pièces!M431=\"\",\"\",Liste_pièces!M431)","v":""}]
[{"$f":"IF(Liste_pièces!A432=\"\",\"ZZZ\",Liste_pièces!A432)","v":"ZZZ"},{"$f":"IF(Liste_pièces!B432=\"\",\"ZZZ\",Liste_pièces!B432)","v":"ZZZ"},{"$f":"IF(Liste_pièces!C432=\"\",\"\",Liste_pièces!C432)","v":""},{"$f":"IF(Liste_pièces!D432=\"\",\"\",Liste_pièces!D432)","v":""},{"$f":"IF(Liste_pièces!E432=\"\",\"\",Liste_pièces!E432)","v":""},{"$f":"IF(Liste_pièces!F432=\"\",\"\",Liste_pièces!F432)","v":""},{"$f":"IF(Liste_pièces!G432=\"\",\"\",Liste_pièces!G432)","v":""},{"$f":"IF(Liste_pièces!H432=\"\",\"\",Liste_pièces!H432)","v":""},{"$f":"IF(Liste_pièces!I432=\"\",\"\",Liste_pièces!I432)","v":""},{"$f":"IF(Liste_pièces!J432=\"\",\"\",Liste_pièces!J432)","v":""},{"$f":"IF(Liste_pièces!K432=\"\",\"\",Liste_pièces!K432)","v":""},{"$f":"IF(Liste_pièces!L432=\"\",\"\",Liste_pièces!L432)","v":""},{"$f":"IF(Liste_pièces!M432=\"\",\"\",Liste_pièces!M432)","v":""}]
[{"$f":"IF(Liste_pièces!A433=\"\",\"ZZZ\",Liste_pièces!A433)","v":"ZZZ"},{"$f":"IF(Liste_pièces!B433=\"\",\"ZZZ\",Liste_pièces!B433)","v":"ZZZ"},{"$f":"IF(Liste_pièces!C433=\"\",\"\",Liste_pièces!C433)","v":""},{"$f":"IF(Liste_pièces!D433=\"\",\"\",Liste_pièces!D433)","v":""},{"$f":"IF(Liste_pièces!E433=\"\",\"\",Liste_pièces!E433)","v":""},{"$f":"IF(Liste_pièces!F433=\"\",\"\",Liste_pièces!F433)","v":""},{"$f":"IF(Liste_pièces!G433=\"\",\"\",Liste_pièces!G433)","v":""},{"$f":"IF(Liste_pièces!H433=\"\",\"\",Liste_pièces!H433)","v":""},{"$f":"IF(Liste_pièces!I433=\"\",\"\",Liste_pièces!I433)","v":""},{"$f":"IF(Liste_pièces!J433=\"\",\"\",Liste_pièces!J433)","v":""},{"$f":"IF(Liste_pièces!K433=\"\",\"\",Liste_pièces!K433)","v":""},{"$f":"IF(Liste_pièces!L433=\"\",\"\",Liste_pièces!L433)","v":""},{"$f":"IF(Liste_pièces!M433=\"\",\"\",Liste_pièces!M433)","v":""}]
[{"$f":"IF(Liste_pièces!A434=\"\",\"ZZZ\",Liste_pièces!A434)","v":"ZZZ"},{"$f":"IF(Liste_pièces!B434=\"\",\"ZZZ\",Liste_pièces!B434)","v":"ZZZ"},{"$f":"IF(Liste_pièces!C434=\"\",\"\",Liste_pièces!C434)","v":""},{"$f":"IF(Liste_pièces!D434=\"\",\"\",Liste_pièces!D434)","v":""},{"$f":"IF(Liste_pièces!E434=\"\",\"\",Liste_pièces!E434)","v":""},{"$f":"IF(Liste_pièces!F434=\"\",\"\",Liste_pièces!F434)","v":""},{"$f":"IF(Liste_pièces!G434=\"\",\"\",Liste_pièces!G434)","v":""},{"$f":"IF(Liste_pièces!H434=\"\",\"\",Liste_pièces!H434)","v":""},{"$f":"IF(Liste_pièces!I434=\"\",\"\",Liste_pièces!I434)","v":""},{"$f":"IF(Liste_pièces!J434=\"\",\"\",Liste_pièces!J434)","v":""},{"$f":"IF(Liste_pièces!K434=\"\",\"\",Liste_pièces!K434)","v":""},{"$f":"IF(Liste_pièces!L434=\"\",\"\",Liste_pièces!L434)","v":""},{"$f":"IF(Liste_pièces!M434=\"\",\"\",Liste_pièces!M434)","v":""}]
[{"$f":"IF(Liste_pièces!A435=\"\",\"ZZZ\",Liste_pièces!A435)","v":"ZZZ"},{"$f":"IF(Liste_pièces!B435=\"\",\"ZZZ\",Liste_pièces!B435)","v":"ZZZ"},{"$f":"IF(Liste_pièces!C435=\"\",\"\",Liste_pièces!C435)","v":""},{"$f":"IF(Liste_pièces!D435=\"\",\"\",Liste_pièces!D435)","v":""},{"$f":"IF(Liste_pièces!E435=\"\",\"\",Liste_pièces!E435)","v":""},{"$f":"IF(Liste_pièces!F435=\"\",\"\",Liste_pièces!F435)","v":""},{"$f":"IF(Liste_pièces!G435=\"\",\"\",Liste_pièces!G435)","v":""},{"$f":"IF(Liste_pièces!H435=\"\",\"\",Liste_pièces!H435)","v":""},{"$f":"IF(Liste_pièces!I435=\"\",\"\",Liste_pièces!I435)","v":""},{"$f":"IF(Liste_pièces!J435=\"\",\"\",Liste_pièces!J435)","v":""},{"$f":"IF(Liste_pièces!K435=\"\",\"\",Liste_pièces!K435)","v":""},{"$f":"IF(Liste_pièces!L435=\"\",\"\",Liste_pièces!L435)","v":""},{"$f":"IF(Liste_pièces!M435=\"\",\"\",Liste_pièces!M435)","v":""}]
[{"$f":"IF(Liste_pièces!A436=\"\",\"ZZZ\",Liste_pièces!A436)","v":"ZZZ"},{"$f":"IF(Liste_pièces!B436=\"\",\"ZZZ\",Liste_pièces!B436)","v":"ZZZ"},{"$f":"IF(Liste_pièces!C436=\"\",\"\",Liste_pièces!C436)","v":""},{"$f":"IF(Liste_pièces!D436=\"\",\"\",Liste_pièces!D436)","v":""},{"$f":"IF(Liste_pièces!E436=\"\",\"\",Liste_pièces!E436)","v":""},{"$f":"IF(Liste_pièces!F436=\"\",\"\",Liste_pièces!F436)","v":""},{"$f":"IF(Liste_pièces!G436=\"\",\"\",Liste_pièces!G436)","v":""},{"$f":"IF(Liste_pièces!H436=\"\",\"\",Liste_pièces!H436)","v":""},{"$f":"IF(Liste_pièces!I436=\"\",\"\",Liste_pièces!I436)","v":""},{"$f":"IF(Liste_pièces!J436=\"\",\"\",Liste_pièces!J436)","v":""},{"$f":"IF(Liste_pièces!K436=\"\",\"\",Liste_pièces!K436)","v":""},{"$f":"IF(Liste_pièces!L436=\"\",\"\",Liste_pièces!L436)","v":""},{"$f":"IF(Liste_pièces!M436=\"\",\"\",Liste_pièces!M436)","v":""}]
[{"$f":"IF(Liste_pièces!A437=\"\",\"ZZZ\",Liste_pièces!A437)","v":"ZZZ"},{"$f":"IF(Liste_pièces!B437=\"\",\"ZZZ\",Liste_pièces!B437)","v":"ZZZ"},{"$f":"IF(Liste_pièces!C437=\"\",\"\",Liste_pièces!C437)","v":""},{"$f":"IF(Liste_pièces!D437=\"\",\"\",Liste_pièces!D437)","v":""},{"$f":"IF(Liste_pièces!E437=\"\",\"\",Liste_pièces!E437)","v":""},{"$f":"IF(Liste_pièces!F437=\"\",\"\",Liste_pièces!F437)","v":""},{"$f":"IF(Liste_pièces!G437=\"\",\"\",Liste_pièces!G437)","v":""},{"$f":"IF(Liste_pièces!H437=\"\",\"\",Liste_pièces!H437)","v":""},{"$f":"IF(Liste_pièces!I437=\"\",\"\",Liste_pièces!I437)","v":""},{"$f":"IF(Liste_pièces!J437=\"\",\"\",Liste_pièces!J437)","v":""},{"$f":"IF(Liste_pièces!K437=\"\",\"\",Liste_pièces!K437)","v":""},{"$f":"IF(Liste_pièces!L437=\"\",\"\",Liste_pièces!L437)","v":""},{"$f":"IF(Liste_pièces!M437=\"\",\"\",Liste_pièces!M437)","v":""}]
[{"$f":"IF(Liste_pièces!A438=\"\",\"ZZZ\",Liste_pièces!A438)","v":"ZZZ"},{"$f":"IF(Liste_pièces!B438=\"\",\"ZZZ\",Liste_pièces!B438)","v":"ZZZ"},{"$f":"IF(Liste_pièces!C438=\"\",\"\",Liste_pièces!C438)","v":""},{"$f":"IF(Liste_pièces!D438=\"\",\"\",Liste_pièces!D438)","v":""},{"$f":"IF(Liste_pièces!E438=\"\",\"\",Liste_pièces!E438)","v":""},{"$f":"IF(Liste_pièces!F438=\"\",\"\",Liste_pièces!F438)","v":""},{"$f":"IF(Liste_pièces!G438=\"\",\"\",Liste_pièces!G438)","v":""},{"$f":"IF(Liste_pièces!H438=\"\",\"\",Liste_pièces!H438)","v":""},{"$f":"IF(Liste_pièces!I438=\"\",\"\",Liste_pièces!I438)","v":""},{"$f":"IF(Liste_pièces!J438=\"\",\"\",Liste_pièces!J438)","v":""},{"$f":"IF(Liste_pièces!K438=\"\",\"\",Liste_pièces!K438)","v":""},{"$f":"IF(Liste_pièces!L438=\"\",\"\",Liste_pièces!L438)","v":""},{"$f":"IF(Liste_pièces!M438=\"\",\"\",Liste_pièces!M438)","v":""}]
[{"$f":"IF(Liste_pièces!A439=\"\",\"ZZZ\",Liste_pièces!A439)","v":"ZZZ"},{"$f":"IF(Liste_pièces!B439=\"\",\"ZZZ\",Liste_pièces!B439)","v":"ZZZ"},{"$f":"IF(Liste_pièces!C439=\"\",\"\",Liste_pièces!C439)","v":""},{"$f":"IF(Liste_pièces!D439=\"\",\"\",Liste_pièces!D439)","v":""},{"$f":"IF(Liste_pièces!E439=\"\",\"\",Liste_pièces!E439)","v":""},{"$f":"IF(Liste_pièces!F439=\"\",\"\",Liste_pièces!F439)","v":""},{"$f":"IF(Liste_pièces!G439=\"\",\"\",Liste_pièces!G439)","v":""},{"$f":"IF(Liste_pièces!H439=\"\",\"\",Liste_pièces!H439)","v":""},{"$f":"IF(Liste_pièces!I439=\"\",\"\",Liste_pièces!I439)","v":""},{"$f":"IF(Liste_pièces!J439=\"\",\"\",Liste_pièces!J439)","v":""},{"$f":"IF(Liste_pièces!K439=\"\",\"\",Liste_pièces!K439)","v":""},{"$f":"IF(Liste_pièces!L439=\"\",\"\",Liste_pièces!L439)","v":""},{"$f":"IF(Liste_pièces!M439=\"\",\"\",Liste_pièces!M439)","v":""}]
[{"$f":"IF(Liste_pièces!A440=\"\",\"ZZZ\",Liste_pièces!A440)","v":"ZZZ"},{"$f":"IF(Liste_pièces!B440=\"\",\"ZZZ\",Liste_pièces!B440)","v":"ZZZ"},{"$f":"IF(Liste_pièces!C440=\"\",\"\",Liste_pièces!C440)","v":""},{"$f":"IF(Liste_pièces!D440=\"\",\"\",Liste_pièces!D440)","v":""},{"$f":"IF(Liste_pièces!E440=\"\",\"\",Liste_pièces!E440)","v":""},{"$f":"IF(Liste_pièces!F440=\"\",\"\",Liste_pièces!F440)","v":""},{"$f":"IF(Liste_pièces!G440=\"\",\"\",Liste_pièces!G440)","v":""},{"$f":"IF(Liste_pièces!H440=\"\",\"\",Liste_pièces!H440)","v":""},{"$f":"IF(Liste_pièces!I440=\"\",\"\",Liste_pièces!I440)","v":""},{"$f":"IF(Liste_pièces!J440=\"\",\"\",Liste_pièces!J440)","v":""},{"$f":"IF(Liste_pièces!K440=\"\",\"\",Liste_pièces!K440)","v":""},{"$f":"IF(Liste_pièces!L440=\"\",\"\",Liste_pièces!L440)","v":""},{"$f":"IF(Liste_pièces!M440=\"\",\"\",Liste_pièces!M440)","v":""}]
[{"$f":"IF(Liste_pièces!A441=\"\",\"ZZZ\",Liste_pièces!A441)","v":"ZZZ"},{"$f":"IF(Liste_pièces!B441=\"\",\"ZZZ\",Liste_pièces!B441)","v":"ZZZ"},{"$f":"IF(Liste_pièces!C441=\"\",\"\",Liste_pièces!C441)","v":""},{"$f":"IF(Liste_pièces!D441=\"\",\"\",Liste_pièces!D441)","v":""},{"$f":"IF(Liste_pièces!E441=\"\",\"\",Liste_pièces!E441)","v":""},{"$f":"IF(Liste_pièces!F441=\"\",\"\",Liste_pièces!F441)","v":""},{"$f":"IF(Liste_pièces!G441=\"\",\"\",Liste_pièces!G441)","v":""},{"$f":"IF(Liste_pièces!H441=\"\",\"\",Liste_pièces!H441)","v":""},{"$f":"IF(Liste_pièces!I441=\"\",\"\",Liste_pièces!I441)","v":""},{"$f":"IF(Liste_pièces!J441=\"\",\"\",Liste_pièces!J441)","v":""},{"$f":"IF(Liste_pièces!K441=\"\",\"\",Liste_pièces!K441)","v":""},{"$f":"IF(Liste_pièces!L441=\"\",\"\",Liste_pièces!L441)","v":""},{"$f":"IF(Liste_pièces!M441=\"\",\"\",Liste_pièces!M441)","v":""}]
[{"$f":"IF(Liste_pièces!A442=\"\",\"ZZZ\",Liste_pièces!A442)","v":"ZZZ"},{"$f":"IF(Liste_pièces!B442=\"\",\"ZZZ\",Liste_pièces!B442)","v":"ZZZ"},{"$f":"IF(Liste_pièces!C442=\"\",\"\",Liste_pièces!C442)","v":""},{"$f":"IF(Liste_pièces!D442=\"\",\"\",Liste_pièces!D442)","v":""},{"$f":"IF(Liste_pièces!E442=\"\",\"\",Liste_pièces!E442)","v":""},{"$f":"IF(Liste_pièces!F442=\"\",\"\",Liste_pièces!F442)","v":""},{"$f":"IF(Liste_pièces!G442=\"\",\"\",Liste_pièces!G442)","v":""},{"$f":"IF(Liste_pièces!H442=\"\",\"\",Liste_pièces!H442)","v":""},{"$f":"IF(Liste_pièces!I442=\"\",\"\",Liste_pièces!I442)","v":""},{"$f":"IF(Liste_pièces!J442=\"\",\"\",Liste_pièces!J442)","v":""},{"$f":"IF(Liste_pièces!K442=\"\",\"\",Liste_pièces!K442)","v":""},{"$f":"IF(Liste_pièces!L442=\"\",\"\",Liste_pièces!L442)","v":""},{"$f":"IF(Liste_pièces!M442=\"\",\"\",Liste_pièces!M442)","v":""}]
[{"$f":"IF(Liste_pièces!A443=\"\",\"ZZZ\",Liste_pièces!A443)","v":"ZZZ"},{"$f":"IF(Liste_pièces!B443=\"\",\"ZZZ\",Liste_pièces!B443)","v":"ZZZ"},{"$f":"IF(Liste_pièces!C443=\"\",\"\",Liste_pièces!C443)","v":""},{"$f":"IF(Liste_pièces!D443=\"\",\"\",Liste_pièces!D443)","v":""},{"$f":"IF(Liste_pièces!E443=\"\",\"\",Liste_pièces!E443)","v":""},{"$f":"IF(Liste_pièces!F443=\"\",\"\",Liste_pièces!F443)","v":""},{"$f":"IF(Liste_pièces!G443=\"\",\"\",Liste_pièces!G443)","v":""},{"$f":"IF(Liste_pièces!H443=\"\",\"\",Liste_pièces!H443)","v":""},{"$f":"IF(Liste_pièces!I443=\"\",\"\",Liste_pièces!I443)","v":""},{"$f":"IF(Liste_pièces!J443=\"\",\"\",Liste_pièces!J443)","v":""},{"$f":"IF(Liste_pièces!K443=\"\",\"\",Liste_pièces!K443)","v":""},{"$f":"IF(Liste_pièces!L443=\"\",\"\",Liste_pièces!L443)","v":""},{"$f":"IF(Liste_pièces!M443=\"\",\"\",Liste_pièces!M443)","v":""}]
[{"$f":"IF(Liste_pièces!A444=\"\",\"ZZZ\",Liste_pièces!A444)","v":"ZZZ"},{"$f":"IF(Liste_pièces!B444=\"\",\"ZZZ\",Liste_pièces!B444)","v":"ZZZ"},{"$f":"IF(Liste_pièces!C444=\"\",\"\",Liste_pièces!C444)","v":""},{"$f":"IF(Liste_pièces!D444=\"\",\"\",Liste_pièces!D444)","v":""},{"$f":"IF(Liste_pièces!E444=\"\",\"\",Liste_pièces!E444)","v":""},{"$f":"IF(Liste_pièces!F444=\"\",\"\",Liste_pièces!F444)","v":""},{"$f":"IF(Liste_pièces!G444=\"\",\"\",Liste_pièces!G444)","v":""},{"$f":"IF(Liste_pièces!H444=\"\",\"\",Liste_pièces!H444)","v":""},{"$f":"IF(Liste_pièces!I444=\"\",\"\",Liste_pièces!I444)","v":""},{"$f":"IF(Liste_pièces!J444=\"\",\"\",Liste_pièces!J444)","v":""},{"$f":"IF(Liste_pièces!K444=\"\",\"\",Liste_pièces!K444)","v":""},{"$f":"IF(Liste_pièces!L444=\"\",\"\",Liste_pièces!L444)","v":""},{"$f":"IF(Liste_pièces!M444=\"\",\"\",Liste_pièces!M444)","v":""}]
[{"$f":"IF(Liste_pièces!A445=\"\",\"ZZZ\",Liste_pièces!A445)","v":"ZZZ"},{"$f":"IF(Liste_pièces!B445=\"\",\"ZZZ\",Liste_pièces!B445)","v":"ZZZ"},{"$f":"IF(Liste_pièces!C445=\"\",\"\",Liste_pièces!C445)","v":""},{"$f":"IF(Liste_pièces!D445=\"\",\"\",Liste_pièces!D445)","v":""},{"$f":"IF(Liste_pièces!E445=\"\",\"\",Liste_pièces!E445)","v":""},{"$f":"IF(Liste_pièces!F445=\"\",\"\",Liste_pièces!F445)","v":""},{"$f":"IF(Liste_pièces!G445=\"\",\"\",Liste_pièces!G445)","v":""},{"$f":"IF(Liste_pièces!H445=\"\",\"\",Liste_pièces!H445)","v":""},{"$f":"IF(Liste_pièces!I445=\"\",\"\",Liste_pièces!I445)","v":""},{"$f":"IF(Liste_pièces!J445=\"\",\"\",Liste_pièces!J445)","v":""},{"$f":"IF(Liste_pièces!K445=\"\",\"\",Liste_pièces!K445)","v":""},{"$f":"IF(Liste_pièces!L445=\"\",\"\",Liste_pièces!L445)","v":""},{"$f":"IF(Liste_pièces!M445=\"\",\"\",Liste_pièces!M445)","v":""}]
[{"$f":"IF(Liste_pièces!A446=\"\",\"ZZZ\",Liste_pièces!A446)","v":"ZZZ"},{"$f":"IF(Liste_pièces!B446=\"\",\"ZZZ\",Liste_pièces!B446)","v":"ZZZ"},{"$f":"IF(Liste_pièces!C446=\"\",\"\",Liste_pièces!C446)","v":""},{"$f":"IF(Liste_pièces!D446=\"\",\"\",Liste_pièces!D446)","v":""},{"$f":"IF(Liste_pièces!E446=\"\",\"\",Liste_pièces!E446)","v":""},{"$f":"IF(Liste_pièces!F446=\"\",\"\",Liste_pièces!F446)","v":""},{"$f":"IF(Liste_pièces!G446=\"\",\"\",Liste_pièces!G446)","v":""},{"$f":"IF(Liste_pièces!H446=\"\",\"\",Liste_pièces!H446)","v":""},{"$f":"IF(Liste_pièces!I446=\"\",\"\",Liste_pièces!I446)","v":""},{"$f":"IF(Liste_pièces!J446=\"\",\"\",Liste_pièces!J446)","v":""},{"$f":"IF(Liste_pièces!K446=\"\",\"\",Liste_pièces!K446)","v":""},{"$f":"IF(Liste_pièces!L446=\"\",\"\",Liste_pièces!L446)","v":""},{"$f":"IF(Liste_pièces!M446=\"\",\"\",Liste_pièces!M446)","v":""}]
[{"$f":"IF(Liste_pièces!A447=\"\",\"ZZZ\",Liste_pièces!A447)","v":"ZZZ"},{"$f":"IF(Liste_pièces!B447=\"\",\"ZZZ\",Liste_pièces!B447)","v":"ZZZ"},{"$f":"IF(Liste_pièces!C447=\"\",\"\",Liste_pièces!C447)","v":""},{"$f":"IF(Liste_pièces!D447=\"\",\"\",Liste_pièces!D447)","v":""},{"$f":"IF(Liste_pièces!E447=\"\",\"\",Liste_pièces!E447)","v":""},{"$f":"IF(Liste_pièces!F447=\"\",\"\",Liste_pièces!F447)","v":""},{"$f":"IF(Liste_pièces!G447=\"\",\"\",Liste_pièces!G447)","v":""},{"$f":"IF(Liste_pièces!H447=\"\",\"\",Liste_pièces!H447)","v":""},{"$f":"IF(Liste_pièces!I447=\"\",\"\",Liste_pièces!I447)","v":""},{"$f":"IF(Liste_pièces!J447=\"\",\"\",Liste_pièces!J447)","v":""},{"$f":"IF(Liste_pièces!K447=\"\",\"\",Liste_pièces!K447)","v":""},{"$f":"IF(Liste_pièces!L447=\"\",\"\",Liste_pièces!L447)","v":""},{"$f":"IF(Liste_pièces!M447=\"\",\"\",Liste_pièces!M447)","v":""}]
[{"$f":"IF(Liste_pièces!A448=\"\",\"ZZZ\",Liste_pièces!A448)","v":"ZZZ"},{"$f":"IF(Liste_pièces!B448=\"\",\"ZZZ\",Liste_pièces!B448)","v":"ZZZ"},{"$f":"IF(Liste_pièces!C448=\"\",\"\",Liste_pièces!C448)","v":""},{"$f":"IF(Liste_pièces!D448=\"\",\"\",Liste_pièces!D448)","v":""},{"$f":"IF(Liste_pièces!E448=\"\",\"\",Liste_pièces!E448)","v":""},{"$f":"IF(Liste_pièces!F448=\"\",\"\",Liste_pièces!F448)","v":""},{"$f":"IF(Liste_pièces!G448=\"\",\"\",Liste_pièces!G448)","v":""},{"$f":"IF(Liste_pièces!H448=\"\",\"\",Liste_pièces!H448)","v":""},{"$f":"IF(Liste_pièces!I448=\"\",\"\",Liste_pièces!I448)","v":""},{"$f":"IF(Liste_pièces!J448=\"\",\"\",Liste_pièces!J448)","v":""},{"$f":"IF(Liste_pièces!K448=\"\",\"\",Liste_pièces!K448)","v":""},{"$f":"IF(Liste_pièces!L448=\"\",\"\",Liste_pièces!L448)","v":""},{"$f":"IF(Liste_pièces!M448=\"\",\"\",Liste_pièces!M448)","v":""}]
[{"$f":"IF(Liste_pièces!A449=\"\",\"ZZZ\",Liste_pièces!A449)","v":"ZZZ"},{"$f":"IF(Liste_pièces!B449=\"\",\"ZZZ\",Liste_pièces!B449)","v":"ZZZ"},{"$f":"IF(Liste_pièces!C449=\"\",\"\",Liste_pièces!C449)","v":""},{"$f":"IF(Liste_pièces!D449=\"\",\"\",Liste_pièces!D449)","v":""},{"$f":"IF(Liste_pièces!E449=\"\",\"\",Liste_pièces!E449)","v":""},{"$f":"IF(Liste_pièces!F449=\"\",\"\",Liste_pièces!F449)","v":""},{"$f":"IF(Liste_pièces!G449=\"\",\"\",Liste_pièces!G449)","v":""},{"$f":"IF(Liste_pièces!H449=\"\",\"\",Liste_pièces!H449)","v":""},{"$f":"IF(Liste_pièces!I449=\"\",\"\",Liste_pièces!I449)","v":""},{"$f":"IF(Liste_pièces!J449=\"\",\"\",Liste_pièces!J449)","v":""},{"$f":"IF(Liste_pièces!K449=\"\",\"\",Liste_pièces!K449)","v":""},{"$f":"IF(Liste_pièces!L449=\"\",\"\",Liste_pièces!L449)","v":""},{"$f":"IF(Liste_pièces!M449=\"\",\"\",Liste_pièces!M449)","v":""}]
[{"$f":"IF(Liste_pièces!A450=\"\",\"ZZZ\",Liste_pièces!A450)","v":"ZZZ"},{"$f":"IF(Liste_pièces!B450=\"\",\"ZZZ\",Liste_pièces!B450)","v":"ZZZ"},{"$f":"IF(Liste_pièces!C450=\"\",\"\",Liste_pièces!C450)","v":""},{"$f":"IF(Liste_pièces!D450=\"\",\"\",Liste_pièces!D450)","v":""},{"$f":"IF(Liste_pièces!E450=\"\",\"\",Liste_pièces!E450)","v":""},{"$f":"IF(Liste_pièces!F450=\"\",\"\",Liste_pièces!F450)","v":""},{"$f":"IF(Liste_pièces!G450=\"\",\"\",Liste_pièces!G450)","v":""},{"$f":"IF(Liste_pièces!H450=\"\",\"\",Liste_pièces!H450)","v":""},{"$f":"IF(Liste_pièces!I450=\"\",\"\",Liste_pièces!I450)","v":""},{"$f":"IF(Liste_pièces!J450=\"\",\"\",Liste_pièces!J450)","v":""},{"$f":"IF(Liste_pièces!K450=\"\",\"\",Liste_pièces!K450)","v":""},{"$f":"IF(Liste_pièces!L450=\"\",\"\",Liste_pièces!L450)","v":""},{"$f":"IF(Liste_pièces!M450=\"\",\"\",Liste_pièces!M450)","v":""}]
[{"$f":"IF(Liste_pièces!A451=\"\",\"ZZZ\",Liste_pièces!A451)","v":"ZZZ"},{"$f":"IF(Liste_pièces!B451=\"\",\"ZZZ\",Liste_pièces!B451)","v":"ZZZ"},{"$f":"IF(Liste_pièces!C451=\"\",\"\",Liste_pièces!C451)","v":""},{"$f":"IF(Liste_pièces!D451=\"\",\"\",Liste_pièces!D451)","v":""},{"$f":"IF(Liste_pièces!E451=\"\",\"\",Liste_pièces!E451)","v":""},{"$f":"IF(Liste_pièces!F451=\"\",\"\",Liste_pièces!F451)","v":""},{"$f":"IF(Liste_pièces!G451=\"\",\"\",Liste_pièces!G451)","v":""},{"$f":"IF(Liste_pièces!H451=\"\",\"\",Liste_pièces!H451)","v":""},{"$f":"IF(Liste_pièces!I451=\"\",\"\",Liste_pièces!I451)","v":""},{"$f":"IF(Liste_pièces!J451=\"\",\"\",Liste_pièces!J451)","v":""},{"$f":"IF(Liste_pièces!K451=\"\",\"\",Liste_pièces!K451)","v":""},{"$f":"IF(Liste_pièces!L451=\"\",\"\",Liste_pièces!L451)","v":""},{"$f":"IF(Liste_pièces!M451=\"\",\"\",Liste_pièces!M451)","v":""}]
[{"$f":"IF(Liste_pièces!A452=\"\",\"ZZZ\",Liste_pièces!A452)","v":"ZZZ"},{"$f":"IF(Liste_pièces!B452=\"\",\"ZZZ\",Liste_pièces!B452)","v":"ZZZ"},{"$f":"IF(Liste_pièces!C452=\"\",\"\",Liste_pièces!C452)","v":""},{"$f":"IF(Liste_pièces!D452=\"\",\"\",Liste_pièces!D452)","v":""},{"$f":"IF(Liste_pièces!E452=\"\",\"\",Liste_pièces!E452)","v":""},{"$f":"IF(Liste_pièces!F452=\"\",\"\",Liste_pièces!F452)","v":""},{"$f":"IF(Liste_pièces!G452=\"\",\"\",Liste_pièces!G452)","v":""},{"$f":"IF(Liste_pièces!H452=\"\",\"\",Liste_pièces!H452)","v":""},{"$f":"IF(Liste_pièces!I452=\"\",\"\",Liste_pièces!I452)","v":""},{"$f":"IF(Liste_pièces!J452=\"\",\"\",Liste_pièces!J452)","v":""},{"$f":"IF(Liste_pièces!K452=\"\",\"\",Liste_pièces!K452)","v":""},{"$f":"IF(Liste_pièces!L452=\"\",\"\",Liste_pièces!L452)","v":""},{"$f":"IF(Liste_pièces!M452=\"\",\"\",Liste_pièces!M452)","v":""}]
[{"$f":"IF(Liste_pièces!A453=\"\",\"ZZZ\",Liste_pièces!A453)","v":"ZZZ"},{"$f":"IF(Liste_pièces!B453=\"\",\"ZZZ\",Liste_pièces!B453)","v":"ZZZ"},{"$f":"IF(Liste_pièces!C453=\"\",\"\",Liste_pièces!C453)","v":""},{"$f":"IF(Liste_pièces!D453=\"\",\"\",Liste_pièces!D453)","v":""},{"$f":"IF(Liste_pièces!E453=\"\",\"\",Liste_pièces!E453)","v":""},{"$f":"IF(Liste_pièces!F453=\"\",\"\",Liste_pièces!F453)","v":""},{"$f":"IF(Liste_pièces!G453=\"\",\"\",Liste_pièces!G453)","v":""},{"$f":"IF(Liste_pièces!H453=\"\",\"\",Liste_pièces!H453)","v":""},{"$f":"IF(Liste_pièces!I453=\"\",\"\",Liste_pièces!I453)","v":""},{"$f":"IF(Liste_pièces!J453=\"\",\"\",Liste_pièces!J453)","v":""},{"$f":"IF(Liste_pièces!K453=\"\",\"\",Liste_pièces!K453)","v":""},{"$f":"IF(Liste_pièces!L453=\"\",\"\",Liste_pièces!L453)","v":""},{"$f":"IF(Liste_pièces!M453=\"\",\"\",Liste_pièces!M453)","v":""}]
[{"$f":"IF(Liste_pièces!A454=\"\",\"ZZZ\",Liste_pièces!A454)","v":"ZZZ"},{"$f":"IF(Liste_pièces!B454=\"\",\"ZZZ\",Liste_pièces!B454)","v":"ZZZ"},{"$f":"IF(Liste_pièces!C454=\"\",\"\",Liste_pièces!C454)","v":""},{"$f":"IF(Liste_pièces!D454=\"\",\"\",Liste_pièces!D454)","v":""},{"$f":"IF(Liste_pièces!E454=\"\",\"\",Liste_pièces!E454)","v":""},{"$f":"IF(Liste_pièces!F454=\"\",\"\",Liste_pièces!F454)","v":""},{"$f":"IF(Liste_pièces!G454=\"\",\"\",Liste_pièces!G454)","v":""},{"$f":"IF(Liste_pièces!H454=\"\",\"\",Liste_pièces!H454)","v":""},{"$f":"IF(Liste_pièces!I454=\"\",\"\",Liste_pièces!I454)","v":""},{"$f":"IF(Liste_pièces!J454=\"\",\"\",Liste_pièces!J454)","v":""},{"$f":"IF(Liste_pièces!K454=\"\",\"\",Liste_pièces!K454)","v":""},{"$f":"IF(Liste_pièces!L454=\"\",\"\",Liste_pièces!L454)","v":""},{"$f":"IF(Liste_pièces!M454=\"\",\"\",Liste_pièces!M454)","v":""}]
[{"$f":"IF(Liste_pièces!A455=\"\",\"ZZZ\",Liste_pièces!A455)","v":"ZZZ"},{"$f":"IF(Liste_pièces!B455=\"\",\"ZZZ\",Liste_pièces!B455)","v":"ZZZ"},{"$f":"IF(Liste_pièces!C455=\"\",\"\",Liste_pièces!C455)","v":""},{"$f":"IF(Liste_pièces!D455=\"\",\"\",Liste_pièces!D455)","v":""},{"$f":"IF(Liste_pièces!E455=\"\",\"\",Liste_pièces!E455)","v":""},{"$f":"IF(Liste_pièces!F455=\"\",\"\",Liste_pièces!F455)","v":""},{"$f":"IF(Liste_pièces!G455=\"\",\"\",Liste_pièces!G455)","v":""},{"$f":"IF(Liste_pièces!H455=\"\",\"\",Liste_pièces!H455)","v":""},{"$f":"IF(Liste_pièces!I455=\"\",\"\",Liste_pièces!I455)","v":""},{"$f":"IF(Liste_pièces!J455=\"\",\"\",Liste_pièces!J455)","v":""},{"$f":"IF(Liste_pièces!K455=\"\",\"\",Liste_pièces!K455)","v":""},{"$f":"IF(Liste_pièces!L455=\"\",\"\",Liste_pièces!L455)","v":""},{"$f":"IF(Liste_pièces!M455=\"\",\"\",Liste_pièces!M455)","v":""}]
[{"$f":"IF(Liste_pièces!A456=\"\",\"ZZZ\",Liste_pièces!A456)","v":"ZZZ"},{"$f":"IF(Liste_pièces!B456=\"\",\"ZZZ\",Liste_pièces!B456)","v":"ZZZ"},{"$f":"IF(Liste_pièces!C456=\"\",\"\",Liste_pièces!C456)","v":""},{"$f":"IF(Liste_pièces!D456=\"\",\"\",Liste_pièces!D456)","v":""},{"$f":"IF(Liste_pièces!E456=\"\",\"\",Liste_pièces!E456)","v":""},{"$f":"IF(Liste_pièces!F456=\"\",\"\",Liste_pièces!F456)","v":""},{"$f":"IF(Liste_pièces!G456=\"\",\"\",Liste_pièces!G456)","v":""},{"$f":"IF(Liste_pièces!H456=\"\",\"\",Liste_pièces!H456)","v":""},{"$f":"IF(Liste_pièces!I456=\"\",\"\",Liste_pièces!I456)","v":""},{"$f":"IF(Liste_pièces!J456=\"\",\"\",Liste_pièces!J456)","v":""},{"$f":"IF(Liste_pièces!K456=\"\",\"\",Liste_pièces!K456)","v":""},{"$f":"IF(Liste_pièces!L456=\"\",\"\",Liste_pièces!L456)","v":""},{"$f":"IF(Liste_pièces!M456=\"\",\"\",Liste_pièces!M456)","v":""}]
[{"$f":"IF(Liste_pièces!A457=\"\",\"ZZZ\",Liste_pièces!A457)","v":"ZZZ"},{"$f":"IF(Liste_pièces!B457=\"\",\"ZZZ\",Liste_pièces!B457)","v":"ZZZ"},{"$f":"IF(Liste_pièces!C457=\"\",\"\",Liste_pièces!C457)","v":""},{"$f":"IF(Liste_pièces!D457=\"\",\"\",Liste_pièces!D457)","v":""},{"$f":"IF(Liste_pièces!E457=\"\",\"\",Liste_pièces!E457)","v":""},{"$f":"IF(Liste_pièces!F457=\"\",\"\",Liste_pièces!F457)","v":""},{"$f":"IF(Liste_pièces!G457=\"\",\"\",Liste_pièces!G457)","v":""},{"$f":"IF(Liste_pièces!H457=\"\",\"\",Liste_pièces!H457)","v":""},{"$f":"IF(Liste_pièces!I457=\"\",\"\",Liste_pièces!I457)","v":""},{"$f":"IF(Liste_pièces!J457=\"\",\"\",Liste_pièces!J457)","v":""},{"$f":"IF(Liste_pièces!K457=\"\",\"\",Liste_pièces!K457)","v":""},{"$f":"IF(Liste_pièces!L457=\"\",\"\",Liste_pièces!L457)","v":""},{"$f":"IF(Liste_pièces!M457=\"\",\"\",Liste_pièces!M457)","v":""}]
[{"$f":"IF(Liste_pièces!A458=\"\",\"ZZZ\",Liste_pièces!A458)","v":"ZZZ"},{"$f":"IF(Liste_pièces!B458=\"\",\"ZZZ\",Liste_pièces!B458)","v":"ZZZ"},{"$f":"IF(Liste_pièces!C458=\"\",\"\",Liste_pièces!C458)","v":""},{"$f":"IF(Liste_pièces!D458=\"\",\"\",Liste_pièces!D458)","v":""},{"$f":"IF(Liste_pièces!E458=\"\",\"\",Liste_pièces!E458)","v":""},{"$f":"IF(Liste_pièces!F458=\"\",\"\",Liste_pièces!F458)","v":""},{"$f":"IF(Liste_pièces!G458=\"\",\"\",Liste_pièces!G458)","v":""},{"$f":"IF(Liste_pièces!H458=\"\",\"\",Liste_pièces!H458)","v":""},{"$f":"IF(Liste_pièces!I458=\"\",\"\",Liste_pièces!I458)","v":""},{"$f":"IF(Liste_pièces!J458=\"\",\"\",Liste_pièces!J458)","v":""},{"$f":"IF(Liste_pièces!K458=\"\",\"\",Liste_pièces!K458)","v":""},{"$f":"IF(Liste_pièces!L458=\"\",\"\",Liste_pièces!L458)","v":""},{"$f":"IF(Liste_pièces!M458=\"\",\"\",Liste_pièces!M458)","v":""}]
[{"$f":"IF(Liste_pièces!A459=\"\",\"ZZZ\",Liste_pièces!A459)","v":"ZZZ"},{"$f":"IF(Liste_pièces!B459=\"\",\"ZZZ\",Liste_pièces!B459)","v":"ZZZ"},{"$f":"IF(Liste_pièces!C459=\"\",\"\",Liste_pièces!C459)","v":""},{"$f":"IF(Liste_pièces!D459=\"\",\"\",Liste_pièces!D459)","v":""},{"$f":"IF(Liste_pièces!E459=\"\",\"\",Liste_pièces!E459)","v":""},{"$f":"IF(Liste_pièces!F459=\"\",\"\",Liste_pièces!F459)","v":""},{"$f":"IF(Liste_pièces!G459=\"\",\"\",Liste_pièces!G459)","v":""},{"$f":"IF(Liste_pièces!H459=\"\",\"\",Liste_pièces!H459)","v":""},{"$f":"IF(Liste_pièces!I459=\"\",\"\",Liste_pièces!I459)","v":""},{"$f":"IF(Liste_pièces!J459=\"\",\"\",Liste_pièces!J459)","v":""},{"$f":"IF(Liste_pièces!K459=\"\",\"\",Liste_pièces!K459)","v":""},{"$f":"IF(Liste_pièces!L459=\"\",\"\",Liste_pièces!L459)","v":""},{"$f":"IF(Liste_pièces!M459=\"\",\"\",Liste_pièces!M459)","v":""}]
[{"$f":"IF(Liste_pièces!A460=\"\",\"ZZZ\",Liste_pièces!A460)","v":"ZZZ"},{"$f":"IF(Liste_pièces!B460=\"\",\"ZZZ\",Liste_pièces!B460)","v":"ZZZ"},{"$f":"IF(Liste_pièces!C460=\"\",\"\",Liste_pièces!C460)","v":""},{"$f":"IF(Liste_pièces!D460=\"\",\"\",Liste_pièces!D460)","v":""},{"$f":"IF(Liste_pièces!E460=\"\",\"\",Liste_pièces!E460)","v":""},{"$f":"IF(Liste_pièces!F460=\"\",\"\",Liste_pièces!F460)","v":""},{"$f":"IF(Liste_pièces!G460=\"\",\"\",Liste_pièces!G460)","v":""},{"$f":"IF(Liste_pièces!H460=\"\",\"\",Liste_pièces!H460)","v":""},{"$f":"IF(Liste_pièces!I460=\"\",\"\",Liste_pièces!I460)","v":""},{"$f":"IF(Liste_pièces!J460=\"\",\"\",Liste_pièces!J460)","v":""},{"$f":"IF(Liste_pièces!K460=\"\",\"\",Liste_pièces!K460)","v":""},{"$f":"IF(Liste_pièces!L460=\"\",\"\",Liste_pièces!L460)","v":""},{"$f":"IF(Liste_pièces!M460=\"\",\"\",Liste_pièces!M460)","v":""}]
[{"$f":"IF(Liste_pièces!A461=\"\",\"ZZZ\",Liste_pièces!A461)","v":"ZZZ"},{"$f":"IF(Liste_pièces!B461=\"\",\"ZZZ\",Liste_pièces!B461)","v":"ZZZ"},{"$f":"IF(Liste_pièces!C461=\"\",\"\",Liste_pièces!C461)","v":""},{"$f":"IF(Liste_pièces!D461=\"\",\"\",Liste_pièces!D461)","v":""},{"$f":"IF(Liste_pièces!E461=\"\",\"\",Liste_pièces!E461)","v":""},{"$f":"IF(Liste_pièces!F461=\"\",\"\",Liste_pièces!F461)","v":""},{"$f":"IF(Liste_pièces!G461=\"\",\"\",Liste_pièces!G461)","v":""},{"$f":"IF(Liste_pièces!H461=\"\",\"\",Liste_pièces!H461)","v":""},{"$f":"IF(Liste_pièces!I461=\"\",\"\",Liste_pièces!I461)","v":""},{"$f":"IF(Liste_pièces!J461=\"\",\"\",Liste_pièces!J461)","v":""},{"$f":"IF(Liste_pièces!K461=\"\",\"\",Liste_pièces!K461)","v":""},{"$f":"IF(Liste_pièces!L461=\"\",\"\",Liste_pièces!L461)","v":""},{"$f":"IF(Liste_pièces!M461=\"\",\"\",Liste_pièces!M461)","v":""}]
[{"$f":"IF(Liste_pièces!A462=\"\",\"ZZZ\",Liste_pièces!A462)","v":"ZZZ"},{"$f":"IF(Liste_pièces!B462=\"\",\"ZZZ\",Liste_pièces!B462)","v":"ZZZ"},{"$f":"IF(Liste_pièces!C462=\"\",\"\",Liste_pièces!C462)","v":""},{"$f":"IF(Liste_pièces!D462=\"\",\"\",Liste_pièces!D462)","v":""},{"$f":"IF(Liste_pièces!E462=\"\",\"\",Liste_pièces!E462)","v":""},{"$f":"IF(Liste_pièces!F462=\"\",\"\",Liste_pièces!F462)","v":""},{"$f":"IF(Liste_pièces!G462=\"\",\"\",Liste_pièces!G462)","v":""},{"$f":"IF(Liste_pièces!H462=\"\",\"\",Liste_pièces!H462)","v":""},{"$f":"IF(Liste_pièces!I462=\"\",\"\",Liste_pièces!I462)","v":""},{"$f":"IF(Liste_pièces!J462=\"\",\"\",Liste_pièces!J462)","v":""},{"$f":"IF(Liste_pièces!K462=\"\",\"\",Liste_pièces!K462)","v":""},{"$f":"IF(Liste_pièces!L462=\"\",\"\",Liste_pièces!L462)","v":""},{"$f":"IF(Liste_pièces!M462=\"\",\"\",Liste_pièces!M462)","v":""}]
[{"$f":"IF(Liste_pièces!A463=\"\",\"ZZZ\",Liste_pièces!A463)","v":"ZZZ"},{"$f":"IF(Liste_pièces!B463=\"\",\"ZZZ\",Liste_pièces!B463)","v":"ZZZ"},{"$f":"IF(Liste_pièces!C463=\"\",\"\",Liste_pièces!C463)","v":""},{"$f":"IF(Liste_pièces!D463=\"\",\"\",Liste_pièces!D463)","v":""},{"$f":"IF(Liste_pièces!E463=\"\",\"\",Liste_pièces!E463)","v":""},{"$f":"IF(Liste_pièces!F463=\"\",\"\",Liste_pièces!F463)","v":""},{"$f":"IF(Liste_pièces!G463=\"\",\"\",Liste_pièces!G463)","v":""},{"$f":"IF(Liste_pièces!H463=\"\",\"\",Liste_pièces!H463)","v":""},{"$f":"IF(Liste_pièces!I463=\"\",\"\",Liste_pièces!I463)","v":""},{"$f":"IF(Liste_pièces!J463=\"\",\"\",Liste_pièces!J463)","v":""},{"$f":"IF(Liste_pièces!K463=\"\",\"\",Liste_pièces!K463)","v":""},{"$f":"IF(Liste_pièces!L463=\"\",\"\",Liste_pièces!L463)","v":""},{"$f":"IF(Liste_pièces!M463=\"\",\"\",Liste_pièces!M463)","v":""}]
[{"$f":"IF(Liste_pièces!A464=\"\",\"ZZZ\",Liste_pièces!A464)","v":"ZZZ"},{"$f":"IF(Liste_pièces!B464=\"\",\"ZZZ\",Liste_pièces!B464)","v":"ZZZ"},{"$f":"IF(Liste_pièces!C464=\"\",\"\",Liste_pièces!C464)","v":""},{"$f":"IF(Liste_pièces!D464=\"\",\"\",Liste_pièces!D464)","v":""},{"$f":"IF(Liste_pièces!E464=\"\",\"\",Liste_pièces!E464)","v":""},{"$f":"IF(Liste_pièces!F464=\"\",\"\",Liste_pièces!F464)","v":""},{"$f":"IF(Liste_pièces!G464=\"\",\"\",Liste_pièces!G464)","v":""},{"$f":"IF(Liste_pièces!H464=\"\",\"\",Liste_pièces!H464)","v":""},{"$f":"IF(Liste_pièces!I464=\"\",\"\",Liste_pièces!I464)","v":""},{"$f":"IF(Liste_pièces!J464=\"\",\"\",Liste_pièces!J464)","v":""},{"$f":"IF(Liste_pièces!K464=\"\",\"\",Liste_pièces!K464)","v":""},{"$f":"IF(Liste_pièces!L464=\"\",\"\",Liste_pièces!L464)","v":""},{"$f":"IF(Liste_pièces!M464=\"\",\"\",Liste_pièces!M464)","v":""}]
[{"$f":"IF(Liste_pièces!A465=\"\",\"ZZZ\",Liste_pièces!A465)","v":"ZZZ"},{"$f":"IF(Liste_pièces!B465=\"\",\"ZZZ\",Liste_pièces!B465)","v":"ZZZ"},{"$f":"IF(Liste_pièces!C465=\"\",\"\",Liste_pièces!C465)","v":""},{"$f":"IF(Liste_pièces!D465=\"\",\"\",Liste_pièces!D465)","v":""},{"$f":"IF(Liste_pièces!E465=\"\",\"\",Liste_pièces!E465)","v":""},{"$f":"IF(Liste_pièces!F465=\"\",\"\",Liste_pièces!F465)","v":""},{"$f":"IF(Liste_pièces!G465=\"\",\"\",Liste_pièces!G465)","v":""},{"$f":"IF(Liste_pièces!H465=\"\",\"\",Liste_pièces!H465)","v":""},{"$f":"IF(Liste_pièces!I465=\"\",\"\",Liste_pièces!I465)","v":""},{"$f":"IF(Liste_pièces!J465=\"\",\"\",Liste_pièces!J465)","v":""},{"$f":"IF(Liste_pièces!K465=\"\",\"\",Liste_pièces!K465)","v":""},{"$f":"IF(Liste_pièces!L465=\"\",\"\",Liste_pièces!L465)","v":""},{"$f":"IF(Liste_pièces!M465=\"\",\"\",Liste_pièces!M465)","v":""}]
[{"$f":"IF(Liste_pièces!A466=\"\",\"ZZZ\",Liste_pièces!A466)","v":"ZZZ"},{"$f":"IF(Liste_pièces!B466=\"\",\"ZZZ\",Liste_pièces!B466)","v":"ZZZ"},{"$f":"IF(Liste_pièces!C466=\"\",\"\",Liste_pièces!C466)","v":""},{"$f":"IF(Liste_pièces!D466=\"\",\"\",Liste_pièces!D466)","v":""},{"$f":"IF(Liste_pièces!E466=\"\",\"\",Liste_pièces!E466)","v":""},{"$f":"IF(Liste_pièces!F466=\"\",\"\",Liste_pièces!F466)","v":""},{"$f":"IF(Liste_pièces!G466=\"\",\"\",Liste_pièces!G466)","v":""},{"$f":"IF(Liste_pièces!H466=\"\",\"\",Liste_pièces!H466)","v":""},{"$f":"IF(Liste_pièces!I466=\"\",\"\",Liste_pièces!I466)","v":""},{"$f":"IF(Liste_pièces!J466=\"\",\"\",Liste_pièces!J466)","v":""},{"$f":"IF(Liste_pièces!K466=\"\",\"\",Liste_pièces!K466)","v":""},{"$f":"IF(Liste_pièces!L466=\"\",\"\",Liste_pièces!L466)","v":""},{"$f":"IF(Liste_pièces!M466=\"\",\"\",Liste_pièces!M466)","v":""}]
[{"$f":"IF(Liste_pièces!A467=\"\",\"ZZZ\",Liste_pièces!A467)","v":"ZZZ"},{"$f":"IF(Liste_pièces!B467=\"\",\"ZZZ\",Liste_pièces!B467)","v":"ZZZ"},{"$f":"IF(Liste_pièces!C467=\"\",\"\",Liste_pièces!C467)","v":""},{"$f":"IF(Liste_pièces!D467=\"\",\"\",Liste_pièces!D467)","v":""},{"$f":"IF(Liste_pièces!E467=\"\",\"\",Liste_pièces!E467)","v":""},{"$f":"IF(Liste_pièces!F467=\"\",\"\",Liste_pièces!F467)","v":""},{"$f":"IF(Liste_pièces!G467=\"\",\"\",Liste_pièces!G467)","v":""},{"$f":"IF(Liste_pièces!H467=\"\",\"\",Liste_pièces!H467)","v":""},{"$f":"IF(Liste_pièces!I467=\"\",\"\",Liste_pièces!I467)","v":""},{"$f":"IF(Liste_pièces!J467=\"\",\"\",Liste_pièces!J467)","v":""},{"$f":"IF(Liste_pièces!K467=\"\",\"\",Liste_pièces!K467)","v":""},{"$f":"IF(Liste_pièces!L467=\"\",\"\",Liste_pièces!L467)","v":""},{"$f":"IF(Liste_pièces!M467=\"\",\"\",Liste_pièces!M467)","v":""}]
[{"$f":"IF(Liste_pièces!A468=\"\",\"ZZZ\",Liste_pièces!A468)","v":"ZZZ"},{"$f":"IF(Liste_pièces!B468=\"\",\"ZZZ\",Liste_pièces!B468)","v":"ZZZ"},{"$f":"IF(Liste_pièces!C468=\"\",\"\",Liste_pièces!C468)","v":""},{"$f":"IF(Liste_pièces!D468=\"\",\"\",Liste_pièces!D468)","v":""},{"$f":"IF(Liste_pièces!E468=\"\",\"\",Liste_pièces!E468)","v":""},{"$f":"IF(Liste_pièces!F468=\"\",\"\",Liste_pièces!F468)","v":""},{"$f":"IF(Liste_pièces!G468=\"\",\"\",Liste_pièces!G468)","v":""},{"$f":"IF(Liste_pièces!H468=\"\",\"\",Liste_pièces!H468)","v":""},{"$f":"IF(Liste_pièces!I468=\"\",\"\",Liste_pièces!I468)","v":""},{"$f":"IF(Liste_pièces!J468=\"\",\"\",Liste_pièces!J468)","v":""},{"$f":"IF(Liste_pièces!K468=\"\",\"\",Liste_pièces!K468)","v":""},{"$f":"IF(Liste_pièces!L468=\"\",\"\",Liste_pièces!L468)","v":""},{"$f":"IF(Liste_pièces!M468=\"\",\"\",Liste_pièces!M468)","v":""}]
[{"$f":"IF(Liste_pièces!A469=\"\",\"ZZZ\",Liste_pièces!A469)","v":"ZZZ"},{"$f":"IF(Liste_pièces!B469=\"\",\"ZZZ\",Liste_pièces!B469)","v":"ZZZ"},{"$f":"IF(Liste_pièces!C469=\"\",\"\",Liste_pièces!C469)","v":""},{"$f":"IF(Liste_pièces!D469=\"\",\"\",Liste_pièces!D469)","v":""},{"$f":"IF(Liste_pièces!E469=\"\",\"\",Liste_pièces!E469)","v":""},{"$f":"IF(Liste_pièces!F469=\"\",\"\",Liste_pièces!F469)","v":""},{"$f":"IF(Liste_pièces!G469=\"\",\"\",Liste_pièces!G469)","v":""},{"$f":"IF(Liste_pièces!H469=\"\",\"\",Liste_pièces!H469)","v":""},{"$f":"IF(Liste_pièces!I469=\"\",\"\",Liste_pièces!I469)","v":""},{"$f":"IF(Liste_pièces!J469=\"\",\"\",Liste_pièces!J469)","v":""},{"$f":"IF(Liste_pièces!K469=\"\",\"\",Liste_pièces!K469)","v":""},{"$f":"IF(Liste_pièces!L469=\"\",\"\",Liste_pièces!L469)","v":""},{"$f":"IF(Liste_pièces!M469=\"\",\"\",Liste_pièces!M469)","v":""}]
[{"$f":"IF(Liste_pièces!A470=\"\",\"ZZZ\",Liste_pièces!A470)","v":"ZZZ"},{"$f":"IF(Liste_pièces!B470=\"\",\"ZZZ\",Liste_pièces!B470)","v":"ZZZ"},{"$f":"IF(Liste_pièces!C470=\"\",\"\",Liste_pièces!C470)","v":""},{"$f":"IF(Liste_pièces!D470=\"\",\"\",Liste_pièces!D470)","v":""},{"$f":"IF(Liste_pièces!E470=\"\",\"\",Liste_pièces!E470)","v":""},{"$f":"IF(Liste_pièces!F470=\"\",\"\",Liste_pièces!F470)","v":""},{"$f":"IF(Liste_pièces!G470=\"\",\"\",Liste_pièces!G470)","v":""},{"$f":"IF(Liste_pièces!H470=\"\",\"\",Liste_pièces!H470)","v":""},{"$f":"IF(Liste_pièces!I470=\"\",\"\",Liste_pièces!I470)","v":""},{"$f":"IF(Liste_pièces!J470=\"\",\"\",Liste_pièces!J470)","v":""},{"$f":"IF(Liste_pièces!K470=\"\",\"\",Liste_pièces!K470)","v":""},{"$f":"IF(Liste_pièces!L470=\"\",\"\",Liste_pièces!L470)","v":""},{"$f":"IF(Liste_pièces!M470=\"\",\"\",Liste_pièces!M470)","v":""}]
[{"$f":"IF(Liste_pièces!A471=\"\",\"ZZZ\",Liste_pièces!A471)","v":"ZZZ"},{"$f":"IF(Liste_pièces!B471=\"\",\"ZZZ\",Liste_pièces!B471)","v":"ZZZ"},{"$f":"IF(Liste_pièces!C471=\"\",\"\",Liste_pièces!C471)","v":""},{"$f":"IF(Liste_pièces!D471=\"\",\"\",Liste_pièces!D471)","v":""},{"$f":"IF(Liste_pièces!E471=\"\",\"\",Liste_pièces!E471)","v":""},{"$f":"IF(Liste_pièces!F471=\"\",\"\",Liste_pièces!F471)","v":""},{"$f":"IF(Liste_pièces!G471=\"\",\"\",Liste_pièces!G471)","v":""},{"$f":"IF(Liste_pièces!H471=\"\",\"\",Liste_pièces!H471)","v":""},{"$f":"IF(Liste_pièces!I471=\"\",\"\",Liste_pièces!I471)","v":""},{"$f":"IF(Liste_pièces!J471=\"\",\"\",Liste_pièces!J471)","v":""},{"$f":"IF(Liste_pièces!K471=\"\",\"\",Liste_pièces!K471)","v":""},{"$f":"IF(Liste_pièces!L471=\"\",\"\",Liste_pièces!L471)","v":""},{"$f":"IF(Liste_pièces!M471=\"\",\"\",Liste_pièces!M471)","v":""}]
[{"$f":"IF(Liste_pièces!A472=\"\",\"ZZZ\",Liste_pièces!A472)","v":"ZZZ"},{"$f":"IF(Liste_pièces!B472=\"\",\"ZZZ\",Liste_pièces!B472)","v":"ZZZ"},{"$f":"IF(Liste_pièces!C472=\"\",\"\",Liste_pièces!C472)","v":""},{"$f":"IF(Liste_pièces!D472=\"\",\"\",Liste_pièces!D472)","v":""},{"$f":"IF(Liste_pièces!E472=\"\",\"\",Liste_pièces!E472)","v":""},{"$f":"IF(Liste_pièces!F472=\"\",\"\",Liste_pièces!F472)","v":""},{"$f":"IF(Liste_pièces!G472=\"\",\"\",Liste_pièces!G472)","v":""},{"$f":"IF(Liste_pièces!H472=\"\",\"\",Liste_pièces!H472)","v":""},{"$f":"IF(Liste_pièces!I472=\"\",\"\",Liste_pièces!I472)","v":""},{"$f":"IF(Liste_pièces!J472=\"\",\"\",Liste_pièces!J472)","v":""},{"$f":"IF(Liste_pièces!K472=\"\",\"\",Liste_pièces!K472)","v":""},{"$f":"IF(Liste_pièces!L472=\"\",\"\",Liste_pièces!L472)","v":""},{"$f":"IF(Liste_pièces!M472=\"\",\"\",Liste_pièces!M472)","v":""}]
[{"$f":"IF(Liste_pièces!A473=\"\",\"ZZZ\",Liste_pièces!A473)","v":"ZZZ"},{"$f":"IF(Liste_pièces!B473=\"\",\"ZZZ\",Liste_pièces!B473)","v":"ZZZ"},{"$f":"IF(Liste_pièces!C473=\"\",\"\",Liste_pièces!C473)","v":""},{"$f":"IF(Liste_pièces!D473=\"\",\"\",Liste_pièces!D473)","v":""},{"$f":"IF(Liste_pièces!E473=\"\",\"\",Liste_pièces!E473)","v":""},{"$f":"IF(Liste_pièces!F473=\"\",\"\",Liste_pièces!F473)","v":""},{"$f":"IF(Liste_pièces!G473=\"\",\"\",Liste_pièces!G473)","v":""},{"$f":"IF(Liste_pièces!H473=\"\",\"\",Liste_pièces!H473)","v":""},{"$f":"IF(Liste_pièces!I473=\"\",\"\",Liste_pièces!I473)","v":""},{"$f":"IF(Liste_pièces!J473=\"\",\"\",Liste_pièces!J473)","v":""},{"$f":"IF(Liste_pièces!K473=\"\",\"\",Liste_pièces!K473)","v":""},{"$f":"IF(Liste_pièces!L473=\"\",\"\",Liste_pièces!L473)","v":""},{"$f":"IF(Liste_pièces!M473=\"\",\"\",Liste_pièces!M473)","v":""}]
[{"$f":"IF(Liste_pièces!A474=\"\",\"ZZZ\",Liste_pièces!A474)","v":"ZZZ"},{"$f":"IF(Liste_pièces!B474=\"\",\"ZZZ\",Liste_pièces!B474)","v":"ZZZ"},{"$f":"IF(Liste_pièces!C474=\"\",\"\",Liste_pièces!C474)","v":""},{"$f":"IF(Liste_pièces!D474=\"\",\"\",Liste_pièces!D474)","v":""},{"$f":"IF(Liste_pièces!E474=\"\",\"\",Liste_pièces!E474)","v":""},{"$f":"IF(Liste_pièces!F474=\"\",\"\",Liste_pièces!F474)","v":""},{"$f":"IF(Liste_pièces!G474=\"\",\"\",Liste_pièces!G474)","v":""},{"$f":"IF(Liste_pièces!H474=\"\",\"\",Liste_pièces!H474)","v":""},{"$f":"IF(Liste_pièces!I474=\"\",\"\",Liste_pièces!I474)","v":""},{"$f":"IF(Liste_pièces!J474=\"\",\"\",Liste_pièces!J474)","v":""},{"$f":"IF(Liste_pièces!K474=\"\",\"\",Liste_pièces!K474)","v":""},{"$f":"IF(Liste_pièces!L474=\"\",\"\",Liste_pièces!L474)","v":""},{"$f":"IF(Liste_pièces!M474=\"\",\"\",Liste_pièces!M474)","v":""}]
[{"$f":"IF(Liste_pièces!A475=\"\",\"ZZZ\",Liste_pièces!A475)","v":"ZZZ"},{"$f":"IF(Liste_pièces!B475=\"\",\"ZZZ\",Liste_pièces!B475)","v":"ZZZ"},{"$f":"IF(Liste_pièces!C475=\"\",\"\",Liste_pièces!C475)","v":""},{"$f":"IF(Liste_pièces!D475=\"\",\"\",Liste_pièces!D475)","v":""},{"$f":"IF(Liste_pièces!E475=\"\",\"\",Liste_pièces!E475)","v":""},{"$f":"IF(Liste_pièces!F475=\"\",\"\",Liste_pièces!F475)","v":""},{"$f":"IF(Liste_pièces!G475=\"\",\"\",Liste_pièces!G475)","v":""},{"$f":"IF(Liste_pièces!H475=\"\",\"\",Liste_pièces!H475)","v":""},{"$f":"IF(Liste_pièces!I475=\"\",\"\",Liste_pièces!I475)","v":""},{"$f":"IF(Liste_pièces!J475=\"\",\"\",Liste_pièces!J475)","v":""},{"$f":"IF(Liste_pièces!K475=\"\",\"\",Liste_pièces!K475)","v":""},{"$f":"IF(Liste_pièces!L475=\"\",\"\",Liste_pièces!L475)","v":""},{"$f":"IF(Liste_pièces!M475=\"\",\"\",Liste_pièces!M475)","v":""}]
[{"$f":"IF(Liste_pièces!A476=\"\",\"ZZZ\",Liste_pièces!A476)","v":"ZZZ"},{"$f":"IF(Liste_pièces!B476=\"\",\"ZZZ\",Liste_pièces!B476)","v":"ZZZ"},{"$f":"IF(Liste_pièces!C476=\"\",\"\",Liste_pièces!C476)","v":""},{"$f":"IF(Liste_pièces!D476=\"\",\"\",Liste_pièces!D476)","v":""},{"$f":"IF(Liste_pièces!E476=\"\",\"\",Liste_pièces!E476)","v":""},{"$f":"IF(Liste_pièces!F476=\"\",\"\",Liste_pièces!F476)","v":""},{"$f":"IF(Liste_pièces!G476=\"\",\"\",Liste_pièces!G476)","v":""},{"$f":"IF(Liste_pièces!H476=\"\",\"\",Liste_pièces!H476)","v":""},{"$f":"IF(Liste_pièces!I476=\"\",\"\",Liste_pièces!I476)","v":""},{"$f":"IF(Liste_pièces!J476=\"\",\"\",Liste_pièces!J476)","v":""},{"$f":"IF(Liste_pièces!K476=\"\",\"\",Liste_pièces!K476)","v":""},{"$f":"IF(Liste_pièces!L476=\"\",\"\",Liste_pièces!L476)","v":""},{"$f":"IF(Liste_pièces!M476=\"\",\"\",Liste_pièces!M476)","v":""}]
[{"$f":"IF(Liste_pièces!A477=\"\",\"ZZZ\",Liste_pièces!A477)","v":"ZZZ"},{"$f":"IF(Liste_pièces!B477=\"\",\"ZZZ\",Liste_pièces!B477)","v":"ZZZ"},{"$f":"IF(Liste_pièces!C477=\"\",\"\",Liste_pièces!C477)","v":""},{"$f":"IF(Liste_pièces!D477=\"\",\"\",Liste_pièces!D477)","v":""},{"$f":"IF(Liste_pièces!E477=\"\",\"\",Liste_pièces!E477)","v":""},{"$f":"IF(Liste_pièces!F477=\"\",\"\",Liste_pièces!F477)","v":""},{"$f":"IF(Liste_pièces!G477=\"\",\"\",Liste_pièces!G477)","v":""},{"$f":"IF(Liste_pièces!H477=\"\",\"\",Liste_pièces!H477)","v":""},{"$f":"IF(Liste_pièces!I477=\"\",\"\",Liste_pièces!I477)","v":""},{"$f":"IF(Liste_pièces!J477=\"\",\"\",Liste_pièces!J477)","v":""},{"$f":"IF(Liste_pièces!K477=\"\",\"\",Liste_pièces!K477)","v":""},{"$f":"IF(Liste_pièces!L477=\"\",\"\",Liste_pièces!L477)","v":""},{"$f":"IF(Liste_pièces!M477=\"\",\"\",Liste_pièces!M477)","v":""}]
[{"$f":"IF(Liste_pièces!A478=\"\",\"ZZZ\",Liste_pièces!A478)","v":"ZZZ"},{"$f":"IF(Liste_pièces!B478=\"\",\"ZZZ\",Liste_pièces!B478)","v":"ZZZ"},{"$f":"IF(Liste_pièces!C478=\"\",\"\",Liste_pièces!C478)","v":""},{"$f":"IF(Liste_pièces!D478=\"\",\"\",Liste_pièces!D478)","v":""},{"$f":"IF(Liste_pièces!E478=\"\",\"\",Liste_pièces!E478)","v":""},{"$f":"IF(Liste_pièces!F478=\"\",\"\",Liste_pièces!F478)","v":""},{"$f":"IF(Liste_pièces!G478=\"\",\"\",Liste_pièces!G478)","v":""},{"$f":"IF(Liste_pièces!H478=\"\",\"\",Liste_pièces!H478)","v":""},{"$f":"IF(Liste_pièces!I478=\"\",\"\",Liste_pièces!I478)","v":""},{"$f":"IF(Liste_pièces!J478=\"\",\"\",Liste_pièces!J478)","v":""},{"$f":"IF(Liste_pièces!K478=\"\",\"\",Liste_pièces!K478)","v":""},{"$f":"IF(Liste_pièces!L478=\"\",\"\",Liste_pièces!L478)","v":""},{"$f":"IF(Liste_pièces!M478=\"\",\"\",Liste_pièces!M478)","v":""}]
[{"$f":"IF(Liste_pièces!A479=\"\",\"ZZZ\",Liste_pièces!A479)","v":"ZZZ"},{"$f":"IF(Liste_pièces!B479=\"\",\"ZZZ\",Liste_pièces!B479)","v":"ZZZ"},{"$f":"IF(Liste_pièces!C479=\"\",\"\",Liste_pièces!C479)","v":""},{"$f":"IF(Liste_pièces!D479=\"\",\"\",Liste_pièces!D479)","v":""},{"$f":"IF(Liste_pièces!E479=\"\",\"\",Liste_pièces!E479)","v":""},{"$f":"IF(Liste_pièces!F479=\"\",\"\",Liste_pièces!F479)","v":""},{"$f":"IF(Liste_pièces!G479=\"\",\"\",Liste_pièces!G479)","v":""},{"$f":"IF(Liste_pièces!H479=\"\",\"\",Liste_pièces!H479)","v":""},{"$f":"IF(Liste_pièces!I479=\"\",\"\",Liste_pièces!I479)","v":""},{"$f":"IF(Liste_pièces!J479=\"\",\"\",Liste_pièces!J479)","v":""},{"$f":"IF(Liste_pièces!K479=\"\",\"\",Liste_pièces!K479)","v":""},{"$f":"IF(Liste_pièces!L479=\"\",\"\",Liste_pièces!L479)","v":""},{"$f":"IF(Liste_pièces!M479=\"\",\"\",Liste_pièces!M479)","v":""}]
[{"$f":"IF(Liste_pièces!A480=\"\",\"ZZZ\",Liste_pièces!A480)","v":"ZZZ"},{"$f":"IF(Liste_pièces!B480=\"\",\"ZZZ\",Liste_pièces!B480)","v":"ZZZ"},{"$f":"IF(Liste_pièces!C480=\"\",\"\",Liste_pièces!C480)","v":""},{"$f":"IF(Liste_pièces!D480=\"\",\"\",Liste_pièces!D480)","v":""},{"$f":"IF(Liste_pièces!E480=\"\",\"\",Liste_pièces!E480)","v":""},{"$f":"IF(Liste_pièces!F480=\"\",\"\",Liste_pièces!F480)","v":""},{"$f":"IF(Liste_pièces!G480=\"\",\"\",Liste_pièces!G480)","v":""},{"$f":"IF(Liste_pièces!H480=\"\",\"\",Liste_pièces!H480)","v":""},{"$f":"IF(Liste_pièces!I480=\"\",\"\",Liste_pièces!I480)","v":""},{"$f":"IF(Liste_pièces!J480=\"\",\"\",Liste_pièces!J480)","v":""},{"$f":"IF(Liste_pièces!K480=\"\",\"\",Liste_pièces!K480)","v":""},{"$f":"IF(Liste_pièces!L480=\"\",\"\",Liste_pièces!L480)","v":""},{"$f":"IF(Liste_pièces!M480=\"\",\"\",Liste_pièces!M480)","v":""}]
[{"$f":"IF(Liste_pièces!A481=\"\",\"ZZZ\",Liste_pièces!A481)","v":"ZZZ"},{"$f":"IF(Liste_pièces!B481=\"\",\"ZZZ\",Liste_pièces!B481)","v":"ZZZ"},{"$f":"IF(Liste_pièces!C481=\"\",\"\",Liste_pièces!C481)","v":""},{"$f":"IF(Liste_pièces!D481=\"\",\"\",Liste_pièces!D481)","v":""},{"$f":"IF(Liste_pièces!E481=\"\",\"\",Liste_pièces!E481)","v":""},{"$f":"IF(Liste_pièces!F481=\"\",\"\",Liste_pièces!F481)","v":""},{"$f":"IF(Liste_pièces!G481=\"\",\"\",Liste_pièces!G481)","v":""},{"$f":"IF(Liste_pièces!H481=\"\",\"\",Liste_pièces!H481)","v":""},{"$f":"IF(Liste_pièces!I481=\"\",\"\",Liste_pièces!I481)","v":""},{"$f":"IF(Liste_pièces!J481=\"\",\"\",Liste_pièces!J481)","v":""},{"$f":"IF(Liste_pièces!K481=\"\",\"\",Liste_pièces!K481)","v":""},{"$f":"IF(Liste_pièces!L481=\"\",\"\",Liste_pièces!L481)","v":""},{"$f":"IF(Liste_pièces!M481=\"\",\"\",Liste_pièces!M481)","v":""}]
[{"$f":"IF(Liste_pièces!A482=\"\",\"ZZZ\",Liste_pièces!A482)","v":"ZZZ"},{"$f":"IF(Liste_pièces!B482=\"\",\"ZZZ\",Liste_pièces!B482)","v":"ZZZ"},{"$f":"IF(Liste_pièces!C482=\"\",\"\",Liste_pièces!C482)","v":""},{"$f":"IF(Liste_pièces!D482=\"\",\"\",Liste_pièces!D482)","v":""},{"$f":"IF(Liste_pièces!E482=\"\",\"\",Liste_pièces!E482)","v":""},{"$f":"IF(Liste_pièces!F482=\"\",\"\",Liste_pièces!F482)","v":""},{"$f":"IF(Liste_pièces!G482=\"\",\"\",Liste_pièces!G482)","v":""},{"$f":"IF(Liste_pièces!H482=\"\",\"\",Liste_pièces!H482)","v":""},{"$f":"IF(Liste_pièces!I482=\"\",\"\",Liste_pièces!I482)","v":""},{"$f":"IF(Liste_pièces!J482=\"\",\"\",Liste_pièces!J482)","v":""},{"$f":"IF(Liste_pièces!K482=\"\",\"\",Liste_pièces!K482)","v":""},{"$f":"IF(Liste_pièces!L482=\"\",\"\",Liste_pièces!L482)","v":""},{"$f":"IF(Liste_pièces!M482=\"\",\"\",Liste_pièces!M482)","v":""}]
[{"$f":"IF(Liste_pièces!A483=\"\",\"ZZZ\",Liste_pièces!A483)","v":"ZZZ"},{"$f":"IF(Liste_pièces!B483=\"\",\"ZZZ\",Liste_pièces!B483)","v":"ZZZ"},{"$f":"IF(Liste_pièces!C483=\"\",\"\",Liste_pièces!C483)","v":""},{"$f":"IF(Liste_pièces!D483=\"\",\"\",Liste_pièces!D483)","v":""},{"$f":"IF(Liste_pièces!E483=\"\",\"\",Liste_pièces!E483)","v":""},{"$f":"IF(Liste_pièces!F483=\"\",\"\",Liste_pièces!F483)","v":""},{"$f":"IF(Liste_pièces!G483=\"\",\"\",Liste_pièces!G483)","v":""},{"$f":"IF(Liste_pièces!H483=\"\",\"\",Liste_pièces!H483)","v":""},{"$f":"IF(Liste_pièces!I483=\"\",\"\",Liste_pièces!I483)","v":""},{"$f":"IF(Liste_pièces!J483=\"\",\"\",Liste_pièces!J483)","v":""},{"$f":"IF(Liste_pièces!K483=\"\",\"\",Liste_pièces!K483)","v":""},{"$f":"IF(Liste_pièces!L483=\"\",\"\",Liste_pièces!L483)","v":""},{"$f":"IF(Liste_pièces!M483=\"\",\"\",Liste_pièces!M483)","v":""}]
[{"$f":"IF(Liste_pièces!A484=\"\",\"ZZZ\",Liste_pièces!A484)","v":"ZZZ"},{"$f":"IF(Liste_pièces!B484=\"\",\"ZZZ\",Liste_pièces!B484)","v":"ZZZ"},{"$f":"IF(Liste_pièces!C484=\"\",\"\",Liste_pièces!C484)","v":""},{"$f":"IF(Liste_pièces!D484=\"\",\"\",Liste_pièces!D484)","v":""},{"$f":"IF(Liste_pièces!E484=\"\",\"\",Liste_pièces!E484)","v":""},{"$f":"IF(Liste_pièces!F484=\"\",\"\",Liste_pièces!F484)","v":""},{"$f":"IF(Liste_pièces!G484=\"\",\"\",Liste_pièces!G484)","v":""},{"$f":"IF(Liste_pièces!H484=\"\",\"\",Liste_pièces!H484)","v":""},{"$f":"IF(Liste_pièces!I484=\"\",\"\",Liste_pièces!I484)","v":""},{"$f":"IF(Liste_pièces!J484=\"\",\"\",Liste_pièces!J484)","v":""},{"$f":"IF(Liste_pièces!K484=\"\",\"\",Liste_pièces!K484)","v":""},{"$f":"IF(Liste_pièces!L484=\"\",\"\",Liste_pièces!L484)","v":""},{"$f":"IF(Liste_pièces!M484=\"\",\"\",Liste_pièces!M484)","v":""}]
[{"$f":"IF(Liste_pièces!A485=\"\",\"ZZZ\",Liste_pièces!A485)","v":"ZZZ"},{"$f":"IF(Liste_pièces!B485=\"\",\"ZZZ\",Liste_pièces!B485)","v":"ZZZ"},{"$f":"IF(Liste_pièces!C485=\"\",\"\",Liste_pièces!C485)","v":""},{"$f":"IF(Liste_pièces!D485=\"\",\"\",Liste_pièces!D485)","v":""},{"$f":"IF(Liste_pièces!E485=\"\",\"\",Liste_pièces!E485)","v":""},{"$f":"IF(Liste_pièces!F485=\"\",\"\",Liste_pièces!F485)","v":""},{"$f":"IF(Liste_pièces!G485=\"\",\"\",Liste_pièces!G485)","v":""},{"$f":"IF(Liste_pièces!H485=\"\",\"\",Liste_pièces!H485)","v":""},{"$f":"IF(Liste_pièces!I485=\"\",\"\",Liste_pièces!I485)","v":""},{"$f":"IF(Liste_pièces!J485=\"\",\"\",Liste_pièces!J485)","v":""},{"$f":"IF(Liste_pièces!K485=\"\",\"\",Liste_pièces!K485)","v":""},{"$f":"IF(Liste_pièces!L485=\"\",\"\",Liste_pièces!L485)","v":""},{"$f":"IF(Liste_pièces!M485=\"\",\"\",Liste_pièces!M485)","v":""}]
[{"$f":"IF(Liste_pièces!A486=\"\",\"ZZZ\",Liste_pièces!A486)","v":"ZZZ"},{"$f":"IF(Liste_pièces!B486=\"\",\"ZZZ\",Liste_pièces!B486)","v":"ZZZ"},{"$f":"IF(Liste_pièces!C486=\"\",\"\",Liste_pièces!C486)","v":""},{"$f":"IF(Liste_pièces!D486=\"\",\"\",Liste_pièces!D486)","v":""},{"$f":"IF(Liste_pièces!E486=\"\",\"\",Liste_pièces!E486)","v":""},{"$f":"IF(Liste_pièces!F486=\"\",\"\",Liste_pièces!F486)","v":""},{"$f":"IF(Liste_pièces!G486=\"\",\"\",Liste_pièces!G486)","v":""},{"$f":"IF(Liste_pièces!H486=\"\",\"\",Liste_pièces!H486)","v":""},{"$f":"IF(Liste_pièces!I486=\"\",\"\",Liste_pièces!I486)","v":""},{"$f":"IF(Liste_pièces!J486=\"\",\"\",Liste_pièces!J486)","v":""},{"$f":"IF(Liste_pièces!K486=\"\",\"\",Liste_pièces!K486)","v":""},{"$f":"IF(Liste_pièces!L486=\"\",\"\",Liste_pièces!L486)","v":""},{"$f":"IF(Liste_pièces!M486=\"\",\"\",Liste_pièces!M486)","v":""}]
[{"$f":"IF(Liste_pièces!A487=\"\",\"ZZZ\",Liste_pièces!A487)","v":"ZZZ"},{"$f":"IF(Liste_pièces!B487=\"\",\"ZZZ\",Liste_pièces!B487)","v":"ZZZ"},{"$f":"IF(Liste_pièces!C487=\"\",\"\",Liste_pièces!C487)","v":""},{"$f":"IF(Liste_pièces!D487=\"\",\"\",Liste_pièces!D487)","v":""},{"$f":"IF(Liste_pièces!E487=\"\",\"\",Liste_pièces!E487)","v":""},{"$f":"IF(Liste_pièces!F487=\"\",\"\",Liste_pièces!F487)","v":""},{"$f":"IF(Liste_pièces!G487=\"\",\"\",Liste_pièces!G487)","v":""},{"$f":"IF(Liste_pièces!H487=\"\",\"\",Liste_pièces!H487)","v":""},{"$f":"IF(Liste_pièces!I487=\"\",\"\",Liste_pièces!I487)","v":""},{"$f":"IF(Liste_pièces!J487=\"\",\"\",Liste_pièces!J487)","v":""},{"$f":"IF(Liste_pièces!K487=\"\",\"\",Liste_pièces!K487)","v":""},{"$f":"IF(Liste_pièces!L487=\"\",\"\",Liste_pièces!L487)","v":""},{"$f":"IF(Liste_pièces!M487=\"\",\"\",Liste_pièces!M487)","v":""}]
[{"$f":"IF(Liste_pièces!A488=\"\",\"ZZZ\",Liste_pièces!A488)","v":"ZZZ"},{"$f":"IF(Liste_pièces!B488=\"\",\"ZZZ\",Liste_pièces!B488)","v":"ZZZ"},{"$f":"IF(Liste_pièces!C488=\"\",\"\",Liste_pièces!C488)","v":""},{"$f":"IF(Liste_pièces!D488=\"\",\"\",Liste_pièces!D488)","v":""},{"$f":"IF(Liste_pièces!E488=\"\",\"\",Liste_pièces!E488)","v":""},{"$f":"IF(Liste_pièces!F488=\"\",\"\",Liste_pièces!F488)","v":""},{"$f":"IF(Liste_pièces!G488=\"\",\"\",Liste_pièces!G488)","v":""},{"$f":"IF(Liste_pièces!H488=\"\",\"\",Liste_pièces!H488)","v":""},{"$f":"IF(Liste_pièces!I488=\"\",\"\",Liste_pièces!I488)","v":""},{"$f":"IF(Liste_pièces!J488=\"\",\"\",Liste_pièces!J488)","v":""},{"$f":"IF(Liste_pièces!K488=\"\",\"\",Liste_pièces!K488)","v":""},{"$f":"IF(Liste_pièces!L488=\"\",\"\",Liste_pièces!L488)","v":""},{"$f":"IF(Liste_pièces!M488=\"\",\"\",Liste_pièces!M488)","v":""}]
[{"$f":"IF(Liste_pièces!A489=\"\",\"ZZZ\",Liste_pièces!A489)","v":"ZZZ"},{"$f":"IF(Liste_pièces!B489=\"\",\"ZZZ\",Liste_pièces!B489)","v":"ZZZ"},{"$f":"IF(Liste_pièces!C489=\"\",\"\",Liste_pièces!C489)","v":""},{"$f":"IF(Liste_pièces!D489=\"\",\"\",Liste_pièces!D489)","v":""},{"$f":"IF(Liste_pièces!E489=\"\",\"\",Liste_pièces!E489)","v":""},{"$f":"IF(Liste_pièces!F489=\"\",\"\",Liste_pièces!F489)","v":""},{"$f":"IF(Liste_pièces!G489=\"\",\"\",Liste_pièces!G489)","v":""},{"$f":"IF(Liste_pièces!H489=\"\",\"\",Liste_pièces!H489)","v":""},{"$f":"IF(Liste_pièces!I489=\"\",\"\",Liste_pièces!I489)","v":""},{"$f":"IF(Liste_pièces!J489=\"\",\"\",Liste_pièces!J489)","v":""},{"$f":"IF(Liste_pièces!K489=\"\",\"\",Liste_pièces!K489)","v":""},{"$f":"IF(Liste_pièces!L489=\"\",\"\",Liste_pièces!L489)","v":""},{"$f":"IF(Liste_pièces!M489=\"\",\"\",Liste_pièces!M489)","v":""}]
[{"$f":"IF(Liste_pièces!A490=\"\",\"ZZZ\",Liste_pièces!A490)","v":"ZZZ"},{"$f":"IF(Liste_pièces!B490=\"\",\"ZZZ\",Liste_pièces!B490)","v":"ZZZ"},{"$f":"IF(Liste_pièces!C490=\"\",\"\",Liste_pièces!C490)","v":""},{"$f":"IF(Liste_pièces!D490=\"\",\"\",Liste_pièces!D490)","v":""},{"$f":"IF(Liste_pièces!E490=\"\",\"\",Liste_pièces!E490)","v":""},{"$f":"IF(Liste_pièces!F490=\"\",\"\",Liste_pièces!F490)","v":""},{"$f":"IF(Liste_pièces!G490=\"\",\"\",Liste_pièces!G490)","v":""},{"$f":"IF(Liste_pièces!H490=\"\",\"\",Liste_pièces!H490)","v":""},{"$f":"IF(Liste_pièces!I490=\"\",\"\",Liste_pièces!I490)","v":""},{"$f":"IF(Liste_pièces!J490=\"\",\"\",Liste_pièces!J490)","v":""},{"$f":"IF(Liste_pièces!K490=\"\",\"\",Liste_pièces!K490)","v":""},{"$f":"IF(Liste_pièces!L490=\"\",\"\",Liste_pièces!L490)","v":""},{"$f":"IF(Liste_pièces!M490=\"\",\"\",Liste_pièces!M490)","v":""}]
[{"$f":"IF(Liste_pièces!A491=\"\",\"ZZZ\",Liste_pièces!A491)","v":"ZZZ"},{"$f":"IF(Liste_pièces!B491=\"\",\"ZZZ\",Liste_pièces!B491)","v":"ZZZ"},{"$f":"IF(Liste_pièces!C491=\"\",\"\",Liste_pièces!C491)","v":""},{"$f":"IF(Liste_pièces!D491=\"\",\"\",Liste_pièces!D491)","v":""},{"$f":"IF(Liste_pièces!E491=\"\",\"\",Liste_pièces!E491)","v":""},{"$f":"IF(Liste_pièces!F491=\"\",\"\",Liste_pièces!F491)","v":""},{"$f":"IF(Liste_pièces!G491=\"\",\"\",Liste_pièces!G491)","v":""},{"$f":"IF(Liste_pièces!H491=\"\",\"\",Liste_pièces!H491)","v":""},{"$f":"IF(Liste_pièces!I491=\"\",\"\",Liste_pièces!I491)","v":""},{"$f":"IF(Liste_pièces!J491=\"\",\"\",Liste_pièces!J491)","v":""},{"$f":"IF(Liste_pièces!K491=\"\",\"\",Liste_pièces!K491)","v":""},{"$f":"IF(Liste_pièces!L491=\"\",\"\",Liste_pièces!L491)","v":""},{"$f":"IF(Liste_pièces!M491=\"\",\"\",Liste_pièces!M491)","v":""}]
[{"$f":"IF(Liste_pièces!A492=\"\",\"ZZZ\",Liste_pièces!A492)","v":"ZZZ"},{"$f":"IF(Liste_pièces!B492=\"\",\"ZZZ\",Liste_pièces!B492)","v":"ZZZ"},{"$f":"IF(Liste_pièces!C492=\"\",\"\",Liste_pièces!C492)","v":""},{"$f":"IF(Liste_pièces!D492=\"\",\"\",Liste_pièces!D492)","v":""},{"$f":"IF(Liste_pièces!E492=\"\",\"\",Liste_pièces!E492)","v":""},{"$f":"IF(Liste_pièces!F492=\"\",\"\",Liste_pièces!F492)","v":""},{"$f":"IF(Liste_pièces!G492=\"\",\"\",Liste_pièces!G492)","v":""},{"$f":"IF(Liste_pièces!H492=\"\",\"\",Liste_pièces!H492)","v":""},{"$f":"IF(Liste_pièces!I492=\"\",\"\",Liste_pièces!I492)","v":""},{"$f":"IF(Liste_pièces!J492=\"\",\"\",Liste_pièces!J492)","v":""},{"$f":"IF(Liste_pièces!K492=\"\",\"\",Liste_pièces!K492)","v":""},{"$f":"IF(Liste_pièces!L492=\"\",\"\",Liste_pièces!L492)","v":""},{"$f":"IF(Liste_pièces!M492=\"\",\"\",Liste_pièces!M492)","v":""}]
[{"$f":"IF(Liste_pièces!A493=\"\",\"ZZZ\",Liste_pièces!A493)","v":"ZZZ"},{"$f":"IF(Liste_pièces!B493=\"\",\"ZZZ\",Liste_pièces!B493)","v":"ZZZ"},{"$f":"IF(Liste_pièces!C493=\"\",\"\",Liste_pièces!C493)","v":""},{"$f":"IF(Liste_pièces!D493=\"\",\"\",Liste_pièces!D493)","v":""},{"$f":"IF(Liste_pièces!E493=\"\",\"\",Liste_pièces!E493)","v":""},{"$f":"IF(Liste_pièces!F493=\"\",\"\",Liste_pièces!F493)","v":""},{"$f":"IF(Liste_pièces!G493=\"\",\"\",Liste_pièces!G493)","v":""},{"$f":"IF(Liste_pièces!H493=\"\",\"\",Liste_pièces!H493)","v":""},{"$f":"IF(Liste_pièces!I493=\"\",\"\",Liste_pièces!I493)","v":""},{"$f":"IF(Liste_pièces!J493=\"\",\"\",Liste_pièces!J493)","v":""},{"$f":"IF(Liste_pièces!K493=\"\",\"\",Liste_pièces!K493)","v":""},{"$f":"IF(Liste_pièces!L493=\"\",\"\",Liste_pièces!L493)","v":""},{"$f":"IF(Liste_pièces!M493=\"\",\"\",Liste_pièces!M493)","v":""}]
[{"$f":"IF(Liste_pièces!A494=\"\",\"ZZZ\",Liste_pièces!A494)","v":"ZZZ"},{"$f":"IF(Liste_pièces!B494=\"\",\"ZZZ\",Liste_pièces!B494)","v":"ZZZ"},{"$f":"IF(Liste_pièces!C494=\"\",\"\",Liste_pièces!C494)","v":""},{"$f":"IF(Liste_pièces!D494=\"\",\"\",Liste_pièces!D494)","v":""},{"$f":"IF(Liste_pièces!E494=\"\",\"\",Liste_pièces!E494)","v":""},{"$f":"IF(Liste_pièces!F494=\"\",\"\",Liste_pièces!F494)","v":""},{"$f":"IF(Liste_pièces!G494=\"\",\"\",Liste_pièces!G494)","v":""},{"$f":"IF(Liste_pièces!H494=\"\",\"\",Liste_pièces!H494)","v":""},{"$f":"IF(Liste_pièces!I494=\"\",\"\",Liste_pièces!I494)","v":""},{"$f":"IF(Liste_pièces!J494=\"\",\"\",Liste_pièces!J494)","v":""},{"$f":"IF(Liste_pièces!K494=\"\",\"\",Liste_pièces!K494)","v":""},{"$f":"IF(Liste_pièces!L494=\"\",\"\",Liste_pièces!L494)","v":""},{"$f":"IF(Liste_pièces!M494=\"\",\"\",Liste_pièces!M494)","v":""}]
[{"$f":"IF(Liste_pièces!A495=\"\",\"ZZZ\",Liste_pièces!A495)","v":"ZZZ"},{"$f":"IF(Liste_pièces!B495=\"\",\"ZZZ\",Liste_pièces!B495)","v":"ZZZ"},{"$f":"IF(Liste_pièces!C495=\"\",\"\",Liste_pièces!C495)","v":""},{"$f":"IF(Liste_pièces!D495=\"\",\"\",Liste_pièces!D495)","v":""},{"$f":"IF(Liste_pièces!E495=\"\",\"\",Liste_pièces!E495)","v":""},{"$f":"IF(Liste_pièces!F495=\"\",\"\",Liste_pièces!F495)","v":""},{"$f":"IF(Liste_pièces!G495=\"\",\"\",Liste_pièces!G495)","v":""},{"$f":"IF(Liste_pièces!H495=\"\",\"\",Liste_pièces!H495)","v":""},{"$f":"IF(Liste_pièces!I495=\"\",\"\",Liste_pièces!I495)","v":""},{"$f":"IF(Liste_pièces!J495=\"\",\"\",Liste_pièces!J495)","v":""},{"$f":"IF(Liste_pièces!K495=\"\",\"\",Liste_pièces!K495)","v":""},{"$f":"IF(Liste_pièces!L495=\"\",\"\",Liste_pièces!L495)","v":""},{"$f":"IF(Liste_pièces!M495=\"\",\"\",Liste_pièces!M495)","v":""}]
[{"$f":"IF(Liste_pièces!A496=\"\",\"ZZZ\",Liste_pièces!A496)","v":"ZZZ"},{"$f":"IF(Liste_pièces!B496=\"\",\"ZZZ\",Liste_pièces!B496)","v":"ZZZ"},{"$f":"IF(Liste_pièces!C496=\"\",\"\",Liste_pièces!C496)","v":""},{"$f":"IF(Liste_pièces!D496=\"\",\"\",Liste_pièces!D496)","v":""},{"$f":"IF(Liste_pièces!E496=\"\",\"\",Liste_pièces!E496)","v":""},{"$f":"IF(Liste_pièces!F496=\"\",\"\",Liste_pièces!F496)","v":""},{"$f":"IF(Liste_pièces!G496=\"\",\"\",Liste_pièces!G496)","v":""},{"$f":"IF(Liste_pièces!H496=\"\",\"\",Liste_pièces!H496)","v":""},{"$f":"IF(Liste_pièces!I496=\"\",\"\",Liste_pièces!I496)","v":""},{"$f":"IF(Liste_pièces!J496=\"\",\"\",Liste_pièces!J496)","v":""},{"$f":"IF(Liste_pièces!K496=\"\",\"\",Liste_pièces!K496)","v":""},{"$f":"IF(Liste_pièces!L496=\"\",\"\",Liste_pièces!L496)","v":""},{"$f":"IF(Liste_pièces!M496=\"\",\"\",Liste_pièces!M496)","v":""}]
[{"$f":"IF(Liste_pièces!A497=\"\",\"ZZZ\",Liste_pièces!A497)","v":"ZZZ"},{"$f":"IF(Liste_pièces!B497=\"\",\"ZZZ\",Liste_pièces!B497)","v":"ZZZ"},{"$f":"IF(Liste_pièces!C497=\"\",\"\",Liste_pièces!C497)","v":""},{"$f":"IF(Liste_pièces!D497=\"\",\"\",Liste_pièces!D497)","v":""},{"$f":"IF(Liste_pièces!E497=\"\",\"\",Liste_pièces!E497)","v":""},{"$f":"IF(Liste_pièces!F497=\"\",\"\",Liste_pièces!F497)","v":""},{"$f":"IF(Liste_pièces!G497=\"\",\"\",Liste_pièces!G497)","v":""},{"$f":"IF(Liste_pièces!H497=\"\",\"\",Liste_pièces!H497)","v":""},{"$f":"IF(Liste_pièces!I497=\"\",\"\",Liste_pièces!I497)","v":""},{"$f":"IF(Liste_pièces!J497=\"\",\"\",Liste_pièces!J497)","v":""},{"$f":"IF(Liste_pièces!K497=\"\",\"\",Liste_pièces!K497)","v":""},{"$f":"IF(Liste_pièces!L497=\"\",\"\",Liste_pièces!L497)","v":""},{"$f":"IF(Liste_pièces!M497=\"\",\"\",Liste_pièces!M497)","v":""}]
[{"$f":"IF(Liste_pièces!A498=\"\",\"ZZZ\",Liste_pièces!A498)","v":"ZZZ"},{"$f":"IF(Liste_pièces!B498=\"\",\"ZZZ\",Liste_pièces!B498)","v":"ZZZ"},{"$f":"IF(Liste_pièces!C498=\"\",\"\",Liste_pièces!C498)","v":""},{"$f":"IF(Liste_pièces!D498=\"\",\"\",Liste_pièces!D498)","v":""},{"$f":"IF(Liste_pièces!E498=\"\",\"\",Liste_pièces!E498)","v":""},{"$f":"IF(Liste_pièces!F498=\"\",\"\",Liste_pièces!F498)","v":""},{"$f":"IF(Liste_pièces!G498=\"\",\"\",Liste_pièces!G498)","v":""},{"$f":"IF(Liste_pièces!H498=\"\",\"\",Liste_pièces!H498)","v":""},{"$f":"IF(Liste_pièces!I498=\"\",\"\",Liste_pièces!I498)","v":""},{"$f":"IF(Liste_pièces!J498=\"\",\"\",Liste_pièces!J498)","v":""},{"$f":"IF(Liste_pièces!K498=\"\",\"\",Liste_pièces!K498)","v":""},{"$f":"IF(Liste_pièces!L498=\"\",\"\",Liste_pièces!L498)","v":""},{"$f":"IF(Liste_pièces!M498=\"\",\"\",Liste_pièces!M498)","v":""}]
[{"$f":"IF(Liste_pièces!A499=\"\",\"ZZZ\",Liste_pièces!A499)","v":"ZZZ"},{"$f":"IF(Liste_pièces!B499=\"\",\"ZZZ\",Liste_pièces!B499)","v":"ZZZ"},{"$f":"IF(Liste_pièces!C499=\"\",\"\",Liste_pièces!C499)","v":""},{"$f":"IF(Liste_pièces!D499=\"\",\"\",Liste_pièces!D499)","v":""},{"$f":"IF(Liste_pièces!E499=\"\",\"\",Liste_pièces!E499)","v":""},{"$f":"IF(Liste_pièces!F499=\"\",\"\",Liste_pièces!F499)","v":""},{"$f":"IF(Liste_pièces!G499=\"\",\"\",Liste_pièces!G499)","v":""},{"$f":"IF(Liste_pièces!H499=\"\",\"\",Liste_pièces!H499)","v":""},{"$f":"IF(Liste_pièces!I499=\"\",\"\",Liste_pièces!I499)","v":""},{"$f":"IF(Liste_pièces!J499=\"\",\"\",Liste_pièces!J499)","v":""},{"$f":"IF(Liste_pièces!K499=\"\",\"\",Liste_pièces!K499)","v":""},{"$f":"IF(Liste_pièces!L499=\"\",\"\",Liste_pièces!L499)","v":""},{"$f":"IF(Liste_pièces!M499=\"\",\"\",Liste_pièces!M499)","v":""}]
[{"$f":"IF(Liste_pièces!A500=\"\",\"ZZZ\",Liste_pièces!A500)","v":"ZZZ"},{"$f":"IF(Liste_pièces!B500=\"\",\"ZZZ\",Liste_pièces!B500)","v":"ZZZ"},{"$f":"IF(Liste_pièces!C500=\"\",\"\",Liste_pièces!C500)","v":""},{"$f":"IF(Liste_pièces!D500=\"\",\"\",Liste_pièces!D500)","v":""},{"$f":"IF(Liste_pièces!E500=\"\",\"\",Liste_pièces!E500)","v":""},{"$f":"IF(Liste_pièces!F500=\"\",\"\",Liste_pièces!F500)","v":""},{"$f":"IF(Liste_pièces!G500=\"\",\"\",Liste_pièces!G500)","v":""},{"$f":"IF(Liste_pièces!H500=\"\",\"\",Liste_pièces!H500)","v":""},{"$f":"IF(Liste_pièces!I500=\"\",\"\",Liste_pièces!I500)","v":""},{"$f":"IF(Liste_pièces!J500=\"\",\"\",Liste_pièces!J500)","v":""},{"$f":"IF(Liste_pièces!K500=\"\",\"\",Liste_pièces!K500)","v":""},{"$f":"IF(Liste_pièces!L500=\"\",\"\",Liste_pièces!L500)","v":""},{"$f":"IF(Liste_pièces!M500=\"\",\"\",Liste_pièces!M500)","v":""}]
[{"$f":"IF(Liste_pièces!A501=\"\",\"ZZZ\",Liste_pièces!A501)","v":"ZZZ"},{"$f":"IF(Liste_pièces!B501=\"\",\"ZZZ\",Liste_pièces!B501)","v":"ZZZ"},{"$f":"IF(Liste_pièces!C501=\"\",\"\",Liste_pièces!C501)","v":""},{"$f":"IF(Liste_pièces!D501=\"\",\"\",Liste_pièces!D501)","v":""},{"$f":"IF(Liste_pièces!E501=\"\",\"\",Liste_pièces!E501)","v":""},{"$f":"IF(Liste_pièces!F501=\"\",\"\",Liste_pièces!F501)","v":""},{"$f":"IF(Liste_pièces!G501=\"\",\"\",Liste_pièces!G501)","v":""},{"$f":"IF(Liste_pièces!H501=\"\",\"\",Liste_pièces!H501)","v":""},{"$f":"IF(Liste_pièces!I501=\"\",\"\",Liste_pièces!I501)","v":""},{"$f":"IF(Liste_pièces!J501=\"\",\"\",Liste_pièces!J501)","v":""},{"$f":"IF(Liste_pièces!K501=\"\",\"\",Liste_pièces!K501)","v":""},{"$f":"IF(Liste_pièces!L501=\"\",\"\",Liste_pièces!L501)","v":""},{"$f":"IF(Liste_pièces!M501=\"\",\"\",Liste_pièces!M501)","v":""}]
[{"$f":"IF(Liste_pièces!A502=\"\",\"ZZZ\",Liste_pièces!A502)","v":"ZZZ"},{"$f":"IF(Liste_pièces!B502=\"\",\"ZZZ\",Liste_pièces!B502)","v":"ZZZ"},{"$f":"IF(Liste_pièces!C502=\"\",\"\",Liste_pièces!C502)","v":""},{"$f":"IF(Liste_pièces!D502=\"\",\"\",Liste_pièces!D502)","v":""},{"$f":"IF(Liste_pièces!E502=\"\",\"\",Liste_pièces!E502)","v":""},{"$f":"IF(Liste_pièces!F502=\"\",\"\",Liste_pièces!F502)","v":""},{"$f":"IF(Liste_pièces!G502=\"\",\"\",Liste_pièces!G502)","v":""},{"$f":"IF(Liste_pièces!H502=\"\",\"\",Liste_pièces!H502)","v":""},{"$f":"IF(Liste_pièces!I502=\"\",\"\",Liste_pièces!I502)","v":""},{"$f":"IF(Liste_pièces!J502=\"\",\"\",Liste_pièces!J502)","v":""},{"$f":"IF(Liste_pièces!K502=\"\",\"\",Liste_pièces!K502)","v":""},{"$f":"IF(Liste_pièces!L502=\"\",\"\",Liste_pièces!L502)","v":""},{"$f":"IF(Liste_pièces!M502=\"\",\"\",Liste_pièces!M502)","v":""}]
[{"$f":"IF(Liste_pièces!A503=\"\",\"ZZZ\",Liste_pièces!A503)","v":"ZZZ"},{"$f":"IF(Liste_pièces!B503=\"\",\"ZZZ\",Liste_pièces!B503)","v":"ZZZ"},{"$f":"IF(Liste_pièces!C503=\"\",\"\",Liste_pièces!C503)","v":""},{"$f":"IF(Liste_pièces!D503=\"\",\"\",Liste_pièces!D503)","v":""},{"$f":"IF(Liste_pièces!E503=\"\",\"\",Liste_pièces!E503)","v":""},{"$f":"IF(Liste_pièces!F503=\"\",\"\",Liste_pièces!F503)","v":""},{"$f":"IF(Liste_pièces!G503=\"\",\"\",Liste_pièces!G503)","v":""},{"$f":"IF(Liste_pièces!H503=\"\",\"\",Liste_pièces!H503)","v":""},{"$f":"IF(Liste_pièces!I503=\"\",\"\",Liste_pièces!I503)","v":""},{"$f":"IF(Liste_pièces!J503=\"\",\"\",Liste_pièces!J503)","v":""},{"$f":"IF(Liste_pièces!K503=\"\",\"\",Liste_pièces!K503)","v":""},{"$f":"IF(Liste_pièces!L503=\"\",\"\",Liste_pièces!L503)","v":""},{"$f":"IF(Liste_pièces!M503=\"\",\"\",Liste_pièces!M503)","v":""}]
[{"$f":"IF(Liste_pièces!A504=\"\",\"ZZZ\",Liste_pièces!A504)","v":"ZZZ"},{"$f":"IF(Liste_pièces!B504=\"\",\"ZZZ\",Liste_pièces!B504)","v":"ZZZ"},{"$f":"IF(Liste_pièces!C504=\"\",\"\",Liste_pièces!C504)","v":""},{"$f":"IF(Liste_pièces!D504=\"\",\"\",Liste_pièces!D504)","v":""},{"$f":"IF(Liste_pièces!E504=\"\",\"\",Liste_pièces!E504)","v":""},{"$f":"IF(Liste_pièces!F504=\"\",\"\",Liste_pièces!F504)","v":""},{"$f":"IF(Liste_pièces!G504=\"\",\"\",Liste_pièces!G504)","v":""},{"$f":"IF(Liste_pièces!H504=\"\",\"\",Liste_pièces!H504)","v":""},{"$f":"IF(Liste_pièces!I504=\"\",\"\",Liste_pièces!I504)","v":""},{"$f":"IF(Liste_pièces!J504=\"\",\"\",Liste_pièces!J504)","v":""},{"$f":"IF(Liste_pièces!K504=\"\",\"\",Liste_pièces!K504)","v":""},{"$f":"IF(Liste_pièces!L504=\"\",\"\",Liste_pièces!L504)","v":""},{"$f":"IF(Liste_pièces!M504=\"\",\"\",Liste_pièces!M504)","v":""}]
[{"$f":"IF(Liste_pièces!A505=\"\",\"ZZZ\",Liste_pièces!A505)","v":"ZZZ"},{"$f":"IF(Liste_pièces!B505=\"\",\"ZZZ\",Liste_pièces!B505)","v":"ZZZ"},{"$f":"IF(Liste_pièces!C505=\"\",\"\",Liste_pièces!C505)","v":""},{"$f":"IF(Liste_pièces!D505=\"\",\"\",Liste_pièces!D505)","v":""},{"$f":"IF(Liste_pièces!E505=\"\",\"\",Liste_pièces!E505)","v":""},{"$f":"IF(Liste_pièces!F505=\"\",\"\",Liste_pièces!F505)","v":""},{"$f":"IF(Liste_pièces!G505=\"\",\"\",Liste_pièces!G505)","v":""},{"$f":"IF(Liste_pièces!H505=\"\",\"\",Liste_pièces!H505)","v":""},{"$f":"IF(Liste_pièces!I505=\"\",\"\",Liste_pièces!I505)","v":""},{"$f":"IF(Liste_pièces!J505=\"\",\"\",Liste_pièces!J505)","v":""},{"$f":"IF(Liste_pièces!K505=\"\",\"\",Liste_pièces!K505)","v":""},{"$f":"IF(Liste_pièces!L505=\"\",\"\",Liste_pièces!L505)","v":""},{"$f":"IF(Liste_pièces!M505=\"\",\"\",Liste_pièces!M505)","v":""}]
[{"$f":"IF(Liste_pièces!A506=\"\",\"ZZZ\",Liste_pièces!A506)","v":"ZZZ"},{"$f":"IF(Liste_pièces!B506=\"\",\"ZZZ\",Liste_pièces!B506)","v":"ZZZ"},{"$f":"IF(Liste_pièces!C506=\"\",\"\",Liste_pièces!C506)","v":""},{"$f":"IF(Liste_pièces!D506=\"\",\"\",Liste_pièces!D506)","v":""},{"$f":"IF(Liste_pièces!E506=\"\",\"\",Liste_pièces!E506)","v":""},{"$f":"IF(Liste_pièces!F506=\"\",\"\",Liste_pièces!F506)","v":""},{"$f":"IF(Liste_pièces!G506=\"\",\"\",Liste_pièces!G506)","v":""},{"$f":"IF(Liste_pièces!H506=\"\",\"\",Liste_pièces!H506)","v":""},{"$f":"IF(Liste_pièces!I506=\"\",\"\",Liste_pièces!I506)","v":""},{"$f":"IF(Liste_pièces!J506=\"\",\"\",Liste_pièces!J506)","v":""},{"$f":"IF(Liste_pièces!K506=\"\",\"\",Liste_pièces!K506)","v":""},{"$f":"IF(Liste_pièces!L506=\"\",\"\",Liste_pièces!L506)","v":""},{"$f":"IF(Liste_pièces!M506=\"\",\"\",Liste_pièces!M506)","v":""}]
[{"$f":"IF(Liste_pièces!A507=\"\",\"ZZZ\",Liste_pièces!A507)","v":"ZZZ"},{"$f":"IF(Liste_pièces!B507=\"\",\"ZZZ\",Liste_pièces!B507)","v":"ZZZ"},{"$f":"IF(Liste_pièces!C507=\"\",\"\",Liste_pièces!C507)","v":""},{"$f":"IF(Liste_pièces!D507=\"\",\"\",Liste_pièces!D507)","v":""},{"$f":"IF(Liste_pièces!E507=\"\",\"\",Liste_pièces!E507)","v":""},{"$f":"IF(Liste_pièces!F507=\"\",\"\",Liste_pièces!F507)","v":""},{"$f":"IF(Liste_pièces!G507=\"\",\"\",Liste_pièces!G507)","v":""},{"$f":"IF(Liste_pièces!H507=\"\",\"\",Liste_pièces!H507)","v":""},{"$f":"IF(Liste_pièces!I507=\"\",\"\",Liste_pièces!I507)","v":""},{"$f":"IF(Liste_pièces!J507=\"\",\"\",Liste_pièces!J507)","v":""},{"$f":"IF(Liste_pièces!K507=\"\",\"\",Liste_pièces!K507)","v":""},{"$f":"IF(Liste_pièces!L507=\"\",\"\",Liste_pièces!L507)","v":""},{"$f":"IF(Liste_pièces!M507=\"\",\"\",Liste_pièces!M507)","v":""}]
[{"$f":"IF(Liste_pièces!A508=\"\",\"ZZZ\",Liste_pièces!A508)","v":"ZZZ"},{"$f":"IF(Liste_pièces!B508=\"\",\"ZZZ\",Liste_pièces!B508)","v":"ZZZ"},{"$f":"IF(Liste_pièces!C508=\"\",\"\",Liste_pièces!C508)","v":""},{"$f":"IF(Liste_pièces!D508=\"\",\"\",Liste_pièces!D508)","v":""},{"$f":"IF(Liste_pièces!E508=\"\",\"\",Liste_pièces!E508)","v":""},{"$f":"IF(Liste_pièces!F508=\"\",\"\",Liste_pièces!F508)","v":""},{"$f":"IF(Liste_pièces!G508=\"\",\"\",Liste_pièces!G508)","v":""},{"$f":"IF(Liste_pièces!H508=\"\",\"\",Liste_pièces!H508)","v":""},{"$f":"IF(Liste_pièces!I508=\"\",\"\",Liste_pièces!I508)","v":""},{"$f":"IF(Liste_pièces!J508=\"\",\"\",Liste_pièces!J508)","v":""},{"$f":"IF(Liste_pièces!K508=\"\",\"\",Liste_pièces!K508)","v":""},{"$f":"IF(Liste_pièces!L508=\"\",\"\",Liste_pièces!L508)","v":""},{"$f":"IF(Liste_pièces!M508=\"\",\"\",Liste_pièces!M508)","v":""}]
[{"$f":"IF(Liste_pièces!A509=\"\",\"ZZZ\",Liste_pièces!A509)","v":"ZZZ"},{"$f":"IF(Liste_pièces!B509=\"\",\"ZZZ\",Liste_pièces!B509)","v":"ZZZ"},{"$f":"IF(Liste_pièces!C509=\"\",\"\",Liste_pièces!C509)","v":""},{"$f":"IF(Liste_pièces!D509=\"\",\"\",Liste_pièces!D509)","v":""},{"$f":"IF(Liste_pièces!E509=\"\",\"\",Liste_pièces!E509)","v":""},{"$f":"IF(Liste_pièces!F509=\"\",\"\",Liste_pièces!F509)","v":""},{"$f":"IF(Liste_pièces!G509=\"\",\"\",Liste_pièces!G509)","v":""},{"$f":"IF(Liste_pièces!H509=\"\",\"\",Liste_pièces!H509)","v":""},{"$f":"IF(Liste_pièces!I509=\"\",\"\",Liste_pièces!I509)","v":""},{"$f":"IF(Liste_pièces!J509=\"\",\"\",Liste_pièces!J509)","v":""},{"$f":"IF(Liste_pièces!K509=\"\",\"\",Liste_pièces!K509)","v":""},{"$f":"IF(Liste_pièces!L509=\"\",\"\",Liste_pièces!L509)","v":""},{"$f":"IF(Liste_pièces!M509=\"\",\"\",Liste_pièces!M509)","v":""}]
[{"$f":"IF(Liste_pièces!A510=\"\",\"ZZZ\",Liste_pièces!A510)","v":"ZZZ"},{"$f":"IF(Liste_pièces!B510=\"\",\"ZZZ\",Liste_pièces!B510)","v":"ZZZ"},{"$f":"IF(Liste_pièces!C510=\"\",\"\",Liste_pièces!C510)","v":""},{"$f":"IF(Liste_pièces!D510=\"\",\"\",Liste_pièces!D510)","v":""},{"$f":"IF(Liste_pièces!E510=\"\",\"\",Liste_pièces!E510)","v":""},{"$f":"IF(Liste_pièces!F510=\"\",\"\",Liste_pièces!F510)","v":""},{"$f":"IF(Liste_pièces!G510=\"\",\"\",Liste_pièces!G510)","v":""},{"$f":"IF(Liste_pièces!H510=\"\",\"\",Liste_pièces!H510)","v":""},{"$f":"IF(Liste_pièces!I510=\"\",\"\",Liste_pièces!I510)","v":""},{"$f":"IF(Liste_pièces!J510=\"\",\"\",Liste_pièces!J510)","v":""},{"$f":"IF(Liste_pièces!K510=\"\",\"\",Liste_pièces!K510)","v":""},{"$f":"IF(Liste_pièces!L510=\"\",\"\",Liste_pièces!L510)","v":""},{"$f":"IF(Liste_pièces!M510=\"\",\"\",Liste_pièces!M510)","v":""}]
[{"$f":"IF(Liste_pièces!A511=\"\",\"ZZZ\",Liste_pièces!A511)","v":"ZZZ"},{"$f":"IF(Liste_pièces!B511=\"\",\"ZZZ\",Liste_pièces!B511)","v":"ZZZ"},{"$f":"IF(Liste_pièces!C511=\"\",\"\",Liste_pièces!C511)","v":""},{"$f":"IF(Liste_pièces!D511=\"\",\"\",Liste_pièces!D511)","v":""},{"$f":"IF(Liste_pièces!E511=\"\",\"\",Liste_pièces!E511)","v":""},{"$f":"IF(Liste_pièces!F511=\"\",\"\",Liste_pièces!F511)","v":""},{"$f":"IF(Liste_pièces!G511=\"\",\"\",Liste_pièces!G511)","v":""},{"$f":"IF(Liste_pièces!H511=\"\",\"\",Liste_pièces!H511)","v":""},{"$f":"IF(Liste_pièces!I511=\"\",\"\",Liste_pièces!I511)","v":""},{"$f":"IF(Liste_pièces!J511=\"\",\"\",Liste_pièces!J511)","v":""},{"$f":"IF(Liste_pièces!K511=\"\",\"\",Liste_pièces!K511)","v":""},{"$f":"IF(Liste_pièces!L511=\"\",\"\",Liste_pièces!L511)","v":""},{"$f":"IF(Liste_pièces!M511=\"\",\"\",Liste_pièces!M511)","v":""}]
[{"$f":"IF(Liste_pièces!A512=\"\",\"ZZZ\",Liste_pièces!A512)","v":"ZZZ"},{"$f":"IF(Liste_pièces!B512=\"\",\"ZZZ\",Liste_pièces!B512)","v":"ZZZ"},{"$f":"IF(Liste_pièces!C512=\"\",\"\",Liste_pièces!C512)","v":""},{"$f":"IF(Liste_pièces!D512=\"\",\"\",Liste_pièces!D512)","v":""},{"$f":"IF(Liste_pièces!E512=\"\",\"\",Liste_pièces!E512)","v":""},{"$f":"IF(Liste_pièces!F512=\"\",\"\",Liste_pièces!F512)","v":""},{"$f":"IF(Liste_pièces!G512=\"\",\"\",Liste_pièces!G512)","v":""},{"$f":"IF(Liste_pièces!H512=\"\",\"\",Liste_pièces!H512)","v":""},{"$f":"IF(Liste_pièces!I512=\"\",\"\",Liste_pièces!I512)","v":""},{"$f":"IF(Liste_pièces!J512=\"\",\"\",Liste_pièces!J512)","v":""},{"$f":"IF(Liste_pièces!K512=\"\",\"\",Liste_pièces!K512)","v":""},{"$f":"IF(Liste_pièces!L512=\"\",\"\",Liste_pièces!L512)","v":""},{"$f":"IF(Liste_pièces!M512=\"\",\"\",Liste_pièces!M512)","v":""}]
[{"$f":"IF(Liste_pièces!A513=\"\",\"ZZZ\",Liste_pièces!A513)","v":"ZZZ"},{"$f":"IF(Liste_pièces!B513=\"\",\"ZZZ\",Liste_pièces!B513)","v":"ZZZ"},{"$f":"IF(Liste_pièces!C513=\"\",\"\",Liste_pièces!C513)","v":""},{"$f":"IF(Liste_pièces!D513=\"\",\"\",Liste_pièces!D513)","v":""},{"$f":"IF(Liste_pièces!E513=\"\",\"\",Liste_pièces!E513)","v":""},{"$f":"IF(Liste_pièces!F513=\"\",\"\",Liste_pièces!F513)","v":""},{"$f":"IF(Liste_pièces!G513=\"\",\"\",Liste_pièces!G513)","v":""},{"$f":"IF(Liste_pièces!H513=\"\",\"\",Liste_pièces!H513)","v":""},{"$f":"IF(Liste_pièces!I513=\"\",\"\",Liste_pièces!I513)","v":""},{"$f":"IF(Liste_pièces!J513=\"\",\"\",Liste_pièces!J513)","v":""},{"$f":"IF(Liste_pièces!K513=\"\",\"\",Liste_pièces!K513)","v":""},{"$f":"IF(Liste_pièces!L513=\"\",\"\",Liste_pièces!L513)","v":""},{"$f":"IF(Liste_pièces!M513=\"\",\"\",Liste_pièces!M513)","v":""}]
[{"$f":"IF(Liste_pièces!A514=\"\",\"ZZZ\",Liste_pièces!A514)","v":"ZZZ"},{"$f":"IF(Liste_pièces!B514=\"\",\"ZZZ\",Liste_pièces!B514)","v":"ZZZ"},{"$f":"IF(Liste_pièces!C514=\"\",\"\",Liste_pièces!C514)","v":""},{"$f":"IF(Liste_pièces!D514=\"\",\"\",Liste_pièces!D514)","v":""},{"$f":"IF(Liste_pièces!E514=\"\",\"\",Liste_pièces!E514)","v":""},{"$f":"IF(Liste_pièces!F514=\"\",\"\",Liste_pièces!F514)","v":""},{"$f":"IF(Liste_pièces!G514=\"\",\"\",Liste_pièces!G514)","v":""},{"$f":"IF(Liste_pièces!H514=\"\",\"\",Liste_pièces!H514)","v":""},{"$f":"IF(Liste_pièces!I514=\"\",\"\",Liste_pièces!I514)","v":""},{"$f":"IF(Liste_pièces!J514=\"\",\"\",Liste_pièces!J514)","v":""},{"$f":"IF(Liste_pièces!K514=\"\",\"\",Liste_pièces!K514)","v":""},{"$f":"IF(Liste_pièces!L514=\"\",\"\",Liste_pièces!L514)","v":""},{"$f":"IF(Liste_pièces!M514=\"\",\"\",Liste_pièces!M514)","v":""}]
[{"$f":"IF(Liste_pièces!A515=\"\",\"ZZZ\",Liste_pièces!A515)","v":"ZZZ"},{"$f":"IF(Liste_pièces!B515=\"\",\"ZZZ\",Liste_pièces!B515)","v":"ZZZ"},{"$f":"IF(Liste_pièces!C515=\"\",\"\",Liste_pièces!C515)","v":""},{"$f":"IF(Liste_pièces!D515=\"\",\"\",Liste_pièces!D515)","v":""},{"$f":"IF(Liste_pièces!E515=\"\",\"\",Liste_pièces!E515)","v":""},{"$f":"IF(Liste_pièces!F515=\"\",\"\",Liste_pièces!F515)","v":""},{"$f":"IF(Liste_pièces!G515=\"\",\"\",Liste_pièces!G515)","v":""},{"$f":"IF(Liste_pièces!H515=\"\",\"\",Liste_pièces!H515)","v":""},{"$f":"IF(Liste_pièces!I515=\"\",\"\",Liste_pièces!I515)","v":""},{"$f":"IF(Liste_pièces!J515=\"\",\"\",Liste_pièces!J515)","v":""},{"$f":"IF(Liste_pièces!K515=\"\",\"\",Liste_pièces!K515)","v":""},{"$f":"IF(Liste_pièces!L515=\"\",\"\",Liste_pièces!L515)","v":""},{"$f":"IF(Liste_pièces!M515=\"\",\"\",Liste_pièces!M515)","v":""}]
[{"$f":"IF(Liste_pièces!A516=\"\",\"ZZZ\",Liste_pièces!A516)","v":"ZZZ"},{"$f":"IF(Liste_pièces!B516=\"\",\"ZZZ\",Liste_pièces!B516)","v":"ZZZ"},{"$f":"IF(Liste_pièces!C516=\"\",\"\",Liste_pièces!C516)","v":""},{"$f":"IF(Liste_pièces!D516=\"\",\"\",Liste_pièces!D516)","v":""},{"$f":"IF(Liste_pièces!E516=\"\",\"\",Liste_pièces!E516)","v":""},{"$f":"IF(Liste_pièces!F516=\"\",\"\",Liste_pièces!F516)","v":""},{"$f":"IF(Liste_pièces!G516=\"\",\"\",Liste_pièces!G516)","v":""},{"$f":"IF(Liste_pièces!H516=\"\",\"\",Liste_pièces!H516)","v":""},{"$f":"IF(Liste_pièces!I516=\"\",\"\",Liste_pièces!I516)","v":""},{"$f":"IF(Liste_pièces!J516=\"\",\"\",Liste_pièces!J516)","v":""},{"$f":"IF(Liste_pièces!K516=\"\",\"\",Liste_pièces!K516)","v":""},{"$f":"IF(Liste_pièces!L516=\"\",\"\",Liste_pièces!L516)","v":""},{"$f":"IF(Liste_pièces!M516=\"\",\"\",Liste_pièces!M516)","v":""}]
[{"$f":"IF(Liste_pièces!A517=\"\",\"ZZZ\",Liste_pièces!A517)","v":"ZZZ"},{"$f":"IF(Liste_pièces!B517=\"\",\"ZZZ\",Liste_pièces!B517)","v":"ZZZ"},{"$f":"IF(Liste_pièces!C517=\"\",\"\",Liste_pièces!C517)","v":""},{"$f":"IF(Liste_pièces!D517=\"\",\"\",Liste_pièces!D517)","v":""},{"$f":"IF(Liste_pièces!E517=\"\",\"\",Liste_pièces!E517)","v":""},{"$f":"IF(Liste_pièces!F517=\"\",\"\",Liste_pièces!F517)","v":""},{"$f":"IF(Liste_pièces!G517=\"\",\"\",Liste_pièces!G517)","v":""},{"$f":"IF(Liste_pièces!H517=\"\",\"\",Liste_pièces!H517)","v":""},{"$f":"IF(Liste_pièces!I517=\"\",\"\",Liste_pièces!I517)","v":""},{"$f":"IF(Liste_pièces!J517=\"\",\"\",Liste_pièces!J517)","v":""},{"$f":"IF(Liste_pièces!K517=\"\",\"\",Liste_pièces!K517)","v":""},{"$f":"IF(Liste_pièces!L517=\"\",\"\",Liste_pièces!L517)","v":""},{"$f":"IF(Liste_pièces!M517=\"\",\"\",Liste_pièces!M517)","v":""}]
[{"$f":"IF(Liste_pièces!A518=\"\",\"ZZZ\",Liste_pièces!A518)","v":"ZZZ"},{"$f":"IF(Liste_pièces!B518=\"\",\"ZZZ\",Liste_pièces!B518)","v":"ZZZ"},{"$f":"IF(Liste_pièces!C518=\"\",\"\",Liste_pièces!C518)","v":""},{"$f":"IF(Liste_pièces!D518=\"\",\"\",Liste_pièces!D518)","v":""},{"$f":"IF(Liste_pièces!E518=\"\",\"\",Liste_pièces!E518)","v":""},{"$f":"IF(Liste_pièces!F518=\"\",\"\",Liste_pièces!F518)","v":""},{"$f":"IF(Liste_pièces!G518=\"\",\"\",Liste_pièces!G518)","v":""},{"$f":"IF(Liste_pièces!H518=\"\",\"\",Liste_pièces!H518)","v":""},{"$f":"IF(Liste_pièces!I518=\"\",\"\",Liste_pièces!I518)","v":""},{"$f":"IF(Liste_pièces!J518=\"\",\"\",Liste_pièces!J518)","v":""},{"$f":"IF(Liste_pièces!K518=\"\",\"\",Liste_pièces!K518)","v":""},{"$f":"IF(Liste_pièces!L518=\"\",\"\",Liste_pièces!L518)","v":""},{"$f":"IF(Liste_pièces!M518=\"\",\"\",Liste_pièces!M518)","v":""}]
[{"$f":"IF(Liste_pièces!A519=\"\",\"ZZZ\",Liste_pièces!A519)","v":"ZZZ"},{"$f":"IF(Liste_pièces!B519=\"\",\"ZZZ\",Liste_pièces!B519)","v":"ZZZ"},{"$f":"IF(Liste_pièces!C519=\"\",\"\",Liste_pièces!C519)","v":""},{"$f":"IF(Liste_pièces!D519=\"\",\"\",Liste_pièces!D519)","v":""},{"$f":"IF(Liste_pièces!E519=\"\",\"\",Liste_pièces!E519)","v":""},{"$f":"IF(Liste_pièces!F519=\"\",\"\",Liste_pièces!F519)","v":""},{"$f":"IF(Liste_pièces!G519=\"\",\"\",Liste_pièces!G519)","v":""},{"$f":"IF(Liste_pièces!H519=\"\",\"\",Liste_pièces!H519)","v":""},{"$f":"IF(Liste_pièces!I519=\"\",\"\",Liste_pièces!I519)","v":""},{"$f":"IF(Liste_pièces!J519=\"\",\"\",Liste_pièces!J519)","v":""},{"$f":"IF(Liste_pièces!K519=\"\",\"\",Liste_pièces!K519)","v":""},{"$f":"IF(Liste_pièces!L519=\"\",\"\",Liste_pièces!L519)","v":""},{"$f":"IF(Liste_pièces!M519=\"\",\"\",Liste_pièces!M519)","v":""}]
[{"$f":"IF(Liste_pièces!A520=\"\",\"ZZZ\",Liste_pièces!A520)","v":"ZZZ"},{"$f":"IF(Liste_pièces!B520=\"\",\"ZZZ\",Liste_pièces!B520)","v":"ZZZ"},{"$f":"IF(Liste_pièces!C520=\"\",\"\",Liste_pièces!C520)","v":""},{"$f":"IF(Liste_pièces!D520=\"\",\"\",Liste_pièces!D520)","v":""},{"$f":"IF(Liste_pièces!E520=\"\",\"\",Liste_pièces!E520)","v":""},{"$f":"IF(Liste_pièces!F520=\"\",\"\",Liste_pièces!F520)","v":""},{"$f":"IF(Liste_pièces!G520=\"\",\"\",Liste_pièces!G520)","v":""},{"$f":"IF(Liste_pièces!H520=\"\",\"\",Liste_pièces!H520)","v":""},{"$f":"IF(Liste_pièces!I520=\"\",\"\",Liste_pièces!I520)","v":""},{"$f":"IF(Liste_pièces!J520=\"\",\"\",Liste_pièces!J520)","v":""},{"$f":"IF(Liste_pièces!K520=\"\",\"\",Liste_pièces!K520)","v":""},{"$f":"IF(Liste_pièces!L520=\"\",\"\",Liste_pièces!L520)","v":""},{"$f":"IF(Liste_pièces!M520=\"\",\"\",Liste_pièces!M520)","v":""}]
[{"$f":"IF(Liste_pièces!A521=\"\",\"ZZZ\",Liste_pièces!A521)","v":"ZZZ"},{"$f":"IF(Liste_pièces!B521=\"\",\"ZZZ\",Liste_pièces!B521)","v":"ZZZ"},{"$f":"IF(Liste_pièces!C521=\"\",\"\",Liste_pièces!C521)","v":""},{"$f":"IF(Liste_pièces!D521=\"\",\"\",Liste_pièces!D521)","v":""},{"$f":"IF(Liste_pièces!E521=\"\",\"\",Liste_pièces!E521)","v":""},{"$f":"IF(Liste_pièces!F521=\"\",\"\",Liste_pièces!F521)","v":""},{"$f":"IF(Liste_pièces!G521=\"\",\"\",Liste_pièces!G521)","v":""},{"$f":"IF(Liste_pièces!H521=\"\",\"\",Liste_pièces!H521)","v":""},{"$f":"IF(Liste_pièces!I521=\"\",\"\",Liste_pièces!I521)","v":""},{"$f":"IF(Liste_pièces!J521=\"\",\"\",Liste_pièces!J521)","v":""},{"$f":"IF(Liste_pièces!K521=\"\",\"\",Liste_pièces!K521)","v":""},{"$f":"IF(Liste_pièces!L521=\"\",\"\",Liste_pièces!L521)","v":""},{"$f":"IF(Liste_pièces!M521=\"\",\"\",Liste_pièces!M521)","v":""}]
[{"$f":"IF(Liste_pièces!A522=\"\",\"ZZZ\",Liste_pièces!A522)","v":"ZZZ"},{"$f":"IF(Liste_pièces!B522=\"\",\"ZZZ\",Liste_pièces!B522)","v":"ZZZ"},{"$f":"IF(Liste_pièces!C522=\"\",\"\",Liste_pièces!C522)","v":""},{"$f":"IF(Liste_pièces!D522=\"\",\"\",Liste_pièces!D522)","v":""},{"$f":"IF(Liste_pièces!E522=\"\",\"\",Liste_pièces!E522)","v":""},{"$f":"IF(Liste_pièces!F522=\"\",\"\",Liste_pièces!F522)","v":""},{"$f":"IF(Liste_pièces!G522=\"\",\"\",Liste_pièces!G522)","v":""},{"$f":"IF(Liste_pièces!H522=\"\",\"\",Liste_pièces!H522)","v":""},{"$f":"IF(Liste_pièces!I522=\"\",\"\",Liste_pièces!I522)","v":""},{"$f":"IF(Liste_pièces!J522=\"\",\"\",Liste_pièces!J522)","v":""},{"$f":"IF(Liste_pièces!K522=\"\",\"\",Liste_pièces!K522)","v":""},{"$f":"IF(Liste_pièces!L522=\"\",\"\",Liste_pièces!L522)","v":""},{"$f":"IF(Liste_pièces!M522=\"\",\"\",Liste_pièces!M522)","v":""}]
[{"$f":"IF(Liste_pièces!A523=\"\",\"ZZZ\",Liste_pièces!A523)","v":"ZZZ"},{"$f":"IF(Liste_pièces!B523=\"\",\"ZZZ\",Liste_pièces!B523)","v":"ZZZ"},{"$f":"IF(Liste_pièces!C523=\"\",\"\",Liste_pièces!C523)","v":""},{"$f":"IF(Liste_pièces!D523=\"\",\"\",Liste_pièces!D523)","v":""},{"$f":"IF(Liste_pièces!E523=\"\",\"\",Liste_pièces!E523)","v":""},{"$f":"IF(Liste_pièces!F523=\"\",\"\",Liste_pièces!F523)","v":""},{"$f":"IF(Liste_pièces!G523=\"\",\"\",Liste_pièces!G523)","v":""},{"$f":"IF(Liste_pièces!H523=\"\",\"\",Liste_pièces!H523)","v":""},{"$f":"IF(Liste_pièces!I523=\"\",\"\",Liste_pièces!I523)","v":""},{"$f":"IF(Liste_pièces!J523=\"\",\"\",Liste_pièces!J523)","v":""},{"$f":"IF(Liste_pièces!K523=\"\",\"\",Liste_pièces!K523)","v":""},{"$f":"IF(Liste_pièces!L523=\"\",\"\",Liste_pièces!L523)","v":""},{"$f":"IF(Liste_pièces!M523=\"\",\"\",Liste_pièces!M523)","v":""}]
[{"$f":"IF(Liste_pièces!A524=\"\",\"ZZZ\",Liste_pièces!A524)","v":"ZZZ"},{"$f":"IF(Liste_pièces!B524=\"\",\"ZZZ\",Liste_pièces!B524)","v":"ZZZ"},{"$f":"IF(Liste_pièces!C524=\"\",\"\",Liste_pièces!C524)","v":""},{"$f":"IF(Liste_pièces!D524=\"\",\"\",Liste_pièces!D524)","v":""},{"$f":"IF(Liste_pièces!E524=\"\",\"\",Liste_pièces!E524)","v":""},{"$f":"IF(Liste_pièces!F524=\"\",\"\",Liste_pièces!F524)","v":""},{"$f":"IF(Liste_pièces!G524=\"\",\"\",Liste_pièces!G524)","v":""},{"$f":"IF(Liste_pièces!H524=\"\",\"\",Liste_pièces!H524)","v":""},{"$f":"IF(Liste_pièces!I524=\"\",\"\",Liste_pièces!I524)","v":""},{"$f":"IF(Liste_pièces!J524=\"\",\"\",Liste_pièces!J524)","v":""},{"$f":"IF(Liste_pièces!K524=\"\",\"\",Liste_pièces!K524)","v":""},{"$f":"IF(Liste_pièces!L524=\"\",\"\",Liste_pièces!L524)","v":""},{"$f":"IF(Liste_pièces!M524=\"\",\"\",Liste_pièces!M524)","v":""}]
[{"$f":"IF(Liste_pièces!A525=\"\",\"ZZZ\",Liste_pièces!A525)","v":"ZZZ"},{"$f":"IF(Liste_pièces!B525=\"\",\"ZZZ\",Liste_pièces!B525)","v":"ZZZ"},{"$f":"IF(Liste_pièces!C525=\"\",\"\",Liste_pièces!C525)","v":""},{"$f":"IF(Liste_pièces!D525=\"\",\"\",Liste_pièces!D525)","v":""},{"$f":"IF(Liste_pièces!E525=\"\",\"\",Liste_pièces!E525)","v":""},{"$f":"IF(Liste_pièces!F525=\"\",\"\",Liste_pièces!F525)","v":""},{"$f":"IF(Liste_pièces!G525=\"\",\"\",Liste_pièces!G525)","v":""},{"$f":"IF(Liste_pièces!H525=\"\",\"\",Liste_pièces!H525)","v":""},{"$f":"IF(Liste_pièces!I525=\"\",\"\",Liste_pièces!I525)","v":""},{"$f":"IF(Liste_pièces!J525=\"\",\"\",Liste_pièces!J525)","v":""},{"$f":"IF(Liste_pièces!K525=\"\",\"\",Liste_pièces!K525)","v":""},{"$f":"IF(Liste_pièces!L525=\"\",\"\",Liste_pièces!L525)","v":""},{"$f":"IF(Liste_pièces!M525=\"\",\"\",Liste_pièces!M525)","v":""}]
[{"$f":"IF(Liste_pièces!A526=\"\",\"ZZZ\",Liste_pièces!A526)","v":"ZZZ"},{"$f":"IF(Liste_pièces!B526=\"\",\"ZZZ\",Liste_pièces!B526)","v":"ZZZ"},{"$f":"IF(Liste_pièces!C526=\"\",\"\",Liste_pièces!C526)","v":""},{"$f":"IF(Liste_pièces!D526=\"\",\"\",Liste_pièces!D526)","v":""},{"$f":"IF(Liste_pièces!E526=\"\",\"\",Liste_pièces!E526)","v":""},{"$f":"IF(Liste_pièces!F526=\"\",\"\",Liste_pièces!F526)","v":""},{"$f":"IF(Liste_pièces!G526=\"\",\"\",Liste_pièces!G526)","v":""},{"$f":"IF(Liste_pièces!H526=\"\",\"\",Liste_pièces!H526)","v":""},{"$f":"IF(Liste_pièces!I526=\"\",\"\",Liste_pièces!I526)","v":""},{"$f":"IF(Liste_pièces!J526=\"\",\"\",Liste_pièces!J526)","v":""},{"$f":"IF(Liste_pièces!K526=\"\",\"\",Liste_pièces!K526)","v":""},{"$f":"IF(Liste_pièces!L526=\"\",\"\",Liste_pièces!L526)","v":""},{"$f":"IF(Liste_pièces!M526=\"\",\"\",Liste_pièces!M526)","v":""}]
[{"$f":"IF(Liste_pièces!A527=\"\",\"ZZZ\",Liste_pièces!A527)","v":"ZZZ"},{"$f":"IF(Liste_pièces!B527=\"\",\"ZZZ\",Liste_pièces!B527)","v":"ZZZ"},{"$f":"IF(Liste_pièces!C527=\"\",\"\",Liste_pièces!C527)","v":""},{"$f":"IF(Liste_pièces!D527=\"\",\"\",Liste_pièces!D527)","v":""},{"$f":"IF(Liste_pièces!E527=\"\",\"\",Liste_pièces!E527)","v":""},{"$f":"IF(Liste_pièces!F527=\"\",\"\",Liste_pièces!F527)","v":""},{"$f":"IF(Liste_pièces!G527=\"\",\"\",Liste_pièces!G527)","v":""},{"$f":"IF(Liste_pièces!H527=\"\",\"\",Liste_pièces!H527)","v":""},{"$f":"IF(Liste_pièces!I527=\"\",\"\",Liste_pièces!I527)","v":""},{"$f":"IF(Liste_pièces!J527=\"\",\"\",Liste_pièces!J527)","v":""},{"$f":"IF(Liste_pièces!K527=\"\",\"\",Liste_pièces!K527)","v":""},{"$f":"IF(Liste_pièces!L527=\"\",\"\",Liste_pièces!L527)","v":""},{"$f":"IF(Liste_pièces!M527=\"\",\"\",Liste_pièces!M527)","v":""}]
[{"$f":"IF(Liste_pièces!A528=\"\",\"ZZZ\",Liste_pièces!A528)","v":"ZZZ"},{"$f":"IF(Liste_pièces!B528=\"\",\"ZZZ\",Liste_pièces!B528)","v":"ZZZ"},{"$f":"IF(Liste_pièces!C528=\"\",\"\",Liste_pièces!C528)","v":""},{"$f":"IF(Liste_pièces!D528=\"\",\"\",Liste_pièces!D528)","v":""},{"$f":"IF(Liste_pièces!E528=\"\",\"\",Liste_pièces!E528)","v":""},{"$f":"IF(Liste_pièces!F528=\"\",\"\",Liste_pièces!F528)","v":""},{"$f":"IF(Liste_pièces!G528=\"\",\"\",Liste_pièces!G528)","v":""},{"$f":"IF(Liste_pièces!H528=\"\",\"\",Liste_pièces!H528)","v":""},{"$f":"IF(Liste_pièces!I528=\"\",\"\",Liste_pièces!I528)","v":""},{"$f":"IF(Liste_pièces!J528=\"\",\"\",Liste_pièces!J528)","v":""},{"$f":"IF(Liste_pièces!K528=\"\",\"\",Liste_pièces!K528)","v":""},{"$f":"IF(Liste_pièces!L528=\"\",\"\",Liste_pièces!L528)","v":""},{"$f":"IF(Liste_pièces!M528=\"\",\"\",Liste_pièces!M528)","v":""}]
[{"$f":"IF(Liste_pièces!A529=\"\",\"ZZZ\",Liste_pièces!A529)","v":"ZZZ"},{"$f":"IF(Liste_pièces!B529=\"\",\"ZZZ\",Liste_pièces!B529)","v":"ZZZ"},{"$f":"IF(Liste_pièces!C529=\"\",\"\",Liste_pièces!C529)","v":""},{"$f":"IF(Liste_pièces!D529=\"\",\"\",Liste_pièces!D529)","v":""},{"$f":"IF(Liste_pièces!E529=\"\",\"\",Liste_pièces!E529)","v":""},{"$f":"IF(Liste_pièces!F529=\"\",\"\",Liste_pièces!F529)","v":""},{"$f":"IF(Liste_pièces!G529=\"\",\"\",Liste_pièces!G529)","v":""},{"$f":"IF(Liste_pièces!H529=\"\",\"\",Liste_pièces!H529)","v":""},{"$f":"IF(Liste_pièces!I529=\"\",\"\",Liste_pièces!I529)","v":""},{"$f":"IF(Liste_pièces!J529=\"\",\"\",Liste_pièces!J529)","v":""},{"$f":"IF(Liste_pièces!K529=\"\",\"\",Liste_pièces!K529)","v":""},{"$f":"IF(Liste_pièces!L529=\"\",\"\",Liste_pièces!L529)","v":""},{"$f":"IF(Liste_pièces!M529=\"\",\"\",Liste_pièces!M529)","v":""}]
[{"$f":"IF(Liste_pièces!A530=\"\",\"ZZZ\",Liste_pièces!A530)","v":"ZZZ"},{"$f":"IF(Liste_pièces!B530=\"\",\"ZZZ\",Liste_pièces!B530)","v":"ZZZ"},{"$f":"IF(Liste_pièces!C530=\"\",\"\",Liste_pièces!C530)","v":""},{"$f":"IF(Liste_pièces!D530=\"\",\"\",Liste_pièces!D530)","v":""},{"$f":"IF(Liste_pièces!E530=\"\",\"\",Liste_pièces!E530)","v":""},{"$f":"IF(Liste_pièces!F530=\"\",\"\",Liste_pièces!F530)","v":""},{"$f":"IF(Liste_pièces!G530=\"\",\"\",Liste_pièces!G530)","v":""},{"$f":"IF(Liste_pièces!H530=\"\",\"\",Liste_pièces!H530)","v":""},{"$f":"IF(Liste_pièces!I530=\"\",\"\",Liste_pièces!I530)","v":""},{"$f":"IF(Liste_pièces!J530=\"\",\"\",Liste_pièces!J530)","v":""},{"$f":"IF(Liste_pièces!K530=\"\",\"\",Liste_pièces!K530)","v":""},{"$f":"IF(Liste_pièces!L530=\"\",\"\",Liste_pièces!L530)","v":""},{"$f":"IF(Liste_pièces!M530=\"\",\"\",Liste_pièces!M530)","v":""}]
[{"$f":"IF(Liste_pièces!A531=\"\",\"ZZZ\",Liste_pièces!A531)","v":"ZZZ"},{"$f":"IF(Liste_pièces!B531=\"\",\"ZZZ\",Liste_pièces!B531)","v":"ZZZ"},{"$f":"IF(Liste_pièces!C531=\"\",\"\",Liste_pièces!C531)","v":""},{"$f":"IF(Liste_pièces!D531=\"\",\"\",Liste_pièces!D531)","v":""},{"$f":"IF(Liste_pièces!E531=\"\",\"\",Liste_pièces!E531)","v":""},{"$f":"IF(Liste_pièces!F531=\"\",\"\",Liste_pièces!F531)","v":""},{"$f":"IF(Liste_pièces!G531=\"\",\"\",Liste_pièces!G531)","v":""},{"$f":"IF(Liste_pièces!H531=\"\",\"\",Liste_pièces!H531)","v":""},{"$f":"IF(Liste_pièces!I531=\"\",\"\",Liste_pièces!I531)","v":""},{"$f":"IF(Liste_pièces!J531=\"\",\"\",Liste_pièces!J531)","v":""},{"$f":"IF(Liste_pièces!K531=\"\",\"\",Liste_pièces!K531)","v":""},{"$f":"IF(Liste_pièces!L531=\"\",\"\",Liste_pièces!L531)","v":""},{"$f":"IF(Liste_pièces!M531=\"\",\"\",Liste_pièces!M531)","v":""}]
[{"$f":"IF(Liste_pièces!A532=\"\",\"ZZZ\",Liste_pièces!A532)","v":"ZZZ"},{"$f":"IF(Liste_pièces!B532=\"\",\"ZZZ\",Liste_pièces!B532)","v":"ZZZ"},{"$f":"IF(Liste_pièces!C532=\"\",\"\",Liste_pièces!C532)","v":""},{"$f":"IF(Liste_pièces!D532=\"\",\"\",Liste_pièces!D532)","v":""},{"$f":"IF(Liste_pièces!E532=\"\",\"\",Liste_pièces!E532)","v":""},{"$f":"IF(Liste_pièces!F532=\"\",\"\",Liste_pièces!F532)","v":""},{"$f":"IF(Liste_pièces!G532=\"\",\"\",Liste_pièces!G532)","v":""},{"$f":"IF(Liste_pièces!H532=\"\",\"\",Liste_pièces!H532)","v":""},{"$f":"IF(Liste_pièces!I532=\"\",\"\",Liste_pièces!I532)","v":""},{"$f":"IF(Liste_pièces!J532=\"\",\"\",Liste_pièces!J532)","v":""},{"$f":"IF(Liste_pièces!K532=\"\",\"\",Liste_pièces!K532)","v":""},{"$f":"IF(Liste_pièces!L532=\"\",\"\",Liste_pièces!L532)","v":""},{"$f":"IF(Liste_pièces!M532=\"\",\"\",Liste_pièces!M532)","v":""}]
[{"$f":"IF(Liste_pièces!A533=\"\",\"ZZZ\",Liste_pièces!A533)","v":"ZZZ"},{"$f":"IF(Liste_pièces!B533=\"\",\"ZZZ\",Liste_pièces!B533)","v":"ZZZ"},{"$f":"IF(Liste_pièces!C533=\"\",\"\",Liste_pièces!C533)","v":""},{"$f":"IF(Liste_pièces!D533=\"\",\"\",Liste_pièces!D533)","v":""},{"$f":"IF(Liste_pièces!E533=\"\",\"\",Liste_pièces!E533)","v":""},{"$f":"IF(Liste_pièces!F533=\"\",\"\",Liste_pièces!F533)","v":""},{"$f":"IF(Liste_pièces!G533=\"\",\"\",Liste_pièces!G533)","v":""},{"$f":"IF(Liste_pièces!H533=\"\",\"\",Liste_pièces!H533)","v":""},{"$f":"IF(Liste_pièces!I533=\"\",\"\",Liste_pièces!I533)","v":""},{"$f":"IF(Liste_pièces!J533=\"\",\"\",Liste_pièces!J533)","v":""},{"$f":"IF(Liste_pièces!K533=\"\",\"\",Liste_pièces!K533)","v":""},{"$f":"IF(Liste_pièces!L533=\"\",\"\",Liste_pièces!L533)","v":""},{"$f":"IF(Liste_pièces!M533=\"\",\"\",Liste_pièces!M533)","v":""}]
[{"$f":"IF(Liste_pièces!A534=\"\",\"ZZZ\",Liste_pièces!A534)","v":"ZZZ"},{"$f":"IF(Liste_pièces!B534=\"\",\"ZZZ\",Liste_pièces!B534)","v":"ZZZ"},{"$f":"IF(Liste_pièces!C534=\"\",\"\",Liste_pièces!C534)","v":""},{"$f":"IF(Liste_pièces!D534=\"\",\"\",Liste_pièces!D534)","v":""},{"$f":"IF(Liste_pièces!E534=\"\",\"\",Liste_pièces!E534)","v":""},{"$f":"IF(Liste_pièces!F534=\"\",\"\",Liste_pièces!F534)","v":""},{"$f":"IF(Liste_pièces!G534=\"\",\"\",Liste_pièces!G534)","v":""},{"$f":"IF(Liste_pièces!H534=\"\",\"\",Liste_pièces!H534)","v":""},{"$f":"IF(Liste_pièces!I534=\"\",\"\",Liste_pièces!I534)","v":""},{"$f":"IF(Liste_pièces!J534=\"\",\"\",Liste_pièces!J534)","v":""},{"$f":"IF(Liste_pièces!K534=\"\",\"\",Liste_pièces!K534)","v":""},{"$f":"IF(Liste_pièces!L534=\"\",\"\",Liste_pièces!L534)","v":""},{"$f":"IF(Liste_pièces!M534=\"\",\"\",Liste_pièces!M534)","v":""}]
[{"$f":"IF(Liste_pièces!A535=\"\",\"ZZZ\",Liste_pièces!A535)","v":"ZZZ"},{"$f":"IF(Liste_pièces!B535=\"\",\"ZZZ\",Liste_pièces!B535)","v":"ZZZ"},{"$f":"IF(Liste_pièces!C535=\"\",\"\",Liste_pièces!C535)","v":""},{"$f":"IF(Liste_pièces!D535=\"\",\"\",Liste_pièces!D535)","v":""},{"$f":"IF(Liste_pièces!E535=\"\",\"\",Liste_pièces!E535)","v":""},{"$f":"IF(Liste_pièces!F535=\"\",\"\",Liste_pièces!F535)","v":""},{"$f":"IF(Liste_pièces!G535=\"\",\"\",Liste_pièces!G535)","v":""},{"$f":"IF(Liste_pièces!H535=\"\",\"\",Liste_pièces!H535)","v":""},{"$f":"IF(Liste_pièces!I535=\"\",\"\",Liste_pièces!I535)","v":""},{"$f":"IF(Liste_pièces!J535=\"\",\"\",Liste_pièces!J535)","v":""},{"$f":"IF(Liste_pièces!K535=\"\",\"\",Liste_pièces!K535)","v":""},{"$f":"IF(Liste_pièces!L535=\"\",\"\",Liste_pièces!L535)","v":""},{"$f":"IF(Liste_pièces!M535=\"\",\"\",Liste_pièces!M535)","v":""}]
[{"$f":"IF(Liste_pièces!A536=\"\",\"ZZZ\",Liste_pièces!A536)","v":"ZZZ"},{"$f":"IF(Liste_pièces!B536=\"\",\"ZZZ\",Liste_pièces!B536)","v":"ZZZ"},{"$f":"IF(Liste_pièces!C536=\"\",\"\",Liste_pièces!C536)","v":""},{"$f":"IF(Liste_pièces!D536=\"\",\"\",Liste_pièces!D536)","v":""},{"$f":"IF(Liste_pièces!E536=\"\",\"\",Liste_pièces!E536)","v":""},{"$f":"IF(Liste_pièces!F536=\"\",\"\",Liste_pièces!F536)","v":""},{"$f":"IF(Liste_pièces!G536=\"\",\"\",Liste_pièces!G536)","v":""},{"$f":"IF(Liste_pièces!H536=\"\",\"\",Liste_pièces!H536)","v":""},{"$f":"IF(Liste_pièces!I536=\"\",\"\",Liste_pièces!I536)","v":""},{"$f":"IF(Liste_pièces!J536=\"\",\"\",Liste_pièces!J536)","v":""},{"$f":"IF(Liste_pièces!K536=\"\",\"\",Liste_pièces!K536)","v":""},{"$f":"IF(Liste_pièces!L536=\"\",\"\",Liste_pièces!L536)","v":""},{"$f":"IF(Liste_pièces!M536=\"\",\"\",Liste_pièces!M536)","v":""}]
[{"$f":"IF(Liste_pièces!A537=\"\",\"ZZZ\",Liste_pièces!A537)","v":"ZZZ"},{"$f":"IF(Liste_pièces!B537=\"\",\"ZZZ\",Liste_pièces!B537)","v":"ZZZ"},{"$f":"IF(Liste_pièces!C537=\"\",\"\",Liste_pièces!C537)","v":""},{"$f":"IF(Liste_pièces!D537=\"\",\"\",Liste_pièces!D537)","v":""},{"$f":"IF(Liste_pièces!E537=\"\",\"\",Liste_pièces!E537)","v":""},{"$f":"IF(Liste_pièces!F537=\"\",\"\",Liste_pièces!F537)","v":""},{"$f":"IF(Liste_pièces!G537=\"\",\"\",Liste_pièces!G537)","v":""},{"$f":"IF(Liste_pièces!H537=\"\",\"\",Liste_pièces!H537)","v":""},{"$f":"IF(Liste_pièces!I537=\"\",\"\",Liste_pièces!I537)","v":""},{"$f":"IF(Liste_pièces!J537=\"\",\"\",Liste_pièces!J537)","v":""},{"$f":"IF(Liste_pièces!K537=\"\",\"\",Liste_pièces!K537)","v":""},{"$f":"IF(Liste_pièces!L537=\"\",\"\",Liste_pièces!L537)","v":""},{"$f":"IF(Liste_pièces!M537=\"\",\"\",Liste_pièces!M537)","v":""}]
[{"$f":"IF(Liste_pièces!A538=\"\",\"ZZZ\",Liste_pièces!A538)","v":"ZZZ"},{"$f":"IF(Liste_pièces!B538=\"\",\"ZZZ\",Liste_pièces!B538)","v":"ZZZ"},{"$f":"IF(Liste_pièces!C538=\"\",\"\",Liste_pièces!C538)","v":""},{"$f":"IF(Liste_pièces!D538=\"\",\"\",Liste_pièces!D538)","v":""},{"$f":"IF(Liste_pièces!E538=\"\",\"\",Liste_pièces!E538)","v":""},{"$f":"IF(Liste_pièces!F538=\"\",\"\",Liste_pièces!F538)","v":""},{"$f":"IF(Liste_pièces!G538=\"\",\"\",Liste_pièces!G538)","v":""},{"$f":"IF(Liste_pièces!H538=\"\",\"\",Liste_pièces!H538)","v":""},{"$f":"IF(Liste_pièces!I538=\"\",\"\",Liste_pièces!I538)","v":""},{"$f":"IF(Liste_pièces!J538=\"\",\"\",Liste_pièces!J538)","v":""},{"$f":"IF(Liste_pièces!K538=\"\",\"\",Liste_pièces!K538)","v":""},{"$f":"IF(Liste_pièces!L538=\"\",\"\",Liste_pièces!L538)","v":""},{"$f":"IF(Liste_pièces!M538=\"\",\"\",Liste_pièces!M538)","v":""}]
[{"$f":"IF(Liste_pièces!A539=\"\",\"ZZZ\",Liste_pièces!A539)","v":"ZZZ"},{"$f":"IF(Liste_pièces!B539=\"\",\"ZZZ\",Liste_pièces!B539)","v":"ZZZ"},{"$f":"IF(Liste_pièces!C539=\"\",\"\",Liste_pièces!C539)","v":""},{"$f":"IF(Liste_pièces!D539=\"\",\"\",Liste_pièces!D539)","v":""},{"$f":"IF(Liste_pièces!E539=\"\",\"\",Liste_pièces!E539)","v":""},{"$f":"IF(Liste_pièces!F539=\"\",\"\",Liste_pièces!F539)","v":""},{"$f":"IF(Liste_pièces!G539=\"\",\"\",Liste_pièces!G539)","v":""},{"$f":"IF(Liste_pièces!H539=\"\",\"\",Liste_pièces!H539)","v":""},{"$f":"IF(Liste_pièces!I539=\"\",\"\",Liste_pièces!I539)","v":""},{"$f":"IF(Liste_pièces!J539=\"\",\"\",Liste_pièces!J539)","v":""},{"$f":"IF(Liste_pièces!K539=\"\",\"\",Liste_pièces!K539)","v":""},{"$f":"IF(Liste_pièces!L539=\"\",\"\",Liste_pièces!L539)","v":""},{"$f":"IF(Liste_pièces!M539=\"\",\"\",Liste_pièces!M539)","v":""}]
[{"$f":"IF(Liste_pièces!A540=\"\",\"ZZZ\",Liste_pièces!A540)","v":"ZZZ"},{"$f":"IF(Liste_pièces!B540=\"\",\"ZZZ\",Liste_pièces!B540)","v":"ZZZ"},{"$f":"IF(Liste_pièces!C540=\"\",\"\",Liste_pièces!C540)","v":""},{"$f":"IF(Liste_pièces!D540=\"\",\"\",Liste_pièces!D540)","v":""},{"$f":"IF(Liste_pièces!E540=\"\",\"\",Liste_pièces!E540)","v":""},{"$f":"IF(Liste_pièces!F540=\"\",\"\",Liste_pièces!F540)","v":""},{"$f":"IF(Liste_pièces!G540=\"\",\"\",Liste_pièces!G540)","v":""},{"$f":"IF(Liste_pièces!H540=\"\",\"\",Liste_pièces!H540)","v":""},{"$f":"IF(Liste_pièces!I540=\"\",\"\",Liste_pièces!I540)","v":""},{"$f":"IF(Liste_pièces!J540=\"\",\"\",Liste_pièces!J540)","v":""},{"$f":"IF(Liste_pièces!K540=\"\",\"\",Liste_pièces!K540)","v":""},{"$f":"IF(Liste_pièces!L540=\"\",\"\",Liste_pièces!L540)","v":""},{"$f":"IF(Liste_pièces!M540=\"\",\"\",Liste_pièces!M540)","v":""}]
[{"$f":"IF(Liste_pièces!A541=\"\",\"ZZZ\",Liste_pièces!A541)","v":"ZZZ"},{"$f":"IF(Liste_pièces!B541=\"\",\"ZZZ\",Liste_pièces!B541)","v":"ZZZ"},{"$f":"IF(Liste_pièces!C541=\"\",\"\",Liste_pièces!C541)","v":""},{"$f":"IF(Liste_pièces!D541=\"\",\"\",Liste_pièces!D541)","v":""},{"$f":"IF(Liste_pièces!E541=\"\",\"\",Liste_pièces!E541)","v":""},{"$f":"IF(Liste_pièces!F541=\"\",\"\",Liste_pièces!F541)","v":""},{"$f":"IF(Liste_pièces!G541=\"\",\"\",Liste_pièces!G541)","v":""},{"$f":"IF(Liste_pièces!H541=\"\",\"\",Liste_pièces!H541)","v":""},{"$f":"IF(Liste_pièces!I541=\"\",\"\",Liste_pièces!I541)","v":""},{"$f":"IF(Liste_pièces!J541=\"\",\"\",Liste_pièces!J541)","v":""},{"$f":"IF(Liste_pièces!K541=\"\",\"\",Liste_pièces!K541)","v":""},{"$f":"IF(Liste_pièces!L541=\"\",\"\",Liste_pièces!L541)","v":""},{"$f":"IF(Liste_pièces!M541=\"\",\"\",Liste_pièces!M541)","v":""}]
[{"$f":"IF(Liste_pièces!A542=\"\",\"ZZZ\",Liste_pièces!A542)","v":"ZZZ"},{"$f":"IF(Liste_pièces!B542=\"\",\"ZZZ\",Liste_pièces!B542)","v":"ZZZ"},{"$f":"IF(Liste_pièces!C542=\"\",\"\",Liste_pièces!C542)","v":""},{"$f":"IF(Liste_pièces!D542=\"\",\"\",Liste_pièces!D542)","v":""},{"$f":"IF(Liste_pièces!E542=\"\",\"\",Liste_pièces!E542)","v":""},{"$f":"IF(Liste_pièces!F542=\"\",\"\",Liste_pièces!F542)","v":""},{"$f":"IF(Liste_pièces!G542=\"\",\"\",Liste_pièces!G542)","v":""},{"$f":"IF(Liste_pièces!H542=\"\",\"\",Liste_pièces!H542)","v":""},{"$f":"IF(Liste_pièces!I542=\"\",\"\",Liste_pièces!I542)","v":""},{"$f":"IF(Liste_pièces!J542=\"\",\"\",Liste_pièces!J542)","v":""},{"$f":"IF(Liste_pièces!K542=\"\",\"\",Liste_pièces!K542)","v":""},{"$f":"IF(Liste_pièces!L542=\"\",\"\",Liste_pièces!L542)","v":""},{"$f":"IF(Liste_pièces!M542=\"\",\"\",Liste_pièces!M542)","v":""}]
[{"$f":"IF(Liste_pièces!A543=\"\",\"ZZZ\",Liste_pièces!A543)","v":"ZZZ"},{"$f":"IF(Liste_pièces!B543=\"\",\"ZZZ\",Liste_pièces!B543)","v":"ZZZ"},{"$f":"IF(Liste_pièces!C543=\"\",\"\",Liste_pièces!C543)","v":""},{"$f":"IF(Liste_pièces!D543=\"\",\"\",Liste_pièces!D543)","v":""},{"$f":"IF(Liste_pièces!E543=\"\",\"\",Liste_pièces!E543)","v":""},{"$f":"IF(Liste_pièces!F543=\"\",\"\",Liste_pièces!F543)","v":""},{"$f":"IF(Liste_pièces!G543=\"\",\"\",Liste_pièces!G543)","v":""},{"$f":"IF(Liste_pièces!H543=\"\",\"\",Liste_pièces!H543)","v":""},{"$f":"IF(Liste_pièces!I543=\"\",\"\",Liste_pièces!I543)","v":""},{"$f":"IF(Liste_pièces!J543=\"\",\"\",Liste_pièces!J543)","v":""},{"$f":"IF(Liste_pièces!K543=\"\",\"\",Liste_pièces!K543)","v":""},{"$f":"IF(Liste_pièces!L543=\"\",\"\",Liste_pièces!L543)","v":""},{"$f":"IF(Liste_pièces!M543=\"\",\"\",Liste_pièces!M543)","v":""}]
[{"$f":"IF(Liste_pièces!A544=\"\",\"ZZZ\",Liste_pièces!A544)","v":"ZZZ"},{"$f":"IF(Liste_pièces!B544=\"\",\"ZZZ\",Liste_pièces!B544)","v":"ZZZ"},{"$f":"IF(Liste_pièces!C544=\"\",\"\",Liste_pièces!C544)","v":""},{"$f":"IF(Liste_pièces!D544=\"\",\"\",Liste_pièces!D544)","v":""},{"$f":"IF(Liste_pièces!E544=\"\",\"\",Liste_pièces!E544)","v":""},{"$f":"IF(Liste_pièces!F544=\"\",\"\",Liste_pièces!F544)","v":""},{"$f":"IF(Liste_pièces!G544=\"\",\"\",Liste_pièces!G544)","v":""},{"$f":"IF(Liste_pièces!H544=\"\",\"\",Liste_pièces!H544)","v":""},{"$f":"IF(Liste_pièces!I544=\"\",\"\",Liste_pièces!I544)","v":""},{"$f":"IF(Liste_pièces!J544=\"\",\"\",Liste_pièces!J544)","v":""},{"$f":"IF(Liste_pièces!K544=\"\",\"\",Liste_pièces!K544)","v":""},{"$f":"IF(Liste_pièces!L544=\"\",\"\",Liste_pièces!L544)","v":""},{"$f":"IF(Liste_pièces!M544=\"\",\"\",Liste_pièces!M544)","v":""}]
[{"$f":"IF(Liste_pièces!A545=\"\",\"ZZZ\",Liste_pièces!A545)","v":"ZZZ"},{"$f":"IF(Liste_pièces!B545=\"\",\"ZZZ\",Liste_pièces!B545)","v":"ZZZ"},{"$f":"IF(Liste_pièces!C545=\"\",\"\",Liste_pièces!C545)","v":""},{"$f":"IF(Liste_pièces!D545=\"\",\"\",Liste_pièces!D545)","v":""},{"$f":"IF(Liste_pièces!E545=\"\",\"\",Liste_pièces!E545)","v":""},{"$f":"IF(Liste_pièces!F545=\"\",\"\",Liste_pièces!F545)","v":""},{"$f":"IF(Liste_pièces!G545=\"\",\"\",Liste_pièces!G545)","v":""},{"$f":"IF(Liste_pièces!H545=\"\",\"\",Liste_pièces!H545)","v":""},{"$f":"IF(Liste_pièces!I545=\"\",\"\",Liste_pièces!I545)","v":""},{"$f":"IF(Liste_pièces!J545=\"\",\"\",Liste_pièces!J545)","v":""},{"$f":"IF(Liste_pièces!K545=\"\",\"\",Liste_pièces!K545)","v":""},{"$f":"IF(Liste_pièces!L545=\"\",\"\",Liste_pièces!L545)","v":""},{"$f":"IF(Liste_pièces!M545=\"\",\"\",Liste_pièces!M545)","v":""}]
[{"$f":"IF(Liste_pièces!A546=\"\",\"ZZZ\",Liste_pièces!A546)","v":"ZZZ"},{"$f":"IF(Liste_pièces!B546=\"\",\"ZZZ\",Liste_pièces!B546)","v":"ZZZ"},{"$f":"IF(Liste_pièces!C546=\"\",\"\",Liste_pièces!C546)","v":""},{"$f":"IF(Liste_pièces!D546=\"\",\"\",Liste_pièces!D546)","v":""},{"$f":"IF(Liste_pièces!E546=\"\",\"\",Liste_pièces!E546)","v":""},{"$f":"IF(Liste_pièces!F546=\"\",\"\",Liste_pièces!F546)","v":""},{"$f":"IF(Liste_pièces!G546=\"\",\"\",Liste_pièces!G546)","v":""},{"$f":"IF(Liste_pièces!H546=\"\",\"\",Liste_pièces!H546)","v":""},{"$f":"IF(Liste_pièces!I546=\"\",\"\",Liste_pièces!I546)","v":""},{"$f":"IF(Liste_pièces!J546=\"\",\"\",Liste_pièces!J546)","v":""},{"$f":"IF(Liste_pièces!K546=\"\",\"\",Liste_pièces!K546)","v":""},{"$f":"IF(Liste_pièces!L546=\"\",\"\",Liste_pièces!L546)","v":""},{"$f":"IF(Liste_pièces!M546=\"\",\"\",Liste_pièces!M546)","v":""}]
[{"$f":"IF(Liste_pièces!A547=\"\",\"ZZZ\",Liste_pièces!A547)","v":"ZZZ"},{"$f":"IF(Liste_pièces!B547=\"\",\"ZZZ\",Liste_pièces!B547)","v":"ZZZ"},{"$f":"IF(Liste_pièces!C547=\"\",\"\",Liste_pièces!C547)","v":""},{"$f":"IF(Liste_pièces!D547=\"\",\"\",Liste_pièces!D547)","v":""},{"$f":"IF(Liste_pièces!E547=\"\",\"\",Liste_pièces!E547)","v":""},{"$f":"IF(Liste_pièces!F547=\"\",\"\",Liste_pièces!F547)","v":""},{"$f":"IF(Liste_pièces!G547=\"\",\"\",Liste_pièces!G547)","v":""},{"$f":"IF(Liste_pièces!H547=\"\",\"\",Liste_pièces!H547)","v":""},{"$f":"IF(Liste_pièces!I547=\"\",\"\",Liste_pièces!I547)","v":""},{"$f":"IF(Liste_pièces!J547=\"\",\"\",Liste_pièces!J547)","v":""},{"$f":"IF(Liste_pièces!K547=\"\",\"\",Liste_pièces!K547)","v":""},{"$f":"IF(Liste_pièces!L547=\"\",\"\",Liste_pièces!L547)","v":""},{"$f":"IF(Liste_pièces!M547=\"\",\"\",Liste_pièces!M547)","v":""}]
[{"$f":"IF(Liste_pièces!A548=\"\",\"ZZZ\",Liste_pièces!A548)","v":"ZZZ"},{"$f":"IF(Liste_pièces!B548=\"\",\"ZZZ\",Liste_pièces!B548)","v":"ZZZ"},{"$f":"IF(Liste_pièces!C548=\"\",\"\",Liste_pièces!C548)","v":""},{"$f":"IF(Liste_pièces!D548=\"\",\"\",Liste_pièces!D548)","v":""},{"$f":"IF(Liste_pièces!E548=\"\",\"\",Liste_pièces!E548)","v":""},{"$f":"IF(Liste_pièces!F548=\"\",\"\",Liste_pièces!F548)","v":""},{"$f":"IF(Liste_pièces!G548=\"\",\"\",Liste_pièces!G548)","v":""},{"$f":"IF(Liste_pièces!H548=\"\",\"\",Liste_pièces!H548)","v":""},{"$f":"IF(Liste_pièces!I548=\"\",\"\",Liste_pièces!I548)","v":""},{"$f":"IF(Liste_pièces!J548=\"\",\"\",Liste_pièces!J548)","v":""},{"$f":"IF(Liste_pièces!K548=\"\",\"\",Liste_pièces!K548)","v":""},{"$f":"IF(Liste_pièces!L548=\"\",\"\",Liste_pièces!L548)","v":""},{"$f":"IF(Liste_pièces!M548=\"\",\"\",Liste_pièces!M548)","v":""}]
[{"$f":"IF(Liste_pièces!A549=\"\",\"ZZZ\",Liste_pièces!A549)","v":"ZZZ"},{"$f":"IF(Liste_pièces!B549=\"\",\"ZZZ\",Liste_pièces!B549)","v":"ZZZ"},{"$f":"IF(Liste_pièces!C549=\"\",\"\",Liste_pièces!C549)","v":""},{"$f":"IF(Liste_pièces!D549=\"\",\"\",Liste_pièces!D549)","v":""},{"$f":"IF(Liste_pièces!E549=\"\",\"\",Liste_pièces!E549)","v":""},{"$f":"IF(Liste_pièces!F549=\"\",\"\",Liste_pièces!F549)","v":""},{"$f":"IF(Liste_pièces!G549=\"\",\"\",Liste_pièces!G549)","v":""},{"$f":"IF(Liste_pièces!H549=\"\",\"\",Liste_pièces!H549)","v":""},{"$f":"IF(Liste_pièces!I549=\"\",\"\",Liste_pièces!I549)","v":""},{"$f":"IF(Liste_pièces!J549=\"\",\"\",Liste_pièces!J549)","v":""},{"$f":"IF(Liste_pièces!K549=\"\",\"\",Liste_pièces!K549)","v":""},{"$f":"IF(Liste_pièces!L549=\"\",\"\",Liste_pièces!L549)","v":""},{"$f":"IF(Liste_pièces!M549=\"\",\"\",Liste_pièces!M549)","v":""}]
[{"$f":"IF(Liste_pièces!A550=\"\",\"ZZZ\",Liste_pièces!A550)","v":"ZZZ"},{"$f":"IF(Liste_pièces!B550=\"\",\"ZZZ\",Liste_pièces!B550)","v":"ZZZ"},{"$f":"IF(Liste_pièces!C550=\"\",\"\",Liste_pièces!C550)","v":""},{"$f":"IF(Liste_pièces!D550=\"\",\"\",Liste_pièces!D550)","v":""},{"$f":"IF(Liste_pièces!E550=\"\",\"\",Liste_pièces!E550)","v":""},{"$f":"IF(Liste_pièces!F550=\"\",\"\",Liste_pièces!F550)","v":""},{"$f":"IF(Liste_pièces!G550=\"\",\"\",Liste_pièces!G550)","v":""},{"$f":"IF(Liste_pièces!H550=\"\",\"\",Liste_pièces!H550)","v":""},{"$f":"IF(Liste_pièces!I550=\"\",\"\",Liste_pièces!I550)","v":""},{"$f":"IF(Liste_pièces!J550=\"\",\"\",Liste_pièces!J550)","v":""},{"$f":"IF(Liste_pièces!K550=\"\",\"\",Liste_pièces!K550)","v":""},{"$f":"IF(Liste_pièces!L550=\"\",\"\",Liste_pièces!L550)","v":""},{"$f":"IF(Liste_pièces!M550=\"\",\"\",Liste_pièces!M550)","v":""}]
[{"$f":"IF(Liste_pièces!A551=\"\",\"ZZZ\",Liste_pièces!A551)","v":"ZZZ"},{"$f":"IF(Liste_pièces!B551=\"\",\"ZZZ\",Liste_pièces!B551)","v":"ZZZ"},{"$f":"IF(Liste_pièces!C551=\"\",\"\",Liste_pièces!C551)","v":""},{"$f":"IF(Liste_pièces!D551=\"\",\"\",Liste_pièces!D551)","v":""},{"$f":"IF(Liste_pièces!E551=\"\",\"\",Liste_pièces!E551)","v":""},{"$f":"IF(Liste_pièces!F551=\"\",\"\",Liste_pièces!F551)","v":""},{"$f":"IF(Liste_pièces!G551=\"\",\"\",Liste_pièces!G551)","v":""},{"$f":"IF(Liste_pièces!H551=\"\",\"\",Liste_pièces!H551)","v":""},{"$f":"IF(Liste_pièces!I551=\"\",\"\",Liste_pièces!I551)","v":""},{"$f":"IF(Liste_pièces!J551=\"\",\"\",Liste_pièces!J551)","v":""},{"$f":"IF(Liste_pièces!K551=\"\",\"\",Liste_pièces!K551)","v":""},{"$f":"IF(Liste_pièces!L551=\"\",\"\",Liste_pièces!L551)","v":""},{"$f":"IF(Liste_pièces!M551=\"\",\"\",Liste_pièces!M551)","v":""}]
[{"$f":"IF(Liste_pièces!A552=\"\",\"ZZZ\",Liste_pièces!A552)","v":"ZZZ"},{"$f":"IF(Liste_pièces!B552=\"\",\"ZZZ\",Liste_pièces!B552)","v":"ZZZ"},{"$f":"IF(Liste_pièces!C552=\"\",\"\",Liste_pièces!C552)","v":""},{"$f":"IF(Liste_pièces!D552=\"\",\"\",Liste_pièces!D552)","v":""},{"$f":"IF(Liste_pièces!E552=\"\",\"\",Liste_pièces!E552)","v":""},{"$f":"IF(Liste_pièces!F552=\"\",\"\",Liste_pièces!F552)","v":""},{"$f":"IF(Liste_pièces!G552=\"\",\"\",Liste_pièces!G552)","v":""},{"$f":"IF(Liste_pièces!H552=\"\",\"\",Liste_pièces!H552)","v":""},{"$f":"IF(Liste_pièces!I552=\"\",\"\",Liste_pièces!I552)","v":""},{"$f":"IF(Liste_pièces!J552=\"\",\"\",Liste_pièces!J552)","v":""},{"$f":"IF(Liste_pièces!K552=\"\",\"\",Liste_pièces!K552)","v":""},{"$f":"IF(Liste_pièces!L552=\"\",\"\",Liste_pièces!L552)","v":""},{"$f":"IF(Liste_pièces!M552=\"\",\"\",Liste_pièces!M552)","v":""}]
[{"$f":"IF(Liste_pièces!A553=\"\",\"ZZZ\",Liste_pièces!A553)","v":"ZZZ"},{"$f":"IF(Liste_pièces!B553=\"\",\"ZZZ\",Liste_pièces!B553)","v":"ZZZ"},{"$f":"IF(Liste_pièces!C553=\"\",\"\",Liste_pièces!C553)","v":""},{"$f":"IF(Liste_pièces!D553=\"\",\"\",Liste_pièces!D553)","v":""},{"$f":"IF(Liste_pièces!E553=\"\",\"\",Liste_pièces!E553)","v":""},{"$f":"IF(Liste_pièces!F553=\"\",\"\",Liste_pièces!F553)","v":""},{"$f":"IF(Liste_pièces!G553=\"\",\"\",Liste_pièces!G553)","v":""},{"$f":"IF(Liste_pièces!H553=\"\",\"\",Liste_pièces!H553)","v":""},{"$f":"IF(Liste_pièces!I553=\"\",\"\",Liste_pièces!I553)","v":""},{"$f":"IF(Liste_pièces!J553=\"\",\"\",Liste_pièces!J553)","v":""},{"$f":"IF(Liste_pièces!K553=\"\",\"\",Liste_pièces!K553)","v":""},{"$f":"IF(Liste_pièces!L553=\"\",\"\",Liste_pièces!L553)","v":""},{"$f":"IF(Liste_pièces!M553=\"\",\"\",Liste_pièces!M553)","v":""}]
[{"$f":"IF(Liste_pièces!A554=\"\",\"ZZZ\",Liste_pièces!A554)","v":"ZZZ"},{"$f":"IF(Liste_pièces!B554=\"\",\"ZZZ\",Liste_pièces!B554)","v":"ZZZ"},{"$f":"IF(Liste_pièces!C554=\"\",\"\",Liste_pièces!C554)","v":""},{"$f":"IF(Liste_pièces!D554=\"\",\"\",Liste_pièces!D554)","v":""},{"$f":"IF(Liste_pièces!E554=\"\",\"\",Liste_pièces!E554)","v":""},{"$f":"IF(Liste_pièces!F554=\"\",\"\",Liste_pièces!F554)","v":""},{"$f":"IF(Liste_pièces!G554=\"\",\"\",Liste_pièces!G554)","v":""},{"$f":"IF(Liste_pièces!H554=\"\",\"\",Liste_pièces!H554)","v":""},{"$f":"IF(Liste_pièces!I554=\"\",\"\",Liste_pièces!I554)","v":""},{"$f":"IF(Liste_pièces!J554=\"\",\"\",Liste_pièces!J554)","v":""},{"$f":"IF(Liste_pièces!K554=\"\",\"\",Liste_pièces!K554)","v":""},{"$f":"IF(Liste_pièces!L554=\"\",\"\",Liste_pièces!L554)","v":""},{"$f":"IF(Liste_pièces!M554=\"\",\"\",Liste_pièces!M554)","v":""}]
[{"$f":"IF(Liste_pièces!A555=\"\",\"ZZZ\",Liste_pièces!A555)","v":"ZZZ"},{"$f":"IF(Liste_pièces!B555=\"\",\"ZZZ\",Liste_pièces!B555)","v":"ZZZ"},{"$f":"IF(Liste_pièces!C555=\"\",\"\",Liste_pièces!C555)","v":""},{"$f":"IF(Liste_pièces!D555=\"\",\"\",Liste_pièces!D555)","v":""},{"$f":"IF(Liste_pièces!E555=\"\",\"\",Liste_pièces!E555)","v":""},{"$f":"IF(Liste_pièces!F555=\"\",\"\",Liste_pièces!F555)","v":""},{"$f":"IF(Liste_pièces!G555=\"\",\"\",Liste_pièces!G555)","v":""},{"$f":"IF(Liste_pièces!H555=\"\",\"\",Liste_pièces!H555)","v":""},{"$f":"IF(Liste_pièces!I555=\"\",\"\",Liste_pièces!I555)","v":""},{"$f":"IF(Liste_pièces!J555=\"\",\"\",Liste_pièces!J555)","v":""},{"$f":"IF(Liste_pièces!K555=\"\",\"\",Liste_pièces!K555)","v":""},{"$f":"IF(Liste_pièces!L555=\"\",\"\",Liste_pièces!L555)","v":""},{"$f":"IF(Liste_pièces!M555=\"\",\"\",Liste_pièces!M555)","v":""}]
[{"$f":"IF(Liste_pièces!A556=\"\",\"ZZZ\",Liste_pièces!A556)","v":"ZZZ"},{"$f":"IF(Liste_pièces!B556=\"\",\"ZZZ\",Liste_pièces!B556)","v":"ZZZ"},{"$f":"IF(Liste_pièces!C556=\"\",\"\",Liste_pièces!C556)","v":""},{"$f":"IF(Liste_pièces!D556=\"\",\"\",Liste_pièces!D556)","v":""},{"$f":"IF(Liste_pièces!E556=\"\",\"\",Liste_pièces!E556)","v":""},{"$f":"IF(Liste_pièces!F556=\"\",\"\",Liste_pièces!F556)","v":""},{"$f":"IF(Liste_pièces!G556=\"\",\"\",Liste_pièces!G556)","v":""},{"$f":"IF(Liste_pièces!H556=\"\",\"\",Liste_pièces!H556)","v":""},{"$f":"IF(Liste_pièces!I556=\"\",\"\",Liste_pièces!I556)","v":""},{"$f":"IF(Liste_pièces!J556=\"\",\"\",Liste_pièces!J556)","v":""},{"$f":"IF(Liste_pièces!K556=\"\",\"\",Liste_pièces!K556)","v":""},{"$f":"IF(Liste_pièces!L556=\"\",\"\",Liste_pièces!L556)","v":""},{"$f":"IF(Liste_pièces!M556=\"\",\"\",Liste_pièces!M556)","v":""}]
[{"$f":"IF(Liste_pièces!A557=\"\",\"ZZZ\",Liste_pièces!A557)","v":"ZZZ"},{"$f":"IF(Liste_pièces!B557=\"\",\"ZZZ\",Liste_pièces!B557)","v":"ZZZ"},{"$f":"IF(Liste_pièces!C557=\"\",\"\",Liste_pièces!C557)","v":""},{"$f":"IF(Liste_pièces!D557=\"\",\"\",Liste_pièces!D557)","v":""},{"$f":"IF(Liste_pièces!E557=\"\",\"\",Liste_pièces!E557)","v":""},{"$f":"IF(Liste_pièces!F557=\"\",\"\",Liste_pièces!F557)","v":""},{"$f":"IF(Liste_pièces!G557=\"\",\"\",Liste_pièces!G557)","v":""},{"$f":"IF(Liste_pièces!H557=\"\",\"\",Liste_pièces!H557)","v":""},{"$f":"IF(Liste_pièces!I557=\"\",\"\",Liste_pièces!I557)","v":""},{"$f":"IF(Liste_pièces!J557=\"\",\"\",Liste_pièces!J557)","v":""},{"$f":"IF(Liste_pièces!K557=\"\",\"\",Liste_pièces!K557)","v":""},{"$f":"IF(Liste_pièces!L557=\"\",\"\",Liste_pièces!L557)","v":""},{"$f":"IF(Liste_pièces!M557=\"\",\"\",Liste_pièces!M557)","v":""}]
[{"$f":"IF(Liste_pièces!A558=\"\",\"ZZZ\",Liste_pièces!A558)","v":"ZZZ"},{"$f":"IF(Liste_pièces!B558=\"\",\"ZZZ\",Liste_pièces!B558)","v":"ZZZ"},{"$f":"IF(Liste_pièces!C558=\"\",\"\",Liste_pièces!C558)","v":""},{"$f":"IF(Liste_pièces!D558=\"\",\"\",Liste_pièces!D558)","v":""},{"$f":"IF(Liste_pièces!E558=\"\",\"\",Liste_pièces!E558)","v":""},{"$f":"IF(Liste_pièces!F558=\"\",\"\",Liste_pièces!F558)","v":""},{"$f":"IF(Liste_pièces!G558=\"\",\"\",Liste_pièces!G558)","v":""},{"$f":"IF(Liste_pièces!H558=\"\",\"\",Liste_pièces!H558)","v":""},{"$f":"IF(Liste_pièces!I558=\"\",\"\",Liste_pièces!I558)","v":""},{"$f":"IF(Liste_pièces!J558=\"\",\"\",Liste_pièces!J558)","v":""},{"$f":"IF(Liste_pièces!K558=\"\",\"\",Liste_pièces!K558)","v":""},{"$f":"IF(Liste_pièces!L558=\"\",\"\",Liste_pièces!L558)","v":""},{"$f":"IF(Liste_pièces!M558=\"\",\"\",Liste_pièces!M558)","v":""}]
[{"$f":"IF(Liste_pièces!A559=\"\",\"ZZZ\",Liste_pièces!A559)","v":"ZZZ"},{"$f":"IF(Liste_pièces!B559=\"\",\"ZZZ\",Liste_pièces!B559)","v":"ZZZ"},{"$f":"IF(Liste_pièces!C559=\"\",\"\",Liste_pièces!C559)","v":""},{"$f":"IF(Liste_pièces!D559=\"\",\"\",Liste_pièces!D559)","v":""},{"$f":"IF(Liste_pièces!E559=\"\",\"\",Liste_pièces!E559)","v":""},{"$f":"IF(Liste_pièces!F559=\"\",\"\",Liste_pièces!F559)","v":""},{"$f":"IF(Liste_pièces!G559=\"\",\"\",Liste_pièces!G559)","v":""},{"$f":"IF(Liste_pièces!H559=\"\",\"\",Liste_pièces!H559)","v":""},{"$f":"IF(Liste_pièces!I559=\"\",\"\",Liste_pièces!I559)","v":""},{"$f":"IF(Liste_pièces!J559=\"\",\"\",Liste_pièces!J559)","v":""},{"$f":"IF(Liste_pièces!K559=\"\",\"\",Liste_pièces!K559)","v":""},{"$f":"IF(Liste_pièces!L559=\"\",\"\",Liste_pièces!L559)","v":""},{"$f":"IF(Liste_pièces!M559=\"\",\"\",Liste_pièces!M559)","v":""}]
[{"$f":"IF(Liste_pièces!A560=\"\",\"ZZZ\",Liste_pièces!A560)","v":"ZZZ"},{"$f":"IF(Liste_pièces!B560=\"\",\"ZZZ\",Liste_pièces!B560)","v":"ZZZ"},{"$f":"IF(Liste_pièces!C560=\"\",\"\",Liste_pièces!C560)","v":""},{"$f":"IF(Liste_pièces!D560=\"\",\"\",Liste_pièces!D560)","v":""},{"$f":"IF(Liste_pièces!E560=\"\",\"\",Liste_pièces!E560)","v":""},{"$f":"IF(Liste_pièces!F560=\"\",\"\",Liste_pièces!F560)","v":""},{"$f":"IF(Liste_pièces!G560=\"\",\"\",Liste_pièces!G560)","v":""},{"$f":"IF(Liste_pièces!H560=\"\",\"\",Liste_pièces!H560)","v":""},{"$f":"IF(Liste_pièces!I560=\"\",\"\",Liste_pièces!I560)","v":""},{"$f":"IF(Liste_pièces!J560=\"\",\"\",Liste_pièces!J560)","v":""},{"$f":"IF(Liste_pièces!K560=\"\",\"\",Liste_pièces!K560)","v":""},{"$f":"IF(Liste_pièces!L560=\"\",\"\",Liste_pièces!L560)","v":""},{"$f":"IF(Liste_pièces!M560=\"\",\"\",Liste_pièces!M560)","v":""}]
[{"$f":"IF(Liste_pièces!A561=\"\",\"ZZZ\",Liste_pièces!A561)","v":"ZZZ"},{"$f":"IF(Liste_pièces!B561=\"\",\"ZZZ\",Liste_pièces!B561)","v":"ZZZ"},{"$f":"IF(Liste_pièces!C561=\"\",\"\",Liste_pièces!C561)","v":""},{"$f":"IF(Liste_pièces!D561=\"\",\"\",Liste_pièces!D561)","v":""},{"$f":"IF(Liste_pièces!E561=\"\",\"\",Liste_pièces!E561)","v":""},{"$f":"IF(Liste_pièces!F561=\"\",\"\",Liste_pièces!F561)","v":""},{"$f":"IF(Liste_pièces!G561=\"\",\"\",Liste_pièces!G561)","v":""},{"$f":"IF(Liste_pièces!H561=\"\",\"\",Liste_pièces!H561)","v":""},{"$f":"IF(Liste_pièces!I561=\"\",\"\",Liste_pièces!I561)","v":""},{"$f":"IF(Liste_pièces!J561=\"\",\"\",Liste_pièces!J561)","v":""},{"$f":"IF(Liste_pièces!K561=\"\",\"\",Liste_pièces!K561)","v":""},{"$f":"IF(Liste_pièces!L561=\"\",\"\",Liste_pièces!L561)","v":""},{"$f":"IF(Liste_pièces!M561=\"\",\"\",Liste_pièces!M561)","v":""}]
[{"$f":"IF(Liste_pièces!A562=\"\",\"ZZZ\",Liste_pièces!A562)","v":"ZZZ"},{"$f":"IF(Liste_pièces!B562=\"\",\"ZZZ\",Liste_pièces!B562)","v":"ZZZ"},{"$f":"IF(Liste_pièces!C562=\"\",\"\",Liste_pièces!C562)","v":""},{"$f":"IF(Liste_pièces!D562=\"\",\"\",Liste_pièces!D562)","v":""},{"$f":"IF(Liste_pièces!E562=\"\",\"\",Liste_pièces!E562)","v":""},{"$f":"IF(Liste_pièces!F562=\"\",\"\",Liste_pièces!F562)","v":""},{"$f":"IF(Liste_pièces!G562=\"\",\"\",Liste_pièces!G562)","v":""},{"$f":"IF(Liste_pièces!H562=\"\",\"\",Liste_pièces!H562)","v":""},{"$f":"IF(Liste_pièces!I562=\"\",\"\",Liste_pièces!I562)","v":""},{"$f":"IF(Liste_pièces!J562=\"\",\"\",Liste_pièces!J562)","v":""},{"$f":"IF(Liste_pièces!K562=\"\",\"\",Liste_pièces!K562)","v":""},{"$f":"IF(Liste_pièces!L562=\"\",\"\",Liste_pièces!L562)","v":""},{"$f":"IF(Liste_pièces!M562=\"\",\"\",Liste_pièces!M562)","v":""}]
[{"$f":"IF(Liste_pièces!A563=\"\",\"ZZZ\",Liste_pièces!A563)","v":"ZZZ"},{"$f":"IF(Liste_pièces!B563=\"\",\"ZZZ\",Liste_pièces!B563)","v":"ZZZ"},{"$f":"IF(Liste_pièces!C563=\"\",\"\",Liste_pièces!C563)","v":""},{"$f":"IF(Liste_pièces!D563=\"\",\"\",Liste_pièces!D563)","v":""},{"$f":"IF(Liste_pièces!E563=\"\",\"\",Liste_pièces!E563)","v":""},{"$f":"IF(Liste_pièces!F563=\"\",\"\",Liste_pièces!F563)","v":""},{"$f":"IF(Liste_pièces!G563=\"\",\"\",Liste_pièces!G563)","v":""},{"$f":"IF(Liste_pièces!H563=\"\",\"\",Liste_pièces!H563)","v":""},{"$f":"IF(Liste_pièces!I563=\"\",\"\",Liste_pièces!I563)","v":""},{"$f":"IF(Liste_pièces!J563=\"\",\"\",Liste_pièces!J563)","v":""},{"$f":"IF(Liste_pièces!K563=\"\",\"\",Liste_pièces!K563)","v":""},{"$f":"IF(Liste_pièces!L563=\"\",\"\",Liste_pièces!L563)","v":""},{"$f":"IF(Liste_pièces!M563=\"\",\"\",Liste_pièces!M563)","v":""}]
[{"$f":"IF(Liste_pièces!A564=\"\",\"ZZZ\",Liste_pièces!A564)","v":"ZZZ"},{"$f":"IF(Liste_pièces!B564=\"\",\"ZZZ\",Liste_pièces!B564)","v":"ZZZ"},{"$f":"IF(Liste_pièces!C564=\"\",\"\",Liste_pièces!C564)","v":""},{"$f":"IF(Liste_pièces!D564=\"\",\"\",Liste_pièces!D564)","v":""},{"$f":"IF(Liste_pièces!E564=\"\",\"\",Liste_pièces!E564)","v":""},{"$f":"IF(Liste_pièces!F564=\"\",\"\",Liste_pièces!F564)","v":""},{"$f":"IF(Liste_pièces!G564=\"\",\"\",Liste_pièces!G564)","v":""},{"$f":"IF(Liste_pièces!H564=\"\",\"\",Liste_pièces!H564)","v":""},{"$f":"IF(Liste_pièces!I564=\"\",\"\",Liste_pièces!I564)","v":""},{"$f":"IF(Liste_pièces!J564=\"\",\"\",Liste_pièces!J564)","v":""},{"$f":"IF(Liste_pièces!K564=\"\",\"\",Liste_pièces!K564)","v":""},{"$f":"IF(Liste_pièces!L564=\"\",\"\",Liste_pièces!L564)","v":""},{"$f":"IF(Liste_pièces!M564=\"\",\"\",Liste_pièces!M564)","v":""}]
[{"$f":"IF(Liste_pièces!A565=\"\",\"ZZZ\",Liste_pièces!A565)","v":"ZZZ"},{"$f":"IF(Liste_pièces!B565=\"\",\"ZZZ\",Liste_pièces!B565)","v":"ZZZ"},{"$f":"IF(Liste_pièces!C565=\"\",\"\",Liste_pièces!C565)","v":""},{"$f":"IF(Liste_pièces!D565=\"\",\"\",Liste_pièces!D565)","v":""},{"$f":"IF(Liste_pièces!E565=\"\",\"\",Liste_pièces!E565)","v":""},{"$f":"IF(Liste_pièces!F565=\"\",\"\",Liste_pièces!F565)","v":""},{"$f":"IF(Liste_pièces!G565=\"\",\"\",Liste_pièces!G565)","v":""},{"$f":"IF(Liste_pièces!H565=\"\",\"\",Liste_pièces!H565)","v":""},{"$f":"IF(Liste_pièces!I565=\"\",\"\",Liste_pièces!I565)","v":""},{"$f":"IF(Liste_pièces!J565=\"\",\"\",Liste_pièces!J565)","v":""},{"$f":"IF(Liste_pièces!K565=\"\",\"\",Liste_pièces!K565)","v":""},{"$f":"IF(Liste_pièces!L565=\"\",\"\",Liste_pièces!L565)","v":""},{"$f":"IF(Liste_pièces!M565=\"\",\"\",Liste_pièces!M565)","v":""}]
[{"$f":"IF(Liste_pièces!A566=\"\",\"ZZZ\",Liste_pièces!A566)","v":"ZZZ"},{"$f":"IF(Liste_pièces!B566=\"\",\"ZZZ\",Liste_pièces!B566)","v":"ZZZ"},{"$f":"IF(Liste_pièces!C566=\"\",\"\",Liste_pièces!C566)","v":""},{"$f":"IF(Liste_pièces!D566=\"\",\"\",Liste_pièces!D566)","v":""},{"$f":"IF(Liste_pièces!E566=\"\",\"\",Liste_pièces!E566)","v":""},{"$f":"IF(Liste_pièces!F566=\"\",\"\",Liste_pièces!F566)","v":""},{"$f":"IF(Liste_pièces!G566=\"\",\"\",Liste_pièces!G566)","v":""},{"$f":"IF(Liste_pièces!H566=\"\",\"\",Liste_pièces!H566)","v":""},{"$f":"IF(Liste_pièces!I566=\"\",\"\",Liste_pièces!I566)","v":""},{"$f":"IF(Liste_pièces!J566=\"\",\"\",Liste_pièces!J566)","v":""},{"$f":"IF(Liste_pièces!K566=\"\",\"\",Liste_pièces!K566)","v":""},{"$f":"IF(Liste_pièces!L566=\"\",\"\",Liste_pièces!L566)","v":""},{"$f":"IF(Liste_pièces!M566=\"\",\"\",Liste_pièces!M566)","v":""}]
[{"$f":"IF(Liste_pièces!A567=\"\",\"ZZZ\",Liste_pièces!A567)","v":"ZZZ"},{"$f":"IF(Liste_pièces!B567=\"\",\"ZZZ\",Liste_pièces!B567)","v":"ZZZ"},{"$f":"IF(Liste_pièces!C567=\"\",\"\",Liste_pièces!C567)","v":""},{"$f":"IF(Liste_pièces!D567=\"\",\"\",Liste_pièces!D567)","v":""},{"$f":"IF(Liste_pièces!E567=\"\",\"\",Liste_pièces!E567)","v":""},{"$f":"IF(Liste_pièces!F567=\"\",\"\",Liste_pièces!F567)","v":""},{"$f":"IF(Liste_pièces!G567=\"\",\"\",Liste_pièces!G567)","v":""},{"$f":"IF(Liste_pièces!H567=\"\",\"\",Liste_pièces!H567)","v":""},{"$f":"IF(Liste_pièces!I567=\"\",\"\",Liste_pièces!I567)","v":""},{"$f":"IF(Liste_pièces!J567=\"\",\"\",Liste_pièces!J567)","v":""},{"$f":"IF(Liste_pièces!K567=\"\",\"\",Liste_pièces!K567)","v":""},{"$f":"IF(Liste_pièces!L567=\"\",\"\",Liste_pièces!L567)","v":""},{"$f":"IF(Liste_pièces!M567=\"\",\"\",Liste_pièces!M567)","v":""}]
[{"$f":"IF(Liste_pièces!A568=\"\",\"ZZZ\",Liste_pièces!A568)","v":"ZZZ"},{"$f":"IF(Liste_pièces!B568=\"\",\"ZZZ\",Liste_pièces!B568)","v":"ZZZ"},{"$f":"IF(Liste_pièces!C568=\"\",\"\",Liste_pièces!C568)","v":""},{"$f":"IF(Liste_pièces!D568=\"\",\"\",Liste_pièces!D568)","v":""},{"$f":"IF(Liste_pièces!E568=\"\",\"\",Liste_pièces!E568)","v":""},{"$f":"IF(Liste_pièces!F568=\"\",\"\",Liste_pièces!F568)","v":""},{"$f":"IF(Liste_pièces!G568=\"\",\"\",Liste_pièces!G568)","v":""},{"$f":"IF(Liste_pièces!H568=\"\",\"\",Liste_pièces!H568)","v":""},{"$f":"IF(Liste_pièces!I568=\"\",\"\",Liste_pièces!I568)","v":""},{"$f":"IF(Liste_pièces!J568=\"\",\"\",Liste_pièces!J568)","v":""},{"$f":"IF(Liste_pièces!K568=\"\",\"\",Liste_pièces!K568)","v":""},{"$f":"IF(Liste_pièces!L568=\"\",\"\",Liste_pièces!L568)","v":""},{"$f":"IF(Liste_pièces!M568=\"\",\"\",Liste_pièces!M568)","v":""}]
[{"$f":"IF(Liste_pièces!A569=\"\",\"ZZZ\",Liste_pièces!A569)","v":"ZZZ"},{"$f":"IF(Liste_pièces!B569=\"\",\"ZZZ\",Liste_pièces!B569)","v":"ZZZ"},{"$f":"IF(Liste_pièces!C569=\"\",\"\",Liste_pièces!C569)","v":""},{"$f":"IF(Liste_pièces!D569=\"\",\"\",Liste_pièces!D569)","v":""},{"$f":"IF(Liste_pièces!E569=\"\",\"\",Liste_pièces!E569)","v":""},{"$f":"IF(Liste_pièces!F569=\"\",\"\",Liste_pièces!F569)","v":""},{"$f":"IF(Liste_pièces!G569=\"\",\"\",Liste_pièces!G569)","v":""},{"$f":"IF(Liste_pièces!H569=\"\",\"\",Liste_pièces!H569)","v":""},{"$f":"IF(Liste_pièces!I569=\"\",\"\",Liste_pièces!I569)","v":""},{"$f":"IF(Liste_pièces!J569=\"\",\"\",Liste_pièces!J569)","v":""},{"$f":"IF(Liste_pièces!K569=\"\",\"\",Liste_pièces!K569)","v":""},{"$f":"IF(Liste_pièces!L569=\"\",\"\",Liste_pièces!L569)","v":""},{"$f":"IF(Liste_pièces!M569=\"\",\"\",Liste_pièces!M569)","v":""}]
[{"$f":"IF(Liste_pièces!A570=\"\",\"ZZZ\",Liste_pièces!A570)","v":"ZZZ"},{"$f":"IF(Liste_pièces!B570=\"\",\"ZZZ\",Liste_pièces!B570)","v":"ZZZ"},{"$f":"IF(Liste_pièces!C570=\"\",\"\",Liste_pièces!C570)","v":""},{"$f":"IF(Liste_pièces!D570=\"\",\"\",Liste_pièces!D570)","v":""},{"$f":"IF(Liste_pièces!E570=\"\",\"\",Liste_pièces!E570)","v":""},{"$f":"IF(Liste_pièces!F570=\"\",\"\",Liste_pièces!F570)","v":""},{"$f":"IF(Liste_pièces!G570=\"\",\"\",Liste_pièces!G570)","v":""},{"$f":"IF(Liste_pièces!H570=\"\",\"\",Liste_pièces!H570)","v":""},{"$f":"IF(Liste_pièces!I570=\"\",\"\",Liste_pièces!I570)","v":""},{"$f":"IF(Liste_pièces!J570=\"\",\"\",Liste_pièces!J570)","v":""},{"$f":"IF(Liste_pièces!K570=\"\",\"\",Liste_pièces!K570)","v":""},{"$f":"IF(Liste_pièces!L570=\"\",\"\",Liste_pièces!L570)","v":""},{"$f":"IF(Liste_pièces!M570=\"\",\"\",Liste_pièces!M570)","v":""}]
[{"$f":"IF(Liste_pièces!A571=\"\",\"ZZZ\",Liste_pièces!A571)","v":"ZZZ"},{"$f":"IF(Liste_pièces!B571=\"\",\"ZZZ\",Liste_pièces!B571)","v":"ZZZ"},{"$f":"IF(Liste_pièces!C571=\"\",\"\",Liste_pièces!C571)","v":""},{"$f":"IF(Liste_pièces!D571=\"\",\"\",Liste_pièces!D571)","v":""},{"$f":"IF(Liste_pièces!E571=\"\",\"\",Liste_pièces!E571)","v":""},{"$f":"IF(Liste_pièces!F571=\"\",\"\",Liste_pièces!F571)","v":""},{"$f":"IF(Liste_pièces!G571=\"\",\"\",Liste_pièces!G571)","v":""},{"$f":"IF(Liste_pièces!H571=\"\",\"\",Liste_pièces!H571)","v":""},{"$f":"IF(Liste_pièces!I571=\"\",\"\",Liste_pièces!I571)","v":""},{"$f":"IF(Liste_pièces!J571=\"\",\"\",Liste_pièces!J571)","v":""},{"$f":"IF(Liste_pièces!K571=\"\",\"\",Liste_pièces!K571)","v":""},{"$f":"IF(Liste_pièces!L571=\"\",\"\",Liste_pièces!L571)","v":""},{"$f":"IF(Liste_pièces!M571=\"\",\"\",Liste_pièces!M571)","v":""}]
[{"$f":"IF(Liste_pièces!A572=\"\",\"ZZZ\",Liste_pièces!A572)","v":"ZZZ"},{"$f":"IF(Liste_pièces!B572=\"\",\"ZZZ\",Liste_pièces!B572)","v":"ZZZ"},{"$f":"IF(Liste_pièces!C572=\"\",\"\",Liste_pièces!C572)","v":""},{"$f":"IF(Liste_pièces!D572=\"\",\"\",Liste_pièces!D572)","v":""},{"$f":"IF(Liste_pièces!E572=\"\",\"\",Liste_pièces!E572)","v":""},{"$f":"IF(Liste_pièces!F572=\"\",\"\",Liste_pièces!F572)","v":""},{"$f":"IF(Liste_pièces!G572=\"\",\"\",Liste_pièces!G572)","v":""},{"$f":"IF(Liste_pièces!H572=\"\",\"\",Liste_pièces!H572)","v":""},{"$f":"IF(Liste_pièces!I572=\"\",\"\",Liste_pièces!I572)","v":""},{"$f":"IF(Liste_pièces!J572=\"\",\"\",Liste_pièces!J572)","v":""},{"$f":"IF(Liste_pièces!K572=\"\",\"\",Liste_pièces!K572)","v":""},{"$f":"IF(Liste_pièces!L572=\"\",\"\",Liste_pièces!L572)","v":""},{"$f":"IF(Liste_pièces!M572=\"\",\"\",Liste_pièces!M572)","v":""}]
[{"$f":"IF(Liste_pièces!A573=\"\",\"ZZZ\",Liste_pièces!A573)","v":"ZZZ"},{"$f":"IF(Liste_pièces!B573=\"\",\"ZZZ\",Liste_pièces!B573)","v":"ZZZ"},{"$f":"IF(Liste_pièces!C573=\"\",\"\",Liste_pièces!C573)","v":""},{"$f":"IF(Liste_pièces!D573=\"\",\"\",Liste_pièces!D573)","v":""},{"$f":"IF(Liste_pièces!E573=\"\",\"\",Liste_pièces!E573)","v":""},{"$f":"IF(Liste_pièces!F573=\"\",\"\",Liste_pièces!F573)","v":""},{"$f":"IF(Liste_pièces!G573=\"\",\"\",Liste_pièces!G573)","v":""},{"$f":"IF(Liste_pièces!H573=\"\",\"\",Liste_pièces!H573)","v":""},{"$f":"IF(Liste_pièces!I573=\"\",\"\",Liste_pièces!I573)","v":""},{"$f":"IF(Liste_pièces!J573=\"\",\"\",Liste_pièces!J573)","v":""},{"$f":"IF(Liste_pièces!K573=\"\",\"\",Liste_pièces!K573)","v":""},{"$f":"IF(Liste_pièces!L573=\"\",\"\",Liste_pièces!L573)","v":""},{"$f":"IF(Liste_pièces!M573=\"\",\"\",Liste_pièces!M573)","v":""}]
[{"$f":"IF(Liste_pièces!A574=\"\",\"ZZZ\",Liste_pièces!A574)","v":"ZZZ"},{"$f":"IF(Liste_pièces!B574=\"\",\"ZZZ\",Liste_pièces!B574)","v":"ZZZ"},{"$f":"IF(Liste_pièces!C574=\"\",\"\",Liste_pièces!C574)","v":""},{"$f":"IF(Liste_pièces!D574=\"\",\"\",Liste_pièces!D574)","v":""},{"$f":"IF(Liste_pièces!E574=\"\",\"\",Liste_pièces!E574)","v":""},{"$f":"IF(Liste_pièces!F574=\"\",\"\",Liste_pièces!F574)","v":""},{"$f":"IF(Liste_pièces!G574=\"\",\"\",Liste_pièces!G574)","v":""},{"$f":"IF(Liste_pièces!H574=\"\",\"\",Liste_pièces!H574)","v":""},{"$f":"IF(Liste_pièces!I574=\"\",\"\",Liste_pièces!I574)","v":""},{"$f":"IF(Liste_pièces!J574=\"\",\"\",Liste_pièces!J574)","v":""},{"$f":"IF(Liste_pièces!K574=\"\",\"\",Liste_pièces!K574)","v":""},{"$f":"IF(Liste_pièces!L574=\"\",\"\",Liste_pièces!L574)","v":""},{"$f":"IF(Liste_pièces!M574=\"\",\"\",Liste_pièces!M574)","v":""}]
[{"$f":"IF(Liste_pièces!A575=\"\",\"ZZZ\",Liste_pièces!A575)","v":"ZZZ"},{"$f":"IF(Liste_pièces!B575=\"\",\"ZZZ\",Liste_pièces!B575)","v":"ZZZ"},{"$f":"IF(Liste_pièces!C575=\"\",\"\",Liste_pièces!C575)","v":""},{"$f":"IF(Liste_pièces!D575=\"\",\"\",Liste_pièces!D575)","v":""},{"$f":"IF(Liste_pièces!E575=\"\",\"\",Liste_pièces!E575)","v":""},{"$f":"IF(Liste_pièces!F575=\"\",\"\",Liste_pièces!F575)","v":""},{"$f":"IF(Liste_pièces!G575=\"\",\"\",Liste_pièces!G575)","v":""},{"$f":"IF(Liste_pièces!H575=\"\",\"\",Liste_pièces!H575)","v":""},{"$f":"IF(Liste_pièces!I575=\"\",\"\",Liste_pièces!I575)","v":""},{"$f":"IF(Liste_pièces!J575=\"\",\"\",Liste_pièces!J575)","v":""},{"$f":"IF(Liste_pièces!K575=\"\",\"\",Liste_pièces!K575)","v":""},{"$f":"IF(Liste_pièces!L575=\"\",\"\",Liste_pièces!L575)","v":""},{"$f":"IF(Liste_pièces!M575=\"\",\"\",Liste_pièces!M575)","v":""}]
[{"$f":"IF(Liste_pièces!A576=\"\",\"ZZZ\",Liste_pièces!A576)","v":"ZZZ"},{"$f":"IF(Liste_pièces!B576=\"\",\"ZZZ\",Liste_pièces!B576)","v":"ZZZ"},{"$f":"IF(Liste_pièces!C576=\"\",\"\",Liste_pièces!C576)","v":""},{"$f":"IF(Liste_pièces!D576=\"\",\"\",Liste_pièces!D576)","v":""},{"$f":"IF(Liste_pièces!E576=\"\",\"\",Liste_pièces!E576)","v":""},{"$f":"IF(Liste_pièces!F576=\"\",\"\",Liste_pièces!F576)","v":""},{"$f":"IF(Liste_pièces!G576=\"\",\"\",Liste_pièces!G576)","v":""},{"$f":"IF(Liste_pièces!H576=\"\",\"\",Liste_pièces!H576)","v":""},{"$f":"IF(Liste_pièces!I576=\"\",\"\",Liste_pièces!I576)","v":""},{"$f":"IF(Liste_pièces!J576=\"\",\"\",Liste_pièces!J576)","v":""},{"$f":"IF(Liste_pièces!K576=\"\",\"\",Liste_pièces!K576)","v":""},{"$f":"IF(Liste_pièces!L576=\"\",\"\",Liste_pièces!L576)","v":""},{"$f":"IF(Liste_pièces!M576=\"\",\"\",Liste_pièces!M576)","v":""}]
[{"$f":"IF(Liste_pièces!A577=\"\",\"ZZZ\",Liste_pièces!A577)","v":"ZZZ"},{"$f":"IF(Liste_pièces!B577=\"\",\"ZZZ\",Liste_pièces!B577)","v":"ZZZ"},{"$f":"IF(Liste_pièces!C577=\"\",\"\",Liste_pièces!C577)","v":""},{"$f":"IF(Liste_pièces!D577=\"\",\"\",Liste_pièces!D577)","v":""},{"$f":"IF(Liste_pièces!E577=\"\",\"\",Liste_pièces!E577)","v":""},{"$f":"IF(Liste_pièces!F577=\"\",\"\",Liste_pièces!F577)","v":""},{"$f":"IF(Liste_pièces!G577=\"\",\"\",Liste_pièces!G577)","v":""},{"$f":"IF(Liste_pièces!H577=\"\",\"\",Liste_pièces!H577)","v":""},{"$f":"IF(Liste_pièces!I577=\"\",\"\",Liste_pièces!I577)","v":""},{"$f":"IF(Liste_pièces!J577=\"\",\"\",Liste_pièces!J577)","v":""},{"$f":"IF(Liste_pièces!K577=\"\",\"\",Liste_pièces!K577)","v":""},{"$f":"IF(Liste_pièces!L577=\"\",\"\",Liste_pièces!L577)","v":""},{"$f":"IF(Liste_pièces!M577=\"\",\"\",Liste_pièces!M577)","v":""}]
[{"$f":"IF(Liste_pièces!A578=\"\",\"ZZZ\",Liste_pièces!A578)","v":"ZZZ"},{"$f":"IF(Liste_pièces!B578=\"\",\"ZZZ\",Liste_pièces!B578)","v":"ZZZ"},{"$f":"IF(Liste_pièces!C578=\"\",\"\",Liste_pièces!C578)","v":""},{"$f":"IF(Liste_pièces!D578=\"\",\"\",Liste_pièces!D578)","v":""},{"$f":"IF(Liste_pièces!E578=\"\",\"\",Liste_pièces!E578)","v":""},{"$f":"IF(Liste_pièces!F578=\"\",\"\",Liste_pièces!F578)","v":""},{"$f":"IF(Liste_pièces!G578=\"\",\"\",Liste_pièces!G578)","v":""},{"$f":"IF(Liste_pièces!H578=\"\",\"\",Liste_pièces!H578)","v":""},{"$f":"IF(Liste_pièces!I578=\"\",\"\",Liste_pièces!I578)","v":""},{"$f":"IF(Liste_pièces!J578=\"\",\"\",Liste_pièces!J578)","v":""},{"$f":"IF(Liste_pièces!K578=\"\",\"\",Liste_pièces!K578)","v":""},{"$f":"IF(Liste_pièces!L578=\"\",\"\",Liste_pièces!L578)","v":""},{"$f":"IF(Liste_pièces!M578=\"\",\"\",Liste_pièces!M578)","v":""}]
[{"$f":"IF(Liste_pièces!A579=\"\",\"ZZZ\",Liste_pièces!A579)","v":"ZZZ"},{"$f":"IF(Liste_pièces!B579=\"\",\"ZZZ\",Liste_pièces!B579)","v":"ZZZ"},{"$f":"IF(Liste_pièces!C579=\"\",\"\",Liste_pièces!C579)","v":""},{"$f":"IF(Liste_pièces!D579=\"\",\"\",Liste_pièces!D579)","v":""},{"$f":"IF(Liste_pièces!E579=\"\",\"\",Liste_pièces!E579)","v":""},{"$f":"IF(Liste_pièces!F579=\"\",\"\",Liste_pièces!F579)","v":""},{"$f":"IF(Liste_pièces!G579=\"\",\"\",Liste_pièces!G579)","v":""},{"$f":"IF(Liste_pièces!H579=\"\",\"\",Liste_pièces!H579)","v":""},{"$f":"IF(Liste_pièces!I579=\"\",\"\",Liste_pièces!I579)","v":""},{"$f":"IF(Liste_pièces!J579=\"\",\"\",Liste_pièces!J579)","v":""},{"$f":"IF(Liste_pièces!K579=\"\",\"\",Liste_pièces!K579)","v":""},{"$f":"IF(Liste_pièces!L579=\"\",\"\",Liste_pièces!L579)","v":""},{"$f":"IF(Liste_pièces!M579=\"\",\"\",Liste_pièces!M579)","v":""}]
[{"$f":"IF(Liste_pièces!A580=\"\",\"ZZZ\",Liste_pièces!A580)","v":"ZZZ"},{"$f":"IF(Liste_pièces!B580=\"\",\"ZZZ\",Liste_pièces!B580)","v":"ZZZ"},{"$f":"IF(Liste_pièces!C580=\"\",\"\",Liste_pièces!C580)","v":""},{"$f":"IF(Liste_pièces!D580=\"\",\"\",Liste_pièces!D580)","v":""},{"$f":"IF(Liste_pièces!E580=\"\",\"\",Liste_pièces!E580)","v":""},{"$f":"IF(Liste_pièces!F580=\"\",\"\",Liste_pièces!F580)","v":""},{"$f":"IF(Liste_pièces!G580=\"\",\"\",Liste_pièces!G580)","v":""},{"$f":"IF(Liste_pièces!H580=\"\",\"\",Liste_pièces!H580)","v":""},{"$f":"IF(Liste_pièces!I580=\"\",\"\",Liste_pièces!I580)","v":""},{"$f":"IF(Liste_pièces!J580=\"\",\"\",Liste_pièces!J580)","v":""},{"$f":"IF(Liste_pièces!K580=\"\",\"\",Liste_pièces!K580)","v":""},{"$f":"IF(Liste_pièces!L580=\"\",\"\",Liste_pièces!L580)","v":""},{"$f":"IF(Liste_pièces!M580=\"\",\"\",Liste_pièces!M580)","v":""}]
[{"$f":"IF(Liste_pièces!A581=\"\",\"ZZZ\",Liste_pièces!A581)","v":"ZZZ"},{"$f":"IF(Liste_pièces!B581=\"\",\"ZZZ\",Liste_pièces!B581)","v":"ZZZ"},{"$f":"IF(Liste_pièces!C581=\"\",\"\",Liste_pièces!C581)","v":""},{"$f":"IF(Liste_pièces!D581=\"\",\"\",Liste_pièces!D581)","v":""},{"$f":"IF(Liste_pièces!E581=\"\",\"\",Liste_pièces!E581)","v":""},{"$f":"IF(Liste_pièces!F581=\"\",\"\",Liste_pièces!F581)","v":""},{"$f":"IF(Liste_pièces!G581=\"\",\"\",Liste_pièces!G581)","v":""},{"$f":"IF(Liste_pièces!H581=\"\",\"\",Liste_pièces!H581)","v":""},{"$f":"IF(Liste_pièces!I581=\"\",\"\",Liste_pièces!I581)","v":""},{"$f":"IF(Liste_pièces!J581=\"\",\"\",Liste_pièces!J581)","v":""},{"$f":"IF(Liste_pièces!K581=\"\",\"\",Liste_pièces!K581)","v":""},{"$f":"IF(Liste_pièces!L581=\"\",\"\",Liste_pièces!L581)","v":""},{"$f":"IF(Liste_pièces!M581=\"\",\"\",Liste_pièces!M581)","v":""}]
[{"$f":"IF(Liste_pièces!A582=\"\",\"ZZZ\",Liste_pièces!A582)","v":"ZZZ"},{"$f":"IF(Liste_pièces!B582=\"\",\"ZZZ\",Liste_pièces!B582)","v":"ZZZ"},{"$f":"IF(Liste_pièces!C582=\"\",\"\",Liste_pièces!C582)","v":""},{"$f":"IF(Liste_pièces!D582=\"\",\"\",Liste_pièces!D582)","v":""},{"$f":"IF(Liste_pièces!E582=\"\",\"\",Liste_pièces!E582)","v":""},{"$f":"IF(Liste_pièces!F582=\"\",\"\",Liste_pièces!F582)","v":""},{"$f":"IF(Liste_pièces!G582=\"\",\"\",Liste_pièces!G582)","v":""},{"$f":"IF(Liste_pièces!H582=\"\",\"\",Liste_pièces!H582)","v":""},{"$f":"IF(Liste_pièces!I582=\"\",\"\",Liste_pièces!I582)","v":""},{"$f":"IF(Liste_pièces!J582=\"\",\"\",Liste_pièces!J582)","v":""},{"$f":"IF(Liste_pièces!K582=\"\",\"\",Liste_pièces!K582)","v":""},{"$f":"IF(Liste_pièces!L582=\"\",\"\",Liste_pièces!L582)","v":""},{"$f":"IF(Liste_pièces!M582=\"\",\"\",Liste_pièces!M582)","v":""}]
[{"$f":"IF(Liste_pièces!A583=\"\",\"ZZZ\",Liste_pièces!A583)","v":"ZZZ"},{"$f":"IF(Liste_pièces!B583=\"\",\"ZZZ\",Liste_pièces!B583)","v":"ZZZ"},{"$f":"IF(Liste_pièces!C583=\"\",\"\",Liste_pièces!C583)","v":""},{"$f":"IF(Liste_pièces!D583=\"\",\"\",Liste_pièces!D583)","v":""},{"$f":"IF(Liste_pièces!E583=\"\",\"\",Liste_pièces!E583)","v":""},{"$f":"IF(Liste_pièces!F583=\"\",\"\",Liste_pièces!F583)","v":""},{"$f":"IF(Liste_pièces!G583=\"\",\"\",Liste_pièces!G583)","v":""},{"$f":"IF(Liste_pièces!H583=\"\",\"\",Liste_pièces!H583)","v":""},{"$f":"IF(Liste_pièces!I583=\"\",\"\",Liste_pièces!I583)","v":""},{"$f":"IF(Liste_pièces!J583=\"\",\"\",Liste_pièces!J583)","v":""},{"$f":"IF(Liste_pièces!K583=\"\",\"\",Liste_pièces!K583)","v":""},{"$f":"IF(Liste_pièces!L583=\"\",\"\",Liste_pièces!L583)","v":""},{"$f":"IF(Liste_pièces!M583=\"\",\"\",Liste_pièces!M583)","v":""}]
[{"$f":"IF(Liste_pièces!A584=\"\",\"ZZZ\",Liste_pièces!A584)","v":"ZZZ"},{"$f":"IF(Liste_pièces!B584=\"\",\"ZZZ\",Liste_pièces!B584)","v":"ZZZ"},{"$f":"IF(Liste_pièces!C584=\"\",\"\",Liste_pièces!C584)","v":""},{"$f":"IF(Liste_pièces!D584=\"\",\"\",Liste_pièces!D584)","v":""},{"$f":"IF(Liste_pièces!E584=\"\",\"\",Liste_pièces!E584)","v":""},{"$f":"IF(Liste_pièces!F584=\"\",\"\",Liste_pièces!F584)","v":""},{"$f":"IF(Liste_pièces!G584=\"\",\"\",Liste_pièces!G584)","v":""},{"$f":"IF(Liste_pièces!H584=\"\",\"\",Liste_pièces!H584)","v":""},{"$f":"IF(Liste_pièces!I584=\"\",\"\",Liste_pièces!I584)","v":""},{"$f":"IF(Liste_pièces!J584=\"\",\"\",Liste_pièces!J584)","v":""},{"$f":"IF(Liste_pièces!K584=\"\",\"\",Liste_pièces!K584)","v":""},{"$f":"IF(Liste_pièces!L584=\"\",\"\",Liste_pièces!L584)","v":""},{"$f":"IF(Liste_pièces!M584=\"\",\"\",Liste_pièces!M584)","v":""}]
[{"$f":"IF(Liste_pièces!A585=\"\",\"ZZZ\",Liste_pièces!A585)","v":"ZZZ"},{"$f":"IF(Liste_pièces!B585=\"\",\"ZZZ\",Liste_pièces!B585)","v":"ZZZ"},{"$f":"IF(Liste_pièces!C585=\"\",\"\",Liste_pièces!C585)","v":""},{"$f":"IF(Liste_pièces!D585=\"\",\"\",Liste_pièces!D585)","v":""},{"$f":"IF(Liste_pièces!E585=\"\",\"\",Liste_pièces!E585)","v":""},{"$f":"IF(Liste_pièces!F585=\"\",\"\",Liste_pièces!F585)","v":""},{"$f":"IF(Liste_pièces!G585=\"\",\"\",Liste_pièces!G585)","v":""},{"$f":"IF(Liste_pièces!H585=\"\",\"\",Liste_pièces!H585)","v":""},{"$f":"IF(Liste_pièces!I585=\"\",\"\",Liste_pièces!I585)","v":""},{"$f":"IF(Liste_pièces!J585=\"\",\"\",Liste_pièces!J585)","v":""},{"$f":"IF(Liste_pièces!K585=\"\",\"\",Liste_pièces!K585)","v":""},{"$f":"IF(Liste_pièces!L585=\"\",\"\",Liste_pièces!L585)","v":""},{"$f":"IF(Liste_pièces!M585=\"\",\"\",Liste_pièces!M585)","v":""}]
[{"$f":"IF(Liste_pièces!A586=\"\",\"ZZZ\",Liste_pièces!A586)","v":"ZZZ"},{"$f":"IF(Liste_pièces!B586=\"\",\"ZZZ\",Liste_pièces!B586)","v":"ZZZ"},{"$f":"IF(Liste_pièces!C586=\"\",\"\",Liste_pièces!C586)","v":""},{"$f":"IF(Liste_pièces!D586=\"\",\"\",Liste_pièces!D586)","v":""},{"$f":"IF(Liste_pièces!E586=\"\",\"\",Liste_pièces!E586)","v":""},{"$f":"IF(Liste_pièces!F586=\"\",\"\",Liste_pièces!F586)","v":""},{"$f":"IF(Liste_pièces!G586=\"\",\"\",Liste_pièces!G586)","v":""},{"$f":"IF(Liste_pièces!H586=\"\",\"\",Liste_pièces!H586)","v":""},{"$f":"IF(Liste_pièces!I586=\"\",\"\",Liste_pièces!I586)","v":""},{"$f":"IF(Liste_pièces!J586=\"\",\"\",Liste_pièces!J586)","v":""},{"$f":"IF(Liste_pièces!K586=\"\",\"\",Liste_pièces!K586)","v":""},{"$f":"IF(Liste_pièces!L586=\"\",\"\",Liste_pièces!L586)","v":""},{"$f":"IF(Liste_pièces!M586=\"\",\"\",Liste_pièces!M586)","v":""}]
[{"$f":"IF(Liste_pièces!A587=\"\",\"ZZZ\",Liste_pièces!A587)","v":"ZZZ"},{"$f":"IF(Liste_pièces!B587=\"\",\"ZZZ\",Liste_pièces!B587)","v":"ZZZ"},{"$f":"IF(Liste_pièces!C587=\"\",\"\",Liste_pièces!C587)","v":""},{"$f":"IF(Liste_pièces!D587=\"\",\"\",Liste_pièces!D587)","v":""},{"$f":"IF(Liste_pièces!E587=\"\",\"\",Liste_pièces!E587)","v":""},{"$f":"IF(Liste_pièces!F587=\"\",\"\",Liste_pièces!F587)","v":""},{"$f":"IF(Liste_pièces!G587=\"\",\"\",Liste_pièces!G587)","v":""},{"$f":"IF(Liste_pièces!H587=\"\",\"\",Liste_pièces!H587)","v":""},{"$f":"IF(Liste_pièces!I587=\"\",\"\",Liste_pièces!I587)","v":""},{"$f":"IF(Liste_pièces!J587=\"\",\"\",Liste_pièces!J587)","v":""},{"$f":"IF(Liste_pièces!K587=\"\",\"\",Liste_pièces!K587)","v":""},{"$f":"IF(Liste_pièces!L587=\"\",\"\",Liste_pièces!L587)","v":""},{"$f":"IF(Liste_pièces!M587=\"\",\"\",Liste_pièces!M587)","v":""}]
[{"$f":"IF(Liste_pièces!A588=\"\",\"ZZZ\",Liste_pièces!A588)","v":"ZZZ"},{"$f":"IF(Liste_pièces!B588=\"\",\"ZZZ\",Liste_pièces!B588)","v":"ZZZ"},{"$f":"IF(Liste_pièces!C588=\"\",\"\",Liste_pièces!C588)","v":""},{"$f":"IF(Liste_pièces!D588=\"\",\"\",Liste_pièces!D588)","v":""},{"$f":"IF(Liste_pièces!E588=\"\",\"\",Liste_pièces!E588)","v":""},{"$f":"IF(Liste_pièces!F588=\"\",\"\",Liste_pièces!F588)","v":""},{"$f":"IF(Liste_pièces!G588=\"\",\"\",Liste_pièces!G588)","v":""},{"$f":"IF(Liste_pièces!H588=\"\",\"\",Liste_pièces!H588)","v":""},{"$f":"IF(Liste_pièces!I588=\"\",\"\",Liste_pièces!I588)","v":""},{"$f":"IF(Liste_pièces!J588=\"\",\"\",Liste_pièces!J588)","v":""},{"$f":"IF(Liste_pièces!K588=\"\",\"\",Liste_pièces!K588)","v":""},{"$f":"IF(Liste_pièces!L588=\"\",\"\",Liste_pièces!L588)","v":""},{"$f":"IF(Liste_pièces!M588=\"\",\"\",Liste_pièces!M588)","v":""}]
[{"$f":"IF(Liste_pièces!A589=\"\",\"ZZZ\",Liste_pièces!A589)","v":"ZZZ"},{"$f":"IF(Liste_pièces!B589=\"\",\"ZZZ\",Liste_pièces!B589)","v":"ZZZ"},{"$f":"IF(Liste_pièces!C589=\"\",\"\",Liste_pièces!C589)","v":""},{"$f":"IF(Liste_pièces!D589=\"\",\"\",Liste_pièces!D589)","v":""},{"$f":"IF(Liste_pièces!E589=\"\",\"\",Liste_pièces!E589)","v":""},{"$f":"IF(Liste_pièces!F589=\"\",\"\",Liste_pièces!F589)","v":""},{"$f":"IF(Liste_pièces!G589=\"\",\"\",Liste_pièces!G589)","v":""},{"$f":"IF(Liste_pièces!H589=\"\",\"\",Liste_pièces!H589)","v":""},{"$f":"IF(Liste_pièces!I589=\"\",\"\",Liste_pièces!I589)","v":""},{"$f":"IF(Liste_pièces!J589=\"\",\"\",Liste_pièces!J589)","v":""},{"$f":"IF(Liste_pièces!K589=\"\",\"\",Liste_pièces!K589)","v":""},{"$f":"IF(Liste_pièces!L589=\"\",\"\",Liste_pièces!L589)","v":""},{"$f":"IF(Liste_pièces!M589=\"\",\"\",Liste_pièces!M589)","v":""}]
[{"$f":"IF(Liste_pièces!A590=\"\",\"ZZZ\",Liste_pièces!A590)","v":"ZZZ"},{"$f":"IF(Liste_pièces!B590=\"\",\"ZZZ\",Liste_pièces!B590)","v":"ZZZ"},{"$f":"IF(Liste_pièces!C590=\"\",\"\",Liste_pièces!C590)","v":""},{"$f":"IF(Liste_pièces!D590=\"\",\"\",Liste_pièces!D590)","v":""},{"$f":"IF(Liste_pièces!E590=\"\",\"\",Liste_pièces!E590)","v":""},{"$f":"IF(Liste_pièces!F590=\"\",\"\",Liste_pièces!F590)","v":""},{"$f":"IF(Liste_pièces!G590=\"\",\"\",Liste_pièces!G590)","v":""},{"$f":"IF(Liste_pièces!H590=\"\",\"\",Liste_pièces!H590)","v":""},{"$f":"IF(Liste_pièces!I590=\"\",\"\",Liste_pièces!I590)","v":""},{"$f":"IF(Liste_pièces!J590=\"\",\"\",Liste_pièces!J590)","v":""},{"$f":"IF(Liste_pièces!K590=\"\",\"\",Liste_pièces!K590)","v":""},{"$f":"IF(Liste_pièces!L590=\"\",\"\",Liste_pièces!L590)","v":""},{"$f":"IF(Liste_pièces!M590=\"\",\"\",Liste_pièces!M590)","v":""}]
[{"$f":"IF(Liste_pièces!A591=\"\",\"ZZZ\",Liste_pièces!A591)","v":"ZZZ"},{"$f":"IF(Liste_pièces!B591=\"\",\"ZZZ\",Liste_pièces!B591)","v":"ZZZ"},{"$f":"IF(Liste_pièces!C591=\"\",\"\",Liste_pièces!C591)","v":""},{"$f":"IF(Liste_pièces!D591=\"\",\"\",Liste_pièces!D591)","v":""},{"$f":"IF(Liste_pièces!E591=\"\",\"\",Liste_pièces!E591)","v":""},{"$f":"IF(Liste_pièces!F591=\"\",\"\",Liste_pièces!F591)","v":""},{"$f":"IF(Liste_pièces!G591=\"\",\"\",Liste_pièces!G591)","v":""},{"$f":"IF(Liste_pièces!H591=\"\",\"\",Liste_pièces!H591)","v":""},{"$f":"IF(Liste_pièces!I591=\"\",\"\",Liste_pièces!I591)","v":""},{"$f":"IF(Liste_pièces!J591=\"\",\"\",Liste_pièces!J591)","v":""},{"$f":"IF(Liste_pièces!K591=\"\",\"\",Liste_pièces!K591)","v":""},{"$f":"IF(Liste_pièces!L591=\"\",\"\",Liste_pièces!L591)","v":""},{"$f":"IF(Liste_pièces!M591=\"\",\"\",Liste_pièces!M591)","v":""}]
[{"$f":"IF(Liste_pièces!A592=\"\",\"ZZZ\",Liste_pièces!A592)","v":"ZZZ"},{"$f":"IF(Liste_pièces!B592=\"\",\"ZZZ\",Liste_pièces!B592)","v":"ZZZ"},{"$f":"IF(Liste_pièces!C592=\"\",\"\",Liste_pièces!C592)","v":""},{"$f":"IF(Liste_pièces!D592=\"\",\"\",Liste_pièces!D592)","v":""},{"$f":"IF(Liste_pièces!E592=\"\",\"\",Liste_pièces!E592)","v":""},{"$f":"IF(Liste_pièces!F592=\"\",\"\",Liste_pièces!F592)","v":""},{"$f":"IF(Liste_pièces!G592=\"\",\"\",Liste_pièces!G592)","v":""},{"$f":"IF(Liste_pièces!H592=\"\",\"\",Liste_pièces!H592)","v":""},{"$f":"IF(Liste_pièces!I592=\"\",\"\",Liste_pièces!I592)","v":""},{"$f":"IF(Liste_pièces!J592=\"\",\"\",Liste_pièces!J592)","v":""},{"$f":"IF(Liste_pièces!K592=\"\",\"\",Liste_pièces!K592)","v":""},{"$f":"IF(Liste_pièces!L592=\"\",\"\",Liste_pièces!L592)","v":""},{"$f":"IF(Liste_pièces!M592=\"\",\"\",Liste_pièces!M592)","v":""}]
[{"$f":"IF(Liste_pièces!A593=\"\",\"ZZZ\",Liste_pièces!A593)","v":"ZZZ"},{"$f":"IF(Liste_pièces!B593=\"\",\"ZZZ\",Liste_pièces!B593)","v":"ZZZ"},{"$f":"IF(Liste_pièces!C593=\"\",\"\",Liste_pièces!C593)","v":""},{"$f":"IF(Liste_pièces!D593=\"\",\"\",Liste_pièces!D593)","v":""},{"$f":"IF(Liste_pièces!E593=\"\",\"\",Liste_pièces!E593)","v":""},{"$f":"IF(Liste_pièces!F593=\"\",\"\",Liste_pièces!F593)","v":""},{"$f":"IF(Liste_pièces!G593=\"\",\"\",Liste_pièces!G593)","v":""},{"$f":"IF(Liste_pièces!H593=\"\",\"\",Liste_pièces!H593)","v":""},{"$f":"IF(Liste_pièces!I593=\"\",\"\",Liste_pièces!I593)","v":""},{"$f":"IF(Liste_pièces!J593=\"\",\"\",Liste_pièces!J593)","v":""},{"$f":"IF(Liste_pièces!K593=\"\",\"\",Liste_pièces!K593)","v":""},{"$f":"IF(Liste_pièces!L593=\"\",\"\",Liste_pièces!L593)","v":""},{"$f":"IF(Liste_pièces!M593=\"\",\"\",Liste_pièces!M593)","v":""}]
[{"$f":"IF(Liste_pièces!A594=\"\",\"ZZZ\",Liste_pièces!A594)","v":"ZZZ"},{"$f":"IF(Liste_pièces!B594=\"\",\"ZZZ\",Liste_pièces!B594)","v":"ZZZ"},{"$f":"IF(Liste_pièces!C594=\"\",\"\",Liste_pièces!C594)","v":""},{"$f":"IF(Liste_pièces!D594=\"\",\"\",Liste_pièces!D594)","v":""},{"$f":"IF(Liste_pièces!E594=\"\",\"\",Liste_pièces!E594)","v":""},{"$f":"IF(Liste_pièces!F594=\"\",\"\",Liste_pièces!F594)","v":""},{"$f":"IF(Liste_pièces!G594=\"\",\"\",Liste_pièces!G594)","v":""},{"$f":"IF(Liste_pièces!H594=\"\",\"\",Liste_pièces!H594)","v":""},{"$f":"IF(Liste_pièces!I594=\"\",\"\",Liste_pièces!I594)","v":""},{"$f":"IF(Liste_pièces!J594=\"\",\"\",Liste_pièces!J594)","v":""},{"$f":"IF(Liste_pièces!K594=\"\",\"\",Liste_pièces!K594)","v":""},{"$f":"IF(Liste_pièces!L594=\"\",\"\",Liste_pièces!L594)","v":""},{"$f":"IF(Liste_pièces!M594=\"\",\"\",Liste_pièces!M594)","v":""}]
[{"$f":"IF(Liste_pièces!A595=\"\",\"ZZZ\",Liste_pièces!A595)","v":"ZZZ"},{"$f":"IF(Liste_pièces!B595=\"\",\"ZZZ\",Liste_pièces!B595)","v":"ZZZ"},{"$f":"IF(Liste_pièces!C595=\"\",\"\",Liste_pièces!C595)","v":""},{"$f":"IF(Liste_pièces!D595=\"\",\"\",Liste_pièces!D595)","v":""},{"$f":"IF(Liste_pièces!E595=\"\",\"\",Liste_pièces!E595)","v":""},{"$f":"IF(Liste_pièces!F595=\"\",\"\",Liste_pièces!F595)","v":""},{"$f":"IF(Liste_pièces!G595=\"\",\"\",Liste_pièces!G595)","v":""},{"$f":"IF(Liste_pièces!H595=\"\",\"\",Liste_pièces!H595)","v":""},{"$f":"IF(Liste_pièces!I595=\"\",\"\",Liste_pièces!I595)","v":""},{"$f":"IF(Liste_pièces!J595=\"\",\"\",Liste_pièces!J595)","v":""},{"$f":"IF(Liste_pièces!K595=\"\",\"\",Liste_pièces!K595)","v":""},{"$f":"IF(Liste_pièces!L595=\"\",\"\",Liste_pièces!L595)","v":""},{"$f":"IF(Liste_pièces!M595=\"\",\"\",Liste_pièces!M595)","v":""}]
[{"$f":"IF(Liste_pièces!A596=\"\",\"ZZZ\",Liste_pièces!A596)","v":"ZZZ"},{"$f":"IF(Liste_pièces!B596=\"\",\"ZZZ\",Liste_pièces!B596)","v":"ZZZ"},{"$f":"IF(Liste_pièces!C596=\"\",\"\",Liste_pièces!C596)","v":""},{"$f":"IF(Liste_pièces!D596=\"\",\"\",Liste_pièces!D596)","v":""},{"$f":"IF(Liste_pièces!E596=\"\",\"\",Liste_pièces!E596)","v":""},{"$f":"IF(Liste_pièces!F596=\"\",\"\",Liste_pièces!F596)","v":""},{"$f":"IF(Liste_pièces!G596=\"\",\"\",Liste_pièces!G596)","v":""},{"$f":"IF(Liste_pièces!H596=\"\",\"\",Liste_pièces!H596)","v":""},{"$f":"IF(Liste_pièces!I596=\"\",\"\",Liste_pièces!I596)","v":""},{"$f":"IF(Liste_pièces!J596=\"\",\"\",Liste_pièces!J596)","v":""},{"$f":"IF(Liste_pièces!K596=\"\",\"\",Liste_pièces!K596)","v":""},{"$f":"IF(Liste_pièces!L596=\"\",\"\",Liste_pièces!L596)","v":""},{"$f":"IF(Liste_pièces!M596=\"\",\"\",Liste_pièces!M596)","v":""}]
[{"$f":"IF(Liste_pièces!A597=\"\",\"ZZZ\",Liste_pièces!A597)","v":"ZZZ"},{"$f":"IF(Liste_pièces!B597=\"\",\"ZZZ\",Liste_pièces!B597)","v":"ZZZ"},{"$f":"IF(Liste_pièces!C597=\"\",\"\",Liste_pièces!C597)","v":""},{"$f":"IF(Liste_pièces!D597=\"\",\"\",Liste_pièces!D597)","v":""},{"$f":"IF(Liste_pièces!E597=\"\",\"\",Liste_pièces!E597)","v":""},{"$f":"IF(Liste_pièces!F597=\"\",\"\",Liste_pièces!F597)","v":""},{"$f":"IF(Liste_pièces!G597=\"\",\"\",Liste_pièces!G597)","v":""},{"$f":"IF(Liste_pièces!H597=\"\",\"\",Liste_pièces!H597)","v":""},{"$f":"IF(Liste_pièces!I597=\"\",\"\",Liste_pièces!I597)","v":""},{"$f":"IF(Liste_pièces!J597=\"\",\"\",Liste_pièces!J597)","v":""},{"$f":"IF(Liste_pièces!K597=\"\",\"\",Liste_pièces!K597)","v":""},{"$f":"IF(Liste_pièces!L597=\"\",\"\",Liste_pièces!L597)","v":""},{"$f":"IF(Liste_pièces!M597=\"\",\"\",Liste_pièces!M597)","v":""}]
[{"$f":"IF(Liste_pièces!A598=\"\",\"ZZZ\",Liste_pièces!A598)","v":"ZZZ"},{"$f":"IF(Liste_pièces!B598=\"\",\"ZZZ\",Liste_pièces!B598)","v":"ZZZ"},{"$f":"IF(Liste_pièces!C598=\"\",\"\",Liste_pièces!C598)","v":""},{"$f":"IF(Liste_pièces!D598=\"\",\"\",Liste_pièces!D598)","v":""},{"$f":"IF(Liste_pièces!E598=\"\",\"\",Liste_pièces!E598)","v":""},{"$f":"IF(Liste_pièces!F598=\"\",\"\",Liste_pièces!F598)","v":""},{"$f":"IF(Liste_pièces!G598=\"\",\"\",Liste_pièces!G598)","v":""},{"$f":"IF(Liste_pièces!H598=\"\",\"\",Liste_pièces!H598)","v":""},{"$f":"IF(Liste_pièces!I598=\"\",\"\",Liste_pièces!I598)","v":""},{"$f":"IF(Liste_pièces!J598=\"\",\"\",Liste_pièces!J598)","v":""},{"$f":"IF(Liste_pièces!K598=\"\",\"\",Liste_pièces!K598)","v":""},{"$f":"IF(Liste_pièces!L598=\"\",\"\",Liste_pièces!L598)","v":""},{"$f":"IF(Liste_pièces!M598=\"\",\"\",Liste_pièces!M598)","v":""}]
[{"$f":"IF(Liste_pièces!A599=\"\",\"ZZZ\",Liste_pièces!A599)","v":"ZZZ"},{"$f":"IF(Liste_pièces!B599=\"\",\"ZZZ\",Liste_pièces!B599)","v":"ZZZ"},{"$f":"IF(Liste_pièces!C599=\"\",\"\",Liste_pièces!C599)","v":""},{"$f":"IF(Liste_pièces!D599=\"\",\"\",Liste_pièces!D599)","v":""},{"$f":"IF(Liste_pièces!E599=\"\",\"\",Liste_pièces!E599)","v":""},{"$f":"IF(Liste_pièces!F599=\"\",\"\",Liste_pièces!F599)","v":""},{"$f":"IF(Liste_pièces!G599=\"\",\"\",Liste_pièces!G599)","v":""},{"$f":"IF(Liste_pièces!H599=\"\",\"\",Liste_pièces!H599)","v":""},{"$f":"IF(Liste_pièces!I599=\"\",\"\",Liste_pièces!I599)","v":""},{"$f":"IF(Liste_pièces!J599=\"\",\"\",Liste_pièces!J599)","v":""},{"$f":"IF(Liste_pièces!K599=\"\",\"\",Liste_pièces!K599)","v":""},{"$f":"IF(Liste_pièces!L599=\"\",\"\",Liste_pièces!L599)","v":""},{"$f":"IF(Liste_pièces!M599=\"\",\"\",Liste_pièces!M599)","v":""}]
[{"$f":"IF(Liste_pièces!A600=\"\",\"ZZZ\",Liste_pièces!A600)","v":"ZZZ"},{"$f":"IF(Liste_pièces!B600=\"\",\"ZZZ\",Liste_pièces!B600)","v":"ZZZ"},{"$f":"IF(Liste_pièces!C600=\"\",\"\",Liste_pièces!C600)","v":""},{"$f":"IF(Liste_pièces!D600=\"\",\"\",Liste_pièces!D600)","v":""},{"$f":"IF(Liste_pièces!E600=\"\",\"\",Liste_pièces!E600)","v":""},{"$f":"IF(Liste_pièces!F600=\"\",\"\",Liste_pièces!F600)","v":""},{"$f":"IF(Liste_pièces!G600=\"\",\"\",Liste_pièces!G600)","v":""},{"$f":"IF(Liste_pièces!H600=\"\",\"\",Liste_pièces!H600)","v":""},{"$f":"IF(Liste_pièces!I600=\"\",\"\",Liste_pièces!I600)","v":""},{"$f":"IF(Liste_pièces!J600=\"\",\"\",Liste_pièces!J600)","v":""},{"$f":"IF(Liste_pièces!K600=\"\",\"\",Liste_pièces!K600)","v":""},{"$f":"IF(Liste_pièces!L600=\"\",\"\",Liste_pièces!L600)","v":""},{"$f":"IF(Liste_pièces!M600=\"\",\"\",Liste_pièces!M600)","v":""}]
[{"$f":"IF(Liste_pièces!A601=\"\",\"ZZZ\",Liste_pièces!A601)","v":"ZZZ"},{"$f":"IF(Liste_pièces!B601=\"\",\"ZZZ\",Liste_pièces!B601)","v":"ZZZ"},{"$f":"IF(Liste_pièces!C601=\"\",\"\",Liste_pièces!C601)","v":""},{"$f":"IF(Liste_pièces!D601=\"\",\"\",Liste_pièces!D601)","v":""},{"$f":"IF(Liste_pièces!E601=\"\",\"\",Liste_pièces!E601)","v":""},{"$f":"IF(Liste_pièces!F601=\"\",\"\",Liste_pièces!F601)","v":""},{"$f":"IF(Liste_pièces!G601=\"\",\"\",Liste_pièces!G601)","v":""},{"$f":"IF(Liste_pièces!H601=\"\",\"\",Liste_pièces!H601)","v":""},{"$f":"IF(Liste_pièces!I601=\"\",\"\",Liste_pièces!I601)","v":""},{"$f":"IF(Liste_pièces!J601=\"\",\"\",Liste_pièces!J601)","v":""},{"$f":"IF(Liste_pièces!K601=\"\",\"\",Liste_pièces!K601)","v":""},{"$f":"IF(Liste_pièces!L601=\"\",\"\",Liste_pièces!L601)","v":""},{"$f":"IF(Liste_pièces!M601=\"\",\"\",Liste_pièces!M601)","v":""}]
[{"$f":"IF(Liste_pièces!A602=\"\",\"ZZZ\",Liste_pièces!A602)","v":"ZZZ"},{"$f":"IF(Liste_pièces!B602=\"\",\"ZZZ\",Liste_pièces!B602)","v":"ZZZ"},{"$f":"IF(Liste_pièces!C602=\"\",\"\",Liste_pièces!C602)","v":""},{"$f":"IF(Liste_pièces!D602=\"\",\"\",Liste_pièces!D602)","v":""},{"$f":"IF(Liste_pièces!E602=\"\",\"\",Liste_pièces!E602)","v":""},{"$f":"IF(Liste_pièces!F602=\"\",\"\",Liste_pièces!F602)","v":""},{"$f":"IF(Liste_pièces!G602=\"\",\"\",Liste_pièces!G602)","v":""},{"$f":"IF(Liste_pièces!H602=\"\",\"\",Liste_pièces!H602)","v":""},{"$f":"IF(Liste_pièces!I602=\"\",\"\",Liste_pièces!I602)","v":""},{"$f":"IF(Liste_pièces!J602=\"\",\"\",Liste_pièces!J602)","v":""},{"$f":"IF(Liste_pièces!K602=\"\",\"\",Liste_pièces!K602)","v":""},{"$f":"IF(Liste_pièces!L602=\"\",\"\",Liste_pièces!L602)","v":""},{"$f":"IF(Liste_pièces!M602=\"\",\"\",Liste_pièces!M602)","v":""}]
[{"$f":"IF(Liste_pièces!A603=\"\",\"ZZZ\",Liste_pièces!A603)","v":"ZZZ"},{"$f":"IF(Liste_pièces!B603=\"\",\"ZZZ\",Liste_pièces!B603)","v":"ZZZ"},{"$f":"IF(Liste_pièces!C603=\"\",\"\",Liste_pièces!C603)","v":""},{"$f":"IF(Liste_pièces!D603=\"\",\"\",Liste_pièces!D603)","v":""},{"$f":"IF(Liste_pièces!E603=\"\",\"\",Liste_pièces!E603)","v":""},{"$f":"IF(Liste_pièces!F603=\"\",\"\",Liste_pièces!F603)","v":""},{"$f":"IF(Liste_pièces!G603=\"\",\"\",Liste_pièces!G603)","v":""},{"$f":"IF(Liste_pièces!H603=\"\",\"\",Liste_pièces!H603)","v":""},{"$f":"IF(Liste_pièces!I603=\"\",\"\",Liste_pièces!I603)","v":""},{"$f":"IF(Liste_pièces!J603=\"\",\"\",Liste_pièces!J603)","v":""},{"$f":"IF(Liste_pièces!K603=\"\",\"\",Liste_pièces!K603)","v":""},{"$f":"IF(Liste_pièces!L603=\"\",\"\",Liste_pièces!L603)","v":""},{"$f":"IF(Liste_pièces!M603=\"\",\"\",Liste_pièces!M603)","v":""}]
[{"$f":"IF(Liste_pièces!A604=\"\",\"ZZZ\",Liste_pièces!A604)","v":"ZZZ"},{"$f":"IF(Liste_pièces!B604=\"\",\"ZZZ\",Liste_pièces!B604)","v":"ZZZ"},{"$f":"IF(Liste_pièces!C604=\"\",\"\",Liste_pièces!C604)","v":""},{"$f":"IF(Liste_pièces!D604=\"\",\"\",Liste_pièces!D604)","v":""},{"$f":"IF(Liste_pièces!E604=\"\",\"\",Liste_pièces!E604)","v":""},{"$f":"IF(Liste_pièces!F604=\"\",\"\",Liste_pièces!F604)","v":""},{"$f":"IF(Liste_pièces!G604=\"\",\"\",Liste_pièces!G604)","v":""},{"$f":"IF(Liste_pièces!H604=\"\",\"\",Liste_pièces!H604)","v":""},{"$f":"IF(Liste_pièces!I604=\"\",\"\",Liste_pièces!I604)","v":""},{"$f":"IF(Liste_pièces!J604=\"\",\"\",Liste_pièces!J604)","v":""},{"$f":"IF(Liste_pièces!K604=\"\",\"\",Liste_pièces!K604)","v":""},{"$f":"IF(Liste_pièces!L604=\"\",\"\",Liste_pièces!L604)","v":""},{"$f":"IF(Liste_pièces!M604=\"\",\"\",Liste_pièces!M604)","v":""}]
[{"$f":"IF(Liste_pièces!A605=\"\",\"ZZZ\",Liste_pièces!A605)","v":"ZZZ"},{"$f":"IF(Liste_pièces!B605=\"\",\"ZZZ\",Liste_pièces!B605)","v":"ZZZ"},{"$f":"IF(Liste_pièces!C605=\"\",\"\",Liste_pièces!C605)","v":""},{"$f":"IF(Liste_pièces!D605=\"\",\"\",Liste_pièces!D605)","v":""},{"$f":"IF(Liste_pièces!E605=\"\",\"\",Liste_pièces!E605)","v":""},{"$f":"IF(Liste_pièces!F605=\"\",\"\",Liste_pièces!F605)","v":""},{"$f":"IF(Liste_pièces!G605=\"\",\"\",Liste_pièces!G605)","v":""},{"$f":"IF(Liste_pièces!H605=\"\",\"\",Liste_pièces!H605)","v":""},{"$f":"IF(Liste_pièces!I605=\"\",\"\",Liste_pièces!I605)","v":""},{"$f":"IF(Liste_pièces!J605=\"\",\"\",Liste_pièces!J605)","v":""},{"$f":"IF(Liste_pièces!K605=\"\",\"\",Liste_pièces!K605)","v":""},{"$f":"IF(Liste_pièces!L605=\"\",\"\",Liste_pièces!L605)","v":""},{"$f":"IF(Liste_pièces!M605=\"\",\"\",Liste_pièces!M605)","v":""}]
[{"$f":"IF(Liste_pièces!A606=\"\",\"ZZZ\",Liste_pièces!A606)","v":"ZZZ"},{"$f":"IF(Liste_pièces!B606=\"\",\"ZZZ\",Liste_pièces!B606)","v":"ZZZ"},{"$f":"IF(Liste_pièces!C606=\"\",\"\",Liste_pièces!C606)","v":""},{"$f":"IF(Liste_pièces!D606=\"\",\"\",Liste_pièces!D606)","v":""},{"$f":"IF(Liste_pièces!E606=\"\",\"\",Liste_pièces!E606)","v":""},{"$f":"IF(Liste_pièces!F606=\"\",\"\",Liste_pièces!F606)","v":""},{"$f":"IF(Liste_pièces!G606=\"\",\"\",Liste_pièces!G606)","v":""},{"$f":"IF(Liste_pièces!H606=\"\",\"\",Liste_pièces!H606)","v":""},{"$f":"IF(Liste_pièces!I606=\"\",\"\",Liste_pièces!I606)","v":""},{"$f":"IF(Liste_pièces!J606=\"\",\"\",Liste_pièces!J606)","v":""},{"$f":"IF(Liste_pièces!K606=\"\",\"\",Liste_pièces!K606)","v":""},{"$f":"IF(Liste_pièces!L606=\"\",\"\",Liste_pièces!L606)","v":""},{"$f":"IF(Liste_pièces!M606=\"\",\"\",Liste_pièces!M606)","v":""}]
[{"$f":"IF(Liste_pièces!A607=\"\",\"ZZZ\",Liste_pièces!A607)","v":"ZZZ"},{"$f":"IF(Liste_pièces!B607=\"\",\"ZZZ\",Liste_pièces!B607)","v":"ZZZ"},{"$f":"IF(Liste_pièces!C607=\"\",\"\",Liste_pièces!C607)","v":""},{"$f":"IF(Liste_pièces!D607=\"\",\"\",Liste_pièces!D607)","v":""},{"$f":"IF(Liste_pièces!E607=\"\",\"\",Liste_pièces!E607)","v":""},{"$f":"IF(Liste_pièces!F607=\"\",\"\",Liste_pièces!F607)","v":""},{"$f":"IF(Liste_pièces!G607=\"\",\"\",Liste_pièces!G607)","v":""},{"$f":"IF(Liste_pièces!H607=\"\",\"\",Liste_pièces!H607)","v":""},{"$f":"IF(Liste_pièces!I607=\"\",\"\",Liste_pièces!I607)","v":""},{"$f":"IF(Liste_pièces!J607=\"\",\"\",Liste_pièces!J607)","v":""},{"$f":"IF(Liste_pièces!K607=\"\",\"\",Liste_pièces!K607)","v":""},{"$f":"IF(Liste_pièces!L607=\"\",\"\",Liste_pièces!L607)","v":""},{"$f":"IF(Liste_pièces!M607=\"\",\"\",Liste_pièces!M607)","v":""}]
[{"$f":"IF(Liste_pièces!A608=\"\",\"ZZZ\",Liste_pièces!A608)","v":"ZZZ"},{"$f":"IF(Liste_pièces!B608=\"\",\"ZZZ\",Liste_pièces!B608)","v":"ZZZ"},{"$f":"IF(Liste_pièces!C608=\"\",\"\",Liste_pièces!C608)","v":""},{"$f":"IF(Liste_pièces!D608=\"\",\"\",Liste_pièces!D608)","v":""},{"$f":"IF(Liste_pièces!E608=\"\",\"\",Liste_pièces!E608)","v":""},{"$f":"IF(Liste_pièces!F608=\"\",\"\",Liste_pièces!F608)","v":""},{"$f":"IF(Liste_pièces!G608=\"\",\"\",Liste_pièces!G608)","v":""},{"$f":"IF(Liste_pièces!H608=\"\",\"\",Liste_pièces!H608)","v":""},{"$f":"IF(Liste_pièces!I608=\"\",\"\",Liste_pièces!I608)","v":""},{"$f":"IF(Liste_pièces!J608=\"\",\"\",Liste_pièces!J608)","v":""},{"$f":"IF(Liste_pièces!K608=\"\",\"\",Liste_pièces!K608)","v":""},{"$f":"IF(Liste_pièces!L608=\"\",\"\",Liste_pièces!L608)","v":""},{"$f":"IF(Liste_pièces!M608=\"\",\"\",Liste_pièces!M608)","v":""}]
[{"$f":"IF(Liste_pièces!A609=\"\",\"ZZZ\",Liste_pièces!A609)","v":"ZZZ"},{"$f":"IF(Liste_pièces!B609=\"\",\"ZZZ\",Liste_pièces!B609)","v":"ZZZ"},{"$f":"IF(Liste_pièces!C609=\"\",\"\",Liste_pièces!C609)","v":""},{"$f":"IF(Liste_pièces!D609=\"\",\"\",Liste_pièces!D609)","v":""},{"$f":"IF(Liste_pièces!E609=\"\",\"\",Liste_pièces!E609)","v":""},{"$f":"IF(Liste_pièces!F609=\"\",\"\",Liste_pièces!F609)","v":""},{"$f":"IF(Liste_pièces!G609=\"\",\"\",Liste_pièces!G609)","v":""},{"$f":"IF(Liste_pièces!H609=\"\",\"\",Liste_pièces!H609)","v":""},{"$f":"IF(Liste_pièces!I609=\"\",\"\",Liste_pièces!I609)","v":""},{"$f":"IF(Liste_pièces!J609=\"\",\"\",Liste_pièces!J609)","v":""},{"$f":"IF(Liste_pièces!K609=\"\",\"\",Liste_pièces!K609)","v":""},{"$f":"IF(Liste_pièces!L609=\"\",\"\",Liste_pièces!L609)","v":""},{"$f":"IF(Liste_pièces!M609=\"\",\"\",Liste_pièces!M609)","v":""}]
[{"$f":"IF(Liste_pièces!A610=\"\",\"ZZZ\",Liste_pièces!A610)","v":"ZZZ"},{"$f":"IF(Liste_pièces!B610=\"\",\"ZZZ\",Liste_pièces!B610)","v":"ZZZ"},{"$f":"IF(Liste_pièces!C610=\"\",\"\",Liste_pièces!C610)","v":""},{"$f":"IF(Liste_pièces!D610=\"\",\"\",Liste_pièces!D610)","v":""},{"$f":"IF(Liste_pièces!E610=\"\",\"\",Liste_pièces!E610)","v":""},{"$f":"IF(Liste_pièces!F610=\"\",\"\",Liste_pièces!F610)","v":""},{"$f":"IF(Liste_pièces!G610=\"\",\"\",Liste_pièces!G610)","v":""},{"$f":"IF(Liste_pièces!H610=\"\",\"\",Liste_pièces!H610)","v":""},{"$f":"IF(Liste_pièces!I610=\"\",\"\",Liste_pièces!I610)","v":""},{"$f":"IF(Liste_pièces!J610=\"\",\"\",Liste_pièces!J610)","v":""},{"$f":"IF(Liste_pièces!K610=\"\",\"\",Liste_pièces!K610)","v":""},{"$f":"IF(Liste_pièces!L610=\"\",\"\",Liste_pièces!L610)","v":""},{"$f":"IF(Liste_pièces!M610=\"\",\"\",Liste_pièces!M610)","v":""}]
[{"$f":"IF(Liste_pièces!A611=\"\",\"ZZZ\",Liste_pièces!A611)","v":"ZZZ"},{"$f":"IF(Liste_pièces!B611=\"\",\"ZZZ\",Liste_pièces!B611)","v":"ZZZ"},{"$f":"IF(Liste_pièces!C611=\"\",\"\",Liste_pièces!C611)","v":""},{"$f":"IF(Liste_pièces!D611=\"\",\"\",Liste_pièces!D611)","v":""},{"$f":"IF(Liste_pièces!E611=\"\",\"\",Liste_pièces!E611)","v":""},{"$f":"IF(Liste_pièces!F611=\"\",\"\",Liste_pièces!F611)","v":""},{"$f":"IF(Liste_pièces!G611=\"\",\"\",Liste_pièces!G611)","v":""},{"$f":"IF(Liste_pièces!H611=\"\",\"\",Liste_pièces!H611)","v":""},{"$f":"IF(Liste_pièces!I611=\"\",\"\",Liste_pièces!I611)","v":""},{"$f":"IF(Liste_pièces!J611=\"\",\"\",Liste_pièces!J611)","v":""},{"$f":"IF(Liste_pièces!K611=\"\",\"\",Liste_pièces!K611)","v":""},{"$f":"IF(Liste_pièces!L611=\"\",\"\",Liste_pièces!L611)","v":""},{"$f":"IF(Liste_pièces!M611=\"\",\"\",Liste_pièces!M611)","v":""}]
[{"$f":"IF(Liste_pièces!A612=\"\",\"ZZZ\",Liste_pièces!A612)","v":"ZZZ"},{"$f":"IF(Liste_pièces!B612=\"\",\"ZZZ\",Liste_pièces!B612)","v":"ZZZ"},{"$f":"IF(Liste_pièces!C612=\"\",\"\",Liste_pièces!C612)","v":""},{"$f":"IF(Liste_pièces!D612=\"\",\"\",Liste_pièces!D612)","v":""},{"$f":"IF(Liste_pièces!E612=\"\",\"\",Liste_pièces!E612)","v":""},{"$f":"IF(Liste_pièces!F612=\"\",\"\",Liste_pièces!F612)","v":""},{"$f":"IF(Liste_pièces!G612=\"\",\"\",Liste_pièces!G612)","v":""},{"$f":"IF(Liste_pièces!H612=\"\",\"\",Liste_pièces!H612)","v":""},{"$f":"IF(Liste_pièces!I612=\"\",\"\",Liste_pièces!I612)","v":""},{"$f":"IF(Liste_pièces!J612=\"\",\"\",Liste_pièces!J612)","v":""},{"$f":"IF(Liste_pièces!K612=\"\",\"\",Liste_pièces!K612)","v":""},{"$f":"IF(Liste_pièces!L612=\"\",\"\",Liste_pièces!L612)","v":""},{"$f":"IF(Liste_pièces!M612=\"\",\"\",Liste_pièces!M612)","v":""}]
[{"$f":"IF(Liste_pièces!A613=\"\",\"ZZZ\",Liste_pièces!A613)","v":"ZZZ"},{"$f":"IF(Liste_pièces!B613=\"\",\"ZZZ\",Liste_pièces!B613)","v":"ZZZ"},{"$f":"IF(Liste_pièces!C613=\"\",\"\",Liste_pièces!C613)","v":""},{"$f":"IF(Liste_pièces!D613=\"\",\"\",Liste_pièces!D613)","v":""},{"$f":"IF(Liste_pièces!E613=\"\",\"\",Liste_pièces!E613)","v":""},{"$f":"IF(Liste_pièces!F613=\"\",\"\",Liste_pièces!F613)","v":""},{"$f":"IF(Liste_pièces!G613=\"\",\"\",Liste_pièces!G613)","v":""},{"$f":"IF(Liste_pièces!H613=\"\",\"\",Liste_pièces!H613)","v":""},{"$f":"IF(Liste_pièces!I613=\"\",\"\",Liste_pièces!I613)","v":""},{"$f":"IF(Liste_pièces!J613=\"\",\"\",Liste_pièces!J613)","v":""},{"$f":"IF(Liste_pièces!K613=\"\",\"\",Liste_pièces!K613)","v":""},{"$f":"IF(Liste_pièces!L613=\"\",\"\",Liste_pièces!L613)","v":""},{"$f":"IF(Liste_pièces!M613=\"\",\"\",Liste_pièces!M613)","v":""}]
[{"$f":"IF(Liste_pièces!A614=\"\",\"ZZZ\",Liste_pièces!A614)","v":"ZZZ"},{"$f":"IF(Liste_pièces!B614=\"\",\"ZZZ\",Liste_pièces!B614)","v":"ZZZ"},{"$f":"IF(Liste_pièces!C614=\"\",\"\",Liste_pièces!C614)","v":""},{"$f":"IF(Liste_pièces!D614=\"\",\"\",Liste_pièces!D614)","v":""},{"$f":"IF(Liste_pièces!E614=\"\",\"\",Liste_pièces!E614)","v":""},{"$f":"IF(Liste_pièces!F614=\"\",\"\",Liste_pièces!F614)","v":""},{"$f":"IF(Liste_pièces!G614=\"\",\"\",Liste_pièces!G614)","v":""},{"$f":"IF(Liste_pièces!H614=\"\",\"\",Liste_pièces!H614)","v":""},{"$f":"IF(Liste_pièces!I614=\"\",\"\",Liste_pièces!I614)","v":""},{"$f":"IF(Liste_pièces!J614=\"\",\"\",Liste_pièces!J614)","v":""},{"$f":"IF(Liste_pièces!K614=\"\",\"\",Liste_pièces!K614)","v":""},{"$f":"IF(Liste_pièces!L614=\"\",\"\",Liste_pièces!L614)","v":""},{"$f":"IF(Liste_pièces!M614=\"\",\"\",Liste_pièces!M614)","v":""}]
[{"$f":"IF(Liste_pièces!A615=\"\",\"ZZZ\",Liste_pièces!A615)","v":"ZZZ"},{"$f":"IF(Liste_pièces!B615=\"\",\"ZZZ\",Liste_pièces!B615)","v":"ZZZ"},{"$f":"IF(Liste_pièces!C615=\"\",\"\",Liste_pièces!C615)","v":""},{"$f":"IF(Liste_pièces!D615=\"\",\"\",Liste_pièces!D615)","v":""},{"$f":"IF(Liste_pièces!E615=\"\",\"\",Liste_pièces!E615)","v":""},{"$f":"IF(Liste_pièces!F615=\"\",\"\",Liste_pièces!F615)","v":""},{"$f":"IF(Liste_pièces!G615=\"\",\"\",Liste_pièces!G615)","v":""},{"$f":"IF(Liste_pièces!H615=\"\",\"\",Liste_pièces!H615)","v":""},{"$f":"IF(Liste_pièces!I615=\"\",\"\",Liste_pièces!I615)","v":""},{"$f":"IF(Liste_pièces!J615=\"\",\"\",Liste_pièces!J615)","v":""},{"$f":"IF(Liste_pièces!K615=\"\",\"\",Liste_pièces!K615)","v":""},{"$f":"IF(Liste_pièces!L615=\"\",\"\",Liste_pièces!L615)","v":""},{"$f":"IF(Liste_pièces!M615=\"\",\"\",Liste_pièces!M615)","v":""}]
[{"$f":"IF(Liste_pièces!A616=\"\",\"ZZZ\",Liste_pièces!A616)","v":"ZZZ"},{"$f":"IF(Liste_pièces!B616=\"\",\"ZZZ\",Liste_pièces!B616)","v":"ZZZ"},{"$f":"IF(Liste_pièces!C616=\"\",\"\",Liste_pièces!C616)","v":""},{"$f":"IF(Liste_pièces!D616=\"\",\"\",Liste_pièces!D616)","v":""},{"$f":"IF(Liste_pièces!E616=\"\",\"\",Liste_pièces!E616)","v":""},{"$f":"IF(Liste_pièces!F616=\"\",\"\",Liste_pièces!F616)","v":""},{"$f":"IF(Liste_pièces!G616=\"\",\"\",Liste_pièces!G616)","v":""},{"$f":"IF(Liste_pièces!H616=\"\",\"\",Liste_pièces!H616)","v":""},{"$f":"IF(Liste_pièces!I616=\"\",\"\",Liste_pièces!I616)","v":""},{"$f":"IF(Liste_pièces!J616=\"\",\"\",Liste_pièces!J616)","v":""},{"$f":"IF(Liste_pièces!K616=\"\",\"\",Liste_pièces!K616)","v":""},{"$f":"IF(Liste_pièces!L616=\"\",\"\",Liste_pièces!L616)","v":""},{"$f":"IF(Liste_pièces!M616=\"\",\"\",Liste_pièces!M616)","v":""}]
[{"$f":"IF(Liste_pièces!A617=\"\",\"ZZZ\",Liste_pièces!A617)","v":"ZZZ"},{"$f":"IF(Liste_pièces!B617=\"\",\"ZZZ\",Liste_pièces!B617)","v":"ZZZ"},{"$f":"IF(Liste_pièces!C617=\"\",\"\",Liste_pièces!C617)","v":""},{"$f":"IF(Liste_pièces!D617=\"\",\"\",Liste_pièces!D617)","v":""},{"$f":"IF(Liste_pièces!E617=\"\",\"\",Liste_pièces!E617)","v":""},{"$f":"IF(Liste_pièces!F617=\"\",\"\",Liste_pièces!F617)","v":""},{"$f":"IF(Liste_pièces!G617=\"\",\"\",Liste_pièces!G617)","v":""},{"$f":"IF(Liste_pièces!H617=\"\",\"\",Liste_pièces!H617)","v":""},{"$f":"IF(Liste_pièces!I617=\"\",\"\",Liste_pièces!I617)","v":""},{"$f":"IF(Liste_pièces!J617=\"\",\"\",Liste_pièces!J617)","v":""},{"$f":"IF(Liste_pièces!K617=\"\",\"\",Liste_pièces!K617)","v":""},{"$f":"IF(Liste_pièces!L617=\"\",\"\",Liste_pièces!L617)","v":""},{"$f":"IF(Liste_pièces!M617=\"\",\"\",Liste_pièces!M617)","v":""}]
[{"$f":"IF(Liste_pièces!A618=\"\",\"ZZZ\",Liste_pièces!A618)","v":"ZZZ"},{"$f":"IF(Liste_pièces!B618=\"\",\"ZZZ\",Liste_pièces!B618)","v":"ZZZ"},{"$f":"IF(Liste_pièces!C618=\"\",\"\",Liste_pièces!C618)","v":""},{"$f":"IF(Liste_pièces!D618=\"\",\"\",Liste_pièces!D618)","v":""},{"$f":"IF(Liste_pièces!E618=\"\",\"\",Liste_pièces!E618)","v":""},{"$f":"IF(Liste_pièces!F618=\"\",\"\",Liste_pièces!F618)","v":""},{"$f":"IF(Liste_pièces!G618=\"\",\"\",Liste_pièces!G618)","v":""},{"$f":"IF(Liste_pièces!H618=\"\",\"\",Liste_pièces!H618)","v":""},{"$f":"IF(Liste_pièces!I618=\"\",\"\",Liste_pièces!I618)","v":""},{"$f":"IF(Liste_pièces!J618=\"\",\"\",Liste_pièces!J618)","v":""},{"$f":"IF(Liste_pièces!K618=\"\",\"\",Liste_pièces!K618)","v":""},{"$f":"IF(Liste_pièces!L618=\"\",\"\",Liste_pièces!L618)","v":""},{"$f":"IF(Liste_pièces!M618=\"\",\"\",Liste_pièces!M618)","v":""}]
[{"$f":"IF(Liste_pièces!A619=\"\",\"ZZZ\",Liste_pièces!A619)","v":"ZZZ"},{"$f":"IF(Liste_pièces!B619=\"\",\"ZZZ\",Liste_pièces!B619)","v":"ZZZ"},{"$f":"IF(Liste_pièces!C619=\"\",\"\",Liste_pièces!C619)","v":""},{"$f":"IF(Liste_pièces!D619=\"\",\"\",Liste_pièces!D619)","v":""},{"$f":"IF(Liste_pièces!E619=\"\",\"\",Liste_pièces!E619)","v":""},{"$f":"IF(Liste_pièces!F619=\"\",\"\",Liste_pièces!F619)","v":""},{"$f":"IF(Liste_pièces!G619=\"\",\"\",Liste_pièces!G619)","v":""},{"$f":"IF(Liste_pièces!H619=\"\",\"\",Liste_pièces!H619)","v":""},{"$f":"IF(Liste_pièces!I619=\"\",\"\",Liste_pièces!I619)","v":""},{"$f":"IF(Liste_pièces!J619=\"\",\"\",Liste_pièces!J619)","v":""},{"$f":"IF(Liste_pièces!K619=\"\",\"\",Liste_pièces!K619)","v":""},{"$f":"IF(Liste_pièces!L619=\"\",\"\",Liste_pièces!L619)","v":""},{"$f":"IF(Liste_pièces!M619=\"\",\"\",Liste_pièces!M619)","v":""}]
[{"$f":"IF(Liste_pièces!A620=\"\",\"ZZZ\",Liste_pièces!A620)","v":"ZZZ"},{"$f":"IF(Liste_pièces!B620=\"\",\"ZZZ\",Liste_pièces!B620)","v":"ZZZ"},{"$f":"IF(Liste_pièces!C620=\"\",\"\",Liste_pièces!C620)","v":""},{"$f":"IF(Liste_pièces!D620=\"\",\"\",Liste_pièces!D620)","v":""},{"$f":"IF(Liste_pièces!E620=\"\",\"\",Liste_pièces!E620)","v":""},{"$f":"IF(Liste_pièces!F620=\"\",\"\",Liste_pièces!F620)","v":""},{"$f":"IF(Liste_pièces!G620=\"\",\"\",Liste_pièces!G620)","v":""},{"$f":"IF(Liste_pièces!H620=\"\",\"\",Liste_pièces!H620)","v":""},{"$f":"IF(Liste_pièces!I620=\"\",\"\",Liste_pièces!I620)","v":""},{"$f":"IF(Liste_pièces!J620=\"\",\"\",Liste_pièces!J620)","v":""},{"$f":"IF(Liste_pièces!K620=\"\",\"\",Liste_pièces!K620)","v":""},{"$f":"IF(Liste_pièces!L620=\"\",\"\",Liste_pièces!L620)","v":""},{"$f":"IF(Liste_pièces!M620=\"\",\"\",Liste_pièces!M620)","v":""}]
[{"$f":"IF(Liste_pièces!A621=\"\",\"ZZZ\",Liste_pièces!A621)","v":"ZZZ"},{"$f":"IF(Liste_pièces!B621=\"\",\"ZZZ\",Liste_pièces!B621)","v":"ZZZ"},{"$f":"IF(Liste_pièces!C621=\"\",\"\",Liste_pièces!C621)","v":""},{"$f":"IF(Liste_pièces!D621=\"\",\"\",Liste_pièces!D621)","v":""},{"$f":"IF(Liste_pièces!E621=\"\",\"\",Liste_pièces!E621)","v":""},{"$f":"IF(Liste_pièces!F621=\"\",\"\",Liste_pièces!F621)","v":""},{"$f":"IF(Liste_pièces!G621=\"\",\"\",Liste_pièces!G621)","v":""},{"$f":"IF(Liste_pièces!H621=\"\",\"\",Liste_pièces!H621)","v":""},{"$f":"IF(Liste_pièces!I621=\"\",\"\",Liste_pièces!I621)","v":""},{"$f":"IF(Liste_pièces!J621=\"\",\"\",Liste_pièces!J621)","v":""},{"$f":"IF(Liste_pièces!K621=\"\",\"\",Liste_pièces!K621)","v":""},{"$f":"IF(Liste_pièces!L621=\"\",\"\",Liste_pièces!L621)","v":""},{"$f":"IF(Liste_pièces!M621=\"\",\"\",Liste_pièces!M621)","v":""}]
[{"$f":"IF(Liste_pièces!A622=\"\",\"ZZZ\",Liste_pièces!A622)","v":"ZZZ"},{"$f":"IF(Liste_pièces!B622=\"\",\"ZZZ\",Liste_pièces!B622)","v":"ZZZ"},{"$f":"IF(Liste_pièces!C622=\"\",\"\",Liste_pièces!C622)","v":""},{"$f":"IF(Liste_pièces!D622=\"\",\"\",Liste_pièces!D622)","v":""},{"$f":"IF(Liste_pièces!E622=\"\",\"\",Liste_pièces!E622)","v":""},{"$f":"IF(Liste_pièces!F622=\"\",\"\",Liste_pièces!F622)","v":""},{"$f":"IF(Liste_pièces!G622=\"\",\"\",Liste_pièces!G622)","v":""},{"$f":"IF(Liste_pièces!H622=\"\",\"\",Liste_pièces!H622)","v":""},{"$f":"IF(Liste_pièces!I622=\"\",\"\",Liste_pièces!I622)","v":""},{"$f":"IF(Liste_pièces!J622=\"\",\"\",Liste_pièces!J622)","v":""},{"$f":"IF(Liste_pièces!K622=\"\",\"\",Liste_pièces!K622)","v":""},{"$f":"IF(Liste_pièces!L622=\"\",\"\",Liste_pièces!L622)","v":""},{"$f":"IF(Liste_pièces!M622=\"\",\"\",Liste_pièces!M622)","v":""}]
[{"$f":"IF(Liste_pièces!A623=\"\",\"ZZZ\",Liste_pièces!A623)","v":"ZZZ"},{"$f":"IF(Liste_pièces!B623=\"\",\"ZZZ\",Liste_pièces!B623)","v":"ZZZ"},{"$f":"IF(Liste_pièces!C623=\"\",\"\",Liste_pièces!C623)","v":""},{"$f":"IF(Liste_pièces!D623=\"\",\"\",Liste_pièces!D623)","v":""},{"$f":"IF(Liste_pièces!E623=\"\",\"\",Liste_pièces!E623)","v":""},{"$f":"IF(Liste_pièces!F623=\"\",\"\",Liste_pièces!F623)","v":""},{"$f":"IF(Liste_pièces!G623=\"\",\"\",Liste_pièces!G623)","v":""},{"$f":"IF(Liste_pièces!H623=\"\",\"\",Liste_pièces!H623)","v":""},{"$f":"IF(Liste_pièces!I623=\"\",\"\",Liste_pièces!I623)","v":""},{"$f":"IF(Liste_pièces!J623=\"\",\"\",Liste_pièces!J623)","v":""},{"$f":"IF(Liste_pièces!K623=\"\",\"\",Liste_pièces!K623)","v":""},{"$f":"IF(Liste_pièces!L623=\"\",\"\",Liste_pièces!L623)","v":""},{"$f":"IF(Liste_pièces!M623=\"\",\"\",Liste_pièces!M623)","v":""}]
[{"$f":"IF(Liste_pièces!A624=\"\",\"ZZZ\",Liste_pièces!A624)","v":"ZZZ"},{"$f":"IF(Liste_pièces!B624=\"\",\"ZZZ\",Liste_pièces!B624)","v":"ZZZ"},{"$f":"IF(Liste_pièces!C624=\"\",\"\",Liste_pièces!C624)","v":""},{"$f":"IF(Liste_pièces!D624=\"\",\"\",Liste_pièces!D624)","v":""},{"$f":"IF(Liste_pièces!E624=\"\",\"\",Liste_pièces!E624)","v":""},{"$f":"IF(Liste_pièces!F624=\"\",\"\",Liste_pièces!F624)","v":""},{"$f":"IF(Liste_pièces!G624=\"\",\"\",Liste_pièces!G624)","v":""},{"$f":"IF(Liste_pièces!H624=\"\",\"\",Liste_pièces!H624)","v":""},{"$f":"IF(Liste_pièces!I624=\"\",\"\",Liste_pièces!I624)","v":""},{"$f":"IF(Liste_pièces!J624=\"\",\"\",Liste_pièces!J624)","v":""},{"$f":"IF(Liste_pièces!K624=\"\",\"\",Liste_pièces!K624)","v":""},{"$f":"IF(Liste_pièces!L624=\"\",\"\",Liste_pièces!L624)","v":""},{"$f":"IF(Liste_pièces!M624=\"\",\"\",Liste_pièces!M624)","v":""}]
[{"$f":"IF(Liste_pièces!A625=\"\",\"ZZZ\",Liste_pièces!A625)","v":"ZZZ"},{"$f":"IF(Liste_pièces!B625=\"\",\"ZZZ\",Liste_pièces!B625)","v":"ZZZ"},{"$f":"IF(Liste_pièces!C625=\"\",\"\",Liste_pièces!C625)","v":""},{"$f":"IF(Liste_pièces!D625=\"\",\"\",Liste_pièces!D625)","v":""},{"$f":"IF(Liste_pièces!E625=\"\",\"\",Liste_pièces!E625)","v":""},{"$f":"IF(Liste_pièces!F625=\"\",\"\",Liste_pièces!F625)","v":""},{"$f":"IF(Liste_pièces!G625=\"\",\"\",Liste_pièces!G625)","v":""},{"$f":"IF(Liste_pièces!H625=\"\",\"\",Liste_pièces!H625)","v":""},{"$f":"IF(Liste_pièces!I625=\"\",\"\",Liste_pièces!I625)","v":""},{"$f":"IF(Liste_pièces!J625=\"\",\"\",Liste_pièces!J625)","v":""},{"$f":"IF(Liste_pièces!K625=\"\",\"\",Liste_pièces!K625)","v":""},{"$f":"IF(Liste_pièces!L625=\"\",\"\",Liste_pièces!L625)","v":""},{"$f":"IF(Liste_pièces!M625=\"\",\"\",Liste_pièces!M625)","v":""}]
[{"$f":"IF(Liste_pièces!A626=\"\",\"ZZZ\",Liste_pièces!A626)","v":"ZZZ"},{"$f":"IF(Liste_pièces!B626=\"\",\"ZZZ\",Liste_pièces!B626)","v":"ZZZ"},{"$f":"IF(Liste_pièces!C626=\"\",\"\",Liste_pièces!C626)","v":""},{"$f":"IF(Liste_pièces!D626=\"\",\"\",Liste_pièces!D626)","v":""},{"$f":"IF(Liste_pièces!E626=\"\",\"\",Liste_pièces!E626)","v":""},{"$f":"IF(Liste_pièces!F626=\"\",\"\",Liste_pièces!F626)","v":""},{"$f":"IF(Liste_pièces!G626=\"\",\"\",Liste_pièces!G626)","v":""},{"$f":"IF(Liste_pièces!H626=\"\",\"\",Liste_pièces!H626)","v":""},{"$f":"IF(Liste_pièces!I626=\"\",\"\",Liste_pièces!I626)","v":""},{"$f":"IF(Liste_pièces!J626=\"\",\"\",Liste_pièces!J626)","v":""},{"$f":"IF(Liste_pièces!K626=\"\",\"\",Liste_pièces!K626)","v":""},{"$f":"IF(Liste_pièces!L626=\"\",\"\",Liste_pièces!L626)","v":""},{"$f":"IF(Liste_pièces!M626=\"\",\"\",Liste_pièces!M626)","v":""}]
[{"$f":"IF(Liste_pièces!A627=\"\",\"ZZZ\",Liste_pièces!A627)","v":"ZZZ"},{"$f":"IF(Liste_pièces!B627=\"\",\"ZZZ\",Liste_pièces!B627)","v":"ZZZ"},{"$f":"IF(Liste_pièces!C627=\"\",\"\",Liste_pièces!C627)","v":""},{"$f":"IF(Liste_pièces!D627=\"\",\"\",Liste_pièces!D627)","v":""},{"$f":"IF(Liste_pièces!E627=\"\",\"\",Liste_pièces!E627)","v":""},{"$f":"IF(Liste_pièces!F627=\"\",\"\",Liste_pièces!F627)","v":""},{"$f":"IF(Liste_pièces!G627=\"\",\"\",Liste_pièces!G627)","v":""},{"$f":"IF(Liste_pièces!H627=\"\",\"\",Liste_pièces!H627)","v":""},{"$f":"IF(Liste_pièces!I627=\"\",\"\",Liste_pièces!I627)","v":""},{"$f":"IF(Liste_pièces!J627=\"\",\"\",Liste_pièces!J627)","v":""},{"$f":"IF(Liste_pièces!K627=\"\",\"\",Liste_pièces!K627)","v":""},{"$f":"IF(Liste_pièces!L627=\"\",\"\",Liste_pièces!L627)","v":""},{"$f":"IF(Liste_pièces!M627=\"\",\"\",Liste_pièces!M627)","v":""}]
[{"$f":"IF(Liste_pièces!A628=\"\",\"ZZZ\",Liste_pièces!A628)","v":"ZZZ"},{"$f":"IF(Liste_pièces!B628=\"\",\"ZZZ\",Liste_pièces!B628)","v":"ZZZ"},{"$f":"IF(Liste_pièces!C628=\"\",\"\",Liste_pièces!C628)","v":""},{"$f":"IF(Liste_pièces!D628=\"\",\"\",Liste_pièces!D628)","v":""},{"$f":"IF(Liste_pièces!E628=\"\",\"\",Liste_pièces!E628)","v":""},{"$f":"IF(Liste_pièces!F628=\"\",\"\",Liste_pièces!F628)","v":""},{"$f":"IF(Liste_pièces!G628=\"\",\"\",Liste_pièces!G628)","v":""},{"$f":"IF(Liste_pièces!H628=\"\",\"\",Liste_pièces!H628)","v":""},{"$f":"IF(Liste_pièces!I628=\"\",\"\",Liste_pièces!I628)","v":""},{"$f":"IF(Liste_pièces!J628=\"\",\"\",Liste_pièces!J628)","v":""},{"$f":"IF(Liste_pièces!K628=\"\",\"\",Liste_pièces!K628)","v":""},{"$f":"IF(Liste_pièces!L628=\"\",\"\",Liste_pièces!L628)","v":""},{"$f":"IF(Liste_pièces!M628=\"\",\"\",Liste_pièces!M628)","v":""}]
[{"$f":"IF(Liste_pièces!A629=\"\",\"ZZZ\",Liste_pièces!A629)","v":"ZZZ"},{"$f":"IF(Liste_pièces!B629=\"\",\"ZZZ\",Liste_pièces!B629)","v":"ZZZ"},{"$f":"IF(Liste_pièces!C629=\"\",\"\",Liste_pièces!C629)","v":""},{"$f":"IF(Liste_pièces!D629=\"\",\"\",Liste_pièces!D629)","v":""},{"$f":"IF(Liste_pièces!E629=\"\",\"\",Liste_pièces!E629)","v":""},{"$f":"IF(Liste_pièces!F629=\"\",\"\",Liste_pièces!F629)","v":""},{"$f":"IF(Liste_pièces!G629=\"\",\"\",Liste_pièces!G629)","v":""},{"$f":"IF(Liste_pièces!H629=\"\",\"\",Liste_pièces!H629)","v":""},{"$f":"IF(Liste_pièces!I629=\"\",\"\",Liste_pièces!I629)","v":""},{"$f":"IF(Liste_pièces!J629=\"\",\"\",Liste_pièces!J629)","v":""},{"$f":"IF(Liste_pièces!K629=\"\",\"\",Liste_pièces!K629)","v":""},{"$f":"IF(Liste_pièces!L629=\"\",\"\",Liste_pièces!L629)","v":""},{"$f":"IF(Liste_pièces!M629=\"\",\"\",Liste_pièces!M629)","v":""}]
[{"$f":"IF(Liste_pièces!A630=\"\",\"ZZZ\",Liste_pièces!A630)","v":"ZZZ"},{"$f":"IF(Liste_pièces!B630=\"\",\"ZZZ\",Liste_pièces!B630)","v":"ZZZ"},{"$f":"IF(Liste_pièces!C630=\"\",\"\",Liste_pièces!C630)","v":""},{"$f":"IF(Liste_pièces!D630=\"\",\"\",Liste_pièces!D630)","v":""},{"$f":"IF(Liste_pièces!E630=\"\",\"\",Liste_pièces!E630)","v":""},{"$f":"IF(Liste_pièces!F630=\"\",\"\",Liste_pièces!F630)","v":""},{"$f":"IF(Liste_pièces!G630=\"\",\"\",Liste_pièces!G630)","v":""},{"$f":"IF(Liste_pièces!H630=\"\",\"\",Liste_pièces!H630)","v":""},{"$f":"IF(Liste_pièces!I630=\"\",\"\",Liste_pièces!I630)","v":""},{"$f":"IF(Liste_pièces!J630=\"\",\"\",Liste_pièces!J630)","v":""},{"$f":"IF(Liste_pièces!K630=\"\",\"\",Liste_pièces!K630)","v":""},{"$f":"IF(Liste_pièces!L630=\"\",\"\",Liste_pièces!L630)","v":""},{"$f":"IF(Liste_pièces!M630=\"\",\"\",Liste_pièces!M630)","v":""}]
[{"$f":"IF(Liste_pièces!A631=\"\",\"ZZZ\",Liste_pièces!A631)","v":"ZZZ"},{"$f":"IF(Liste_pièces!B631=\"\",\"ZZZ\",Liste_pièces!B631)","v":"ZZZ"},{"$f":"IF(Liste_pièces!C631=\"\",\"\",Liste_pièces!C631)","v":""},{"$f":"IF(Liste_pièces!D631=\"\",\"\",Liste_pièces!D631)","v":""},{"$f":"IF(Liste_pièces!E631=\"\",\"\",Liste_pièces!E631)","v":""},{"$f":"IF(Liste_pièces!F631=\"\",\"\",Liste_pièces!F631)","v":""},{"$f":"IF(Liste_pièces!G631=\"\",\"\",Liste_pièces!G631)","v":""},{"$f":"IF(Liste_pièces!H631=\"\",\"\",Liste_pièces!H631)","v":""},{"$f":"IF(Liste_pièces!I631=\"\",\"\",Liste_pièces!I631)","v":""},{"$f":"IF(Liste_pièces!J631=\"\",\"\",Liste_pièces!J631)","v":""},{"$f":"IF(Liste_pièces!K631=\"\",\"\",Liste_pièces!K631)","v":""},{"$f":"IF(Liste_pièces!L631=\"\",\"\",Liste_pièces!L631)","v":""},{"$f":"IF(Liste_pièces!M631=\"\",\"\",Liste_pièces!M631)","v":""}]
[{"$f":"IF(Liste_pièces!A632=\"\",\"ZZZ\",Liste_pièces!A632)","v":"ZZZ"},{"$f":"IF(Liste_pièces!B632=\"\",\"ZZZ\",Liste_pièces!B632)","v":"ZZZ"},{"$f":"IF(Liste_pièces!C632=\"\",\"\",Liste_pièces!C632)","v":""},{"$f":"IF(Liste_pièces!D632=\"\",\"\",Liste_pièces!D632)","v":""},{"$f":"IF(Liste_pièces!E632=\"\",\"\",Liste_pièces!E632)","v":""},{"$f":"IF(Liste_pièces!F632=\"\",\"\",Liste_pièces!F632)","v":""},{"$f":"IF(Liste_pièces!G632=\"\",\"\",Liste_pièces!G632)","v":""},{"$f":"IF(Liste_pièces!H632=\"\",\"\",Liste_pièces!H632)","v":""},{"$f":"IF(Liste_pièces!I632=\"\",\"\",Liste_pièces!I632)","v":""},{"$f":"IF(Liste_pièces!J632=\"\",\"\",Liste_pièces!J632)","v":""},{"$f":"IF(Liste_pièces!K632=\"\",\"\",Liste_pièces!K632)","v":""},{"$f":"IF(Liste_pièces!L632=\"\",\"\",Liste_pièces!L632)","v":""},{"$f":"IF(Liste_pièces!M632=\"\",\"\",Liste_pièces!M632)","v":""}]
[{"$f":"IF(Liste_pièces!A633=\"\",\"ZZZ\",Liste_pièces!A633)","v":"ZZZ"},{"$f":"IF(Liste_pièces!B633=\"\",\"ZZZ\",Liste_pièces!B633)","v":"ZZZ"},{"$f":"IF(Liste_pièces!C633=\"\",\"\",Liste_pièces!C633)","v":""},{"$f":"IF(Liste_pièces!D633=\"\",\"\",Liste_pièces!D633)","v":""},{"$f":"IF(Liste_pièces!E633=\"\",\"\",Liste_pièces!E633)","v":""},{"$f":"IF(Liste_pièces!F633=\"\",\"\",Liste_pièces!F633)","v":""},{"$f":"IF(Liste_pièces!G633=\"\",\"\",Liste_pièces!G633)","v":""},{"$f":"IF(Liste_pièces!H633=\"\",\"\",Liste_pièces!H633)","v":""},{"$f":"IF(Liste_pièces!I633=\"\",\"\",Liste_pièces!I633)","v":""},{"$f":"IF(Liste_pièces!J633=\"\",\"\",Liste_pièces!J633)","v":""},{"$f":"IF(Liste_pièces!K633=\"\",\"\",Liste_pièces!K633)","v":""},{"$f":"IF(Liste_pièces!L633=\"\",\"\",Liste_pièces!L633)","v":""},{"$f":"IF(Liste_pièces!M633=\"\",\"\",Liste_pièces!M633)","v":""}]
[{"$f":"IF(Liste_pièces!A634=\"\",\"ZZZ\",Liste_pièces!A634)","v":"ZZZ"},{"$f":"IF(Liste_pièces!B634=\"\",\"ZZZ\",Liste_pièces!B634)","v":"ZZZ"},{"$f":"IF(Liste_pièces!C634=\"\",\"\",Liste_pièces!C634)","v":""},{"$f":"IF(Liste_pièces!D634=\"\",\"\",Liste_pièces!D634)","v":""},{"$f":"IF(Liste_pièces!E634=\"\",\"\",Liste_pièces!E634)","v":""},{"$f":"IF(Liste_pièces!F634=\"\",\"\",Liste_pièces!F634)","v":""},{"$f":"IF(Liste_pièces!G634=\"\",\"\",Liste_pièces!G634)","v":""},{"$f":"IF(Liste_pièces!H634=\"\",\"\",Liste_pièces!H634)","v":""},{"$f":"IF(Liste_pièces!I634=\"\",\"\",Liste_pièces!I634)","v":""},{"$f":"IF(Liste_pièces!J634=\"\",\"\",Liste_pièces!J634)","v":""},{"$f":"IF(Liste_pièces!K634=\"\",\"\",Liste_pièces!K634)","v":""},{"$f":"IF(Liste_pièces!L634=\"\",\"\",Liste_pièces!L634)","v":""},{"$f":"IF(Liste_pièces!M634=\"\",\"\",Liste_pièces!M634)","v":""}]
[{"$f":"IF(Liste_pièces!A635=\"\",\"ZZZ\",Liste_pièces!A635)","v":"ZZZ"},{"$f":"IF(Liste_pièces!B635=\"\",\"ZZZ\",Liste_pièces!B635)","v":"ZZZ"},{"$f":"IF(Liste_pièces!C635=\"\",\"\",Liste_pièces!C635)","v":""},{"$f":"IF(Liste_pièces!D635=\"\",\"\",Liste_pièces!D635)","v":""},{"$f":"IF(Liste_pièces!E635=\"\",\"\",Liste_pièces!E635)","v":""},{"$f":"IF(Liste_pièces!F635=\"\",\"\",Liste_pièces!F635)","v":""},{"$f":"IF(Liste_pièces!G635=\"\",\"\",Liste_pièces!G635)","v":""},{"$f":"IF(Liste_pièces!H635=\"\",\"\",Liste_pièces!H635)","v":""},{"$f":"IF(Liste_pièces!I635=\"\",\"\",Liste_pièces!I635)","v":""},{"$f":"IF(Liste_pièces!J635=\"\",\"\",Liste_pièces!J635)","v":""},{"$f":"IF(Liste_pièces!K635=\"\",\"\",Liste_pièces!K635)","v":""},{"$f":"IF(Liste_pièces!L635=\"\",\"\",Liste_pièces!L635)","v":""},{"$f":"IF(Liste_pièces!M635=\"\",\"\",Liste_pièces!M635)","v":""}]
[{"$f":"IF(Liste_pièces!A636=\"\",\"ZZZ\",Liste_pièces!A636)","v":"ZZZ"},{"$f":"IF(Liste_pièces!B636=\"\",\"ZZZ\",Liste_pièces!B636)","v":"ZZZ"},{"$f":"IF(Liste_pièces!C636=\"\",\"\",Liste_pièces!C636)","v":""},{"$f":"IF(Liste_pièces!D636=\"\",\"\",Liste_pièces!D636)","v":""},{"$f":"IF(Liste_pièces!E636=\"\",\"\",Liste_pièces!E636)","v":""},{"$f":"IF(Liste_pièces!F636=\"\",\"\",Liste_pièces!F636)","v":""},{"$f":"IF(Liste_pièces!G636=\"\",\"\",Liste_pièces!G636)","v":""},{"$f":"IF(Liste_pièces!H636=\"\",\"\",Liste_pièces!H636)","v":""},{"$f":"IF(Liste_pièces!I636=\"\",\"\",Liste_pièces!I636)","v":""},{"$f":"IF(Liste_pièces!J636=\"\",\"\",Liste_pièces!J636)","v":""},{"$f":"IF(Liste_pièces!K636=\"\",\"\",Liste_pièces!K636)","v":""},{"$f":"IF(Liste_pièces!L636=\"\",\"\",Liste_pièces!L636)","v":""},{"$f":"IF(Liste_pièces!M636=\"\",\"\",Liste_pièces!M636)","v":""}]
[{"$f":"IF(Liste_pièces!A637=\"\",\"ZZZ\",Liste_pièces!A637)","v":"ZZZ"},{"$f":"IF(Liste_pièces!B637=\"\",\"ZZZ\",Liste_pièces!B637)","v":"ZZZ"},{"$f":"IF(Liste_pièces!C637=\"\",\"\",Liste_pièces!C637)","v":""},{"$f":"IF(Liste_pièces!D637=\"\",\"\",Liste_pièces!D637)","v":""},{"$f":"IF(Liste_pièces!E637=\"\",\"\",Liste_pièces!E637)","v":""},{"$f":"IF(Liste_pièces!F637=\"\",\"\",Liste_pièces!F637)","v":""},{"$f":"IF(Liste_pièces!G637=\"\",\"\",Liste_pièces!G637)","v":""},{"$f":"IF(Liste_pièces!H637=\"\",\"\",Liste_pièces!H637)","v":""},{"$f":"IF(Liste_pièces!I637=\"\",\"\",Liste_pièces!I637)","v":""},{"$f":"IF(Liste_pièces!J637=\"\",\"\",Liste_pièces!J637)","v":""},{"$f":"IF(Liste_pièces!K637=\"\",\"\",Liste_pièces!K637)","v":""},{"$f":"IF(Liste_pièces!L637=\"\",\"\",Liste_pièces!L637)","v":""},{"$f":"IF(Liste_pièces!M637=\"\",\"\",Liste_pièces!M637)","v":""}]
[{"$f":"IF(Liste_pièces!A638=\"\",\"ZZZ\",Liste_pièces!A638)","v":"ZZZ"},{"$f":"IF(Liste_pièces!B638=\"\",\"ZZZ\",Liste_pièces!B638)","v":"ZZZ"},{"$f":"IF(Liste_pièces!C638=\"\",\"\",Liste_pièces!C638)","v":""},{"$f":"IF(Liste_pièces!D638=\"\",\"\",Liste_pièces!D638)","v":""},{"$f":"IF(Liste_pièces!E638=\"\",\"\",Liste_pièces!E638)","v":""},{"$f":"IF(Liste_pièces!F638=\"\",\"\",Liste_pièces!F638)","v":""},{"$f":"IF(Liste_pièces!G638=\"\",\"\",Liste_pièces!G638)","v":""},{"$f":"IF(Liste_pièces!H638=\"\",\"\",Liste_pièces!H638)","v":""},{"$f":"IF(Liste_pièces!I638=\"\",\"\",Liste_pièces!I638)","v":""},{"$f":"IF(Liste_pièces!J638=\"\",\"\",Liste_pièces!J638)","v":""},{"$f":"IF(Liste_pièces!K638=\"\",\"\",Liste_pièces!K638)","v":""},{"$f":"IF(Liste_pièces!L638=\"\",\"\",Liste_pièces!L638)","v":""},{"$f":"IF(Liste_pièces!M638=\"\",\"\",Liste_pièces!M638)","v":""}]
[{"$f":"IF(Liste_pièces!A639=\"\",\"ZZZ\",Liste_pièces!A639)","v":"ZZZ"},{"$f":"IF(Liste_pièces!B639=\"\",\"ZZZ\",Liste_pièces!B639)","v":"ZZZ"},{"$f":"IF(Liste_pièces!C639=\"\",\"\",Liste_pièces!C639)","v":""},{"$f":"IF(Liste_pièces!D639=\"\",\"\",Liste_pièces!D639)","v":""},{"$f":"IF(Liste_pièces!E639=\"\",\"\",Liste_pièces!E639)","v":""},{"$f":"IF(Liste_pièces!F639=\"\",\"\",Liste_pièces!F639)","v":""},{"$f":"IF(Liste_pièces!G639=\"\",\"\",Liste_pièces!G639)","v":""},{"$f":"IF(Liste_pièces!H639=\"\",\"\",Liste_pièces!H639)","v":""},{"$f":"IF(Liste_pièces!I639=\"\",\"\",Liste_pièces!I639)","v":""},{"$f":"IF(Liste_pièces!J639=\"\",\"\",Liste_pièces!J639)","v":""},{"$f":"IF(Liste_pièces!K639=\"\",\"\",Liste_pièces!K639)","v":""},{"$f":"IF(Liste_pièces!L639=\"\",\"\",Liste_pièces!L639)","v":""},{"$f":"IF(Liste_pièces!M639=\"\",\"\",Liste_pièces!M639)","v":""}]
[{"$f":"IF(Liste_pièces!A640=\"\",\"ZZZ\",Liste_pièces!A640)","v":"ZZZ"},{"$f":"IF(Liste_pièces!B640=\"\",\"ZZZ\",Liste_pièces!B640)","v":"ZZZ"},{"$f":"IF(Liste_pièces!C640=\"\",\"\",Liste_pièces!C640)","v":""},{"$f":"IF(Liste_pièces!D640=\"\",\"\",Liste_pièces!D640)","v":""},{"$f":"IF(Liste_pièces!E640=\"\",\"\",Liste_pièces!E640)","v":""},{"$f":"IF(Liste_pièces!F640=\"\",\"\",Liste_pièces!F640)","v":""},{"$f":"IF(Liste_pièces!G640=\"\",\"\",Liste_pièces!G640)","v":""},{"$f":"IF(Liste_pièces!H640=\"\",\"\",Liste_pièces!H640)","v":""},{"$f":"IF(Liste_pièces!I640=\"\",\"\",Liste_pièces!I640)","v":""},{"$f":"IF(Liste_pièces!J640=\"\",\"\",Liste_pièces!J640)","v":""},{"$f":"IF(Liste_pièces!K640=\"\",\"\",Liste_pièces!K640)","v":""},{"$f":"IF(Liste_pièces!L640=\"\",\"\",Liste_pièces!L640)","v":""},{"$f":"IF(Liste_pièces!M640=\"\",\"\",Liste_pièces!M640)","v":""}]
[{"$f":"IF(Liste_pièces!A641=\"\",\"ZZZ\",Liste_pièces!A641)","v":"ZZZ"},{"$f":"IF(Liste_pièces!B641=\"\",\"ZZZ\",Liste_pièces!B641)","v":"ZZZ"},{"$f":"IF(Liste_pièces!C641=\"\",\"\",Liste_pièces!C641)","v":""},{"$f":"IF(Liste_pièces!D641=\"\",\"\",Liste_pièces!D641)","v":""},{"$f":"IF(Liste_pièces!E641=\"\",\"\",Liste_pièces!E641)","v":""},{"$f":"IF(Liste_pièces!F641=\"\",\"\",Liste_pièces!F641)","v":""},{"$f":"IF(Liste_pièces!G641=\"\",\"\",Liste_pièces!G641)","v":""},{"$f":"IF(Liste_pièces!H641=\"\",\"\",Liste_pièces!H641)","v":""},{"$f":"IF(Liste_pièces!I641=\"\",\"\",Liste_pièces!I641)","v":""},{"$f":"IF(Liste_pièces!J641=\"\",\"\",Liste_pièces!J641)","v":""},{"$f":"IF(Liste_pièces!K641=\"\",\"\",Liste_pièces!K641)","v":""},{"$f":"IF(Liste_pièces!L641=\"\",\"\",Liste_pièces!L641)","v":""},{"$f":"IF(Liste_pièces!M641=\"\",\"\",Liste_pièces!M641)","v":""}]
[{"$f":"IF(Liste_pièces!A642=\"\",\"ZZZ\",Liste_pièces!A642)","v":"ZZZ"},{"$f":"IF(Liste_pièces!B642=\"\",\"ZZZ\",Liste_pièces!B642)","v":"ZZZ"},{"$f":"IF(Liste_pièces!C642=\"\",\"\",Liste_pièces!C642)","v":""},{"$f":"IF(Liste_pièces!D642=\"\",\"\",Liste_pièces!D642)","v":""},{"$f":"IF(Liste_pièces!E642=\"\",\"\",Liste_pièces!E642)","v":""},{"$f":"IF(Liste_pièces!F642=\"\",\"\",Liste_pièces!F642)","v":""},{"$f":"IF(Liste_pièces!G642=\"\",\"\",Liste_pièces!G642)","v":""},{"$f":"IF(Liste_pièces!H642=\"\",\"\",Liste_pièces!H642)","v":""},{"$f":"IF(Liste_pièces!I642=\"\",\"\",Liste_pièces!I642)","v":""},{"$f":"IF(Liste_pièces!J642=\"\",\"\",Liste_pièces!J642)","v":""},{"$f":"IF(Liste_pièces!K642=\"\",\"\",Liste_pièces!K642)","v":""},{"$f":"IF(Liste_pièces!L642=\"\",\"\",Liste_pièces!L642)","v":""},{"$f":"IF(Liste_pièces!M642=\"\",\"\",Liste_pièces!M642)","v":""}]
[{"$f":"IF(Liste_pièces!A643=\"\",\"ZZZ\",Liste_pièces!A643)","v":"ZZZ"},{"$f":"IF(Liste_pièces!B643=\"\",\"ZZZ\",Liste_pièces!B643)","v":"ZZZ"},{"$f":"IF(Liste_pièces!C643=\"\",\"\",Liste_pièces!C643)","v":""},{"$f":"IF(Liste_pièces!D643=\"\",\"\",Liste_pièces!D643)","v":""},{"$f":"IF(Liste_pièces!E643=\"\",\"\",Liste_pièces!E643)","v":""},{"$f":"IF(Liste_pièces!F643=\"\",\"\",Liste_pièces!F643)","v":""},{"$f":"IF(Liste_pièces!G643=\"\",\"\",Liste_pièces!G643)","v":""},{"$f":"IF(Liste_pièces!H643=\"\",\"\",Liste_pièces!H643)","v":""},{"$f":"IF(Liste_pièces!I643=\"\",\"\",Liste_pièces!I643)","v":""},{"$f":"IF(Liste_pièces!J643=\"\",\"\",Liste_pièces!J643)","v":""},{"$f":"IF(Liste_pièces!K643=\"\",\"\",Liste_pièces!K643)","v":""},{"$f":"IF(Liste_pièces!L643=\"\",\"\",Liste_pièces!L643)","v":""},{"$f":"IF(Liste_pièces!M643=\"\",\"\",Liste_pièces!M643)","v":""}]
[{"$f":"IF(Liste_pièces!A644=\"\",\"ZZZ\",Liste_pièces!A644)","v":"ZZZ"},{"$f":"IF(Liste_pièces!B644=\"\",\"ZZZ\",Liste_pièces!B644)","v":"ZZZ"},{"$f":"IF(Liste_pièces!C644=\"\",\"\",Liste_pièces!C644)","v":""},{"$f":"IF(Liste_pièces!D644=\"\",\"\",Liste_pièces!D644)","v":""},{"$f":"IF(Liste_pièces!E644=\"\",\"\",Liste_pièces!E644)","v":""},{"$f":"IF(Liste_pièces!F644=\"\",\"\",Liste_pièces!F644)","v":""},{"$f":"IF(Liste_pièces!G644=\"\",\"\",Liste_pièces!G644)","v":""},{"$f":"IF(Liste_pièces!H644=\"\",\"\",Liste_pièces!H644)","v":""},{"$f":"IF(Liste_pièces!I644=\"\",\"\",Liste_pièces!I644)","v":""},{"$f":"IF(Liste_pièces!J644=\"\",\"\",Liste_pièces!J644)","v":""},{"$f":"IF(Liste_pièces!K644=\"\",\"\",Liste_pièces!K644)","v":""},{"$f":"IF(Liste_pièces!L644=\"\",\"\",Liste_pièces!L644)","v":""},{"$f":"IF(Liste_pièces!M644=\"\",\"\",Liste_pièces!M644)","v":""}]
[{"$f":"IF(Liste_pièces!A645=\"\",\"ZZZ\",Liste_pièces!A645)","v":"ZZZ"},{"$f":"IF(Liste_pièces!B645=\"\",\"ZZZ\",Liste_pièces!B645)","v":"ZZZ"},{"$f":"IF(Liste_pièces!C645=\"\",\"\",Liste_pièces!C645)","v":""},{"$f":"IF(Liste_pièces!D645=\"\",\"\",Liste_pièces!D645)","v":""},{"$f":"IF(Liste_pièces!E645=\"\",\"\",Liste_pièces!E645)","v":""},{"$f":"IF(Liste_pièces!F645=\"\",\"\",Liste_pièces!F645)","v":""},{"$f":"IF(Liste_pièces!G645=\"\",\"\",Liste_pièces!G645)","v":""},{"$f":"IF(Liste_pièces!H645=\"\",\"\",Liste_pièces!H645)","v":""},{"$f":"IF(Liste_pièces!I645=\"\",\"\",Liste_pièces!I645)","v":""},{"$f":"IF(Liste_pièces!J645=\"\",\"\",Liste_pièces!J645)","v":""},{"$f":"IF(Liste_pièces!K645=\"\",\"\",Liste_pièces!K645)","v":""},{"$f":"IF(Liste_pièces!L645=\"\",\"\",Liste_pièces!L645)","v":""},{"$f":"IF(Liste_pièces!M645=\"\",\"\",Liste_pièces!M645)","v":""}]
[{"$f":"IF(Liste_pièces!A646=\"\",\"ZZZ\",Liste_pièces!A646)","v":"ZZZ"},{"$f":"IF(Liste_pièces!B646=\"\",\"ZZZ\",Liste_pièces!B646)","v":"ZZZ"},{"$f":"IF(Liste_pièces!C646=\"\",\"\",Liste_pièces!C646)","v":""},{"$f":"IF(Liste_pièces!D646=\"\",\"\",Liste_pièces!D646)","v":""},{"$f":"IF(Liste_pièces!E646=\"\",\"\",Liste_pièces!E646)","v":""},{"$f":"IF(Liste_pièces!F646=\"\",\"\",Liste_pièces!F646)","v":""},{"$f":"IF(Liste_pièces!G646=\"\",\"\",Liste_pièces!G646)","v":""},{"$f":"IF(Liste_pièces!H646=\"\",\"\",Liste_pièces!H646)","v":""},{"$f":"IF(Liste_pièces!I646=\"\",\"\",Liste_pièces!I646)","v":""},{"$f":"IF(Liste_pièces!J646=\"\",\"\",Liste_pièces!J646)","v":""},{"$f":"IF(Liste_pièces!K646=\"\",\"\",Liste_pièces!K646)","v":""},{"$f":"IF(Liste_pièces!L646=\"\",\"\",Liste_pièces!L646)","v":""},{"$f":"IF(Liste_pièces!M646=\"\",\"\",Liste_pièces!M646)","v":""}]
[{"$f":"IF(Liste_pièces!A647=\"\",\"ZZZ\",Liste_pièces!A647)","v":"ZZZ"},{"$f":"IF(Liste_pièces!B647=\"\",\"ZZZ\",Liste_pièces!B647)","v":"ZZZ"},{"$f":"IF(Liste_pièces!C647=\"\",\"\",Liste_pièces!C647)","v":""},{"$f":"IF(Liste_pièces!D647=\"\",\"\",Liste_pièces!D647)","v":""},{"$f":"IF(Liste_pièces!E647=\"\",\"\",Liste_pièces!E647)","v":""},{"$f":"IF(Liste_pièces!F647=\"\",\"\",Liste_pièces!F647)","v":""},{"$f":"IF(Liste_pièces!G647=\"\",\"\",Liste_pièces!G647)","v":""},{"$f":"IF(Liste_pièces!H647=\"\",\"\",Liste_pièces!H647)","v":""},{"$f":"IF(Liste_pièces!I647=\"\",\"\",Liste_pièces!I647)","v":""},{"$f":"IF(Liste_pièces!J647=\"\",\"\",Liste_pièces!J647)","v":""},{"$f":"IF(Liste_pièces!K647=\"\",\"\",Liste_pièces!K647)","v":""},{"$f":"IF(Liste_pièces!L647=\"\",\"\",Liste_pièces!L647)","v":""},{"$f":"IF(Liste_pièces!M647=\"\",\"\",Liste_pièces!M647)","v":""}]
[{"$f":"IF(Liste_pièces!A648=\"\",\"ZZZ\",Liste_pièces!A648)","v":"ZZZ"},{"$f":"IF(Liste_pièces!B648=\"\",\"ZZZ\",Liste_pièces!B648)","v":"ZZZ"},{"$f":"IF(Liste_pièces!C648=\"\",\"\",Liste_pièces!C648)","v":""},{"$f":"IF(Liste_pièces!D648=\"\",\"\",Liste_pièces!D648)","v":""},{"$f":"IF(Liste_pièces!E648=\"\",\"\",Liste_pièces!E648)","v":""},{"$f":"IF(Liste_pièces!F648=\"\",\"\",Liste_pièces!F648)","v":""},{"$f":"IF(Liste_pièces!G648=\"\",\"\",Liste_pièces!G648)","v":""},{"$f":"IF(Liste_pièces!H648=\"\",\"\",Liste_pièces!H648)","v":""},{"$f":"IF(Liste_pièces!I648=\"\",\"\",Liste_pièces!I648)","v":""},{"$f":"IF(Liste_pièces!J648=\"\",\"\",Liste_pièces!J648)","v":""},{"$f":"IF(Liste_pièces!K648=\"\",\"\",Liste_pièces!K648)","v":""},{"$f":"IF(Liste_pièces!L648=\"\",\"\",Liste_pièces!L648)","v":""},{"$f":"IF(Liste_pièces!M648=\"\",\"\",Liste_pièces!M648)","v":""}]
[{"$f":"IF(Liste_pièces!A649=\"\",\"ZZZ\",Liste_pièces!A649)","v":"ZZZ"},{"$f":"IF(Liste_pièces!B649=\"\",\"ZZZ\",Liste_pièces!B649)","v":"ZZZ"},{"$f":"IF(Liste_pièces!C649=\"\",\"\",Liste_pièces!C649)","v":""},{"$f":"IF(Liste_pièces!D649=\"\",\"\",Liste_pièces!D649)","v":""},{"$f":"IF(Liste_pièces!E649=\"\",\"\",Liste_pièces!E649)","v":""},{"$f":"IF(Liste_pièces!F649=\"\",\"\",Liste_pièces!F649)","v":""},{"$f":"IF(Liste_pièces!G649=\"\",\"\",Liste_pièces!G649)","v":""},{"$f":"IF(Liste_pièces!H649=\"\",\"\",Liste_pièces!H649)","v":""},{"$f":"IF(Liste_pièces!I649=\"\",\"\",Liste_pièces!I649)","v":""},{"$f":"IF(Liste_pièces!J649=\"\",\"\",Liste_pièces!J649)","v":""},{"$f":"IF(Liste_pièces!K649=\"\",\"\",Liste_pièces!K649)","v":""},{"$f":"IF(Liste_pièces!L649=\"\",\"\",Liste_pièces!L649)","v":""},{"$f":"IF(Liste_pièces!M649=\"\",\"\",Liste_pièces!M649)","v":""}]
[{"$f":"IF(Liste_pièces!A650=\"\",\"ZZZ\",Liste_pièces!A650)","v":"ZZZ"},{"$f":"IF(Liste_pièces!B650=\"\",\"ZZZ\",Liste_pièces!B650)","v":"ZZZ"},{"$f":"IF(Liste_pièces!C650=\"\",\"\",Liste_pièces!C650)","v":""},{"$f":"IF(Liste_pièces!D650=\"\",\"\",Liste_pièces!D650)","v":""},{"$f":"IF(Liste_pièces!E650=\"\",\"\",Liste_pièces!E650)","v":""},{"$f":"IF(Liste_pièces!F650=\"\",\"\",Liste_pièces!F650)","v":""},{"$f":"IF(Liste_pièces!G650=\"\",\"\",Liste_pièces!G650)","v":""},{"$f":"IF(Liste_pièces!H650=\"\",\"\",Liste_pièces!H650)","v":""},{"$f":"IF(Liste_pièces!I650=\"\",\"\",Liste_pièces!I650)","v":""},{"$f":"IF(Liste_pièces!J650=\"\",\"\",Liste_pièces!J650)","v":""},{"$f":"IF(Liste_pièces!K650=\"\",\"\",Liste_pièces!K650)","v":""},{"$f":"IF(Liste_pièces!L650=\"\",\"\",Liste_pièces!L650)","v":""},{"$f":"IF(Liste_pièces!M650=\"\",\"\",Liste_pièces!M650)","v":""}]
[{"$f":"IF(Liste_pièces!A651=\"\",\"ZZZ\",Liste_pièces!A651)","v":"ZZZ"},{"$f":"IF(Liste_pièces!B651=\"\",\"ZZZ\",Liste_pièces!B651)","v":"ZZZ"},{"$f":"IF(Liste_pièces!C651=\"\",\"\",Liste_pièces!C651)","v":""},{"$f":"IF(Liste_pièces!D651=\"\",\"\",Liste_pièces!D651)","v":""},{"$f":"IF(Liste_pièces!E651=\"\",\"\",Liste_pièces!E651)","v":""},{"$f":"IF(Liste_pièces!F651=\"\",\"\",Liste_pièces!F651)","v":""},{"$f":"IF(Liste_pièces!G651=\"\",\"\",Liste_pièces!G651)","v":""},{"$f":"IF(Liste_pièces!H651=\"\",\"\",Liste_pièces!H651)","v":""},{"$f":"IF(Liste_pièces!I651=\"\",\"\",Liste_pièces!I651)","v":""},{"$f":"IF(Liste_pièces!J651=\"\",\"\",Liste_pièces!J651)","v":""},{"$f":"IF(Liste_pièces!K651=\"\",\"\",Liste_pièces!K651)","v":""},{"$f":"IF(Liste_pièces!L651=\"\",\"\",Liste_pièces!L651)","v":""},{"$f":"IF(Liste_pièces!M651=\"\",\"\",Liste_pièces!M651)","v":""}]
[{"$f":"IF(Liste_pièces!A652=\"\",\"ZZZ\",Liste_pièces!A652)","v":"ZZZ"},{"$f":"IF(Liste_pièces!B652=\"\",\"ZZZ\",Liste_pièces!B652)","v":"ZZZ"},{"$f":"IF(Liste_pièces!C652=\"\",\"\",Liste_pièces!C652)","v":""},{"$f":"IF(Liste_pièces!D652=\"\",\"\",Liste_pièces!D652)","v":""},{"$f":"IF(Liste_pièces!E652=\"\",\"\",Liste_pièces!E652)","v":""},{"$f":"IF(Liste_pièces!F652=\"\",\"\",Liste_pièces!F652)","v":""},{"$f":"IF(Liste_pièces!G652=\"\",\"\",Liste_pièces!G652)","v":""},{"$f":"IF(Liste_pièces!H652=\"\",\"\",Liste_pièces!H652)","v":""},{"$f":"IF(Liste_pièces!I652=\"\",\"\",Liste_pièces!I652)","v":""},{"$f":"IF(Liste_pièces!J652=\"\",\"\",Liste_pièces!J652)","v":""},{"$f":"IF(Liste_pièces!K652=\"\",\"\",Liste_pièces!K652)","v":""},{"$f":"IF(Liste_pièces!L652=\"\",\"\",Liste_pièces!L652)","v":""},{"$f":"IF(Liste_pièces!M652=\"\",\"\",Liste_pièces!M652)","v":""}]
[{"$f":"IF(Liste_pièces!A653=\"\",\"ZZZ\",Liste_pièces!A653)","v":"ZZZ"},{"$f":"IF(Liste_pièces!B653=\"\",\"ZZZ\",Liste_pièces!B653)","v":"ZZZ"},{"$f":"IF(Liste_pièces!C653=\"\",\"\",Liste_pièces!C653)","v":""},{"$f":"IF(Liste_pièces!D653=\"\",\"\",Liste_pièces!D653)","v":""},{"$f":"IF(Liste_pièces!E653=\"\",\"\",Liste_pièces!E653)","v":""},{"$f":"IF(Liste_pièces!F653=\"\",\"\",Liste_pièces!F653)","v":""},{"$f":"IF(Liste_pièces!G653=\"\",\"\",Liste_pièces!G653)","v":""},{"$f":"IF(Liste_pièces!H653=\"\",\"\",Liste_pièces!H653)","v":""},{"$f":"IF(Liste_pièces!I653=\"\",\"\",Liste_pièces!I653)","v":""},{"$f":"IF(Liste_pièces!J653=\"\",\"\",Liste_pièces!J653)","v":""},{"$f":"IF(Liste_pièces!K653=\"\",\"\",Liste_pièces!K653)","v":""},{"$f":"IF(Liste_pièces!L653=\"\",\"\",Liste_pièces!L653)","v":""},{"$f":"IF(Liste_pièces!M653=\"\",\"\",Liste_pièces!M653)","v":""}]
[{"$f":"IF(Liste_pièces!A654=\"\",\"ZZZ\",Liste_pièces!A654)","v":"ZZZ"},{"$f":"IF(Liste_pièces!B654=\"\",\"ZZZ\",Liste_pièces!B654)","v":"ZZZ"},{"$f":"IF(Liste_pièces!C654=\"\",\"\",Liste_pièces!C654)","v":""},{"$f":"IF(Liste_pièces!D654=\"\",\"\",Liste_pièces!D654)","v":""},{"$f":"IF(Liste_pièces!E654=\"\",\"\",Liste_pièces!E654)","v":""},{"$f":"IF(Liste_pièces!F654=\"\",\"\",Liste_pièces!F654)","v":""},{"$f":"IF(Liste_pièces!G654=\"\",\"\",Liste_pièces!G654)","v":""},{"$f":"IF(Liste_pièces!H654=\"\",\"\",Liste_pièces!H654)","v":""},{"$f":"IF(Liste_pièces!I654=\"\",\"\",Liste_pièces!I654)","v":""},{"$f":"IF(Liste_pièces!J654=\"\",\"\",Liste_pièces!J654)","v":""},{"$f":"IF(Liste_pièces!K654=\"\",\"\",Liste_pièces!K654)","v":""},{"$f":"IF(Liste_pièces!L654=\"\",\"\",Liste_pièces!L654)","v":""},{"$f":"IF(Liste_pièces!M654=\"\",\"\",Liste_pièces!M654)","v":""}]
[{"$f":"IF(Liste_pièces!A655=\"\",\"ZZZ\",Liste_pièces!A655)","v":"ZZZ"},{"$f":"IF(Liste_pièces!B655=\"\",\"ZZZ\",Liste_pièces!B655)","v":"ZZZ"},{"$f":"IF(Liste_pièces!C655=\"\",\"\",Liste_pièces!C655)","v":""},{"$f":"IF(Liste_pièces!D655=\"\",\"\",Liste_pièces!D655)","v":""},{"$f":"IF(Liste_pièces!E655=\"\",\"\",Liste_pièces!E655)","v":""},{"$f":"IF(Liste_pièces!F655=\"\",\"\",Liste_pièces!F655)","v":""},{"$f":"IF(Liste_pièces!G655=\"\",\"\",Liste_pièces!G655)","v":""},{"$f":"IF(Liste_pièces!H655=\"\",\"\",Liste_pièces!H655)","v":""},{"$f":"IF(Liste_pièces!I655=\"\",\"\",Liste_pièces!I655)","v":""},{"$f":"IF(Liste_pièces!J655=\"\",\"\",Liste_pièces!J655)","v":""},{"$f":"IF(Liste_pièces!K655=\"\",\"\",Liste_pièces!K655)","v":""},{"$f":"IF(Liste_pièces!L655=\"\",\"\",Liste_pièces!L655)","v":""},{"$f":"IF(Liste_pièces!M655=\"\",\"\",Liste_pièces!M655)","v":""}]
[{"$f":"IF(Liste_pièces!A656=\"\",\"ZZZ\",Liste_pièces!A656)","v":"ZZZ"},{"$f":"IF(Liste_pièces!B656=\"\",\"ZZZ\",Liste_pièces!B656)","v":"ZZZ"},{"$f":"IF(Liste_pièces!C656=\"\",\"\",Liste_pièces!C656)","v":""},{"$f":"IF(Liste_pièces!D656=\"\",\"\",Liste_pièces!D656)","v":""},{"$f":"IF(Liste_pièces!E656=\"\",\"\",Liste_pièces!E656)","v":""},{"$f":"IF(Liste_pièces!F656=\"\",\"\",Liste_pièces!F656)","v":""},{"$f":"IF(Liste_pièces!G656=\"\",\"\",Liste_pièces!G656)","v":""},{"$f":"IF(Liste_pièces!H656=\"\",\"\",Liste_pièces!H656)","v":""},{"$f":"IF(Liste_pièces!I656=\"\",\"\",Liste_pièces!I656)","v":""},{"$f":"IF(Liste_pièces!J656=\"\",\"\",Liste_pièces!J656)","v":""},{"$f":"IF(Liste_pièces!K656=\"\",\"\",Liste_pièces!K656)","v":""},{"$f":"IF(Liste_pièces!L656=\"\",\"\",Liste_pièces!L656)","v":""},{"$f":"IF(Liste_pièces!M656=\"\",\"\",Liste_pièces!M656)","v":""}]
[{"$f":"IF(Liste_pièces!A657=\"\",\"ZZZ\",Liste_pièces!A657)","v":"ZZZ"},{"$f":"IF(Liste_pièces!B657=\"\",\"ZZZ\",Liste_pièces!B657)","v":"ZZZ"},{"$f":"IF(Liste_pièces!C657=\"\",\"\",Liste_pièces!C657)","v":""},{"$f":"IF(Liste_pièces!D657=\"\",\"\",Liste_pièces!D657)","v":""},{"$f":"IF(Liste_pièces!E657=\"\",\"\",Liste_pièces!E657)","v":""},{"$f":"IF(Liste_pièces!F657=\"\",\"\",Liste_pièces!F657)","v":""},{"$f":"IF(Liste_pièces!G657=\"\",\"\",Liste_pièces!G657)","v":""},{"$f":"IF(Liste_pièces!H657=\"\",\"\",Liste_pièces!H657)","v":""},{"$f":"IF(Liste_pièces!I657=\"\",\"\",Liste_pièces!I657)","v":""},{"$f":"IF(Liste_pièces!J657=\"\",\"\",Liste_pièces!J657)","v":""},{"$f":"IF(Liste_pièces!K657=\"\",\"\",Liste_pièces!K657)","v":""},{"$f":"IF(Liste_pièces!L657=\"\",\"\",Liste_pièces!L657)","v":""},{"$f":"IF(Liste_pièces!M657=\"\",\"\",Liste_pièces!M657)","v":""}]
[{"$f":"IF(Liste_pièces!A658=\"\",\"ZZZ\",Liste_pièces!A658)","v":"ZZZ"},{"$f":"IF(Liste_pièces!B658=\"\",\"ZZZ\",Liste_pièces!B658)","v":"ZZZ"},{"$f":"IF(Liste_pièces!C658=\"\",\"\",Liste_pièces!C658)","v":""},{"$f":"IF(Liste_pièces!D658=\"\",\"\",Liste_pièces!D658)","v":""},{"$f":"IF(Liste_pièces!E658=\"\",\"\",Liste_pièces!E658)","v":""},{"$f":"IF(Liste_pièces!F658=\"\",\"\",Liste_pièces!F658)","v":""},{"$f":"IF(Liste_pièces!G658=\"\",\"\",Liste_pièces!G658)","v":""},{"$f":"IF(Liste_pièces!H658=\"\",\"\",Liste_pièces!H658)","v":""},{"$f":"IF(Liste_pièces!I658=\"\",\"\",Liste_pièces!I658)","v":""},{"$f":"IF(Liste_pièces!J658=\"\",\"\",Liste_pièces!J658)","v":""},{"$f":"IF(Liste_pièces!K658=\"\",\"\",Liste_pièces!K658)","v":""},{"$f":"IF(Liste_pièces!L658=\"\",\"\",Liste_pièces!L658)","v":""},{"$f":"IF(Liste_pièces!M658=\"\",\"\",Liste_pièces!M658)","v":""}]
[{"$f":"IF(Liste_pièces!A659=\"\",\"ZZZ\",Liste_pièces!A659)","v":"ZZZ"},{"$f":"IF(Liste_pièces!B659=\"\",\"ZZZ\",Liste_pièces!B659)","v":"ZZZ"},{"$f":"IF(Liste_pièces!C659=\"\",\"\",Liste_pièces!C659)","v":""},{"$f":"IF(Liste_pièces!D659=\"\",\"\",Liste_pièces!D659)","v":""},{"$f":"IF(Liste_pièces!E659=\"\",\"\",Liste_pièces!E659)","v":""},{"$f":"IF(Liste_pièces!F659=\"\",\"\",Liste_pièces!F659)","v":""},{"$f":"IF(Liste_pièces!G659=\"\",\"\",Liste_pièces!G659)","v":""},{"$f":"IF(Liste_pièces!H659=\"\",\"\",Liste_pièces!H659)","v":""},{"$f":"IF(Liste_pièces!I659=\"\",\"\",Liste_pièces!I659)","v":""},{"$f":"IF(Liste_pièces!J659=\"\",\"\",Liste_pièces!J659)","v":""},{"$f":"IF(Liste_pièces!K659=\"\",\"\",Liste_pièces!K659)","v":""},{"$f":"IF(Liste_pièces!L659=\"\",\"\",Liste_pièces!L659)","v":""},{"$f":"IF(Liste_pièces!M659=\"\",\"\",Liste_pièces!M659)","v":""}]
[{"$f":"IF(Liste_pièces!A660=\"\",\"ZZZ\",Liste_pièces!A660)","v":"ZZZ"},{"$f":"IF(Liste_pièces!B660=\"\",\"ZZZ\",Liste_pièces!B660)","v":"ZZZ"},{"$f":"IF(Liste_pièces!C660=\"\",\"\",Liste_pièces!C660)","v":""},{"$f":"IF(Liste_pièces!D660=\"\",\"\",Liste_pièces!D660)","v":""},{"$f":"IF(Liste_pièces!E660=\"\",\"\",Liste_pièces!E660)","v":""},{"$f":"IF(Liste_pièces!F660=\"\",\"\",Liste_pièces!F660)","v":""},{"$f":"IF(Liste_pièces!G660=\"\",\"\",Liste_pièces!G660)","v":""},{"$f":"IF(Liste_pièces!H660=\"\",\"\",Liste_pièces!H660)","v":""},{"$f":"IF(Liste_pièces!I660=\"\",\"\",Liste_pièces!I660)","v":""},{"$f":"IF(Liste_pièces!J660=\"\",\"\",Liste_pièces!J660)","v":""},{"$f":"IF(Liste_pièces!K660=\"\",\"\",Liste_pièces!K660)","v":""},{"$f":"IF(Liste_pièces!L660=\"\",\"\",Liste_pièces!L660)","v":""},{"$f":"IF(Liste_pièces!M660=\"\",\"\",Liste_pièces!M660)","v":""}]
[{"$f":"IF(Liste_pièces!A661=\"\",\"ZZZ\",Liste_pièces!A661)","v":"ZZZ"},{"$f":"IF(Liste_pièces!B661=\"\",\"ZZZ\",Liste_pièces!B661)","v":"ZZZ"},{"$f":"IF(Liste_pièces!C661=\"\",\"\",Liste_pièces!C661)","v":""},{"$f":"IF(Liste_pièces!D661=\"\",\"\",Liste_pièces!D661)","v":""},{"$f":"IF(Liste_pièces!E661=\"\",\"\",Liste_pièces!E661)","v":""},{"$f":"IF(Liste_pièces!F661=\"\",\"\",Liste_pièces!F661)","v":""},{"$f":"IF(Liste_pièces!G661=\"\",\"\",Liste_pièces!G661)","v":""},{"$f":"IF(Liste_pièces!H661=\"\",\"\",Liste_pièces!H661)","v":""},{"$f":"IF(Liste_pièces!I661=\"\",\"\",Liste_pièces!I661)","v":""},{"$f":"IF(Liste_pièces!J661=\"\",\"\",Liste_pièces!J661)","v":""},{"$f":"IF(Liste_pièces!K661=\"\",\"\",Liste_pièces!K661)","v":""},{"$f":"IF(Liste_pièces!L661=\"\",\"\",Liste_pièces!L661)","v":""},{"$f":"IF(Liste_pièces!M661=\"\",\"\",Liste_pièces!M661)","v":""}]
[{"$f":"IF(Liste_pièces!A662=\"\",\"ZZZ\",Liste_pièces!A662)","v":"ZZZ"},{"$f":"IF(Liste_pièces!B662=\"\",\"ZZZ\",Liste_pièces!B662)","v":"ZZZ"},{"$f":"IF(Liste_pièces!C662=\"\",\"\",Liste_pièces!C662)","v":""},{"$f":"IF(Liste_pièces!D662=\"\",\"\",Liste_pièces!D662)","v":""},{"$f":"IF(Liste_pièces!E662=\"\",\"\",Liste_pièces!E662)","v":""},{"$f":"IF(Liste_pièces!F662=\"\",\"\",Liste_pièces!F662)","v":""},{"$f":"IF(Liste_pièces!G662=\"\",\"\",Liste_pièces!G662)","v":""},{"$f":"IF(Liste_pièces!H662=\"\",\"\",Liste_pièces!H662)","v":""},{"$f":"IF(Liste_pièces!I662=\"\",\"\",Liste_pièces!I662)","v":""},{"$f":"IF(Liste_pièces!J662=\"\",\"\",Liste_pièces!J662)","v":""},{"$f":"IF(Liste_pièces!K662=\"\",\"\",Liste_pièces!K662)","v":""},{"$f":"IF(Liste_pièces!L662=\"\",\"\",Liste_pièces!L662)","v":""},{"$f":"IF(Liste_pièces!M662=\"\",\"\",Liste_pièces!M662)","v":""}]
[{"$f":"IF(Liste_pièces!A663=\"\",\"ZZZ\",Liste_pièces!A663)","v":"ZZZ"},{"$f":"IF(Liste_pièces!B663=\"\",\"ZZZ\",Liste_pièces!B663)","v":"ZZZ"},{"$f":"IF(Liste_pièces!C663=\"\",\"\",Liste_pièces!C663)","v":""},{"$f":"IF(Liste_pièces!D663=\"\",\"\",Liste_pièces!D663)","v":""},{"$f":"IF(Liste_pièces!E663=\"\",\"\",Liste_pièces!E663)","v":""},{"$f":"IF(Liste_pièces!F663=\"\",\"\",Liste_pièces!F663)","v":""},{"$f":"IF(Liste_pièces!G663=\"\",\"\",Liste_pièces!G663)","v":""},{"$f":"IF(Liste_pièces!H663=\"\",\"\",Liste_pièces!H663)","v":""},{"$f":"IF(Liste_pièces!I663=\"\",\"\",Liste_pièces!I663)","v":""},{"$f":"IF(Liste_pièces!J663=\"\",\"\",Liste_pièces!J663)","v":""},{"$f":"IF(Liste_pièces!K663=\"\",\"\",Liste_pièces!K663)","v":""},{"$f":"IF(Liste_pièces!L663=\"\",\"\",Liste_pièces!L663)","v":""},{"$f":"IF(Liste_pièces!M663=\"\",\"\",Liste_pièces!M663)","v":""}]
[{"$f":"IF(Liste_pièces!A664=\"\",\"ZZZ\",Liste_pièces!A664)","v":"ZZZ"},{"$f":"IF(Liste_pièces!B664=\"\",\"ZZZ\",Liste_pièces!B664)","v":"ZZZ"},{"$f":"IF(Liste_pièces!C664=\"\",\"\",Liste_pièces!C664)","v":""},{"$f":"IF(Liste_pièces!D664=\"\",\"\",Liste_pièces!D664)","v":""},{"$f":"IF(Liste_pièces!E664=\"\",\"\",Liste_pièces!E664)","v":""},{"$f":"IF(Liste_pièces!F664=\"\",\"\",Liste_pièces!F664)","v":""},{"$f":"IF(Liste_pièces!G664=\"\",\"\",Liste_pièces!G664)","v":""},{"$f":"IF(Liste_pièces!H664=\"\",\"\",Liste_pièces!H664)","v":""},{"$f":"IF(Liste_pièces!I664=\"\",\"\",Liste_pièces!I664)","v":""},{"$f":"IF(Liste_pièces!J664=\"\",\"\",Liste_pièces!J664)","v":""},{"$f":"IF(Liste_pièces!K664=\"\",\"\",Liste_pièces!K664)","v":""},{"$f":"IF(Liste_pièces!L664=\"\",\"\",Liste_pièces!L664)","v":""},{"$f":"IF(Liste_pièces!M664=\"\",\"\",Liste_pièces!M664)","v":""}]
[{"$f":"IF(Liste_pièces!A665=\"\",\"ZZZ\",Liste_pièces!A665)","v":"ZZZ"},{"$f":"IF(Liste_pièces!B665=\"\",\"ZZZ\",Liste_pièces!B665)","v":"ZZZ"},{"$f":"IF(Liste_pièces!C665=\"\",\"\",Liste_pièces!C665)","v":""},{"$f":"IF(Liste_pièces!D665=\"\",\"\",Liste_pièces!D665)","v":""},{"$f":"IF(Liste_pièces!E665=\"\",\"\",Liste_pièces!E665)","v":""},{"$f":"IF(Liste_pièces!F665=\"\",\"\",Liste_pièces!F665)","v":""},{"$f":"IF(Liste_pièces!G665=\"\",\"\",Liste_pièces!G665)","v":""},{"$f":"IF(Liste_pièces!H665=\"\",\"\",Liste_pièces!H665)","v":""},{"$f":"IF(Liste_pièces!I665=\"\",\"\",Liste_pièces!I665)","v":""},{"$f":"IF(Liste_pièces!J665=\"\",\"\",Liste_pièces!J665)","v":""},{"$f":"IF(Liste_pièces!K665=\"\",\"\",Liste_pièces!K665)","v":""},{"$f":"IF(Liste_pièces!L665=\"\",\"\",Liste_pièces!L665)","v":""},{"$f":"IF(Liste_pièces!M665=\"\",\"\",Liste_pièces!M665)","v":""}]
[{"$f":"IF(Liste_pièces!A666=\"\",\"ZZZ\",Liste_pièces!A666)","v":"ZZZ"},{"$f":"IF(Liste_pièces!B666=\"\",\"ZZZ\",Liste_pièces!B666)","v":"ZZZ"},{"$f":"IF(Liste_pièces!C666=\"\",\"\",Liste_pièces!C666)","v":""},{"$f":"IF(Liste_pièces!D666=\"\",\"\",Liste_pièces!D666)","v":""},{"$f":"IF(Liste_pièces!E666=\"\",\"\",Liste_pièces!E666)","v":""},{"$f":"IF(Liste_pièces!F666=\"\",\"\",Liste_pièces!F666)","v":""},{"$f":"IF(Liste_pièces!G666=\"\",\"\",Liste_pièces!G666)","v":""},{"$f":"IF(Liste_pièces!H666=\"\",\"\",Liste_pièces!H666)","v":""},{"$f":"IF(Liste_pièces!I666=\"\",\"\",Liste_pièces!I666)","v":""},{"$f":"IF(Liste_pièces!J666=\"\",\"\",Liste_pièces!J666)","v":""},{"$f":"IF(Liste_pièces!K666=\"\",\"\",Liste_pièces!K666)","v":""},{"$f":"IF(Liste_pièces!L666=\"\",\"\",Liste_pièces!L666)","v":""},{"$f":"IF(Liste_pièces!M666=\"\",\"\",Liste_pièces!M666)","v":""}]
[{"$f":"IF(Liste_pièces!A667=\"\",\"ZZZ\",Liste_pièces!A667)","v":"ZZZ"},{"$f":"IF(Liste_pièces!B667=\"\",\"ZZZ\",Liste_pièces!B667)","v":"ZZZ"},{"$f":"IF(Liste_pièces!C667=\"\",\"\",Liste_pièces!C667)","v":""},{"$f":"IF(Liste_pièces!D667=\"\",\"\",Liste_pièces!D667)","v":""},{"$f":"IF(Liste_pièces!E667=\"\",\"\",Liste_pièces!E667)","v":""},{"$f":"IF(Liste_pièces!F667=\"\",\"\",Liste_pièces!F667)","v":""},{"$f":"IF(Liste_pièces!G667=\"\",\"\",Liste_pièces!G667)","v":""},{"$f":"IF(Liste_pièces!H667=\"\",\"\",Liste_pièces!H667)","v":""},{"$f":"IF(Liste_pièces!I667=\"\",\"\",Liste_pièces!I667)","v":""},{"$f":"IF(Liste_pièces!J667=\"\",\"\",Liste_pièces!J667)","v":""},{"$f":"IF(Liste_pièces!K667=\"\",\"\",Liste_pièces!K667)","v":""},{"$f":"IF(Liste_pièces!L667=\"\",\"\",Liste_pièces!L667)","v":""},{"$f":"IF(Liste_pièces!M667=\"\",\"\",Liste_pièces!M667)","v":""}]
[{"$f":"IF(Liste_pièces!A668=\"\",\"ZZZ\",Liste_pièces!A668)","v":"ZZZ"},{"$f":"IF(Liste_pièces!B668=\"\",\"ZZZ\",Liste_pièces!B668)","v":"ZZZ"},{"$f":"IF(Liste_pièces!C668=\"\",\"\",Liste_pièces!C668)","v":""},{"$f":"IF(Liste_pièces!D668=\"\",\"\",Liste_pièces!D668)","v":""},{"$f":"IF(Liste_pièces!E668=\"\",\"\",Liste_pièces!E668)","v":""},{"$f":"IF(Liste_pièces!F668=\"\",\"\",Liste_pièces!F668)","v":""},{"$f":"IF(Liste_pièces!G668=\"\",\"\",Liste_pièces!G668)","v":""},{"$f":"IF(Liste_pièces!H668=\"\",\"\",Liste_pièces!H668)","v":""},{"$f":"IF(Liste_pièces!I668=\"\",\"\",Liste_pièces!I668)","v":""},{"$f":"IF(Liste_pièces!J668=\"\",\"\",Liste_pièces!J668)","v":""},{"$f":"IF(Liste_pièces!K668=\"\",\"\",Liste_pièces!K668)","v":""},{"$f":"IF(Liste_pièces!L668=\"\",\"\",Liste_pièces!L668)","v":""},{"$f":"IF(Liste_pièces!M668=\"\",\"\",Liste_pièces!M668)","v":""}]
[{"$f":"IF(Liste_pièces!A669=\"\",\"ZZZ\",Liste_pièces!A669)","v":"ZZZ"},{"$f":"IF(Liste_pièces!B669=\"\",\"ZZZ\",Liste_pièces!B669)","v":"ZZZ"},{"$f":"IF(Liste_pièces!C669=\"\",\"\",Liste_pièces!C669)","v":""},{"$f":"IF(Liste_pièces!D669=\"\",\"\",Liste_pièces!D669)","v":""},{"$f":"IF(Liste_pièces!E669=\"\",\"\",Liste_pièces!E669)","v":""},{"$f":"IF(Liste_pièces!F669=\"\",\"\",Liste_pièces!F669)","v":""},{"$f":"IF(Liste_pièces!G669=\"\",\"\",Liste_pièces!G669)","v":""},{"$f":"IF(Liste_pièces!H669=\"\",\"\",Liste_pièces!H669)","v":""},{"$f":"IF(Liste_pièces!I669=\"\",\"\",Liste_pièces!I669)","v":""},{"$f":"IF(Liste_pièces!J669=\"\",\"\",Liste_pièces!J669)","v":""},{"$f":"IF(Liste_pièces!K669=\"\",\"\",Liste_pièces!K669)","v":""},{"$f":"IF(Liste_pièces!L669=\"\",\"\",Liste_pièces!L669)","v":""},{"$f":"IF(Liste_pièces!M669=\"\",\"\",Liste_pièces!M669)","v":""}]
[{"$f":"IF(Liste_pièces!A670=\"\",\"ZZZ\",Liste_pièces!A670)","v":"ZZZ"},{"$f":"IF(Liste_pièces!B670=\"\",\"ZZZ\",Liste_pièces!B670)","v":"ZZZ"},{"$f":"IF(Liste_pièces!C670=\"\",\"\",Liste_pièces!C670)","v":""},{"$f":"IF(Liste_pièces!D670=\"\",\"\",Liste_pièces!D670)","v":""},{"$f":"IF(Liste_pièces!E670=\"\",\"\",Liste_pièces!E670)","v":""},{"$f":"IF(Liste_pièces!F670=\"\",\"\",Liste_pièces!F670)","v":""},{"$f":"IF(Liste_pièces!G670=\"\",\"\",Liste_pièces!G670)","v":""},{"$f":"IF(Liste_pièces!H670=\"\",\"\",Liste_pièces!H670)","v":""},{"$f":"IF(Liste_pièces!I670=\"\",\"\",Liste_pièces!I670)","v":""},{"$f":"IF(Liste_pièces!J670=\"\",\"\",Liste_pièces!J670)","v":""},{"$f":"IF(Liste_pièces!K670=\"\",\"\",Liste_pièces!K670)","v":""},{"$f":"IF(Liste_pièces!L670=\"\",\"\",Liste_pièces!L670)","v":""},{"$f":"IF(Liste_pièces!M670=\"\",\"\",Liste_pièces!M670)","v":""}]
[{"$f":"IF(Liste_pièces!A671=\"\",\"ZZZ\",Liste_pièces!A671)","v":"ZZZ"},{"$f":"IF(Liste_pièces!B671=\"\",\"ZZZ\",Liste_pièces!B671)","v":"ZZZ"},{"$f":"IF(Liste_pièces!C671=\"\",\"\",Liste_pièces!C671)","v":""},{"$f":"IF(Liste_pièces!D671=\"\",\"\",Liste_pièces!D671)","v":""},{"$f":"IF(Liste_pièces!E671=\"\",\"\",Liste_pièces!E671)","v":""},{"$f":"IF(Liste_pièces!F671=\"\",\"\",Liste_pièces!F671)","v":""},{"$f":"IF(Liste_pièces!G671=\"\",\"\",Liste_pièces!G671)","v":""},{"$f":"IF(Liste_pièces!H671=\"\",\"\",Liste_pièces!H671)","v":""},{"$f":"IF(Liste_pièces!I671=\"\",\"\",Liste_pièces!I671)","v":""},{"$f":"IF(Liste_pièces!J671=\"\",\"\",Liste_pièces!J671)","v":""},{"$f":"IF(Liste_pièces!K671=\"\",\"\",Liste_pièces!K671)","v":""},{"$f":"IF(Liste_pièces!L671=\"\",\"\",Liste_pièces!L671)","v":""},{"$f":"IF(Liste_pièces!M671=\"\",\"\",Liste_pièces!M671)","v":""}]
[{"$f":"IF(Liste_pièces!A672=\"\",\"ZZZ\",Liste_pièces!A672)","v":"ZZZ"},{"$f":"IF(Liste_pièces!B672=\"\",\"ZZZ\",Liste_pièces!B672)","v":"ZZZ"},{"$f":"IF(Liste_pièces!C672=\"\",\"\",Liste_pièces!C672)","v":""},{"$f":"IF(Liste_pièces!D672=\"\",\"\",Liste_pièces!D672)","v":""},{"$f":"IF(Liste_pièces!E672=\"\",\"\",Liste_pièces!E672)","v":""},{"$f":"IF(Liste_pièces!F672=\"\",\"\",Liste_pièces!F672)","v":""},{"$f":"IF(Liste_pièces!G672=\"\",\"\",Liste_pièces!G672)","v":""},{"$f":"IF(Liste_pièces!H672=\"\",\"\",Liste_pièces!H672)","v":""},{"$f":"IF(Liste_pièces!I672=\"\",\"\",Liste_pièces!I672)","v":""},{"$f":"IF(Liste_pièces!J672=\"\",\"\",Liste_pièces!J672)","v":""},{"$f":"IF(Liste_pièces!K672=\"\",\"\",Liste_pièces!K672)","v":""},{"$f":"IF(Liste_pièces!L672=\"\",\"\",Liste_pièces!L672)","v":""},{"$f":"IF(Liste_pièces!M672=\"\",\"\",Liste_pièces!M672)","v":""}]
[{"$f":"IF(Liste_pièces!A673=\"\",\"ZZZ\",Liste_pièces!A673)","v":"ZZZ"},{"$f":"IF(Liste_pièces!B673=\"\",\"ZZZ\",Liste_pièces!B673)","v":"ZZZ"},{"$f":"IF(Liste_pièces!C673=\"\",\"\",Liste_pièces!C673)","v":""},{"$f":"IF(Liste_pièces!D673=\"\",\"\",Liste_pièces!D673)","v":""},{"$f":"IF(Liste_pièces!E673=\"\",\"\",Liste_pièces!E673)","v":""},{"$f":"IF(Liste_pièces!F673=\"\",\"\",Liste_pièces!F673)","v":""},{"$f":"IF(Liste_pièces!G673=\"\",\"\",Liste_pièces!G673)","v":""},{"$f":"IF(Liste_pièces!H673=\"\",\"\",Liste_pièces!H673)","v":""},{"$f":"IF(Liste_pièces!I673=\"\",\"\",Liste_pièces!I673)","v":""},{"$f":"IF(Liste_pièces!J673=\"\",\"\",Liste_pièces!J673)","v":""},{"$f":"IF(Liste_pièces!K673=\"\",\"\",Liste_pièces!K673)","v":""},{"$f":"IF(Liste_pièces!L673=\"\",\"\",Liste_pièces!L673)","v":""},{"$f":"IF(Liste_pièces!M673=\"\",\"\",Liste_pièces!M673)","v":""}]
[{"$f":"IF(Liste_pièces!A674=\"\",\"ZZZ\",Liste_pièces!A674)","v":"ZZZ"},{"$f":"IF(Liste_pièces!B674=\"\",\"ZZZ\",Liste_pièces!B674)","v":"ZZZ"},{"$f":"IF(Liste_pièces!C674=\"\",\"\",Liste_pièces!C674)","v":""},{"$f":"IF(Liste_pièces!D674=\"\",\"\",Liste_pièces!D674)","v":""},{"$f":"IF(Liste_pièces!E674=\"\",\"\",Liste_pièces!E674)","v":""},{"$f":"IF(Liste_pièces!F674=\"\",\"\",Liste_pièces!F674)","v":""},{"$f":"IF(Liste_pièces!G674=\"\",\"\",Liste_pièces!G674)","v":""},{"$f":"IF(Liste_pièces!H674=\"\",\"\",Liste_pièces!H674)","v":""},{"$f":"IF(Liste_pièces!I674=\"\",\"\",Liste_pièces!I674)","v":""},{"$f":"IF(Liste_pièces!J674=\"\",\"\",Liste_pièces!J674)","v":""},{"$f":"IF(Liste_pièces!K674=\"\",\"\",Liste_pièces!K674)","v":""},{"$f":"IF(Liste_pièces!L674=\"\",\"\",Liste_pièces!L674)","v":""},{"$f":"IF(Liste_pièces!M674=\"\",\"\",Liste_pièces!M674)","v":""}]
[{"$f":"IF(Liste_pièces!A675=\"\",\"ZZZ\",Liste_pièces!A675)","v":"ZZZ"},{"$f":"IF(Liste_pièces!B675=\"\",\"ZZZ\",Liste_pièces!B675)","v":"ZZZ"},{"$f":"IF(Liste_pièces!C675=\"\",\"\",Liste_pièces!C675)","v":""},{"$f":"IF(Liste_pièces!D675=\"\",\"\",Liste_pièces!D675)","v":""},{"$f":"IF(Liste_pièces!E675=\"\",\"\",Liste_pièces!E675)","v":""},{"$f":"IF(Liste_pièces!F675=\"\",\"\",Liste_pièces!F675)","v":""},{"$f":"IF(Liste_pièces!G675=\"\",\"\",Liste_pièces!G675)","v":""},{"$f":"IF(Liste_pièces!H675=\"\",\"\",Liste_pièces!H675)","v":""},{"$f":"IF(Liste_pièces!I675=\"\",\"\",Liste_pièces!I675)","v":""},{"$f":"IF(Liste_pièces!J675=\"\",\"\",Liste_pièces!J675)","v":""},{"$f":"IF(Liste_pièces!K675=\"\",\"\",Liste_pièces!K675)","v":""},{"$f":"IF(Liste_pièces!L675=\"\",\"\",Liste_pièces!L675)","v":""},{"$f":"IF(Liste_pièces!M675=\"\",\"\",Liste_pièces!M675)","v":""}]
[{"$f":"IF(Liste_pièces!A676=\"\",\"ZZZ\",Liste_pièces!A676)","v":"ZZZ"},{"$f":"IF(Liste_pièces!B676=\"\",\"ZZZ\",Liste_pièces!B676)","v":"ZZZ"},{"$f":"IF(Liste_pièces!C676=\"\",\"\",Liste_pièces!C676)","v":""},{"$f":"IF(Liste_pièces!D676=\"\",\"\",Liste_pièces!D676)","v":""},{"$f":"IF(Liste_pièces!E676=\"\",\"\",Liste_pièces!E676)","v":""},{"$f":"IF(Liste_pièces!F676=\"\",\"\",Liste_pièces!F676)","v":""},{"$f":"IF(Liste_pièces!G676=\"\",\"\",Liste_pièces!G676)","v":""},{"$f":"IF(Liste_pièces!H676=\"\",\"\",Liste_pièces!H676)","v":""},{"$f":"IF(Liste_pièces!I676=\"\",\"\",Liste_pièces!I676)","v":""},{"$f":"IF(Liste_pièces!J676=\"\",\"\",Liste_pièces!J676)","v":""},{"$f":"IF(Liste_pièces!K676=\"\",\"\",Liste_pièces!K676)","v":""},{"$f":"IF(Liste_pièces!L676=\"\",\"\",Liste_pièces!L676)","v":""},{"$f":"IF(Liste_pièces!M676=\"\",\"\",Liste_pièces!M676)","v":""}]
[{"$f":"IF(Liste_pièces!A677=\"\",\"ZZZ\",Liste_pièces!A677)","v":"ZZZ"},{"$f":"IF(Liste_pièces!B677=\"\",\"ZZZ\",Liste_pièces!B677)","v":"ZZZ"},{"$f":"IF(Liste_pièces!C677=\"\",\"\",Liste_pièces!C677)","v":""},{"$f":"IF(Liste_pièces!D677=\"\",\"\",Liste_pièces!D677)","v":""},{"$f":"IF(Liste_pièces!E677=\"\",\"\",Liste_pièces!E677)","v":""},{"$f":"IF(Liste_pièces!F677=\"\",\"\",Liste_pièces!F677)","v":""},{"$f":"IF(Liste_pièces!G677=\"\",\"\",Liste_pièces!G677)","v":""},{"$f":"IF(Liste_pièces!H677=\"\",\"\",Liste_pièces!H677)","v":""},{"$f":"IF(Liste_pièces!I677=\"\",\"\",Liste_pièces!I677)","v":""},{"$f":"IF(Liste_pièces!J677=\"\",\"\",Liste_pièces!J677)","v":""},{"$f":"IF(Liste_pièces!K677=\"\",\"\",Liste_pièces!K677)","v":""},{"$f":"IF(Liste_pièces!L677=\"\",\"\",Liste_pièces!L677)","v":""},{"$f":"IF(Liste_pièces!M677=\"\",\"\",Liste_pièces!M677)","v":""}]
[{"$f":"IF(Liste_pièces!A678=\"\",\"ZZZ\",Liste_pièces!A678)","v":"ZZZ"},{"$f":"IF(Liste_pièces!B678=\"\",\"ZZZ\",Liste_pièces!B678)","v":"ZZZ"},{"$f":"IF(Liste_pièces!C678=\"\",\"\",Liste_pièces!C678)","v":""},{"$f":"IF(Liste_pièces!D678=\"\",\"\",Liste_pièces!D678)","v":""},{"$f":"IF(Liste_pièces!E678=\"\",\"\",Liste_pièces!E678)","v":""},{"$f":"IF(Liste_pièces!F678=\"\",\"\",Liste_pièces!F678)","v":""},{"$f":"IF(Liste_pièces!G678=\"\",\"\",Liste_pièces!G678)","v":""},{"$f":"IF(Liste_pièces!H678=\"\",\"\",Liste_pièces!H678)","v":""},{"$f":"IF(Liste_pièces!I678=\"\",\"\",Liste_pièces!I678)","v":""},{"$f":"IF(Liste_pièces!J678=\"\",\"\",Liste_pièces!J678)","v":""},{"$f":"IF(Liste_pièces!K678=\"\",\"\",Liste_pièces!K678)","v":""},{"$f":"IF(Liste_pièces!L678=\"\",\"\",Liste_pièces!L678)","v":""},{"$f":"IF(Liste_pièces!M678=\"\",\"\",Liste_pièces!M678)","v":""}]
[{"$f":"IF(Liste_pièces!A679=\"\",\"ZZZ\",Liste_pièces!A679)","v":"ZZZ"},{"$f":"IF(Liste_pièces!B679=\"\",\"ZZZ\",Liste_pièces!B679)","v":"ZZZ"},{"$f":"IF(Liste_pièces!C679=\"\",\"\",Liste_pièces!C679)","v":""},{"$f":"IF(Liste_pièces!D679=\"\",\"\",Liste_pièces!D679)","v":""},{"$f":"IF(Liste_pièces!E679=\"\",\"\",Liste_pièces!E679)","v":""},{"$f":"IF(Liste_pièces!F679=\"\",\"\",Liste_pièces!F679)","v":""},{"$f":"IF(Liste_pièces!G679=\"\",\"\",Liste_pièces!G679)","v":""},{"$f":"IF(Liste_pièces!H679=\"\",\"\",Liste_pièces!H679)","v":""},{"$f":"IF(Liste_pièces!I679=\"\",\"\",Liste_pièces!I679)","v":""},{"$f":"IF(Liste_pièces!J679=\"\",\"\",Liste_pièces!J679)","v":""},{"$f":"IF(Liste_pièces!K679=\"\",\"\",Liste_pièces!K679)","v":""},{"$f":"IF(Liste_pièces!L679=\"\",\"\",Liste_pièces!L679)","v":""},{"$f":"IF(Liste_pièces!M679=\"\",\"\",Liste_pièces!M679)","v":""}]
[{"$f":"IF(Liste_pièces!A680=\"\",\"ZZZ\",Liste_pièces!A680)","v":"ZZZ"},{"$f":"IF(Liste_pièces!B680=\"\",\"ZZZ\",Liste_pièces!B680)","v":"ZZZ"},{"$f":"IF(Liste_pièces!C680=\"\",\"\",Liste_pièces!C680)","v":""},{"$f":"IF(Liste_pièces!D680=\"\",\"\",Liste_pièces!D680)","v":""},{"$f":"IF(Liste_pièces!E680=\"\",\"\",Liste_pièces!E680)","v":""},{"$f":"IF(Liste_pièces!F680=\"\",\"\",Liste_pièces!F680)","v":""},{"$f":"IF(Liste_pièces!G680=\"\",\"\",Liste_pièces!G680)","v":""},{"$f":"IF(Liste_pièces!H680=\"\",\"\",Liste_pièces!H680)","v":""},{"$f":"IF(Liste_pièces!I680=\"\",\"\",Liste_pièces!I680)","v":""},{"$f":"IF(Liste_pièces!J680=\"\",\"\",Liste_pièces!J680)","v":""},{"$f":"IF(Liste_pièces!K680=\"\",\"\",Liste_pièces!K680)","v":""},{"$f":"IF(Liste_pièces!L680=\"\",\"\",Liste_pièces!L680)","v":""},{"$f":"IF(Liste_pièces!M680=\"\",\"\",Liste_pièces!M680)","v":""}]
[{"$f":"IF(Liste_pièces!A681=\"\",\"ZZZ\",Liste_pièces!A681)","v":"ZZZ"},{"$f":"IF(Liste_pièces!B681=\"\",\"ZZZ\",Liste_pièces!B681)","v":"ZZZ"},{"$f":"IF(Liste_pièces!C681=\"\",\"\",Liste_pièces!C681)","v":""},{"$f":"IF(Liste_pièces!D681=\"\",\"\",Liste_pièces!D681)","v":""},{"$f":"IF(Liste_pièces!E681=\"\",\"\",Liste_pièces!E681)","v":""},{"$f":"IF(Liste_pièces!F681=\"\",\"\",Liste_pièces!F681)","v":""},{"$f":"IF(Liste_pièces!G681=\"\",\"\",Liste_pièces!G681)","v":""},{"$f":"IF(Liste_pièces!H681=\"\",\"\",Liste_pièces!H681)","v":""},{"$f":"IF(Liste_pièces!I681=\"\",\"\",Liste_pièces!I681)","v":""},{"$f":"IF(Liste_pièces!J681=\"\",\"\",Liste_pièces!J681)","v":""},{"$f":"IF(Liste_pièces!K681=\"\",\"\",Liste_pièces!K681)","v":""},{"$f":"IF(Liste_pièces!L681=\"\",\"\",Liste_pièces!L681)","v":""},{"$f":"IF(Liste_pièces!M681=\"\",\"\",Liste_pièces!M681)","v":""}]
[{"$f":"IF(Liste_pièces!A682=\"\",\"ZZZ\",Liste_pièces!A682)","v":"ZZZ"},{"$f":"IF(Liste_pièces!B682=\"\",\"ZZZ\",Liste_pièces!B682)","v":"ZZZ"},{"$f":"IF(Liste_pièces!C682=\"\",\"\",Liste_pièces!C682)","v":""},{"$f":"IF(Liste_pièces!D682=\"\",\"\",Liste_pièces!D682)","v":""},{"$f":"IF(Liste_pièces!E682=\"\",\"\",Liste_pièces!E682)","v":""},{"$f":"IF(Liste_pièces!F682=\"\",\"\",Liste_pièces!F682)","v":""},{"$f":"IF(Liste_pièces!G682=\"\",\"\",Liste_pièces!G682)","v":""},{"$f":"IF(Liste_pièces!H682=\"\",\"\",Liste_pièces!H682)","v":""},{"$f":"IF(Liste_pièces!I682=\"\",\"\",Liste_pièces!I682)","v":""},{"$f":"IF(Liste_pièces!J682=\"\",\"\",Liste_pièces!J682)","v":""},{"$f":"IF(Liste_pièces!K682=\"\",\"\",Liste_pièces!K682)","v":""},{"$f":"IF(Liste_pièces!L682=\"\",\"\",Liste_pièces!L682)","v":""},{"$f":"IF(Liste_pièces!M682=\"\",\"\",Liste_pièces!M682)","v":""}]
[{"$f":"IF(Liste_pièces!A683=\"\",\"ZZZ\",Liste_pièces!A683)","v":"ZZZ"},{"$f":"IF(Liste_pièces!B683=\"\",\"ZZZ\",Liste_pièces!B683)","v":"ZZZ"},{"$f":"IF(Liste_pièces!C683=\"\",\"\",Liste_pièces!C683)","v":""},{"$f":"IF(Liste_pièces!D683=\"\",\"\",Liste_pièces!D683)","v":""},{"$f":"IF(Liste_pièces!E683=\"\",\"\",Liste_pièces!E683)","v":""},{"$f":"IF(Liste_pièces!F683=\"\",\"\",Liste_pièces!F683)","v":""},{"$f":"IF(Liste_pièces!G683=\"\",\"\",Liste_pièces!G683)","v":""},{"$f":"IF(Liste_pièces!H683=\"\",\"\",Liste_pièces!H683)","v":""},{"$f":"IF(Liste_pièces!I683=\"\",\"\",Liste_pièces!I683)","v":""},{"$f":"IF(Liste_pièces!J683=\"\",\"\",Liste_pièces!J683)","v":""},{"$f":"IF(Liste_pièces!K683=\"\",\"\",Liste_pièces!K683)","v":""},{"$f":"IF(Liste_pièces!L683=\"\",\"\",Liste_pièces!L683)","v":""},{"$f":"IF(Liste_pièces!M683=\"\",\"\",Liste_pièces!M683)","v":""}]
[{"$f":"IF(Liste_pièces!A684=\"\",\"ZZZ\",Liste_pièces!A684)","v":"ZZZ"},{"$f":"IF(Liste_pièces!B684=\"\",\"ZZZ\",Liste_pièces!B684)","v":"ZZZ"},{"$f":"IF(Liste_pièces!C684=\"\",\"\",Liste_pièces!C684)","v":""},{"$f":"IF(Liste_pièces!D684=\"\",\"\",Liste_pièces!D684)","v":""},{"$f":"IF(Liste_pièces!E684=\"\",\"\",Liste_pièces!E684)","v":""},{"$f":"IF(Liste_pièces!F684=\"\",\"\",Liste_pièces!F684)","v":""},{"$f":"IF(Liste_pièces!G684=\"\",\"\",Liste_pièces!G684)","v":""},{"$f":"IF(Liste_pièces!H684=\"\",\"\",Liste_pièces!H684)","v":""},{"$f":"IF(Liste_pièces!I684=\"\",\"\",Liste_pièces!I684)","v":""},{"$f":"IF(Liste_pièces!J684=\"\",\"\",Liste_pièces!J684)","v":""},{"$f":"IF(Liste_pièces!K684=\"\",\"\",Liste_pièces!K684)","v":""},{"$f":"IF(Liste_pièces!L684=\"\",\"\",Liste_pièces!L684)","v":""},{"$f":"IF(Liste_pièces!M684=\"\",\"\",Liste_pièces!M684)","v":""}]
[{"$f":"IF(Liste_pièces!A685=\"\",\"ZZZ\",Liste_pièces!A685)","v":"ZZZ"},{"$f":"IF(Liste_pièces!B685=\"\",\"ZZZ\",Liste_pièces!B685)","v":"ZZZ"},{"$f":"IF(Liste_pièces!C685=\"\",\"\",Liste_pièces!C685)","v":""},{"$f":"IF(Liste_pièces!D685=\"\",\"\",Liste_pièces!D685)","v":""},{"$f":"IF(Liste_pièces!E685=\"\",\"\",Liste_pièces!E685)","v":""},{"$f":"IF(Liste_pièces!F685=\"\",\"\",Liste_pièces!F685)","v":""},{"$f":"IF(Liste_pièces!G685=\"\",\"\",Liste_pièces!G685)","v":""},{"$f":"IF(Liste_pièces!H685=\"\",\"\",Liste_pièces!H685)","v":""},{"$f":"IF(Liste_pièces!I685=\"\",\"\",Liste_pièces!I685)","v":""},{"$f":"IF(Liste_pièces!J685=\"\",\"\",Liste_pièces!J685)","v":""},{"$f":"IF(Liste_pièces!K685=\"\",\"\",Liste_pièces!K685)","v":""},{"$f":"IF(Liste_pièces!L685=\"\",\"\",Liste_pièces!L685)","v":""},{"$f":"IF(Liste_pièces!M685=\"\",\"\",Liste_pièces!M685)","v":""}]
[{"$f":"IF(Liste_pièces!A686=\"\",\"ZZZ\",Liste_pièces!A686)","v":"ZZZ"},{"$f":"IF(Liste_pièces!B686=\"\",\"ZZZ\",Liste_pièces!B686)","v":"ZZZ"},{"$f":"IF(Liste_pièces!C686=\"\",\"\",Liste_pièces!C686)","v":""},{"$f":"IF(Liste_pièces!D686=\"\",\"\",Liste_pièces!D686)","v":""},{"$f":"IF(Liste_pièces!E686=\"\",\"\",Liste_pièces!E686)","v":""},{"$f":"IF(Liste_pièces!F686=\"\",\"\",Liste_pièces!F686)","v":""},{"$f":"IF(Liste_pièces!G686=\"\",\"\",Liste_pièces!G686)","v":""},{"$f":"IF(Liste_pièces!H686=\"\",\"\",Liste_pièces!H686)","v":""},{"$f":"IF(Liste_pièces!I686=\"\",\"\",Liste_pièces!I686)","v":""},{"$f":"IF(Liste_pièces!J686=\"\",\"\",Liste_pièces!J686)","v":""},{"$f":"IF(Liste_pièces!K686=\"\",\"\",Liste_pièces!K686)","v":""},{"$f":"IF(Liste_pièces!L686=\"\",\"\",Liste_pièces!L686)","v":""},{"$f":"IF(Liste_pièces!M686=\"\",\"\",Liste_pièces!M686)","v":""}]
[{"$f":"IF(Liste_pièces!A687=\"\",\"ZZZ\",Liste_pièces!A687)","v":"ZZZ"},{"$f":"IF(Liste_pièces!B687=\"\",\"ZZZ\",Liste_pièces!B687)","v":"ZZZ"},{"$f":"IF(Liste_pièces!C687=\"\",\"\",Liste_pièces!C687)","v":""},{"$f":"IF(Liste_pièces!D687=\"\",\"\",Liste_pièces!D687)","v":""},{"$f":"IF(Liste_pièces!E687=\"\",\"\",Liste_pièces!E687)","v":""},{"$f":"IF(Liste_pièces!F687=\"\",\"\",Liste_pièces!F687)","v":""},{"$f":"IF(Liste_pièces!G687=\"\",\"\",Liste_pièces!G687)","v":""},{"$f":"IF(Liste_pièces!H687=\"\",\"\",Liste_pièces!H687)","v":""},{"$f":"IF(Liste_pièces!I687=\"\",\"\",Liste_pièces!I687)","v":""},{"$f":"IF(Liste_pièces!J687=\"\",\"\",Liste_pièces!J687)","v":""},{"$f":"IF(Liste_pièces!K687=\"\",\"\",Liste_pièces!K687)","v":""},{"$f":"IF(Liste_pièces!L687=\"\",\"\",Liste_pièces!L687)","v":""},{"$f":"IF(Liste_pièces!M687=\"\",\"\",Liste_pièces!M687)","v":""}]
[{"$f":"IF(Liste_pièces!A688=\"\",\"ZZZ\",Liste_pièces!A688)","v":"ZZZ"},{"$f":"IF(Liste_pièces!B688=\"\",\"ZZZ\",Liste_pièces!B688)","v":"ZZZ"},{"$f":"IF(Liste_pièces!C688=\"\",\"\",Liste_pièces!C688)","v":""},{"$f":"IF(Liste_pièces!D688=\"\",\"\",Liste_pièces!D688)","v":""},{"$f":"IF(Liste_pièces!E688=\"\",\"\",Liste_pièces!E688)","v":""},{"$f":"IF(Liste_pièces!F688=\"\",\"\",Liste_pièces!F688)","v":""},{"$f":"IF(Liste_pièces!G688=\"\",\"\",Liste_pièces!G688)","v":""},{"$f":"IF(Liste_pièces!H688=\"\",\"\",Liste_pièces!H688)","v":""},{"$f":"IF(Liste_pièces!I688=\"\",\"\",Liste_pièces!I688)","v":""},{"$f":"IF(Liste_pièces!J688=\"\",\"\",Liste_pièces!J688)","v":""},{"$f":"IF(Liste_pièces!K688=\"\",\"\",Liste_pièces!K688)","v":""},{"$f":"IF(Liste_pièces!L688=\"\",\"\",Liste_pièces!L688)","v":""},{"$f":"IF(Liste_pièces!M688=\"\",\"\",Liste_pièces!M688)","v":""}]
[{"$f":"IF(Liste_pièces!A689=\"\",\"ZZZ\",Liste_pièces!A689)","v":"ZZZ"},{"$f":"IF(Liste_pièces!B689=\"\",\"ZZZ\",Liste_pièces!B689)","v":"ZZZ"},{"$f":"IF(Liste_pièces!C689=\"\",\"\",Liste_pièces!C689)","v":""},{"$f":"IF(Liste_pièces!D689=\"\",\"\",Liste_pièces!D689)","v":""},{"$f":"IF(Liste_pièces!E689=\"\",\"\",Liste_pièces!E689)","v":""},{"$f":"IF(Liste_pièces!F689=\"\",\"\",Liste_pièces!F689)","v":""},{"$f":"IF(Liste_pièces!G689=\"\",\"\",Liste_pièces!G689)","v":""},{"$f":"IF(Liste_pièces!H689=\"\",\"\",Liste_pièces!H689)","v":""},{"$f":"IF(Liste_pièces!I689=\"\",\"\",Liste_pièces!I689)","v":""},{"$f":"IF(Liste_pièces!J689=\"\",\"\",Liste_pièces!J689)","v":""},{"$f":"IF(Liste_pièces!K689=\"\",\"\",Liste_pièces!K689)","v":""},{"$f":"IF(Liste_pièces!L689=\"\",\"\",Liste_pièces!L689)","v":""},{"$f":"IF(Liste_pièces!M689=\"\",\"\",Liste_pièces!M689)","v":""}]
[{"$f":"IF(Liste_pièces!A690=\"\",\"ZZZ\",Liste_pièces!A690)","v":"ZZZ"},{"$f":"IF(Liste_pièces!B690=\"\",\"ZZZ\",Liste_pièces!B690)","v":"ZZZ"},{"$f":"IF(Liste_pièces!C690=\"\",\"\",Liste_pièces!C690)","v":""},{"$f":"IF(Liste_pièces!D690=\"\",\"\",Liste_pièces!D690)","v":""},{"$f":"IF(Liste_pièces!E690=\"\",\"\",Liste_pièces!E690)","v":""},{"$f":"IF(Liste_pièces!F690=\"\",\"\",Liste_pièces!F690)","v":""},{"$f":"IF(Liste_pièces!G690=\"\",\"\",Liste_pièces!G690)","v":""},{"$f":"IF(Liste_pièces!H690=\"\",\"\",Liste_pièces!H690)","v":""},{"$f":"IF(Liste_pièces!I690=\"\",\"\",Liste_pièces!I690)","v":""},{"$f":"IF(Liste_pièces!J690=\"\",\"\",Liste_pièces!J690)","v":""},{"$f":"IF(Liste_pièces!K690=\"\",\"\",Liste_pièces!K690)","v":""},{"$f":"IF(Liste_pièces!L690=\"\",\"\",Liste_pièces!L690)","v":""},{"$f":"IF(Liste_pièces!M690=\"\",\"\",Liste_pièces!M690)","v":""}]
[{"$f":"IF(Liste_pièces!A691=\"\",\"ZZZ\",Liste_pièces!A691)","v":"ZZZ"},{"$f":"IF(Liste_pièces!B691=\"\",\"ZZZ\",Liste_pièces!B691)","v":"ZZZ"},{"$f":"IF(Liste_pièces!C691=\"\",\"\",Liste_pièces!C691)","v":""},{"$f":"IF(Liste_pièces!D691=\"\",\"\",Liste_pièces!D691)","v":""},{"$f":"IF(Liste_pièces!E691=\"\",\"\",Liste_pièces!E691)","v":""},{"$f":"IF(Liste_pièces!F691=\"\",\"\",Liste_pièces!F691)","v":""},{"$f":"IF(Liste_pièces!G691=\"\",\"\",Liste_pièces!G691)","v":""},{"$f":"IF(Liste_pièces!H691=\"\",\"\",Liste_pièces!H691)","v":""},{"$f":"IF(Liste_pièces!I691=\"\",\"\",Liste_pièces!I691)","v":""},{"$f":"IF(Liste_pièces!J691=\"\",\"\",Liste_pièces!J691)","v":""},{"$f":"IF(Liste_pièces!K691=\"\",\"\",Liste_pièces!K691)","v":""},{"$f":"IF(Liste_pièces!L691=\"\",\"\",Liste_pièces!L691)","v":""},{"$f":"IF(Liste_pièces!M691=\"\",\"\",Liste_pièces!M691)","v":""}]
[{"$f":"IF(Liste_pièces!A692=\"\",\"ZZZ\",Liste_pièces!A692)","v":"ZZZ"},{"$f":"IF(Liste_pièces!B692=\"\",\"ZZZ\",Liste_pièces!B692)","v":"ZZZ"},{"$f":"IF(Liste_pièces!C692=\"\",\"\",Liste_pièces!C692)","v":""},{"$f":"IF(Liste_pièces!D692=\"\",\"\",Liste_pièces!D692)","v":""},{"$f":"IF(Liste_pièces!E692=\"\",\"\",Liste_pièces!E692)","v":""},{"$f":"IF(Liste_pièces!F692=\"\",\"\",Liste_pièces!F692)","v":""},{"$f":"IF(Liste_pièces!G692=\"\",\"\",Liste_pièces!G692)","v":""},{"$f":"IF(Liste_pièces!H692=\"\",\"\",Liste_pièces!H692)","v":""},{"$f":"IF(Liste_pièces!I692=\"\",\"\",Liste_pièces!I692)","v":""},{"$f":"IF(Liste_pièces!J692=\"\",\"\",Liste_pièces!J692)","v":""},{"$f":"IF(Liste_pièces!K692=\"\",\"\",Liste_pièces!K692)","v":""},{"$f":"IF(Liste_pièces!L692=\"\",\"\",Liste_pièces!L692)","v":""},{"$f":"IF(Liste_pièces!M692=\"\",\"\",Liste_pièces!M692)","v":""}]
[{"$f":"IF(Liste_pièces!A693=\"\",\"ZZZ\",Liste_pièces!A693)","v":"ZZZ"},{"$f":"IF(Liste_pièces!B693=\"\",\"ZZZ\",Liste_pièces!B693)","v":"ZZZ"},{"$f":"IF(Liste_pièces!C693=\"\",\"\",Liste_pièces!C693)","v":""},{"$f":"IF(Liste_pièces!D693=\"\",\"\",Liste_pièces!D693)","v":""},{"$f":"IF(Liste_pièces!E693=\"\",\"\",Liste_pièces!E693)","v":""},{"$f":"IF(Liste_pièces!F693=\"\",\"\",Liste_pièces!F693)","v":""},{"$f":"IF(Liste_pièces!G693=\"\",\"\",Liste_pièces!G693)","v":""},{"$f":"IF(Liste_pièces!H693=\"\",\"\",Liste_pièces!H693)","v":""},{"$f":"IF(Liste_pièces!I693=\"\",\"\",Liste_pièces!I693)","v":""},{"$f":"IF(Liste_pièces!J693=\"\",\"\",Liste_pièces!J693)","v":""},{"$f":"IF(Liste_pièces!K693=\"\",\"\",Liste_pièces!K693)","v":""},{"$f":"IF(Liste_pièces!L693=\"\",\"\",Liste_pièces!L693)","v":""},{"$f":"IF(Liste_pièces!M693=\"\",\"\",Liste_pièces!M693)","v":""}]
[{"$f":"IF(Liste_pièces!A694=\"\",\"ZZZ\",Liste_pièces!A694)","v":"ZZZ"},{"$f":"IF(Liste_pièces!B694=\"\",\"ZZZ\",Liste_pièces!B694)","v":"ZZZ"},{"$f":"IF(Liste_pièces!C694=\"\",\"\",Liste_pièces!C694)","v":""},{"$f":"IF(Liste_pièces!D694=\"\",\"\",Liste_pièces!D694)","v":""},{"$f":"IF(Liste_pièces!E694=\"\",\"\",Liste_pièces!E694)","v":""},{"$f":"IF(Liste_pièces!F694=\"\",\"\",Liste_pièces!F694)","v":""},{"$f":"IF(Liste_pièces!G694=\"\",\"\",Liste_pièces!G694)","v":""},{"$f":"IF(Liste_pièces!H694=\"\",\"\",Liste_pièces!H694)","v":""},{"$f":"IF(Liste_pièces!I694=\"\",\"\",Liste_pièces!I694)","v":""},{"$f":"IF(Liste_pièces!J694=\"\",\"\",Liste_pièces!J694)","v":""},{"$f":"IF(Liste_pièces!K694=\"\",\"\",Liste_pièces!K694)","v":""},{"$f":"IF(Liste_pièces!L694=\"\",\"\",Liste_pièces!L694)","v":""},{"$f":"IF(Liste_pièces!M694=\"\",\"\",Liste_pièces!M694)","v":""}]
[{"$f":"IF(Liste_pièces!A695=\"\",\"ZZZ\",Liste_pièces!A695)","v":"ZZZ"},{"$f":"IF(Liste_pièces!B695=\"\",\"ZZZ\",Liste_pièces!B695)","v":"ZZZ"},{"$f":"IF(Liste_pièces!C695=\"\",\"\",Liste_pièces!C695)","v":""},{"$f":"IF(Liste_pièces!D695=\"\",\"\",Liste_pièces!D695)","v":""},{"$f":"IF(Liste_pièces!E695=\"\",\"\",Liste_pièces!E695)","v":""},{"$f":"IF(Liste_pièces!F695=\"\",\"\",Liste_pièces!F695)","v":""},{"$f":"IF(Liste_pièces!G695=\"\",\"\",Liste_pièces!G695)","v":""},{"$f":"IF(Liste_pièces!H695=\"\",\"\",Liste_pièces!H695)","v":""},{"$f":"IF(Liste_pièces!I695=\"\",\"\",Liste_pièces!I695)","v":""},{"$f":"IF(Liste_pièces!J695=\"\",\"\",Liste_pièces!J695)","v":""},{"$f":"IF(Liste_pièces!K695=\"\",\"\",Liste_pièces!K695)","v":""},{"$f":"IF(Liste_pièces!L695=\"\",\"\",Liste_pièces!L695)","v":""},{"$f":"IF(Liste_pièces!M695=\"\",\"\",Liste_pièces!M695)","v":""}]
[{"$f":"IF(Liste_pièces!A696=\"\",\"ZZZ\",Liste_pièces!A696)","v":"ZZZ"},{"$f":"IF(Liste_pièces!B696=\"\",\"ZZZ\",Liste_pièces!B696)","v":"ZZZ"},{"$f":"IF(Liste_pièces!C696=\"\",\"\",Liste_pièces!C696)","v":""},{"$f":"IF(Liste_pièces!D696=\"\",\"\",Liste_pièces!D696)","v":""},{"$f":"IF(Liste_pièces!E696=\"\",\"\",Liste_pièces!E696)","v":""},{"$f":"IF(Liste_pièces!F696=\"\",\"\",Liste_pièces!F696)","v":""},{"$f":"IF(Liste_pièces!G696=\"\",\"\",Liste_pièces!G696)","v":""},{"$f":"IF(Liste_pièces!H696=\"\",\"\",Liste_pièces!H696)","v":""},{"$f":"IF(Liste_pièces!I696=\"\",\"\",Liste_pièces!I696)","v":""},{"$f":"IF(Liste_pièces!J696=\"\",\"\",Liste_pièces!J696)","v":""},{"$f":"IF(Liste_pièces!K696=\"\",\"\",Liste_pièces!K696)","v":""},{"$f":"IF(Liste_pièces!L696=\"\",\"\",Liste_pièces!L696)","v":""},{"$f":"IF(Liste_pièces!M696=\"\",\"\",Liste_pièces!M696)","v":""}]
[{"$f":"IF(Liste_pièces!A697=\"\",\"ZZZ\",Liste_pièces!A697)","v":"ZZZ"},{"$f":"IF(Liste_pièces!B697=\"\",\"ZZZ\",Liste_pièces!B697)","v":"ZZZ"},{"$f":"IF(Liste_pièces!C697=\"\",\"\",Liste_pièces!C697)","v":""},{"$f":"IF(Liste_pièces!D697=\"\",\"\",Liste_pièces!D697)","v":""},{"$f":"IF(Liste_pièces!E697=\"\",\"\",Liste_pièces!E697)","v":""},{"$f":"IF(Liste_pièces!F697=\"\",\"\",Liste_pièces!F697)","v":""},{"$f":"IF(Liste_pièces!G697=\"\",\"\",Liste_pièces!G697)","v":""},{"$f":"IF(Liste_pièces!H697=\"\",\"\",Liste_pièces!H697)","v":""},{"$f":"IF(Liste_pièces!I697=\"\",\"\",Liste_pièces!I697)","v":""},{"$f":"IF(Liste_pièces!J697=\"\",\"\",Liste_pièces!J697)","v":""},{"$f":"IF(Liste_pièces!K697=\"\",\"\",Liste_pièces!K697)","v":""},{"$f":"IF(Liste_pièces!L697=\"\",\"\",Liste_pièces!L697)","v":""},{"$f":"IF(Liste_pièces!M697=\"\",\"\",Liste_pièces!M697)","v":""}]
[{"$f":"IF(Liste_pièces!A698=\"\",\"ZZZ\",Liste_pièces!A698)","v":"ZZZ"},{"$f":"IF(Liste_pièces!B698=\"\",\"ZZZ\",Liste_pièces!B698)","v":"ZZZ"},{"$f":"IF(Liste_pièces!C698=\"\",\"\",Liste_pièces!C698)","v":""},{"$f":"IF(Liste_pièces!D698=\"\",\"\",Liste_pièces!D698)","v":""},{"$f":"IF(Liste_pièces!E698=\"\",\"\",Liste_pièces!E698)","v":""},{"$f":"IF(Liste_pièces!F698=\"\",\"\",Liste_pièces!F698)","v":""},{"$f":"IF(Liste_pièces!G698=\"\",\"\",Liste_pièces!G698)","v":""},{"$f":"IF(Liste_pièces!H698=\"\",\"\",Liste_pièces!H698)","v":""},{"$f":"IF(Liste_pièces!I698=\"\",\"\",Liste_pièces!I698)","v":""},{"$f":"IF(Liste_pièces!J698=\"\",\"\",Liste_pièces!J698)","v":""},{"$f":"IF(Liste_pièces!K698=\"\",\"\",Liste_pièces!K698)","v":""},{"$f":"IF(Liste_pièces!L698=\"\",\"\",Liste_pièces!L698)","v":""},{"$f":"IF(Liste_pièces!M698=\"\",\"\",Liste_pièces!M698)","v":""}]
[{"$f":"IF(Liste_pièces!A699=\"\",\"ZZZ\",Liste_pièces!A699)","v":"ZZZ"},{"$f":"IF(Liste_pièces!B699=\"\",\"ZZZ\",Liste_pièces!B699)","v":"ZZZ"},{"$f":"IF(Liste_pièces!C699=\"\",\"\",Liste_pièces!C699)","v":""},{"$f":"IF(Liste_pièces!D699=\"\",\"\",Liste_pièces!D699)","v":""},{"$f":"IF(Liste_pièces!E699=\"\",\"\",Liste_pièces!E699)","v":""},{"$f":"IF(Liste_pièces!F699=\"\",\"\",Liste_pièces!F699)","v":""},{"$f":"IF(Liste_pièces!G699=\"\",\"\",Liste_pièces!G699)","v":""},{"$f":"IF(Liste_pièces!H699=\"\",\"\",Liste_pièces!H699)","v":""},{"$f":"IF(Liste_pièces!I699=\"\",\"\",Liste_pièces!I699)","v":""},{"$f":"IF(Liste_pièces!J699=\"\",\"\",Liste_pièces!J699)","v":""},{"$f":"IF(Liste_pièces!K699=\"\",\"\",Liste_pièces!K699)","v":""},{"$f":"IF(Liste_pièces!L699=\"\",\"\",Liste_pièces!L699)","v":""},{"$f":"IF(Liste_pièces!M699=\"\",\"\",Liste_pièces!M699)","v":""}]
[{"$f":"IF(Liste_pièces!A700=\"\",\"ZZZ\",Liste_pièces!A700)","v":"ZZZ"},{"$f":"IF(Liste_pièces!B700=\"\",\"ZZZ\",Liste_pièces!B700)","v":"ZZZ"},{"$f":"IF(Liste_pièces!C700=\"\",\"\",Liste_pièces!C700)","v":""},{"$f":"IF(Liste_pièces!D700=\"\",\"\",Liste_pièces!D700)","v":""},{"$f":"IF(Liste_pièces!E700=\"\",\"\",Liste_pièces!E700)","v":""},{"$f":"IF(Liste_pièces!F700=\"\",\"\",Liste_pièces!F700)","v":""},{"$f":"IF(Liste_pièces!G700=\"\",\"\",Liste_pièces!G700)","v":""},{"$f":"IF(Liste_pièces!H700=\"\",\"\",Liste_pièces!H700)","v":""},{"$f":"IF(Liste_pièces!I700=\"\",\"\",Liste_pièces!I700)","v":""},{"$f":"IF(Liste_pièces!J700=\"\",\"\",Liste_pièces!J700)","v":""},{"$f":"IF(Liste_pièces!K700=\"\",\"\",Liste_pièces!K700)","v":""},{"$f":"IF(Liste_pièces!L700=\"\",\"\",Liste_pièces!L700)","v":""},{"$f":"IF(Liste_pièces!M700=\"\",\"\",Liste_pièces!M700)","v":""}]
[{"$f":"IF(Liste_pièces!A701=\"\",\"ZZZ\",Liste_pièces!A701)","v":"ZZZ"},{"$f":"IF(Liste_pièces!B701=\"\",\"ZZZ\",Liste_pièces!B701)","v":"ZZZ"},{"$f":"IF(Liste_pièces!C701=\"\",\"\",Liste_pièces!C701)","v":""},{"$f":"IF(Liste_pièces!D701=\"\",\"\",Liste_pièces!D701)","v":""},{"$f":"IF(Liste_pièces!E701=\"\",\"\",Liste_pièces!E701)","v":""},{"$f":"IF(Liste_pièces!F701=\"\",\"\",Liste_pièces!F701)","v":""},{"$f":"IF(Liste_pièces!G701=\"\",\"\",Liste_pièces!G701)","v":""},{"$f":"IF(Liste_pièces!H701=\"\",\"\",Liste_pièces!H701)","v":""},{"$f":"IF(Liste_pièces!I701=\"\",\"\",Liste_pièces!I701)","v":""},{"$f":"IF(Liste_pièces!J701=\"\",\"\",Liste_pièces!J701)","v":""},{"$f":"IF(Liste_pièces!K701=\"\",\"\",Liste_pièces!K701)","v":""},{"$f":"IF(Liste_pièces!L701=\"\",\"\",Liste_pièces!L701)","v":""},{"$f":"IF(Liste_pièces!M701=\"\",\"\",Liste_pièces!M701)","v":""}]
[{"$f":"IF(Liste_pièces!A702=\"\",\"ZZZ\",Liste_pièces!A702)","v":"ZZZ"},{"$f":"IF(Liste_pièces!B702=\"\",\"ZZZ\",Liste_pièces!B702)","v":"ZZZ"},{"$f":"IF(Liste_pièces!C702=\"\",\"\",Liste_pièces!C702)","v":""},{"$f":"IF(Liste_pièces!D702=\"\",\"\",Liste_pièces!D702)","v":""},{"$f":"IF(Liste_pièces!E702=\"\",\"\",Liste_pièces!E702)","v":""},{"$f":"IF(Liste_pièces!F702=\"\",\"\",Liste_pièces!F702)","v":""},{"$f":"IF(Liste_pièces!G702=\"\",\"\",Liste_pièces!G702)","v":""},{"$f":"IF(Liste_pièces!H702=\"\",\"\",Liste_pièces!H702)","v":""},{"$f":"IF(Liste_pièces!I702=\"\",\"\",Liste_pièces!I702)","v":""},{"$f":"IF(Liste_pièces!J702=\"\",\"\",Liste_pièces!J702)","v":""},{"$f":"IF(Liste_pièces!K702=\"\",\"\",Liste_pièces!K702)","v":""},{"$f":"IF(Liste_pièces!L702=\"\",\"\",Liste_pièces!L702)","v":""},{"$f":"IF(Liste_pièces!M702=\"\",\"\",Liste_pièces!M702)","v":""}]
[{"$f":"IF(Liste_pièces!A703=\"\",\"ZZZ\",Liste_pièces!A703)","v":"ZZZ"},{"$f":"IF(Liste_pièces!B703=\"\",\"ZZZ\",Liste_pièces!B703)","v":"ZZZ"},{"$f":"IF(Liste_pièces!C703=\"\",\"\",Liste_pièces!C703)","v":""},{"$f":"IF(Liste_pièces!D703=\"\",\"\",Liste_pièces!D703)","v":""},{"$f":"IF(Liste_pièces!E703=\"\",\"\",Liste_pièces!E703)","v":""},{"$f":"IF(Liste_pièces!F703=\"\",\"\",Liste_pièces!F703)","v":""},{"$f":"IF(Liste_pièces!G703=\"\",\"\",Liste_pièces!G703)","v":""},{"$f":"IF(Liste_pièces!H703=\"\",\"\",Liste_pièces!H703)","v":""},{"$f":"IF(Liste_pièces!I703=\"\",\"\",Liste_pièces!I703)","v":""},{"$f":"IF(Liste_pièces!J703=\"\",\"\",Liste_pièces!J703)","v":""},{"$f":"IF(Liste_pièces!K703=\"\",\"\",Liste_pièces!K703)","v":""},{"$f":"IF(Liste_pièces!L703=\"\",\"\",Liste_pièces!L703)","v":""},{"$f":"IF(Liste_pièces!M703=\"\",\"\",Liste_pièces!M703)","v":""}]
[{"$f":"IF(Liste_pièces!A704=\"\",\"ZZZ\",Liste_pièces!A704)","v":"ZZZ"},{"$f":"IF(Liste_pièces!B704=\"\",\"ZZZ\",Liste_pièces!B704)","v":"ZZZ"},{"$f":"IF(Liste_pièces!C704=\"\",\"\",Liste_pièces!C704)","v":""},{"$f":"IF(Liste_pièces!D704=\"\",\"\",Liste_pièces!D704)","v":""},{"$f":"IF(Liste_pièces!E704=\"\",\"\",Liste_pièces!E704)","v":""},{"$f":"IF(Liste_pièces!F704=\"\",\"\",Liste_pièces!F704)","v":""},{"$f":"IF(Liste_pièces!G704=\"\",\"\",Liste_pièces!G704)","v":""},{"$f":"IF(Liste_pièces!H704=\"\",\"\",Liste_pièces!H704)","v":""},{"$f":"IF(Liste_pièces!I704=\"\",\"\",Liste_pièces!I704)","v":""},{"$f":"IF(Liste_pièces!J704=\"\",\"\",Liste_pièces!J704)","v":""},{"$f":"IF(Liste_pièces!K704=\"\",\"\",Liste_pièces!K704)","v":""},{"$f":"IF(Liste_pièces!L704=\"\",\"\",Liste_pièces!L704)","v":""},{"$f":"IF(Liste_pièces!M704=\"\",\"\",Liste_pièces!M704)","v":""}]
[{"$f":"IF(Liste_pièces!A705=\"\",\"ZZZ\",Liste_pièces!A705)","v":"ZZZ"},{"$f":"IF(Liste_pièces!B705=\"\",\"ZZZ\",Liste_pièces!B705)","v":"ZZZ"},{"$f":"IF(Liste_pièces!C705=\"\",\"\",Liste_pièces!C705)","v":""},{"$f":"IF(Liste_pièces!D705=\"\",\"\",Liste_pièces!D705)","v":""},{"$f":"IF(Liste_pièces!E705=\"\",\"\",Liste_pièces!E705)","v":""},{"$f":"IF(Liste_pièces!F705=\"\",\"\",Liste_pièces!F705)","v":""},{"$f":"IF(Liste_pièces!G705=\"\",\"\",Liste_pièces!G705)","v":""},{"$f":"IF(Liste_pièces!H705=\"\",\"\",Liste_pièces!H705)","v":""},{"$f":"IF(Liste_pièces!I705=\"\",\"\",Liste_pièces!I705)","v":""},{"$f":"IF(Liste_pièces!J705=\"\",\"\",Liste_pièces!J705)","v":""},{"$f":"IF(Liste_pièces!K705=\"\",\"\",Liste_pièces!K705)","v":""},{"$f":"IF(Liste_pièces!L705=\"\",\"\",Liste_pièces!L705)","v":""},{"$f":"IF(Liste_pièces!M705=\"\",\"\",Liste_pièces!M705)","v":""}]
[{"$f":"IF(Liste_pièces!A706=\"\",\"ZZZ\",Liste_pièces!A706)","v":"ZZZ"},{"$f":"IF(Liste_pièces!B706=\"\",\"ZZZ\",Liste_pièces!B706)","v":"ZZZ"},{"$f":"IF(Liste_pièces!C706=\"\",\"\",Liste_pièces!C706)","v":""},{"$f":"IF(Liste_pièces!D706=\"\",\"\",Liste_pièces!D706)","v":""},{"$f":"IF(Liste_pièces!E706=\"\",\"\",Liste_pièces!E706)","v":""},{"$f":"IF(Liste_pièces!F706=\"\",\"\",Liste_pièces!F706)","v":""},{"$f":"IF(Liste_pièces!G706=\"\",\"\",Liste_pièces!G706)","v":""},{"$f":"IF(Liste_pièces!H706=\"\",\"\",Liste_pièces!H706)","v":""},{"$f":"IF(Liste_pièces!I706=\"\",\"\",Liste_pièces!I706)","v":""},{"$f":"IF(Liste_pièces!J706=\"\",\"\",Liste_pièces!J706)","v":""},{"$f":"IF(Liste_pièces!K706=\"\",\"\",Liste_pièces!K706)","v":""},{"$f":"IF(Liste_pièces!L706=\"\",\"\",Liste_pièces!L706)","v":""},{"$f":"IF(Liste_pièces!M706=\"\",\"\",Liste_pièces!M706)","v":""}]
[{"$f":"IF(Liste_pièces!A707=\"\",\"ZZZ\",Liste_pièces!A707)","v":"ZZZ"},{"$f":"IF(Liste_pièces!B707=\"\",\"ZZZ\",Liste_pièces!B707)","v":"ZZZ"},{"$f":"IF(Liste_pièces!C707=\"\",\"\",Liste_pièces!C707)","v":""},{"$f":"IF(Liste_pièces!D707=\"\",\"\",Liste_pièces!D707)","v":""},{"$f":"IF(Liste_pièces!E707=\"\",\"\",Liste_pièces!E707)","v":""},{"$f":"IF(Liste_pièces!F707=\"\",\"\",Liste_pièces!F707)","v":""},{"$f":"IF(Liste_pièces!G707=\"\",\"\",Liste_pièces!G707)","v":""},{"$f":"IF(Liste_pièces!H707=\"\",\"\",Liste_pièces!H707)","v":""},{"$f":"IF(Liste_pièces!I707=\"\",\"\",Liste_pièces!I707)","v":""},{"$f":"IF(Liste_pièces!J707=\"\",\"\",Liste_pièces!J707)","v":""},{"$f":"IF(Liste_pièces!K707=\"\",\"\",Liste_pièces!K707)","v":""},{"$f":"IF(Liste_pièces!L707=\"\",\"\",Liste_pièces!L707)","v":""},{"$f":"IF(Liste_pièces!M707=\"\",\"\",Liste_pièces!M707)","v":""}]
[{"$f":"IF(Liste_pièces!A708=\"\",\"ZZZ\",Liste_pièces!A708)","v":"ZZZ"},{"$f":"IF(Liste_pièces!B708=\"\",\"ZZZ\",Liste_pièces!B708)","v":"ZZZ"},{"$f":"IF(Liste_pièces!C708=\"\",\"\",Liste_pièces!C708)","v":""},{"$f":"IF(Liste_pièces!D708=\"\",\"\",Liste_pièces!D708)","v":""},{"$f":"IF(Liste_pièces!E708=\"\",\"\",Liste_pièces!E708)","v":""},{"$f":"IF(Liste_pièces!F708=\"\",\"\",Liste_pièces!F708)","v":""},{"$f":"IF(Liste_pièces!G708=\"\",\"\",Liste_pièces!G708)","v":""},{"$f":"IF(Liste_pièces!H708=\"\",\"\",Liste_pièces!H708)","v":""},{"$f":"IF(Liste_pièces!I708=\"\",\"\",Liste_pièces!I708)","v":""},{"$f":"IF(Liste_pièces!J708=\"\",\"\",Liste_pièces!J708)","v":""},{"$f":"IF(Liste_pièces!K708=\"\",\"\",Liste_pièces!K708)","v":""},{"$f":"IF(Liste_pièces!L708=\"\",\"\",Liste_pièces!L708)","v":""},{"$f":"IF(Liste_pièces!M708=\"\",\"\",Liste_pièces!M708)","v":""}]
[{"$f":"IF(Liste_pièces!A709=\"\",\"ZZZ\",Liste_pièces!A709)","v":"ZZZ"},{"$f":"IF(Liste_pièces!B709=\"\",\"ZZZ\",Liste_pièces!B709)","v":"ZZZ"},{"$f":"IF(Liste_pièces!C709=\"\",\"\",Liste_pièces!C709)","v":""},{"$f":"IF(Liste_pièces!D709=\"\",\"\",Liste_pièces!D709)","v":""},{"$f":"IF(Liste_pièces!E709=\"\",\"\",Liste_pièces!E709)","v":""},{"$f":"IF(Liste_pièces!F709=\"\",\"\",Liste_pièces!F709)","v":""},{"$f":"IF(Liste_pièces!G709=\"\",\"\",Liste_pièces!G709)","v":""},{"$f":"IF(Liste_pièces!H709=\"\",\"\",Liste_pièces!H709)","v":""},{"$f":"IF(Liste_pièces!I709=\"\",\"\",Liste_pièces!I709)","v":""},{"$f":"IF(Liste_pièces!J709=\"\",\"\",Liste_pièces!J709)","v":""},{"$f":"IF(Liste_pièces!K709=\"\",\"\",Liste_pièces!K709)","v":""},{"$f":"IF(Liste_pièces!L709=\"\",\"\",Liste_pièces!L709)","v":""},{"$f":"IF(Liste_pièces!M709=\"\",\"\",Liste_pièces!M709)","v":""}]
[{"$f":"IF(Liste_pièces!A710=\"\",\"ZZZ\",Liste_pièces!A710)","v":"ZZZ"},{"$f":"IF(Liste_pièces!B710=\"\",\"ZZZ\",Liste_pièces!B710)","v":"ZZZ"},{"$f":"IF(Liste_pièces!C710=\"\",\"\",Liste_pièces!C710)","v":""},{"$f":"IF(Liste_pièces!D710=\"\",\"\",Liste_pièces!D710)","v":""},{"$f":"IF(Liste_pièces!E710=\"\",\"\",Liste_pièces!E710)","v":""},{"$f":"IF(Liste_pièces!F710=\"\",\"\",Liste_pièces!F710)","v":""},{"$f":"IF(Liste_pièces!G710=\"\",\"\",Liste_pièces!G710)","v":""},{"$f":"IF(Liste_pièces!H710=\"\",\"\",Liste_pièces!H710)","v":""},{"$f":"IF(Liste_pièces!I710=\"\",\"\",Liste_pièces!I710)","v":""},{"$f":"IF(Liste_pièces!J710=\"\",\"\",Liste_pièces!J710)","v":""},{"$f":"IF(Liste_pièces!K710=\"\",\"\",Liste_pièces!K710)","v":""},{"$f":"IF(Liste_pièces!L710=\"\",\"\",Liste_pièces!L710)","v":""},{"$f":"IF(Liste_pièces!M710=\"\",\"\",Liste_pièces!M710)","v":""}]
[{"$f":"IF(Liste_pièces!A711=\"\",\"ZZZ\",Liste_pièces!A711)","v":"ZZZ"},{"$f":"IF(Liste_pièces!B711=\"\",\"ZZZ\",Liste_pièces!B711)","v":"ZZZ"},{"$f":"IF(Liste_pièces!C711=\"\",\"\",Liste_pièces!C711)","v":""},{"$f":"IF(Liste_pièces!D711=\"\",\"\",Liste_pièces!D711)","v":""},{"$f":"IF(Liste_pièces!E711=\"\",\"\",Liste_pièces!E711)","v":""},{"$f":"IF(Liste_pièces!F711=\"\",\"\",Liste_pièces!F711)","v":""},{"$f":"IF(Liste_pièces!G711=\"\",\"\",Liste_pièces!G711)","v":""},{"$f":"IF(Liste_pièces!H711=\"\",\"\",Liste_pièces!H711)","v":""},{"$f":"IF(Liste_pièces!I711=\"\",\"\",Liste_pièces!I711)","v":""},{"$f":"IF(Liste_pièces!J711=\"\",\"\",Liste_pièces!J711)","v":""},{"$f":"IF(Liste_pièces!K711=\"\",\"\",Liste_pièces!K711)","v":""},{"$f":"IF(Liste_pièces!L711=\"\",\"\",Liste_pièces!L711)","v":""},{"$f":"IF(Liste_pièces!M711=\"\",\"\",Liste_pièces!M711)","v":""}]
[{"$f":"IF(Liste_pièces!A712=\"\",\"ZZZ\",Liste_pièces!A712)","v":"ZZZ"},{"$f":"IF(Liste_pièces!B712=\"\",\"ZZZ\",Liste_pièces!B712)","v":"ZZZ"},{"$f":"IF(Liste_pièces!C712=\"\",\"\",Liste_pièces!C712)","v":""},{"$f":"IF(Liste_pièces!D712=\"\",\"\",Liste_pièces!D712)","v":""},{"$f":"IF(Liste_pièces!E712=\"\",\"\",Liste_pièces!E712)","v":""},{"$f":"IF(Liste_pièces!F712=\"\",\"\",Liste_pièces!F712)","v":""},{"$f":"IF(Liste_pièces!G712=\"\",\"\",Liste_pièces!G712)","v":""},{"$f":"IF(Liste_pièces!H712=\"\",\"\",Liste_pièces!H712)","v":""},{"$f":"IF(Liste_pièces!I712=\"\",\"\",Liste_pièces!I712)","v":""},{"$f":"IF(Liste_pièces!J712=\"\",\"\",Liste_pièces!J712)","v":""},{"$f":"IF(Liste_pièces!K712=\"\",\"\",Liste_pièces!K712)","v":""},{"$f":"IF(Liste_pièces!L712=\"\",\"\",Liste_pièces!L712)","v":""},{"$f":"IF(Liste_pièces!M712=\"\",\"\",Liste_pièces!M712)","v":""}]
[{"$f":"IF(Liste_pièces!A713=\"\",\"ZZZ\",Liste_pièces!A713)","v":"ZZZ"},{"$f":"IF(Liste_pièces!B713=\"\",\"ZZZ\",Liste_pièces!B713)","v":"ZZZ"},{"$f":"IF(Liste_pièces!C713=\"\",\"\",Liste_pièces!C713)","v":""},{"$f":"IF(Liste_pièces!D713=\"\",\"\",Liste_pièces!D713)","v":""},{"$f":"IF(Liste_pièces!E713=\"\",\"\",Liste_pièces!E713)","v":""},{"$f":"IF(Liste_pièces!F713=\"\",\"\",Liste_pièces!F713)","v":""},{"$f":"IF(Liste_pièces!G713=\"\",\"\",Liste_pièces!G713)","v":""},{"$f":"IF(Liste_pièces!H713=\"\",\"\",Liste_pièces!H713)","v":""},{"$f":"IF(Liste_pièces!I713=\"\",\"\",Liste_pièces!I713)","v":""},{"$f":"IF(Liste_pièces!J713=\"\",\"\",Liste_pièces!J713)","v":""},{"$f":"IF(Liste_pièces!K713=\"\",\"\",Liste_pièces!K713)","v":""},{"$f":"IF(Liste_pièces!L713=\"\",\"\",Liste_pièces!L713)","v":""},{"$f":"IF(Liste_pièces!M713=\"\",\"\",Liste_pièces!M713)","v":""}]
[{"$f":"IF(Liste_pièces!A714=\"\",\"ZZZ\",Liste_pièces!A714)","v":"ZZZ"},{"$f":"IF(Liste_pièces!B714=\"\",\"ZZZ\",Liste_pièces!B714)","v":"ZZZ"},{"$f":"IF(Liste_pièces!C714=\"\",\"\",Liste_pièces!C714)","v":""},{"$f":"IF(Liste_pièces!D714=\"\",\"\",Liste_pièces!D714)","v":""},{"$f":"IF(Liste_pièces!E714=\"\",\"\",Liste_pièces!E714)","v":""},{"$f":"IF(Liste_pièces!F714=\"\",\"\",Liste_pièces!F714)","v":""},{"$f":"IF(Liste_pièces!G714=\"\",\"\",Liste_pièces!G714)","v":""},{"$f":"IF(Liste_pièces!H714=\"\",\"\",Liste_pièces!H714)","v":""},{"$f":"IF(Liste_pièces!I714=\"\",\"\",Liste_pièces!I714)","v":""},{"$f":"IF(Liste_pièces!J714=\"\",\"\",Liste_pièces!J714)","v":""},{"$f":"IF(Liste_pièces!K714=\"\",\"\",Liste_pièces!K714)","v":""},{"$f":"IF(Liste_pièces!L714=\"\",\"\",Liste_pièces!L714)","v":""},{"$f":"IF(Liste_pièces!M714=\"\",\"\",Liste_pièces!M714)","v":""}]
[{"$f":"IF(Liste_pièces!A715=\"\",\"ZZZ\",Liste_pièces!A715)","v":"ZZZ"},{"$f":"IF(Liste_pièces!B715=\"\",\"ZZZ\",Liste_pièces!B715)","v":"ZZZ"},{"$f":"IF(Liste_pièces!C715=\"\",\"\",Liste_pièces!C715)","v":""},{"$f":"IF(Liste_pièces!D715=\"\",\"\",Liste_pièces!D715)","v":""},{"$f":"IF(Liste_pièces!E715=\"\",\"\",Liste_pièces!E715)","v":""},{"$f":"IF(Liste_pièces!F715=\"\",\"\",Liste_pièces!F715)","v":""},{"$f":"IF(Liste_pièces!G715=\"\",\"\",Liste_pièces!G715)","v":""},{"$f":"IF(Liste_pièces!H715=\"\",\"\",Liste_pièces!H715)","v":""},{"$f":"IF(Liste_pièces!I715=\"\",\"\",Liste_pièces!I715)","v":""},{"$f":"IF(Liste_pièces!J715=\"\",\"\",Liste_pièces!J715)","v":""},{"$f":"IF(Liste_pièces!K715=\"\",\"\",Liste_pièces!K715)","v":""},{"$f":"IF(Liste_pièces!L715=\"\",\"\",Liste_pièces!L715)","v":""},{"$f":"IF(Liste_pièces!M715=\"\",\"\",Liste_pièces!M715)","v":""}]
[{"$f":"IF(Liste_pièces!A716=\"\",\"ZZZ\",Liste_pièces!A716)","v":"ZZZ"},{"$f":"IF(Liste_pièces!B716=\"\",\"ZZZ\",Liste_pièces!B716)","v":"ZZZ"},{"$f":"IF(Liste_pièces!C716=\"\",\"\",Liste_pièces!C716)","v":""},{"$f":"IF(Liste_pièces!D716=\"\",\"\",Liste_pièces!D716)","v":""},{"$f":"IF(Liste_pièces!E716=\"\",\"\",Liste_pièces!E716)","v":""},{"$f":"IF(Liste_pièces!F716=\"\",\"\",Liste_pièces!F716)","v":""},{"$f":"IF(Liste_pièces!G716=\"\",\"\",Liste_pièces!G716)","v":""},{"$f":"IF(Liste_pièces!H716=\"\",\"\",Liste_pièces!H716)","v":""},{"$f":"IF(Liste_pièces!I716=\"\",\"\",Liste_pièces!I716)","v":""},{"$f":"IF(Liste_pièces!J716=\"\",\"\",Liste_pièces!J716)","v":""},{"$f":"IF(Liste_pièces!K716=\"\",\"\",Liste_pièces!K716)","v":""},{"$f":"IF(Liste_pièces!L716=\"\",\"\",Liste_pièces!L716)","v":""},{"$f":"IF(Liste_pièces!M716=\"\",\"\",Liste_pièces!M716)","v":""}]
[{"$f":"IF(Liste_pièces!A717=\"\",\"ZZZ\",Liste_pièces!A717)","v":"ZZZ"},{"$f":"IF(Liste_pièces!B717=\"\",\"ZZZ\",Liste_pièces!B717)","v":"ZZZ"},{"$f":"IF(Liste_pièces!C717=\"\",\"\",Liste_pièces!C717)","v":""},{"$f":"IF(Liste_pièces!D717=\"\",\"\",Liste_pièces!D717)","v":""},{"$f":"IF(Liste_pièces!E717=\"\",\"\",Liste_pièces!E717)","v":""},{"$f":"IF(Liste_pièces!F717=\"\",\"\",Liste_pièces!F717)","v":""},{"$f":"IF(Liste_pièces!G717=\"\",\"\",Liste_pièces!G717)","v":""},{"$f":"IF(Liste_pièces!H717=\"\",\"\",Liste_pièces!H717)","v":""},{"$f":"IF(Liste_pièces!I717=\"\",\"\",Liste_pièces!I717)","v":""},{"$f":"IF(Liste_pièces!J717=\"\",\"\",Liste_pièces!J717)","v":""},{"$f":"IF(Liste_pièces!K717=\"\",\"\",Liste_pièces!K717)","v":""},{"$f":"IF(Liste_pièces!L717=\"\",\"\",Liste_pièces!L717)","v":""},{"$f":"IF(Liste_pièces!M717=\"\",\"\",Liste_pièces!M717)","v":""}]
[{"$f":"IF(Liste_pièces!A718=\"\",\"ZZZ\",Liste_pièces!A718)","v":"ZZZ"},{"$f":"IF(Liste_pièces!B718=\"\",\"ZZZ\",Liste_pièces!B718)","v":"ZZZ"},{"$f":"IF(Liste_pièces!C718=\"\",\"\",Liste_pièces!C718)","v":""},{"$f":"IF(Liste_pièces!D718=\"\",\"\",Liste_pièces!D718)","v":""},{"$f":"IF(Liste_pièces!E718=\"\",\"\",Liste_pièces!E718)","v":""},{"$f":"IF(Liste_pièces!F718=\"\",\"\",Liste_pièces!F718)","v":""},{"$f":"IF(Liste_pièces!G718=\"\",\"\",Liste_pièces!G718)","v":""},{"$f":"IF(Liste_pièces!H718=\"\",\"\",Liste_pièces!H718)","v":""},{"$f":"IF(Liste_pièces!I718=\"\",\"\",Liste_pièces!I718)","v":""},{"$f":"IF(Liste_pièces!J718=\"\",\"\",Liste_pièces!J718)","v":""},{"$f":"IF(Liste_pièces!K718=\"\",\"\",Liste_pièces!K718)","v":""},{"$f":"IF(Liste_pièces!L718=\"\",\"\",Liste_pièces!L718)","v":""},{"$f":"IF(Liste_pièces!M718=\"\",\"\",Liste_pièces!M718)","v":""}]
[{"$f":"IF(Liste_pièces!A719=\"\",\"ZZZ\",Liste_pièces!A719)","v":"ZZZ"},{"$f":"IF(Liste_pièces!B719=\"\",\"ZZZ\",Liste_pièces!B719)","v":"ZZZ"},{"$f":"IF(Liste_pièces!C719=\"\",\"\",Liste_pièces!C719)","v":""},{"$f":"IF(Liste_pièces!D719=\"\",\"\",Liste_pièces!D719)","v":""},{"$f":"IF(Liste_pièces!E719=\"\",\"\",Liste_pièces!E719)","v":""},{"$f":"IF(Liste_pièces!F719=\"\",\"\",Liste_pièces!F719)","v":""},{"$f":"IF(Liste_pièces!G719=\"\",\"\",Liste_pièces!G719)","v":""},{"$f":"IF(Liste_pièces!H719=\"\",\"\",Liste_pièces!H719)","v":""},{"$f":"IF(Liste_pièces!I719=\"\",\"\",Liste_pièces!I719)","v":""},{"$f":"IF(Liste_pièces!J719=\"\",\"\",Liste_pièces!J719)","v":""},{"$f":"IF(Liste_pièces!K719=\"\",\"\",Liste_pièces!K719)","v":""},{"$f":"IF(Liste_pièces!L719=\"\",\"\",Liste_pièces!L719)","v":""},{"$f":"IF(Liste_pièces!M719=\"\",\"\",Liste_pièces!M719)","v":""}]
[{"$f":"IF(Liste_pièces!A720=\"\",\"ZZZ\",Liste_pièces!A720)","v":"ZZZ"},{"$f":"IF(Liste_pièces!B720=\"\",\"ZZZ\",Liste_pièces!B720)","v":"ZZZ"},{"$f":"IF(Liste_pièces!C720=\"\",\"\",Liste_pièces!C720)","v":""},{"$f":"IF(Liste_pièces!D720=\"\",\"\",Liste_pièces!D720)","v":""},{"$f":"IF(Liste_pièces!E720=\"\",\"\",Liste_pièces!E720)","v":""},{"$f":"IF(Liste_pièces!F720=\"\",\"\",Liste_pièces!F720)","v":""},{"$f":"IF(Liste_pièces!G720=\"\",\"\",Liste_pièces!G720)","v":""},{"$f":"IF(Liste_pièces!H720=\"\",\"\",Liste_pièces!H720)","v":""},{"$f":"IF(Liste_pièces!I720=\"\",\"\",Liste_pièces!I720)","v":""},{"$f":"IF(Liste_pièces!J720=\"\",\"\",Liste_pièces!J720)","v":""},{"$f":"IF(Liste_pièces!K720=\"\",\"\",Liste_pièces!K720)","v":""},{"$f":"IF(Liste_pièces!L720=\"\",\"\",Liste_pièces!L720)","v":""},{"$f":"IF(Liste_pièces!M720=\"\",\"\",Liste_pièces!M720)","v":""}]
[{"$f":"IF(Liste_pièces!A721=\"\",\"ZZZ\",Liste_pièces!A721)","v":"ZZZ"},{"$f":"IF(Liste_pièces!B721=\"\",\"ZZZ\",Liste_pièces!B721)","v":"ZZZ"},{"$f":"IF(Liste_pièces!C721=\"\",\"\",Liste_pièces!C721)","v":""},{"$f":"IF(Liste_pièces!D721=\"\",\"\",Liste_pièces!D721)","v":""},{"$f":"IF(Liste_pièces!E721=\"\",\"\",Liste_pièces!E721)","v":""},{"$f":"IF(Liste_pièces!F721=\"\",\"\",Liste_pièces!F721)","v":""},{"$f":"IF(Liste_pièces!G721=\"\",\"\",Liste_pièces!G721)","v":""},{"$f":"IF(Liste_pièces!H721=\"\",\"\",Liste_pièces!H721)","v":""},{"$f":"IF(Liste_pièces!I721=\"\",\"\",Liste_pièces!I721)","v":""},{"$f":"IF(Liste_pièces!J721=\"\",\"\",Liste_pièces!J721)","v":""},{"$f":"IF(Liste_pièces!K721=\"\",\"\",Liste_pièces!K721)","v":""},{"$f":"IF(Liste_pièces!L721=\"\",\"\",Liste_pièces!L721)","v":""},{"$f":"IF(Liste_pièces!M721=\"\",\"\",Liste_pièces!M721)","v":""}]
[{"$f":"IF(Liste_pièces!A722=\"\",\"ZZZ\",Liste_pièces!A722)","v":"ZZZ"},{"$f":"IF(Liste_pièces!B722=\"\",\"ZZZ\",Liste_pièces!B722)","v":"ZZZ"},{"$f":"IF(Liste_pièces!C722=\"\",\"\",Liste_pièces!C722)","v":""},{"$f":"IF(Liste_pièces!D722=\"\",\"\",Liste_pièces!D722)","v":""},{"$f":"IF(Liste_pièces!E722=\"\",\"\",Liste_pièces!E722)","v":""},{"$f":"IF(Liste_pièces!F722=\"\",\"\",Liste_pièces!F722)","v":""},{"$f":"IF(Liste_pièces!G722=\"\",\"\",Liste_pièces!G722)","v":""},{"$f":"IF(Liste_pièces!H722=\"\",\"\",Liste_pièces!H722)","v":""},{"$f":"IF(Liste_pièces!I722=\"\",\"\",Liste_pièces!I722)","v":""},{"$f":"IF(Liste_pièces!J722=\"\",\"\",Liste_pièces!J722)","v":""},{"$f":"IF(Liste_pièces!K722=\"\",\"\",Liste_pièces!K722)","v":""},{"$f":"IF(Liste_pièces!L722=\"\",\"\",Liste_pièces!L722)","v":""},{"$f":"IF(Liste_pièces!M722=\"\",\"\",Liste_pièces!M722)","v":""}]
[{"$f":"IF(Liste_pièces!A723=\"\",\"ZZZ\",Liste_pièces!A723)","v":"ZZZ"},{"$f":"IF(Liste_pièces!B723=\"\",\"ZZZ\",Liste_pièces!B723)","v":"ZZZ"},{"$f":"IF(Liste_pièces!C723=\"\",\"\",Liste_pièces!C723)","v":""},{"$f":"IF(Liste_pièces!D723=\"\",\"\",Liste_pièces!D723)","v":""},{"$f":"IF(Liste_pièces!E723=\"\",\"\",Liste_pièces!E723)","v":""},{"$f":"IF(Liste_pièces!F723=\"\",\"\",Liste_pièces!F723)","v":""},{"$f":"IF(Liste_pièces!G723=\"\",\"\",Liste_pièces!G723)","v":""},{"$f":"IF(Liste_pièces!H723=\"\",\"\",Liste_pièces!H723)","v":""},{"$f":"IF(Liste_pièces!I723=\"\",\"\",Liste_pièces!I723)","v":""},{"$f":"IF(Liste_pièces!J723=\"\",\"\",Liste_pièces!J723)","v":""},{"$f":"IF(Liste_pièces!K723=\"\",\"\",Liste_pièces!K723)","v":""},{"$f":"IF(Liste_pièces!L723=\"\",\"\",Liste_pièces!L723)","v":""},{"$f":"IF(Liste_pièces!M723=\"\",\"\",Liste_pièces!M723)","v":""}]
[{"$f":"IF(Liste_pièces!A724=\"\",\"ZZZ\",Liste_pièces!A724)","v":"ZZZ"},{"$f":"IF(Liste_pièces!B724=\"\",\"ZZZ\",Liste_pièces!B724)","v":"ZZZ"},{"$f":"IF(Liste_pièces!C724=\"\",\"\",Liste_pièces!C724)","v":""},{"$f":"IF(Liste_pièces!D724=\"\",\"\",Liste_pièces!D724)","v":""},{"$f":"IF(Liste_pièces!E724=\"\",\"\",Liste_pièces!E724)","v":""},{"$f":"IF(Liste_pièces!F724=\"\",\"\",Liste_pièces!F724)","v":""},{"$f":"IF(Liste_pièces!G724=\"\",\"\",Liste_pièces!G724)","v":""},{"$f":"IF(Liste_pièces!H724=\"\",\"\",Liste_pièces!H724)","v":""},{"$f":"IF(Liste_pièces!I724=\"\",\"\",Liste_pièces!I724)","v":""},{"$f":"IF(Liste_pièces!J724=\"\",\"\",Liste_pièces!J724)","v":""},{"$f":"IF(Liste_pièces!K724=\"\",\"\",Liste_pièces!K724)","v":""},{"$f":"IF(Liste_pièces!L724=\"\",\"\",Liste_pièces!L724)","v":""},{"$f":"IF(Liste_pièces!M724=\"\",\"\",Liste_pièces!M724)","v":""}]
[{"$f":"IF(Liste_pièces!A725=\"\",\"ZZZ\",Liste_pièces!A725)","v":"ZZZ"},{"$f":"IF(Liste_pièces!B725=\"\",\"ZZZ\",Liste_pièces!B725)","v":"ZZZ"},{"$f":"IF(Liste_pièces!C725=\"\",\"\",Liste_pièces!C725)","v":""},{"$f":"IF(Liste_pièces!D725=\"\",\"\",Liste_pièces!D725)","v":""},{"$f":"IF(Liste_pièces!E725=\"\",\"\",Liste_pièces!E725)","v":""},{"$f":"IF(Liste_pièces!F725=\"\",\"\",Liste_pièces!F725)","v":""},{"$f":"IF(Liste_pièces!G725=\"\",\"\",Liste_pièces!G725)","v":""},{"$f":"IF(Liste_pièces!H725=\"\",\"\",Liste_pièces!H725)","v":""},{"$f":"IF(Liste_pièces!I725=\"\",\"\",Liste_pièces!I725)","v":""},{"$f":"IF(Liste_pièces!J725=\"\",\"\",Liste_pièces!J725)","v":""},{"$f":"IF(Liste_pièces!K725=\"\",\"\",Liste_pièces!K725)","v":""},{"$f":"IF(Liste_pièces!L725=\"\",\"\",Liste_pièces!L725)","v":""},{"$f":"IF(Liste_pièces!M725=\"\",\"\",Liste_pièces!M725)","v":""}]
[{"$f":"IF(Liste_pièces!A726=\"\",\"ZZZ\",Liste_pièces!A726)","v":"ZZZ"},{"$f":"IF(Liste_pièces!B726=\"\",\"ZZZ\",Liste_pièces!B726)","v":"ZZZ"},{"$f":"IF(Liste_pièces!C726=\"\",\"\",Liste_pièces!C726)","v":""},{"$f":"IF(Liste_pièces!D726=\"\",\"\",Liste_pièces!D726)","v":""},{"$f":"IF(Liste_pièces!E726=\"\",\"\",Liste_pièces!E726)","v":""},{"$f":"IF(Liste_pièces!F726=\"\",\"\",Liste_pièces!F726)","v":""},{"$f":"IF(Liste_pièces!G726=\"\",\"\",Liste_pièces!G726)","v":""},{"$f":"IF(Liste_pièces!H726=\"\",\"\",Liste_pièces!H726)","v":""},{"$f":"IF(Liste_pièces!I726=\"\",\"\",Liste_pièces!I726)","v":""},{"$f":"IF(Liste_pièces!J726=\"\",\"\",Liste_pièces!J726)","v":""},{"$f":"IF(Liste_pièces!K726=\"\",\"\",Liste_pièces!K726)","v":""},{"$f":"IF(Liste_pièces!L726=\"\",\"\",Liste_pièces!L726)","v":""},{"$f":"IF(Liste_pièces!M726=\"\",\"\",Liste_pièces!M726)","v":""}]
[{"$f":"IF(Liste_pièces!A727=\"\",\"ZZZ\",Liste_pièces!A727)","v":"ZZZ"},{"$f":"IF(Liste_pièces!B727=\"\",\"ZZZ\",Liste_pièces!B727)","v":"ZZZ"},{"$f":"IF(Liste_pièces!C727=\"\",\"\",Liste_pièces!C727)","v":""},{"$f":"IF(Liste_pièces!D727=\"\",\"\",Liste_pièces!D727)","v":""},{"$f":"IF(Liste_pièces!E727=\"\",\"\",Liste_pièces!E727)","v":""},{"$f":"IF(Liste_pièces!F727=\"\",\"\",Liste_pièces!F727)","v":""},{"$f":"IF(Liste_pièces!G727=\"\",\"\",Liste_pièces!G727)","v":""},{"$f":"IF(Liste_pièces!H727=\"\",\"\",Liste_pièces!H727)","v":""},{"$f":"IF(Liste_pièces!I727=\"\",\"\",Liste_pièces!I727)","v":""},{"$f":"IF(Liste_pièces!J727=\"\",\"\",Liste_pièces!J727)","v":""},{"$f":"IF(Liste_pièces!K727=\"\",\"\",Liste_pièces!K727)","v":""},{"$f":"IF(Liste_pièces!L727=\"\",\"\",Liste_pièces!L727)","v":""},{"$f":"IF(Liste_pièces!M727=\"\",\"\",Liste_pièces!M727)","v":""}]
[{"$f":"IF(Liste_pièces!A728=\"\",\"ZZZ\",Liste_pièces!A728)","v":"ZZZ"},{"$f":"IF(Liste_pièces!B728=\"\",\"ZZZ\",Liste_pièces!B728)","v":"ZZZ"},{"$f":"IF(Liste_pièces!C728=\"\",\"\",Liste_pièces!C728)","v":""},{"$f":"IF(Liste_pièces!D728=\"\",\"\",Liste_pièces!D728)","v":""},{"$f":"IF(Liste_pièces!E728=\"\",\"\",Liste_pièces!E728)","v":""},{"$f":"IF(Liste_pièces!F728=\"\",\"\",Liste_pièces!F728)","v":""},{"$f":"IF(Liste_pièces!G728=\"\",\"\",Liste_pièces!G728)","v":""},{"$f":"IF(Liste_pièces!H728=\"\",\"\",Liste_pièces!H728)","v":""},{"$f":"IF(Liste_pièces!I728=\"\",\"\",Liste_pièces!I728)","v":""},{"$f":"IF(Liste_pièces!J728=\"\",\"\",Liste_pièces!J728)","v":""},{"$f":"IF(Liste_pièces!K728=\"\",\"\",Liste_pièces!K728)","v":""},{"$f":"IF(Liste_pièces!L728=\"\",\"\",Liste_pièces!L728)","v":""},{"$f":"IF(Liste_pièces!M728=\"\",\"\",Liste_pièces!M728)","v":""}]
[{"$f":"IF(Liste_pièces!A729=\"\",\"ZZZ\",Liste_pièces!A729)","v":"ZZZ"},{"$f":"IF(Liste_pièces!B729=\"\",\"ZZZ\",Liste_pièces!B729)","v":"ZZZ"},{"$f":"IF(Liste_pièces!C729=\"\",\"\",Liste_pièces!C729)","v":""},{"$f":"IF(Liste_pièces!D729=\"\",\"\",Liste_pièces!D729)","v":""},{"$f":"IF(Liste_pièces!E729=\"\",\"\",Liste_pièces!E729)","v":""},{"$f":"IF(Liste_pièces!F729=\"\",\"\",Liste_pièces!F729)","v":""},{"$f":"IF(Liste_pièces!G729=\"\",\"\",Liste_pièces!G729)","v":""},{"$f":"IF(Liste_pièces!H729=\"\",\"\",Liste_pièces!H729)","v":""},{"$f":"IF(Liste_pièces!I729=\"\",\"\",Liste_pièces!I729)","v":""},{"$f":"IF(Liste_pièces!J729=\"\",\"\",Liste_pièces!J729)","v":""},{"$f":"IF(Liste_pièces!K729=\"\",\"\",Liste_pièces!K729)","v":""},{"$f":"IF(Liste_pièces!L729=\"\",\"\",Liste_pièces!L729)","v":""},{"$f":"IF(Liste_pièces!M729=\"\",\"\",Liste_pièces!M729)","v":""}]
[{"$f":"IF(Liste_pièces!A730=\"\",\"ZZZ\",Liste_pièces!A730)","v":"ZZZ"},{"$f":"IF(Liste_pièces!B730=\"\",\"ZZZ\",Liste_pièces!B730)","v":"ZZZ"},{"$f":"IF(Liste_pièces!C730=\"\",\"\",Liste_pièces!C730)","v":""},{"$f":"IF(Liste_pièces!D730=\"\",\"\",Liste_pièces!D730)","v":""},{"$f":"IF(Liste_pièces!E730=\"\",\"\",Liste_pièces!E730)","v":""},{"$f":"IF(Liste_pièces!F730=\"\",\"\",Liste_pièces!F730)","v":""},{"$f":"IF(Liste_pièces!G730=\"\",\"\",Liste_pièces!G730)","v":""},{"$f":"IF(Liste_pièces!H730=\"\",\"\",Liste_pièces!H730)","v":""},{"$f":"IF(Liste_pièces!I730=\"\",\"\",Liste_pièces!I730)","v":""},{"$f":"IF(Liste_pièces!J730=\"\",\"\",Liste_pièces!J730)","v":""},{"$f":"IF(Liste_pièces!K730=\"\",\"\",Liste_pièces!K730)","v":""},{"$f":"IF(Liste_pièces!L730=\"\",\"\",Liste_pièces!L730)","v":""},{"$f":"IF(Liste_pièces!M730=\"\",\"\",Liste_pièces!M730)","v":""}]
[{"$f":"IF(Liste_pièces!A731=\"\",\"ZZZ\",Liste_pièces!A731)","v":"ZZZ"},{"$f":"IF(Liste_pièces!B731=\"\",\"ZZZ\",Liste_pièces!B731)","v":"ZZZ"},{"$f":"IF(Liste_pièces!C731=\"\",\"\",Liste_pièces!C731)","v":""},{"$f":"IF(Liste_pièces!D731=\"\",\"\",Liste_pièces!D731)","v":""},{"$f":"IF(Liste_pièces!E731=\"\",\"\",Liste_pièces!E731)","v":""},{"$f":"IF(Liste_pièces!F731=\"\",\"\",Liste_pièces!F731)","v":""},{"$f":"IF(Liste_pièces!G731=\"\",\"\",Liste_pièces!G731)","v":""},{"$f":"IF(Liste_pièces!H731=\"\",\"\",Liste_pièces!H731)","v":""},{"$f":"IF(Liste_pièces!I731=\"\",\"\",Liste_pièces!I731)","v":""},{"$f":"IF(Liste_pièces!J731=\"\",\"\",Liste_pièces!J731)","v":""},{"$f":"IF(Liste_pièces!K731=\"\",\"\",Liste_pièces!K731)","v":""},{"$f":"IF(Liste_pièces!L731=\"\",\"\",Liste_pièces!L731)","v":""},{"$f":"IF(Liste_pièces!M731=\"\",\"\",Liste_pièces!M731)","v":""}]
[{"$f":"IF(Liste_pièces!A732=\"\",\"ZZZ\",Liste_pièces!A732)","v":"ZZZ"},{"$f":"IF(Liste_pièces!B732=\"\",\"ZZZ\",Liste_pièces!B732)","v":"ZZZ"},{"$f":"IF(Liste_pièces!C732=\"\",\"\",Liste_pièces!C732)","v":""},{"$f":"IF(Liste_pièces!D732=\"\",\"\",Liste_pièces!D732)","v":""},{"$f":"IF(Liste_pièces!E732=\"\",\"\",Liste_pièces!E732)","v":""},{"$f":"IF(Liste_pièces!F732=\"\",\"\",Liste_pièces!F732)","v":""},{"$f":"IF(Liste_pièces!G732=\"\",\"\",Liste_pièces!G732)","v":""},{"$f":"IF(Liste_pièces!H732=\"\",\"\",Liste_pièces!H732)","v":""},{"$f":"IF(Liste_pièces!I732=\"\",\"\",Liste_pièces!I732)","v":""},{"$f":"IF(Liste_pièces!J732=\"\",\"\",Liste_pièces!J732)","v":""},{"$f":"IF(Liste_pièces!K732=\"\",\"\",Liste_pièces!K732)","v":""},{"$f":"IF(Liste_pièces!L732=\"\",\"\",Liste_pièces!L732)","v":""},{"$f":"IF(Liste_pièces!M732=\"\",\"\",Liste_pièces!M732)","v":""}]
[{"$f":"IF(Liste_pièces!A733=\"\",\"ZZZ\",Liste_pièces!A733)","v":"ZZZ"},{"$f":"IF(Liste_pièces!B733=\"\",\"ZZZ\",Liste_pièces!B733)","v":"ZZZ"},{"$f":"IF(Liste_pièces!C733=\"\",\"\",Liste_pièces!C733)","v":""},{"$f":"IF(Liste_pièces!D733=\"\",\"\",Liste_pièces!D733)","v":""},{"$f":"IF(Liste_pièces!E733=\"\",\"\",Liste_pièces!E733)","v":""},{"$f":"IF(Liste_pièces!F733=\"\",\"\",Liste_pièces!F733)","v":""},{"$f":"IF(Liste_pièces!G733=\"\",\"\",Liste_pièces!G733)","v":""},{"$f":"IF(Liste_pièces!H733=\"\",\"\",Liste_pièces!H733)","v":""},{"$f":"IF(Liste_pièces!I733=\"\",\"\",Liste_pièces!I733)","v":""},{"$f":"IF(Liste_pièces!J733=\"\",\"\",Liste_pièces!J733)","v":""},{"$f":"IF(Liste_pièces!K733=\"\",\"\",Liste_pièces!K733)","v":""},{"$f":"IF(Liste_pièces!L733=\"\",\"\",Liste_pièces!L733)","v":""},{"$f":"IF(Liste_pièces!M733=\"\",\"\",Liste_pièces!M733)","v":""}]
[{"$f":"IF(Liste_pièces!A734=\"\",\"ZZZ\",Liste_pièces!A734)","v":"ZZZ"},{"$f":"IF(Liste_pièces!B734=\"\",\"ZZZ\",Liste_pièces!B734)","v":"ZZZ"},{"$f":"IF(Liste_pièces!C734=\"\",\"\",Liste_pièces!C734)","v":""},{"$f":"IF(Liste_pièces!D734=\"\",\"\",Liste_pièces!D734)","v":""},{"$f":"IF(Liste_pièces!E734=\"\",\"\",Liste_pièces!E734)","v":""},{"$f":"IF(Liste_pièces!F734=\"\",\"\",Liste_pièces!F734)","v":""},{"$f":"IF(Liste_pièces!G734=\"\",\"\",Liste_pièces!G734)","v":""},{"$f":"IF(Liste_pièces!H734=\"\",\"\",Liste_pièces!H734)","v":""},{"$f":"IF(Liste_pièces!I734=\"\",\"\",Liste_pièces!I734)","v":""},{"$f":"IF(Liste_pièces!J734=\"\",\"\",Liste_pièces!J734)","v":""},{"$f":"IF(Liste_pièces!K734=\"\",\"\",Liste_pièces!K734)","v":""},{"$f":"IF(Liste_pièces!L734=\"\",\"\",Liste_pièces!L734)","v":""},{"$f":"IF(Liste_pièces!M734=\"\",\"\",Liste_pièces!M734)","v":""}]
[{"$f":"IF(Liste_pièces!A735=\"\",\"ZZZ\",Liste_pièces!A735)","v":"ZZZ"},{"$f":"IF(Liste_pièces!B735=\"\",\"ZZZ\",Liste_pièces!B735)","v":"ZZZ"},{"$f":"IF(Liste_pièces!C735=\"\",\"\",Liste_pièces!C735)","v":""},{"$f":"IF(Liste_pièces!D735=\"\",\"\",Liste_pièces!D735)","v":""},{"$f":"IF(Liste_pièces!E735=\"\",\"\",Liste_pièces!E735)","v":""},{"$f":"IF(Liste_pièces!F735=\"\",\"\",Liste_pièces!F735)","v":""},{"$f":"IF(Liste_pièces!G735=\"\",\"\",Liste_pièces!G735)","v":""},{"$f":"IF(Liste_pièces!H735=\"\",\"\",Liste_pièces!H735)","v":""},{"$f":"IF(Liste_pièces!I735=\"\",\"\",Liste_pièces!I735)","v":""},{"$f":"IF(Liste_pièces!J735=\"\",\"\",Liste_pièces!J735)","v":""},{"$f":"IF(Liste_pièces!K735=\"\",\"\",Liste_pièces!K735)","v":""},{"$f":"IF(Liste_pièces!L735=\"\",\"\",Liste_pièces!L735)","v":""},{"$f":"IF(Liste_pièces!M735=\"\",\"\",Liste_pièces!M735)","v":""}]
[{"$f":"IF(Liste_pièces!A736=\"\",\"ZZZ\",Liste_pièces!A736)","v":"ZZZ"},{"$f":"IF(Liste_pièces!B736=\"\",\"ZZZ\",Liste_pièces!B736)","v":"ZZZ"},{"$f":"IF(Liste_pièces!C736=\"\",\"\",Liste_pièces!C736)","v":""},{"$f":"IF(Liste_pièces!D736=\"\",\"\",Liste_pièces!D736)","v":""},{"$f":"IF(Liste_pièces!E736=\"\",\"\",Liste_pièces!E736)","v":""},{"$f":"IF(Liste_pièces!F736=\"\",\"\",Liste_pièces!F736)","v":""},{"$f":"IF(Liste_pièces!G736=\"\",\"\",Liste_pièces!G736)","v":""},{"$f":"IF(Liste_pièces!H736=\"\",\"\",Liste_pièces!H736)","v":""},{"$f":"IF(Liste_pièces!I736=\"\",\"\",Liste_pièces!I736)","v":""},{"$f":"IF(Liste_pièces!J736=\"\",\"\",Liste_pièces!J736)","v":""},{"$f":"IF(Liste_pièces!K736=\"\",\"\",Liste_pièces!K736)","v":""},{"$f":"IF(Liste_pièces!L736=\"\",\"\",Liste_pièces!L736)","v":""},{"$f":"IF(Liste_pièces!M736=\"\",\"\",Liste_pièces!M736)","v":""}]
[{"$f":"IF(Liste_pièces!A737=\"\",\"ZZZ\",Liste_pièces!A737)","v":"ZZZ"},{"$f":"IF(Liste_pièces!B737=\"\",\"ZZZ\",Liste_pièces!B737)","v":"ZZZ"},{"$f":"IF(Liste_pièces!C737=\"\",\"\",Liste_pièces!C737)","v":""},{"$f":"IF(Liste_pièces!D737=\"\",\"\",Liste_pièces!D737)","v":""},{"$f":"IF(Liste_pièces!E737=\"\",\"\",Liste_pièces!E737)","v":""},{"$f":"IF(Liste_pièces!F737=\"\",\"\",Liste_pièces!F737)","v":""},{"$f":"IF(Liste_pièces!G737=\"\",\"\",Liste_pièces!G737)","v":""},{"$f":"IF(Liste_pièces!H737=\"\",\"\",Liste_pièces!H737)","v":""},{"$f":"IF(Liste_pièces!I737=\"\",\"\",Liste_pièces!I737)","v":""},{"$f":"IF(Liste_pièces!J737=\"\",\"\",Liste_pièces!J737)","v":""},{"$f":"IF(Liste_pièces!K737=\"\",\"\",Liste_pièces!K737)","v":""},{"$f":"IF(Liste_pièces!L737=\"\",\"\",Liste_pièces!L737)","v":""},{"$f":"IF(Liste_pièces!M737=\"\",\"\",Liste_pièces!M737)","v":""}]
[{"$f":"IF(Liste_pièces!A738=\"\",\"ZZZ\",Liste_pièces!A738)","v":"ZZZ"},{"$f":"IF(Liste_pièces!B738=\"\",\"ZZZ\",Liste_pièces!B738)","v":"ZZZ"},{"$f":"IF(Liste_pièces!C738=\"\",\"\",Liste_pièces!C738)","v":""},{"$f":"IF(Liste_pièces!D738=\"\",\"\",Liste_pièces!D738)","v":""},{"$f":"IF(Liste_pièces!E738=\"\",\"\",Liste_pièces!E738)","v":""},{"$f":"IF(Liste_pièces!F738=\"\",\"\",Liste_pièces!F738)","v":""},{"$f":"IF(Liste_pièces!G738=\"\",\"\",Liste_pièces!G738)","v":""},{"$f":"IF(Liste_pièces!H738=\"\",\"\",Liste_pièces!H738)","v":""},{"$f":"IF(Liste_pièces!I738=\"\",\"\",Liste_pièces!I738)","v":""},{"$f":"IF(Liste_pièces!J738=\"\",\"\",Liste_pièces!J738)","v":""},{"$f":"IF(Liste_pièces!K738=\"\",\"\",Liste_pièces!K738)","v":""},{"$f":"IF(Liste_pièces!L738=\"\",\"\",Liste_pièces!L738)","v":""},{"$f":"IF(Liste_pièces!M738=\"\",\"\",Liste_pièces!M738)","v":""}]
[{"$f":"IF(Liste_pièces!A739=\"\",\"ZZZ\",Liste_pièces!A739)","v":"ZZZ"},{"$f":"IF(Liste_pièces!B739=\"\",\"ZZZ\",Liste_pièces!B739)","v":"ZZZ"},{"$f":"IF(Liste_pièces!C739=\"\",\"\",Liste_pièces!C739)","v":""},{"$f":"IF(Liste_pièces!D739=\"\",\"\",Liste_pièces!D739)","v":""},{"$f":"IF(Liste_pièces!E739=\"\",\"\",Liste_pièces!E739)","v":""},{"$f":"IF(Liste_pièces!F739=\"\",\"\",Liste_pièces!F739)","v":""},{"$f":"IF(Liste_pièces!G739=\"\",\"\",Liste_pièces!G739)","v":""},{"$f":"IF(Liste_pièces!H739=\"\",\"\",Liste_pièces!H739)","v":""},{"$f":"IF(Liste_pièces!I739=\"\",\"\",Liste_pièces!I739)","v":""},{"$f":"IF(Liste_pièces!J739=\"\",\"\",Liste_pièces!J739)","v":""},{"$f":"IF(Liste_pièces!K739=\"\",\"\",Liste_pièces!K739)","v":""},{"$f":"IF(Liste_pièces!L739=\"\",\"\",Liste_pièces!L739)","v":""},{"$f":"IF(Liste_pièces!M739=\"\",\"\",Liste_pièces!M739)","v":""}]
[{"$f":"IF(Liste_pièces!A740=\"\",\"ZZZ\",Liste_pièces!A740)","v":"ZZZ"},{"$f":"IF(Liste_pièces!B740=\"\",\"ZZZ\",Liste_pièces!B740)","v":"ZZZ"},{"$f":"IF(Liste_pièces!C740=\"\",\"\",Liste_pièces!C740)","v":""},{"$f":"IF(Liste_pièces!D740=\"\",\"\",Liste_pièces!D740)","v":""},{"$f":"IF(Liste_pièces!E740=\"\",\"\",Liste_pièces!E740)","v":""},{"$f":"IF(Liste_pièces!F740=\"\",\"\",Liste_pièces!F740)","v":""},{"$f":"IF(Liste_pièces!G740=\"\",\"\",Liste_pièces!G740)","v":""},{"$f":"IF(Liste_pièces!H740=\"\",\"\",Liste_pièces!H740)","v":""},{"$f":"IF(Liste_pièces!I740=\"\",\"\",Liste_pièces!I740)","v":""},{"$f":"IF(Liste_pièces!J740=\"\",\"\",Liste_pièces!J740)","v":""},{"$f":"IF(Liste_pièces!K740=\"\",\"\",Liste_pièces!K740)","v":""},{"$f":"IF(Liste_pièces!L740=\"\",\"\",Liste_pièces!L740)","v":""},{"$f":"IF(Liste_pièces!M740=\"\",\"\",Liste_pièces!M740)","v":""}]
[{"$f":"IF(Liste_pièces!A741=\"\",\"ZZZ\",Liste_pièces!A741)","v":"ZZZ"},{"$f":"IF(Liste_pièces!B741=\"\",\"ZZZ\",Liste_pièces!B741)","v":"ZZZ"},{"$f":"IF(Liste_pièces!C741=\"\",\"\",Liste_pièces!C741)","v":""},{"$f":"IF(Liste_pièces!D741=\"\",\"\",Liste_pièces!D741)","v":""},{"$f":"IF(Liste_pièces!E741=\"\",\"\",Liste_pièces!E741)","v":""},{"$f":"IF(Liste_pièces!F741=\"\",\"\",Liste_pièces!F741)","v":""},{"$f":"IF(Liste_pièces!G741=\"\",\"\",Liste_pièces!G741)","v":""},{"$f":"IF(Liste_pièces!H741=\"\",\"\",Liste_pièces!H741)","v":""},{"$f":"IF(Liste_pièces!I741=\"\",\"\",Liste_pièces!I741)","v":""},{"$f":"IF(Liste_pièces!J741=\"\",\"\",Liste_pièces!J741)","v":""},{"$f":"IF(Liste_pièces!K741=\"\",\"\",Liste_pièces!K741)","v":""},{"$f":"IF(Liste_pièces!L741=\"\",\"\",Liste_pièces!L741)","v":""},{"$f":"IF(Liste_pièces!M741=\"\",\"\",Liste_pièces!M741)","v":""}]
[{"$f":"IF(Liste_pièces!A742=\"\",\"ZZZ\",Liste_pièces!A742)","v":"ZZZ"},{"$f":"IF(Liste_pièces!B742=\"\",\"ZZZ\",Liste_pièces!B742)","v":"ZZZ"},{"$f":"IF(Liste_pièces!C742=\"\",\"\",Liste_pièces!C742)","v":""},{"$f":"IF(Liste_pièces!D742=\"\",\"\",Liste_pièces!D742)","v":""},{"$f":"IF(Liste_pièces!E742=\"\",\"\",Liste_pièces!E742)","v":""},{"$f":"IF(Liste_pièces!F742=\"\",\"\",Liste_pièces!F742)","v":""},{"$f":"IF(Liste_pièces!G742=\"\",\"\",Liste_pièces!G742)","v":""},{"$f":"IF(Liste_pièces!H742=\"\",\"\",Liste_pièces!H742)","v":""},{"$f":"IF(Liste_pièces!I742=\"\",\"\",Liste_pièces!I742)","v":""},{"$f":"IF(Liste_pièces!J742=\"\",\"\",Liste_pièces!J742)","v":""},{"$f":"IF(Liste_pièces!K742=\"\",\"\",Liste_pièces!K742)","v":""},{"$f":"IF(Liste_pièces!L742=\"\",\"\",Liste_pièces!L742)","v":""},{"$f":"IF(Liste_pièces!M742=\"\",\"\",Liste_pièces!M742)","v":""}]
[{"$f":"IF(Liste_pièces!A743=\"\",\"ZZZ\",Liste_pièces!A743)","v":"ZZZ"},{"$f":"IF(Liste_pièces!B743=\"\",\"ZZZ\",Liste_pièces!B743)","v":"ZZZ"},{"$f":"IF(Liste_pièces!C743=\"\",\"\",Liste_pièces!C743)","v":""},{"$f":"IF(Liste_pièces!D743=\"\",\"\",Liste_pièces!D743)","v":""},{"$f":"IF(Liste_pièces!E743=\"\",\"\",Liste_pièces!E743)","v":""},{"$f":"IF(Liste_pièces!F743=\"\",\"\",Liste_pièces!F743)","v":""},{"$f":"IF(Liste_pièces!G743=\"\",\"\",Liste_pièces!G743)","v":""},{"$f":"IF(Liste_pièces!H743=\"\",\"\",Liste_pièces!H743)","v":""},{"$f":"IF(Liste_pièces!I743=\"\",\"\",Liste_pièces!I743)","v":""},{"$f":"IF(Liste_pièces!J743=\"\",\"\",Liste_pièces!J743)","v":""},{"$f":"IF(Liste_pièces!K743=\"\",\"\",Liste_pièces!K743)","v":""},{"$f":"IF(Liste_pièces!L743=\"\",\"\",Liste_pièces!L743)","v":""},{"$f":"IF(Liste_pièces!M743=\"\",\"\",Liste_pièces!M743)","v":""}]
[{"$f":"IF(Liste_pièces!A744=\"\",\"ZZZ\",Liste_pièces!A744)","v":"ZZZ"},{"$f":"IF(Liste_pièces!B744=\"\",\"ZZZ\",Liste_pièces!B744)","v":"ZZZ"},{"$f":"IF(Liste_pièces!C744=\"\",\"\",Liste_pièces!C744)","v":""},{"$f":"IF(Liste_pièces!D744=\"\",\"\",Liste_pièces!D744)","v":""},{"$f":"IF(Liste_pièces!E744=\"\",\"\",Liste_pièces!E744)","v":""},{"$f":"IF(Liste_pièces!F744=\"\",\"\",Liste_pièces!F744)","v":""},{"$f":"IF(Liste_pièces!G744=\"\",\"\",Liste_pièces!G744)","v":""},{"$f":"IF(Liste_pièces!H744=\"\",\"\",Liste_pièces!H744)","v":""},{"$f":"IF(Liste_pièces!I744=\"\",\"\",Liste_pièces!I744)","v":""},{"$f":"IF(Liste_pièces!J744=\"\",\"\",Liste_pièces!J744)","v":""},{"$f":"IF(Liste_pièces!K744=\"\",\"\",Liste_pièces!K744)","v":""},{"$f":"IF(Liste_pièces!L744=\"\",\"\",Liste_pièces!L744)","v":""},{"$f":"IF(Liste_pièces!M744=\"\",\"\",Liste_pièces!M744)","v":""}]
[{"$f":"IF(Liste_pièces!A745=\"\",\"ZZZ\",Liste_pièces!A745)","v":"ZZZ"},{"$f":"IF(Liste_pièces!B745=\"\",\"ZZZ\",Liste_pièces!B745)","v":"ZZZ"},{"$f":"IF(Liste_pièces!C745=\"\",\"\",Liste_pièces!C745)","v":""},{"$f":"IF(Liste_pièces!D745=\"\",\"\",Liste_pièces!D745)","v":""},{"$f":"IF(Liste_pièces!E745=\"\",\"\",Liste_pièces!E745)","v":""},{"$f":"IF(Liste_pièces!F745=\"\",\"\",Liste_pièces!F745)","v":""},{"$f":"IF(Liste_pièces!G745=\"\",\"\",Liste_pièces!G745)","v":""},{"$f":"IF(Liste_pièces!H745=\"\",\"\",Liste_pièces!H745)","v":""},{"$f":"IF(Liste_pièces!I745=\"\",\"\",Liste_pièces!I745)","v":""},{"$f":"IF(Liste_pièces!J745=\"\",\"\",Liste_pièces!J745)","v":""},{"$f":"IF(Liste_pièces!K745=\"\",\"\",Liste_pièces!K745)","v":""},{"$f":"IF(Liste_pièces!L745=\"\",\"\",Liste_pièces!L745)","v":""},{"$f":"IF(Liste_pièces!M745=\"\",\"\",Liste_pièces!M745)","v":""}]
[{"$f":"IF(Liste_pièces!A746=\"\",\"ZZZ\",Liste_pièces!A746)","v":"ZZZ"},{"$f":"IF(Liste_pièces!B746=\"\",\"ZZZ\",Liste_pièces!B746)","v":"ZZZ"},{"$f":"IF(Liste_pièces!C746=\"\",\"\",Liste_pièces!C746)","v":""},{"$f":"IF(Liste_pièces!D746=\"\",\"\",Liste_pièces!D746)","v":""},{"$f":"IF(Liste_pièces!E746=\"\",\"\",Liste_pièces!E746)","v":""},{"$f":"IF(Liste_pièces!F746=\"\",\"\",Liste_pièces!F746)","v":""},{"$f":"IF(Liste_pièces!G746=\"\",\"\",Liste_pièces!G746)","v":""},{"$f":"IF(Liste_pièces!H746=\"\",\"\",Liste_pièces!H746)","v":""},{"$f":"IF(Liste_pièces!I746=\"\",\"\",Liste_pièces!I746)","v":""},{"$f":"IF(Liste_pièces!J746=\"\",\"\",Liste_pièces!J746)","v":""},{"$f":"IF(Liste_pièces!K746=\"\",\"\",Liste_pièces!K746)","v":""},{"$f":"IF(Liste_pièces!L746=\"\",\"\",Liste_pièces!L746)","v":""},{"$f":"IF(Liste_pièces!M746=\"\",\"\",Liste_pièces!M746)","v":""}]
[{"$f":"IF(Liste_pièces!A747=\"\",\"ZZZ\",Liste_pièces!A747)","v":"ZZZ"},{"$f":"IF(Liste_pièces!B747=\"\",\"ZZZ\",Liste_pièces!B747)","v":"ZZZ"},{"$f":"IF(Liste_pièces!C747=\"\",\"\",Liste_pièces!C747)","v":""},{"$f":"IF(Liste_pièces!D747=\"\",\"\",Liste_pièces!D747)","v":""},{"$f":"IF(Liste_pièces!E747=\"\",\"\",Liste_pièces!E747)","v":""},{"$f":"IF(Liste_pièces!F747=\"\",\"\",Liste_pièces!F747)","v":""},{"$f":"IF(Liste_pièces!G747=\"\",\"\",Liste_pièces!G747)","v":""},{"$f":"IF(Liste_pièces!H747=\"\",\"\",Liste_pièces!H747)","v":""},{"$f":"IF(Liste_pièces!I747=\"\",\"\",Liste_pièces!I747)","v":""},{"$f":"IF(Liste_pièces!J747=\"\",\"\",Liste_pièces!J747)","v":""},{"$f":"IF(Liste_pièces!K747=\"\",\"\",Liste_pièces!K747)","v":""},{"$f":"IF(Liste_pièces!L747=\"\",\"\",Liste_pièces!L747)","v":""},{"$f":"IF(Liste_pièces!M747=\"\",\"\",Liste_pièces!M747)","v":""}]
[{"$f":"IF(Liste_pièces!A748=\"\",\"ZZZ\",Liste_pièces!A748)","v":"ZZZ"},{"$f":"IF(Liste_pièces!B748=\"\",\"ZZZ\",Liste_pièces!B748)","v":"ZZZ"},{"$f":"IF(Liste_pièces!C748=\"\",\"\",Liste_pièces!C748)","v":""},{"$f":"IF(Liste_pièces!D748=\"\",\"\",Liste_pièces!D748)","v":""},{"$f":"IF(Liste_pièces!E748=\"\",\"\",Liste_pièces!E748)","v":""},{"$f":"IF(Liste_pièces!F748=\"\",\"\",Liste_pièces!F748)","v":""},{"$f":"IF(Liste_pièces!G748=\"\",\"\",Liste_pièces!G748)","v":""},{"$f":"IF(Liste_pièces!H748=\"\",\"\",Liste_pièces!H748)","v":""},{"$f":"IF(Liste_pièces!I748=\"\",\"\",Liste_pièces!I748)","v":""},{"$f":"IF(Liste_pièces!J748=\"\",\"\",Liste_pièces!J748)","v":""},{"$f":"IF(Liste_pièces!K748=\"\",\"\",Liste_pièces!K748)","v":""},{"$f":"IF(Liste_pièces!L748=\"\",\"\",Liste_pièces!L748)","v":""},{"$f":"IF(Liste_pièces!M748=\"\",\"\",Liste_pièces!M748)","v":""}]
[{"$f":"IF(Liste_pièces!A749=\"\",\"ZZZ\",Liste_pièces!A749)","v":"ZZZ"},{"$f":"IF(Liste_pièces!B749=\"\",\"ZZZ\",Liste_pièces!B749)","v":"ZZZ"},{"$f":"IF(Liste_pièces!C749=\"\",\"\",Liste_pièces!C749)","v":""},{"$f":"IF(Liste_pièces!D749=\"\",\"\",Liste_pièces!D749)","v":""},{"$f":"IF(Liste_pièces!E749=\"\",\"\",Liste_pièces!E749)","v":""},{"$f":"IF(Liste_pièces!F749=\"\",\"\",Liste_pièces!F749)","v":""},{"$f":"IF(Liste_pièces!G749=\"\",\"\",Liste_pièces!G749)","v":""},{"$f":"IF(Liste_pièces!H749=\"\",\"\",Liste_pièces!H749)","v":""},{"$f":"IF(Liste_pièces!I749=\"\",\"\",Liste_pièces!I749)","v":""},{"$f":"IF(Liste_pièces!J749=\"\",\"\",Liste_pièces!J749)","v":""},{"$f":"IF(Liste_pièces!K749=\"\",\"\",Liste_pièces!K749)","v":""},{"$f":"IF(Liste_pièces!L749=\"\",\"\",Liste_pièces!L749)","v":""},{"$f":"IF(Liste_pièces!M749=\"\",\"\",Liste_pièces!M749)","v":""}]
[{"$f":"IF(Liste_pièces!A750=\"\",\"ZZZ\",Liste_pièces!A750)","v":"ZZZ"},{"$f":"IF(Liste_pièces!B750=\"\",\"ZZZ\",Liste_pièces!B750)","v":"ZZZ"},{"$f":"IF(Liste_pièces!C750=\"\",\"\",Liste_pièces!C750)","v":""},{"$f":"IF(Liste_pièces!D750=\"\",\"\",Liste_pièces!D750)","v":""},{"$f":"IF(Liste_pièces!E750=\"\",\"\",Liste_pièces!E750)","v":""},{"$f":"IF(Liste_pièces!F750=\"\",\"\",Liste_pièces!F750)","v":""},{"$f":"IF(Liste_pièces!G750=\"\",\"\",Liste_pièces!G750)","v":""},{"$f":"IF(Liste_pièces!H750=\"\",\"\",Liste_pièces!H750)","v":""},{"$f":"IF(Liste_pièces!I750=\"\",\"\",Liste_pièces!I750)","v":""},{"$f":"IF(Liste_pièces!J750=\"\",\"\",Liste_pièces!J750)","v":""},{"$f":"IF(Liste_pièces!K750=\"\",\"\",Liste_pièces!K750)","v":""},{"$f":"IF(Liste_pièces!L750=\"\",\"\",Liste_pièces!L750)","v":""},{"$f":"IF(Liste_pièces!M750=\"\",\"\",Liste_pièces!M750)","v":""}]
[{"$f":"IF(Liste_pièces!A751=\"\",\"ZZZ\",Liste_pièces!A751)","v":"ZZZ"},{"$f":"IF(Liste_pièces!B751=\"\",\"ZZZ\",Liste_pièces!B751)","v":"ZZZ"},{"$f":"IF(Liste_pièces!C751=\"\",\"\",Liste_pièces!C751)","v":""},{"$f":"IF(Liste_pièces!D751=\"\",\"\",Liste_pièces!D751)","v":""},{"$f":"IF(Liste_pièces!E751=\"\",\"\",Liste_pièces!E751)","v":""},{"$f":"IF(Liste_pièces!F751=\"\",\"\",Liste_pièces!F751)","v":""},{"$f":"IF(Liste_pièces!G751=\"\",\"\",Liste_pièces!G751)","v":""},{"$f":"IF(Liste_pièces!H751=\"\",\"\",Liste_pièces!H751)","v":""},{"$f":"IF(Liste_pièces!I751=\"\",\"\",Liste_pièces!I751)","v":""},{"$f":"IF(Liste_pièces!J751=\"\",\"\",Liste_pièces!J751)","v":""},{"$f":"IF(Liste_pièces!K751=\"\",\"\",Liste_pièces!K751)","v":""},{"$f":"IF(Liste_pièces!L751=\"\",\"\",Liste_pièces!L751)","v":""},{"$f":"IF(Liste_pièces!M751=\"\",\"\",Liste_pièces!M751)","v":""}]
[{"$f":"IF(Liste_pièces!A752=\"\",\"ZZZ\",Liste_pièces!A752)","v":"ZZZ"},{"$f":"IF(Liste_pièces!B752=\"\",\"ZZZ\",Liste_pièces!B752)","v":"ZZZ"},{"$f":"IF(Liste_pièces!C752=\"\",\"\",Liste_pièces!C752)","v":""},{"$f":"IF(Liste_pièces!D752=\"\",\"\",Liste_pièces!D752)","v":""},{"$f":"IF(Liste_pièces!E752=\"\",\"\",Liste_pièces!E752)","v":""},{"$f":"IF(Liste_pièces!F752=\"\",\"\",Liste_pièces!F752)","v":""},{"$f":"IF(Liste_pièces!G752=\"\",\"\",Liste_pièces!G752)","v":""},{"$f":"IF(Liste_pièces!H752=\"\",\"\",Liste_pièces!H752)","v":""},{"$f":"IF(Liste_pièces!I752=\"\",\"\",Liste_pièces!I752)","v":""},{"$f":"IF(Liste_pièces!J752=\"\",\"\",Liste_pièces!J752)","v":""},{"$f":"IF(Liste_pièces!K752=\"\",\"\",Liste_pièces!K752)","v":""},{"$f":"IF(Liste_pièces!L752=\"\",\"\",Liste_pièces!L752)","v":""},{"$f":"IF(Liste_pièces!M752=\"\",\"\",Liste_pièces!M752)","v":""}]
[{"$f":"IF(Liste_pièces!A753=\"\",\"ZZZ\",Liste_pièces!A753)","v":"ZZZ"},{"$f":"IF(Liste_pièces!B753=\"\",\"ZZZ\",Liste_pièces!B753)","v":"ZZZ"},{"$f":"IF(Liste_pièces!C753=\"\",\"\",Liste_pièces!C753)","v":""},{"$f":"IF(Liste_pièces!D753=\"\",\"\",Liste_pièces!D753)","v":""},{"$f":"IF(Liste_pièces!E753=\"\",\"\",Liste_pièces!E753)","v":""},{"$f":"IF(Liste_pièces!F753=\"\",\"\",Liste_pièces!F753)","v":""},{"$f":"IF(Liste_pièces!G753=\"\",\"\",Liste_pièces!G753)","v":""},{"$f":"IF(Liste_pièces!H753=\"\",\"\",Liste_pièces!H753)","v":""},{"$f":"IF(Liste_pièces!I753=\"\",\"\",Liste_pièces!I753)","v":""},{"$f":"IF(Liste_pièces!J753=\"\",\"\",Liste_pièces!J753)","v":""},{"$f":"IF(Liste_pièces!K753=\"\",\"\",Liste_pièces!K753)","v":""},{"$f":"IF(Liste_pièces!L753=\"\",\"\",Liste_pièces!L753)","v":""},{"$f":"IF(Liste_pièces!M753=\"\",\"\",Liste_pièces!M753)","v":""}]
[{"$f":"IF(Liste_pièces!A754=\"\",\"ZZZ\",Liste_pièces!A754)","v":"ZZZ"},{"$f":"IF(Liste_pièces!B754=\"\",\"ZZZ\",Liste_pièces!B754)","v":"ZZZ"},{"$f":"IF(Liste_pièces!C754=\"\",\"\",Liste_pièces!C754)","v":""},{"$f":"IF(Liste_pièces!D754=\"\",\"\",Liste_pièces!D754)","v":""},{"$f":"IF(Liste_pièces!E754=\"\",\"\",Liste_pièces!E754)","v":""},{"$f":"IF(Liste_pièces!F754=\"\",\"\",Liste_pièces!F754)","v":""},{"$f":"IF(Liste_pièces!G754=\"\",\"\",Liste_pièces!G754)","v":""},{"$f":"IF(Liste_pièces!H754=\"\",\"\",Liste_pièces!H754)","v":""},{"$f":"IF(Liste_pièces!I754=\"\",\"\",Liste_pièces!I754)","v":""},{"$f":"IF(Liste_pièces!J754=\"\",\"\",Liste_pièces!J754)","v":""},{"$f":"IF(Liste_pièces!K754=\"\",\"\",Liste_pièces!K754)","v":""},{"$f":"IF(Liste_pièces!L754=\"\",\"\",Liste_pièces!L754)","v":""},{"$f":"IF(Liste_pièces!M754=\"\",\"\",Liste_pièces!M754)","v":""}]
[{"$f":"IF(Liste_pièces!A755=\"\",\"ZZZ\",Liste_pièces!A755)","v":"ZZZ"},{"$f":"IF(Liste_pièces!B755=\"\",\"ZZZ\",Liste_pièces!B755)","v":"ZZZ"},{"$f":"IF(Liste_pièces!C755=\"\",\"\",Liste_pièces!C755)","v":""},{"$f":"IF(Liste_pièces!D755=\"\",\"\",Liste_pièces!D755)","v":""},{"$f":"IF(Liste_pièces!E755=\"\",\"\",Liste_pièces!E755)","v":""},{"$f":"IF(Liste_pièces!F755=\"\",\"\",Liste_pièces!F755)","v":""},{"$f":"IF(Liste_pièces!G755=\"\",\"\",Liste_pièces!G755)","v":""},{"$f":"IF(Liste_pièces!H755=\"\",\"\",Liste_pièces!H755)","v":""},{"$f":"IF(Liste_pièces!I755=\"\",\"\",Liste_pièces!I755)","v":""},{"$f":"IF(Liste_pièces!J755=\"\",\"\",Liste_pièces!J755)","v":""},{"$f":"IF(Liste_pièces!K755=\"\",\"\",Liste_pièces!K755)","v":""},{"$f":"IF(Liste_pièces!L755=\"\",\"\",Liste_pièces!L755)","v":""},{"$f":"IF(Liste_pièces!M755=\"\",\"\",Liste_pièces!M755)","v":""}]
[{"$f":"IF(Liste_pièces!A756=\"\",\"ZZZ\",Liste_pièces!A756)","v":"ZZZ"},{"$f":"IF(Liste_pièces!B756=\"\",\"ZZZ\",Liste_pièces!B756)","v":"ZZZ"},{"$f":"IF(Liste_pièces!C756=\"\",\"\",Liste_pièces!C756)","v":""},{"$f":"IF(Liste_pièces!D756=\"\",\"\",Liste_pièces!D756)","v":""},{"$f":"IF(Liste_pièces!E756=\"\",\"\",Liste_pièces!E756)","v":""},{"$f":"IF(Liste_pièces!F756=\"\",\"\",Liste_pièces!F756)","v":""},{"$f":"IF(Liste_pièces!G756=\"\",\"\",Liste_pièces!G756)","v":""},{"$f":"IF(Liste_pièces!H756=\"\",\"\",Liste_pièces!H756)","v":""},{"$f":"IF(Liste_pièces!I756=\"\",\"\",Liste_pièces!I756)","v":""},{"$f":"IF(Liste_pièces!J756=\"\",\"\",Liste_pièces!J756)","v":""},{"$f":"IF(Liste_pièces!K756=\"\",\"\",Liste_pièces!K756)","v":""},{"$f":"IF(Liste_pièces!L756=\"\",\"\",Liste_pièces!L756)","v":""},{"$f":"IF(Liste_pièces!M756=\"\",\"\",Liste_pièces!M756)","v":""}]
[{"$f":"IF(Liste_pièces!A757=\"\",\"ZZZ\",Liste_pièces!A757)","v":"ZZZ"},{"$f":"IF(Liste_pièces!B757=\"\",\"ZZZ\",Liste_pièces!B757)","v":"ZZZ"},{"$f":"IF(Liste_pièces!C757=\"\",\"\",Liste_pièces!C757)","v":""},{"$f":"IF(Liste_pièces!D757=\"\",\"\",Liste_pièces!D757)","v":""},{"$f":"IF(Liste_pièces!E757=\"\",\"\",Liste_pièces!E757)","v":""},{"$f":"IF(Liste_pièces!F757=\"\",\"\",Liste_pièces!F757)","v":""},{"$f":"IF(Liste_pièces!G757=\"\",\"\",Liste_pièces!G757)","v":""},{"$f":"IF(Liste_pièces!H757=\"\",\"\",Liste_pièces!H757)","v":""},{"$f":"IF(Liste_pièces!I757=\"\",\"\",Liste_pièces!I757)","v":""},{"$f":"IF(Liste_pièces!J757=\"\",\"\",Liste_pièces!J757)","v":""},{"$f":"IF(Liste_pièces!K757=\"\",\"\",Liste_pièces!K757)","v":""},{"$f":"IF(Liste_pièces!L757=\"\",\"\",Liste_pièces!L757)","v":""},{"$f":"IF(Liste_pièces!M757=\"\",\"\",Liste_pièces!M757)","v":""}]
[{"$f":"IF(Liste_pièces!A758=\"\",\"ZZZ\",Liste_pièces!A758)","v":"ZZZ"},{"$f":"IF(Liste_pièces!B758=\"\",\"ZZZ\",Liste_pièces!B758)","v":"ZZZ"},{"$f":"IF(Liste_pièces!C758=\"\",\"\",Liste_pièces!C758)","v":""},{"$f":"IF(Liste_pièces!D758=\"\",\"\",Liste_pièces!D758)","v":""},{"$f":"IF(Liste_pièces!E758=\"\",\"\",Liste_pièces!E758)","v":""},{"$f":"IF(Liste_pièces!F758=\"\",\"\",Liste_pièces!F758)","v":""},{"$f":"IF(Liste_pièces!G758=\"\",\"\",Liste_pièces!G758)","v":""},{"$f":"IF(Liste_pièces!H758=\"\",\"\",Liste_pièces!H758)","v":""},{"$f":"IF(Liste_pièces!I758=\"\",\"\",Liste_pièces!I758)","v":""},{"$f":"IF(Liste_pièces!J758=\"\",\"\",Liste_pièces!J758)","v":""},{"$f":"IF(Liste_pièces!K758=\"\",\"\",Liste_pièces!K758)","v":""},{"$f":"IF(Liste_pièces!L758=\"\",\"\",Liste_pièces!L758)","v":""},{"$f":"IF(Liste_pièces!M758=\"\",\"\",Liste_pièces!M758)","v":""}]
[{"$f":"IF(Liste_pièces!A759=\"\",\"ZZZ\",Liste_pièces!A759)","v":"ZZZ"},{"$f":"IF(Liste_pièces!B759=\"\",\"ZZZ\",Liste_pièces!B759)","v":"ZZZ"},{"$f":"IF(Liste_pièces!C759=\"\",\"\",Liste_pièces!C759)","v":""},{"$f":"IF(Liste_pièces!D759=\"\",\"\",Liste_pièces!D759)","v":""},{"$f":"IF(Liste_pièces!E759=\"\",\"\",Liste_pièces!E759)","v":""},{"$f":"IF(Liste_pièces!F759=\"\",\"\",Liste_pièces!F759)","v":""},{"$f":"IF(Liste_pièces!G759=\"\",\"\",Liste_pièces!G759)","v":""},{"$f":"IF(Liste_pièces!H759=\"\",\"\",Liste_pièces!H759)","v":""},{"$f":"IF(Liste_pièces!I759=\"\",\"\",Liste_pièces!I759)","v":""},{"$f":"IF(Liste_pièces!J759=\"\",\"\",Liste_pièces!J759)","v":""},{"$f":"IF(Liste_pièces!K759=\"\",\"\",Liste_pièces!K759)","v":""},{"$f":"IF(Liste_pièces!L759=\"\",\"\",Liste_pièces!L759)","v":""},{"$f":"IF(Liste_pièces!M759=\"\",\"\",Liste_pièces!M759)","v":""}]
[{"$f":"IF(Liste_pièces!A760=\"\",\"ZZZ\",Liste_pièces!A760)","v":"ZZZ"},{"$f":"IF(Liste_pièces!B760=\"\",\"ZZZ\",Liste_pièces!B760)","v":"ZZZ"},{"$f":"IF(Liste_pièces!C760=\"\",\"\",Liste_pièces!C760)","v":""},{"$f":"IF(Liste_pièces!D760=\"\",\"\",Liste_pièces!D760)","v":""},{"$f":"IF(Liste_pièces!E760=\"\",\"\",Liste_pièces!E760)","v":""},{"$f":"IF(Liste_pièces!F760=\"\",\"\",Liste_pièces!F760)","v":""},{"$f":"IF(Liste_pièces!G760=\"\",\"\",Liste_pièces!G760)","v":""},{"$f":"IF(Liste_pièces!H760=\"\",\"\",Liste_pièces!H760)","v":""},{"$f":"IF(Liste_pièces!I760=\"\",\"\",Liste_pièces!I760)","v":""},{"$f":"IF(Liste_pièces!J760=\"\",\"\",Liste_pièces!J760)","v":""},{"$f":"IF(Liste_pièces!K760=\"\",\"\",Liste_pièces!K760)","v":""},{"$f":"IF(Liste_pièces!L760=\"\",\"\",Liste_pièces!L760)","v":""},{"$f":"IF(Liste_pièces!M760=\"\",\"\",Liste_pièces!M760)","v":""}]
[{"$f":"IF(Liste_pièces!A761=\"\",\"ZZZ\",Liste_pièces!A761)","v":"ZZZ"},{"$f":"IF(Liste_pièces!B761=\"\",\"ZZZ\",Liste_pièces!B761)","v":"ZZZ"},{"$f":"IF(Liste_pièces!C761=\"\",\"\",Liste_pièces!C761)","v":""},{"$f":"IF(Liste_pièces!D761=\"\",\"\",Liste_pièces!D761)","v":""},{"$f":"IF(Liste_pièces!E761=\"\",\"\",Liste_pièces!E761)","v":""},{"$f":"IF(Liste_pièces!F761=\"\",\"\",Liste_pièces!F761)","v":""},{"$f":"IF(Liste_pièces!G761=\"\",\"\",Liste_pièces!G761)","v":""},{"$f":"IF(Liste_pièces!H761=\"\",\"\",Liste_pièces!H761)","v":""},{"$f":"IF(Liste_pièces!I761=\"\",\"\",Liste_pièces!I761)","v":""},{"$f":"IF(Liste_pièces!J761=\"\",\"\",Liste_pièces!J761)","v":""},{"$f":"IF(Liste_pièces!K761=\"\",\"\",Liste_pièces!K761)","v":""},{"$f":"IF(Liste_pièces!L761=\"\",\"\",Liste_pièces!L761)","v":""},{"$f":"IF(Liste_pièces!M761=\"\",\"\",Liste_pièces!M761)","v":""}]
[{"$f":"IF(Liste_pièces!A762=\"\",\"ZZZ\",Liste_pièces!A762)","v":"ZZZ"},{"$f":"IF(Liste_pièces!B762=\"\",\"ZZZ\",Liste_pièces!B762)","v":"ZZZ"},{"$f":"IF(Liste_pièces!C762=\"\",\"\",Liste_pièces!C762)","v":""},{"$f":"IF(Liste_pièces!D762=\"\",\"\",Liste_pièces!D762)","v":""},{"$f":"IF(Liste_pièces!E762=\"\",\"\",Liste_pièces!E762)","v":""},{"$f":"IF(Liste_pièces!F762=\"\",\"\",Liste_pièces!F762)","v":""},{"$f":"IF(Liste_pièces!G762=\"\",\"\",Liste_pièces!G762)","v":""},{"$f":"IF(Liste_pièces!H762=\"\",\"\",Liste_pièces!H762)","v":""},{"$f":"IF(Liste_pièces!I762=\"\",\"\",Liste_pièces!I762)","v":""},{"$f":"IF(Liste_pièces!J762=\"\",\"\",Liste_pièces!J762)","v":""},{"$f":"IF(Liste_pièces!K762=\"\",\"\",Liste_pièces!K762)","v":""},{"$f":"IF(Liste_pièces!L762=\"\",\"\",Liste_pièces!L762)","v":""},{"$f":"IF(Liste_pièces!M762=\"\",\"\",Liste_pièces!M762)","v":""}]
[{"$f":"IF(Liste_pièces!A763=\"\",\"ZZZ\",Liste_pièces!A763)","v":"ZZZ"},{"$f":"IF(Liste_pièces!B763=\"\",\"ZZZ\",Liste_pièces!B763)","v":"ZZZ"},{"$f":"IF(Liste_pièces!C763=\"\",\"\",Liste_pièces!C763)","v":""},{"$f":"IF(Liste_pièces!D763=\"\",\"\",Liste_pièces!D763)","v":""},{"$f":"IF(Liste_pièces!E763=\"\",\"\",Liste_pièces!E763)","v":""},{"$f":"IF(Liste_pièces!F763=\"\",\"\",Liste_pièces!F763)","v":""},{"$f":"IF(Liste_pièces!G763=\"\",\"\",Liste_pièces!G763)","v":""},{"$f":"IF(Liste_pièces!H763=\"\",\"\",Liste_pièces!H763)","v":""},{"$f":"IF(Liste_pièces!I763=\"\",\"\",Liste_pièces!I763)","v":""},{"$f":"IF(Liste_pièces!J763=\"\",\"\",Liste_pièces!J763)","v":""},{"$f":"IF(Liste_pièces!K763=\"\",\"\",Liste_pièces!K763)","v":""},{"$f":"IF(Liste_pièces!L763=\"\",\"\",Liste_pièces!L763)","v":""},{"$f":"IF(Liste_pièces!M763=\"\",\"\",Liste_pièces!M763)","v":""}]
[{"$f":"IF(Liste_pièces!A764=\"\",\"ZZZ\",Liste_pièces!A764)","v":"ZZZ"},{"$f":"IF(Liste_pièces!B764=\"\",\"ZZZ\",Liste_pièces!B764)","v":"ZZZ"},{"$f":"IF(Liste_pièces!C764=\"\",\"\",Liste_pièces!C764)","v":""},{"$f":"IF(Liste_pièces!D764=\"\",\"\",Liste_pièces!D764)","v":""},{"$f":"IF(Liste_pièces!E764=\"\",\"\",Liste_pièces!E764)","v":""},{"$f":"IF(Liste_pièces!F764=\"\",\"\",Liste_pièces!F764)","v":""},{"$f":"IF(Liste_pièces!G764=\"\",\"\",Liste_pièces!G764)","v":""},{"$f":"IF(Liste_pièces!H764=\"\",\"\",Liste_pièces!H764)","v":""},{"$f":"IF(Liste_pièces!I764=\"\",\"\",Liste_pièces!I764)","v":""},{"$f":"IF(Liste_pièces!J764=\"\",\"\",Liste_pièces!J764)","v":""},{"$f":"IF(Liste_pièces!K764=\"\",\"\",Liste_pièces!K764)","v":""},{"$f":"IF(Liste_pièces!L764=\"\",\"\",Liste_pièces!L764)","v":""},{"$f":"IF(Liste_pièces!M764=\"\",\"\",Liste_pièces!M764)","v":""}]
[{"$f":"IF(Liste_pièces!A765=\"\",\"ZZZ\",Liste_pièces!A765)","v":"ZZZ"},{"$f":"IF(Liste_pièces!B765=\"\",\"ZZZ\",Liste_pièces!B765)","v":"ZZZ"},{"$f":"IF(Liste_pièces!C765=\"\",\"\",Liste_pièces!C765)","v":""},{"$f":"IF(Liste_pièces!D765=\"\",\"\",Liste_pièces!D765)","v":""},{"$f":"IF(Liste_pièces!E765=\"\",\"\",Liste_pièces!E765)","v":""},{"$f":"IF(Liste_pièces!F765=\"\",\"\",Liste_pièces!F765)","v":""},{"$f":"IF(Liste_pièces!G765=\"\",\"\",Liste_pièces!G765)","v":""},{"$f":"IF(Liste_pièces!H765=\"\",\"\",Liste_pièces!H765)","v":""},{"$f":"IF(Liste_pièces!I765=\"\",\"\",Liste_pièces!I765)","v":""},{"$f":"IF(Liste_pièces!J765=\"\",\"\",Liste_pièces!J765)","v":""},{"$f":"IF(Liste_pièces!K765=\"\",\"\",Liste_pièces!K765)","v":""},{"$f":"IF(Liste_pièces!L765=\"\",\"\",Liste_pièces!L765)","v":""},{"$f":"IF(Liste_pièces!M765=\"\",\"\",Liste_pièces!M765)","v":""}]
[{"$f":"IF(Liste_pièces!A766=\"\",\"ZZZ\",Liste_pièces!A766)","v":"ZZZ"},{"$f":"IF(Liste_pièces!B766=\"\",\"ZZZ\",Liste_pièces!B766)","v":"ZZZ"},{"$f":"IF(Liste_pièces!C766=\"\",\"\",Liste_pièces!C766)","v":""},{"$f":"IF(Liste_pièces!D766=\"\",\"\",Liste_pièces!D766)","v":""},{"$f":"IF(Liste_pièces!E766=\"\",\"\",Liste_pièces!E766)","v":""},{"$f":"IF(Liste_pièces!F766=\"\",\"\",Liste_pièces!F766)","v":""},{"$f":"IF(Liste_pièces!G766=\"\",\"\",Liste_pièces!G766)","v":""},{"$f":"IF(Liste_pièces!H766=\"\",\"\",Liste_pièces!H766)","v":""},{"$f":"IF(Liste_pièces!I766=\"\",\"\",Liste_pièces!I766)","v":""},{"$f":"IF(Liste_pièces!J766=\"\",\"\",Liste_pièces!J766)","v":""},{"$f":"IF(Liste_pièces!K766=\"\",\"\",Liste_pièces!K766)","v":""},{"$f":"IF(Liste_pièces!L766=\"\",\"\",Liste_pièces!L766)","v":""},{"$f":"IF(Liste_pièces!M766=\"\",\"\",Liste_pièces!M766)","v":""}]
[{"$f":"IF(Liste_pièces!A767=\"\",\"ZZZ\",Liste_pièces!A767)","v":"ZZZ"},{"$f":"IF(Liste_pièces!B767=\"\",\"ZZZ\",Liste_pièces!B767)","v":"ZZZ"},{"$f":"IF(Liste_pièces!C767=\"\",\"\",Liste_pièces!C767)","v":""},{"$f":"IF(Liste_pièces!D767=\"\",\"\",Liste_pièces!D767)","v":""},{"$f":"IF(Liste_pièces!E767=\"\",\"\",Liste_pièces!E767)","v":""},{"$f":"IF(Liste_pièces!F767=\"\",\"\",Liste_pièces!F767)","v":""},{"$f":"IF(Liste_pièces!G767=\"\",\"\",Liste_pièces!G767)","v":""},{"$f":"IF(Liste_pièces!H767=\"\",\"\",Liste_pièces!H767)","v":""},{"$f":"IF(Liste_pièces!I767=\"\",\"\",Liste_pièces!I767)","v":""},{"$f":"IF(Liste_pièces!J767=\"\",\"\",Liste_pièces!J767)","v":""},{"$f":"IF(Liste_pièces!K767=\"\",\"\",Liste_pièces!K767)","v":""},{"$f":"IF(Liste_pièces!L767=\"\",\"\",Liste_pièces!L767)","v":""},{"$f":"IF(Liste_pièces!M767=\"\",\"\",Liste_pièces!M767)","v":""}]
[{"$f":"IF(Liste_pièces!A768=\"\",\"ZZZ\",Liste_pièces!A768)","v":"ZZZ"},{"$f":"IF(Liste_pièces!B768=\"\",\"ZZZ\",Liste_pièces!B768)","v":"ZZZ"},{"$f":"IF(Liste_pièces!C768=\"\",\"\",Liste_pièces!C768)","v":""},{"$f":"IF(Liste_pièces!D768=\"\",\"\",Liste_pièces!D768)","v":""},{"$f":"IF(Liste_pièces!E768=\"\",\"\",Liste_pièces!E768)","v":""},{"$f":"IF(Liste_pièces!F768=\"\",\"\",Liste_pièces!F768)","v":""},{"$f":"IF(Liste_pièces!G768=\"\",\"\",Liste_pièces!G768)","v":""},{"$f":"IF(Liste_pièces!H768=\"\",\"\",Liste_pièces!H768)","v":""},{"$f":"IF(Liste_pièces!I768=\"\",\"\",Liste_pièces!I768)","v":""},{"$f":"IF(Liste_pièces!J768=\"\",\"\",Liste_pièces!J768)","v":""},{"$f":"IF(Liste_pièces!K768=\"\",\"\",Liste_pièces!K768)","v":""},{"$f":"IF(Liste_pièces!L768=\"\",\"\",Liste_pièces!L768)","v":""},{"$f":"IF(Liste_pièces!M768=\"\",\"\",Liste_pièces!M768)","v":""}]
[{"$f":"IF(Liste_pièces!A769=\"\",\"ZZZ\",Liste_pièces!A769)","v":"ZZZ"},{"$f":"IF(Liste_pièces!B769=\"\",\"ZZZ\",Liste_pièces!B769)","v":"ZZZ"},{"$f":"IF(Liste_pièces!C769=\"\",\"\",Liste_pièces!C769)","v":""},{"$f":"IF(Liste_pièces!D769=\"\",\"\",Liste_pièces!D769)","v":""},{"$f":"IF(Liste_pièces!E769=\"\",\"\",Liste_pièces!E769)","v":""},{"$f":"IF(Liste_pièces!F769=\"\",\"\",Liste_pièces!F769)","v":""},{"$f":"IF(Liste_pièces!G769=\"\",\"\",Liste_pièces!G769)","v":""},{"$f":"IF(Liste_pièces!H769=\"\",\"\",Liste_pièces!H769)","v":""},{"$f":"IF(Liste_pièces!I769=\"\",\"\",Liste_pièces!I769)","v":""},{"$f":"IF(Liste_pièces!J769=\"\",\"\",Liste_pièces!J769)","v":""},{"$f":"IF(Liste_pièces!K769=\"\",\"\",Liste_pièces!K769)","v":""},{"$f":"IF(Liste_pièces!L769=\"\",\"\",Liste_pièces!L769)","v":""},{"$f":"IF(Liste_pièces!M769=\"\",\"\",Liste_pièces!M769)","v":""}]
[{"$f":"IF(Liste_pièces!A770=\"\",\"ZZZ\",Liste_pièces!A770)","v":"ZZZ"},{"$f":"IF(Liste_pièces!B770=\"\",\"ZZZ\",Liste_pièces!B770)","v":"ZZZ"},{"$f":"IF(Liste_pièces!C770=\"\",\"\",Liste_pièces!C770)","v":""},{"$f":"IF(Liste_pièces!D770=\"\",\"\",Liste_pièces!D770)","v":""},{"$f":"IF(Liste_pièces!E770=\"\",\"\",Liste_pièces!E770)","v":""},{"$f":"IF(Liste_pièces!F770=\"\",\"\",Liste_pièces!F770)","v":""},{"$f":"IF(Liste_pièces!G770=\"\",\"\",Liste_pièces!G770)","v":""},{"$f":"IF(Liste_pièces!H770=\"\",\"\",Liste_pièces!H770)","v":""},{"$f":"IF(Liste_pièces!I770=\"\",\"\",Liste_pièces!I770)","v":""},{"$f":"IF(Liste_pièces!J770=\"\",\"\",Liste_pièces!J770)","v":""},{"$f":"IF(Liste_pièces!K770=\"\",\"\",Liste_pièces!K770)","v":""},{"$f":"IF(Liste_pièces!L770=\"\",\"\",Liste_pièces!L770)","v":""},{"$f":"IF(Liste_pièces!M770=\"\",\"\",Liste_pièces!M770)","v":""}]
[{"$f":"IF(Liste_pièces!A771=\"\",\"ZZZ\",Liste_pièces!A771)","v":"ZZZ"},{"$f":"IF(Liste_pièces!B771=\"\",\"ZZZ\",Liste_pièces!B771)","v":"ZZZ"},{"$f":"IF(Liste_pièces!C771=\"\",\"\",Liste_pièces!C771)","v":""},{"$f":"IF(Liste_pièces!D771=\"\",\"\",Liste_pièces!D771)","v":""},{"$f":"IF(Liste_pièces!E771=\"\",\"\",Liste_pièces!E771)","v":""},{"$f":"IF(Liste_pièces!F771=\"\",\"\",Liste_pièces!F771)","v":""},{"$f":"IF(Liste_pièces!G771=\"\",\"\",Liste_pièces!G771)","v":""},{"$f":"IF(Liste_pièces!H771=\"\",\"\",Liste_pièces!H771)","v":""},{"$f":"IF(Liste_pièces!I771=\"\",\"\",Liste_pièces!I771)","v":""},{"$f":"IF(Liste_pièces!J771=\"\",\"\",Liste_pièces!J771)","v":""},{"$f":"IF(Liste_pièces!K771=\"\",\"\",Liste_pièces!K771)","v":""},{"$f":"IF(Liste_pièces!L771=\"\",\"\",Liste_pièces!L771)","v":""},{"$f":"IF(Liste_pièces!M771=\"\",\"\",Liste_pièces!M771)","v":""}]
[{"$f":"IF(Liste_pièces!A772=\"\",\"ZZZ\",Liste_pièces!A772)","v":"ZZZ"},{"$f":"IF(Liste_pièces!B772=\"\",\"ZZZ\",Liste_pièces!B772)","v":"ZZZ"},{"$f":"IF(Liste_pièces!C772=\"\",\"\",Liste_pièces!C772)","v":""},{"$f":"IF(Liste_pièces!D772=\"\",\"\",Liste_pièces!D772)","v":""},{"$f":"IF(Liste_pièces!E772=\"\",\"\",Liste_pièces!E772)","v":""},{"$f":"IF(Liste_pièces!F772=\"\",\"\",Liste_pièces!F772)","v":""},{"$f":"IF(Liste_pièces!G772=\"\",\"\",Liste_pièces!G772)","v":""},{"$f":"IF(Liste_pièces!H772=\"\",\"\",Liste_pièces!H772)","v":""},{"$f":"IF(Liste_pièces!I772=\"\",\"\",Liste_pièces!I772)","v":""},{"$f":"IF(Liste_pièces!J772=\"\",\"\",Liste_pièces!J772)","v":""},{"$f":"IF(Liste_pièces!K772=\"\",\"\",Liste_pièces!K772)","v":""},{"$f":"IF(Liste_pièces!L772=\"\",\"\",Liste_pièces!L772)","v":""},{"$f":"IF(Liste_pièces!M772=\"\",\"\",Liste_pièces!M772)","v":""}]
[{"$f":"IF(Liste_pièces!A773=\"\",\"ZZZ\",Liste_pièces!A773)","v":"ZZZ"},{"$f":"IF(Liste_pièces!B773=\"\",\"ZZZ\",Liste_pièces!B773)","v":"ZZZ"},{"$f":"IF(Liste_pièces!C773=\"\",\"\",Liste_pièces!C773)","v":""},{"$f":"IF(Liste_pièces!D773=\"\",\"\",Liste_pièces!D773)","v":""},{"$f":"IF(Liste_pièces!E773=\"\",\"\",Liste_pièces!E773)","v":""},{"$f":"IF(Liste_pièces!F773=\"\",\"\",Liste_pièces!F773)","v":""},{"$f":"IF(Liste_pièces!G773=\"\",\"\",Liste_pièces!G773)","v":""},{"$f":"IF(Liste_pièces!H773=\"\",\"\",Liste_pièces!H773)","v":""},{"$f":"IF(Liste_pièces!I773=\"\",\"\",Liste_pièces!I773)","v":""},{"$f":"IF(Liste_pièces!J773=\"\",\"\",Liste_pièces!J773)","v":""},{"$f":"IF(Liste_pièces!K773=\"\",\"\",Liste_pièces!K773)","v":""},{"$f":"IF(Liste_pièces!L773=\"\",\"\",Liste_pièces!L773)","v":""},{"$f":"IF(Liste_pièces!M773=\"\",\"\",Liste_pièces!M773)","v":""}]
[{"$f":"IF(Liste_pièces!A774=\"\",\"ZZZ\",Liste_pièces!A774)","v":"ZZZ"},{"$f":"IF(Liste_pièces!B774=\"\",\"ZZZ\",Liste_pièces!B774)","v":"ZZZ"},{"$f":"IF(Liste_pièces!C774=\"\",\"\",Liste_pièces!C774)","v":""},{"$f":"IF(Liste_pièces!D774=\"\",\"\",Liste_pièces!D774)","v":""},{"$f":"IF(Liste_pièces!E774=\"\",\"\",Liste_pièces!E774)","v":""},{"$f":"IF(Liste_pièces!F774=\"\",\"\",Liste_pièces!F774)","v":""},{"$f":"IF(Liste_pièces!G774=\"\",\"\",Liste_pièces!G774)","v":""},{"$f":"IF(Liste_pièces!H774=\"\",\"\",Liste_pièces!H774)","v":""},{"$f":"IF(Liste_pièces!I774=\"\",\"\",Liste_pièces!I774)","v":""},{"$f":"IF(Liste_pièces!J774=\"\",\"\",Liste_pièces!J774)","v":""},{"$f":"IF(Liste_pièces!K774=\"\",\"\",Liste_pièces!K774)","v":""},{"$f":"IF(Liste_pièces!L774=\"\",\"\",Liste_pièces!L774)","v":""},{"$f":"IF(Liste_pièces!M774=\"\",\"\",Liste_pièces!M774)","v":""}]
[{"$f":"IF(Liste_pièces!A775=\"\",\"ZZZ\",Liste_pièces!A775)","v":"ZZZ"},{"$f":"IF(Liste_pièces!B775=\"\",\"ZZZ\",Liste_pièces!B775)","v":"ZZZ"},{"$f":"IF(Liste_pièces!C775=\"\",\"\",Liste_pièces!C775)","v":""},{"$f":"IF(Liste_pièces!D775=\"\",\"\",Liste_pièces!D775)","v":""},{"$f":"IF(Liste_pièces!E775=\"\",\"\",Liste_pièces!E775)","v":""},{"$f":"IF(Liste_pièces!F775=\"\",\"\",Liste_pièces!F775)","v":""},{"$f":"IF(Liste_pièces!G775=\"\",\"\",Liste_pièces!G775)","v":""},{"$f":"IF(Liste_pièces!H775=\"\",\"\",Liste_pièces!H775)","v":""},{"$f":"IF(Liste_pièces!I775=\"\",\"\",Liste_pièces!I775)","v":""},{"$f":"IF(Liste_pièces!J775=\"\",\"\",Liste_pièces!J775)","v":""},{"$f":"IF(Liste_pièces!K775=\"\",\"\",Liste_pièces!K775)","v":""},{"$f":"IF(Liste_pièces!L775=\"\",\"\",Liste_pièces!L775)","v":""},{"$f":"IF(Liste_pièces!M775=\"\",\"\",Liste_pièces!M775)","v":""}]
[{"$f":"IF(Liste_pièces!A776=\"\",\"ZZZ\",Liste_pièces!A776)","v":"ZZZ"},{"$f":"IF(Liste_pièces!B776=\"\",\"ZZZ\",Liste_pièces!B776)","v":"ZZZ"},{"$f":"IF(Liste_pièces!C776=\"\",\"\",Liste_pièces!C776)","v":""},{"$f":"IF(Liste_pièces!D776=\"\",\"\",Liste_pièces!D776)","v":""},{"$f":"IF(Liste_pièces!E776=\"\",\"\",Liste_pièces!E776)","v":""},{"$f":"IF(Liste_pièces!F776=\"\",\"\",Liste_pièces!F776)","v":""},{"$f":"IF(Liste_pièces!G776=\"\",\"\",Liste_pièces!G776)","v":""},{"$f":"IF(Liste_pièces!H776=\"\",\"\",Liste_pièces!H776)","v":""},{"$f":"IF(Liste_pièces!I776=\"\",\"\",Liste_pièces!I776)","v":""},{"$f":"IF(Liste_pièces!J776=\"\",\"\",Liste_pièces!J776)","v":""},{"$f":"IF(Liste_pièces!K776=\"\",\"\",Liste_pièces!K776)","v":""},{"$f":"IF(Liste_pièces!L776=\"\",\"\",Liste_pièces!L776)","v":""},{"$f":"IF(Liste_pièces!M776=\"\",\"\",Liste_pièces!M776)","v":""}]
[{"$f":"IF(Liste_pièces!A777=\"\",\"ZZZ\",Liste_pièces!A777)","v":"ZZZ"},{"$f":"IF(Liste_pièces!B777=\"\",\"ZZZ\",Liste_pièces!B777)","v":"ZZZ"},{"$f":"IF(Liste_pièces!C777=\"\",\"\",Liste_pièces!C777)","v":""},{"$f":"IF(Liste_pièces!D777=\"\",\"\",Liste_pièces!D777)","v":""},{"$f":"IF(Liste_pièces!E777=\"\",\"\",Liste_pièces!E777)","v":""},{"$f":"IF(Liste_pièces!F777=\"\",\"\",Liste_pièces!F777)","v":""},{"$f":"IF(Liste_pièces!G777=\"\",\"\",Liste_pièces!G777)","v":""},{"$f":"IF(Liste_pièces!H777=\"\",\"\",Liste_pièces!H777)","v":""},{"$f":"IF(Liste_pièces!I777=\"\",\"\",Liste_pièces!I777)","v":""},{"$f":"IF(Liste_pièces!J777=\"\",\"\",Liste_pièces!J777)","v":""},{"$f":"IF(Liste_pièces!K777=\"\",\"\",Liste_pièces!K777)","v":""},{"$f":"IF(Liste_pièces!L777=\"\",\"\",Liste_pièces!L777)","v":""},{"$f":"IF(Liste_pièces!M777=\"\",\"\",Liste_pièces!M777)","v":""}]
[{"$f":"IF(Liste_pièces!A778=\"\",\"ZZZ\",Liste_pièces!A778)","v":"ZZZ"},{"$f":"IF(Liste_pièces!B778=\"\",\"ZZZ\",Liste_pièces!B778)","v":"ZZZ"},{"$f":"IF(Liste_pièces!C778=\"\",\"\",Liste_pièces!C778)","v":""},{"$f":"IF(Liste_pièces!D778=\"\",\"\",Liste_pièces!D778)","v":""},{"$f":"IF(Liste_pièces!E778=\"\",\"\",Liste_pièces!E778)","v":""},{"$f":"IF(Liste_pièces!F778=\"\",\"\",Liste_pièces!F778)","v":""},{"$f":"IF(Liste_pièces!G778=\"\",\"\",Liste_pièces!G778)","v":""},{"$f":"IF(Liste_pièces!H778=\"\",\"\",Liste_pièces!H778)","v":""},{"$f":"IF(Liste_pièces!I778=\"\",\"\",Liste_pièces!I778)","v":""},{"$f":"IF(Liste_pièces!J778=\"\",\"\",Liste_pièces!J778)","v":""},{"$f":"IF(Liste_pièces!K778=\"\",\"\",Liste_pièces!K778)","v":""},{"$f":"IF(Liste_pièces!L778=\"\",\"\",Liste_pièces!L778)","v":""},{"$f":"IF(Liste_pièces!M778=\"\",\"\",Liste_pièces!M778)","v":""}]
[{"$f":"IF(Liste_pièces!A779=\"\",\"ZZZ\",Liste_pièces!A779)","v":"ZZZ"},{"$f":"IF(Liste_pièces!B779=\"\",\"ZZZ\",Liste_pièces!B779)","v":"ZZZ"},{"$f":"IF(Liste_pièces!C779=\"\",\"\",Liste_pièces!C779)","v":""},{"$f":"IF(Liste_pièces!D779=\"\",\"\",Liste_pièces!D779)","v":""},{"$f":"IF(Liste_pièces!E779=\"\",\"\",Liste_pièces!E779)","v":""},{"$f":"IF(Liste_pièces!F779=\"\",\"\",Liste_pièces!F779)","v":""},{"$f":"IF(Liste_pièces!G779=\"\",\"\",Liste_pièces!G779)","v":""},{"$f":"IF(Liste_pièces!H779=\"\",\"\",Liste_pièces!H779)","v":""},{"$f":"IF(Liste_pièces!I779=\"\",\"\",Liste_pièces!I779)","v":""},{"$f":"IF(Liste_pièces!J779=\"\",\"\",Liste_pièces!J779)","v":""},{"$f":"IF(Liste_pièces!K779=\"\",\"\",Liste_pièces!K779)","v":""},{"$f":"IF(Liste_pièces!L779=\"\",\"\",Liste_pièces!L779)","v":""},{"$f":"IF(Liste_pièces!M779=\"\",\"\",Liste_pièces!M779)","v":""}]
[{"$f":"IF(Liste_pièces!A780=\"\",\"ZZZ\",Liste_pièces!A780)","v":"ZZZ"},{"$f":"IF(Liste_pièces!B780=\"\",\"ZZZ\",Liste_pièces!B780)","v":"ZZZ"},{"$f":"IF(Liste_pièces!C780=\"\",\"\",Liste_pièces!C780)","v":""},{"$f":"IF(Liste_pièces!D780=\"\",\"\",Liste_pièces!D780)","v":""},{"$f":"IF(Liste_pièces!E780=\"\",\"\",Liste_pièces!E780)","v":""},{"$f":"IF(Liste_pièces!F780=\"\",\"\",Liste_pièces!F780)","v":""},{"$f":"IF(Liste_pièces!G780=\"\",\"\",Liste_pièces!G780)","v":""},{"$f":"IF(Liste_pièces!H780=\"\",\"\",Liste_pièces!H780)","v":""},{"$f":"IF(Liste_pièces!I780=\"\",\"\",Liste_pièces!I780)","v":""},{"$f":"IF(Liste_pièces!J780=\"\",\"\",Liste_pièces!J780)","v":""},{"$f":"IF(Liste_pièces!K780=\"\",\"\",Liste_pièces!K780)","v":""},{"$f":"IF(Liste_pièces!L780=\"\",\"\",Liste_pièces!L780)","v":""},{"$f":"IF(Liste_pièces!M780=\"\",\"\",Liste_pièces!M780)","v":""}]
[{"$f":"IF(Liste_pièces!A781=\"\",\"ZZZ\",Liste_pièces!A781)","v":"ZZZ"},{"$f":"IF(Liste_pièces!B781=\"\",\"ZZZ\",Liste_pièces!B781)","v":"ZZZ"},{"$f":"IF(Liste_pièces!C781=\"\",\"\",Liste_pièces!C781)","v":""},{"$f":"IF(Liste_pièces!D781=\"\",\"\",Liste_pièces!D781)","v":""},{"$f":"IF(Liste_pièces!E781=\"\",\"\",Liste_pièces!E781)","v":""},{"$f":"IF(Liste_pièces!F781=\"\",\"\",Liste_pièces!F781)","v":""},{"$f":"IF(Liste_pièces!G781=\"\",\"\",Liste_pièces!G781)","v":""},{"$f":"IF(Liste_pièces!H781=\"\",\"\",Liste_pièces!H781)","v":""},{"$f":"IF(Liste_pièces!I781=\"\",\"\",Liste_pièces!I781)","v":""},{"$f":"IF(Liste_pièces!J781=\"\",\"\",Liste_pièces!J781)","v":""},{"$f":"IF(Liste_pièces!K781=\"\",\"\",Liste_pièces!K781)","v":""},{"$f":"IF(Liste_pièces!L781=\"\",\"\",Liste_pièces!L781)","v":""},{"$f":"IF(Liste_pièces!M781=\"\",\"\",Liste_pièces!M781)","v":""}]
[{"$f":"IF(Liste_pièces!A782=\"\",\"ZZZ\",Liste_pièces!A782)","v":"ZZZ"},{"$f":"IF(Liste_pièces!B782=\"\",\"ZZZ\",Liste_pièces!B782)","v":"ZZZ"},{"$f":"IF(Liste_pièces!C782=\"\",\"\",Liste_pièces!C782)","v":""},{"$f":"IF(Liste_pièces!D782=\"\",\"\",Liste_pièces!D782)","v":""},{"$f":"IF(Liste_pièces!E782=\"\",\"\",Liste_pièces!E782)","v":""},{"$f":"IF(Liste_pièces!F782=\"\",\"\",Liste_pièces!F782)","v":""},{"$f":"IF(Liste_pièces!G782=\"\",\"\",Liste_pièces!G782)","v":""},{"$f":"IF(Liste_pièces!H782=\"\",\"\",Liste_pièces!H782)","v":""},{"$f":"IF(Liste_pièces!I782=\"\",\"\",Liste_pièces!I782)","v":""},{"$f":"IF(Liste_pièces!J782=\"\",\"\",Liste_pièces!J782)","v":""},{"$f":"IF(Liste_pièces!K782=\"\",\"\",Liste_pièces!K782)","v":""},{"$f":"IF(Liste_pièces!L782=\"\",\"\",Liste_pièces!L782)","v":""},{"$f":"IF(Liste_pièces!M782=\"\",\"\",Liste_pièces!M782)","v":""}]
[{"$f":"IF(Liste_pièces!A783=\"\",\"ZZZ\",Liste_pièces!A783)","v":"ZZZ"},{"$f":"IF(Liste_pièces!B783=\"\",\"ZZZ\",Liste_pièces!B783)","v":"ZZZ"},{"$f":"IF(Liste_pièces!C783=\"\",\"\",Liste_pièces!C783)","v":""},{"$f":"IF(Liste_pièces!D783=\"\",\"\",Liste_pièces!D783)","v":""},{"$f":"IF(Liste_pièces!E783=\"\",\"\",Liste_pièces!E783)","v":""},{"$f":"IF(Liste_pièces!F783=\"\",\"\",Liste_pièces!F783)","v":""},{"$f":"IF(Liste_pièces!G783=\"\",\"\",Liste_pièces!G783)","v":""},{"$f":"IF(Liste_pièces!H783=\"\",\"\",Liste_pièces!H783)","v":""},{"$f":"IF(Liste_pièces!I783=\"\",\"\",Liste_pièces!I783)","v":""},{"$f":"IF(Liste_pièces!J783=\"\",\"\",Liste_pièces!J783)","v":""},{"$f":"IF(Liste_pièces!K783=\"\",\"\",Liste_pièces!K783)","v":""},{"$f":"IF(Liste_pièces!L783=\"\",\"\",Liste_pièces!L783)","v":""},{"$f":"IF(Liste_pièces!M783=\"\",\"\",Liste_pièces!M783)","v":""}]
[{"$f":"IF(Liste_pièces!A784=\"\",\"ZZZ\",Liste_pièces!A784)","v":"ZZZ"},{"$f":"IF(Liste_pièces!B784=\"\",\"ZZZ\",Liste_pièces!B784)","v":"ZZZ"},{"$f":"IF(Liste_pièces!C784=\"\",\"\",Liste_pièces!C784)","v":""},{"$f":"IF(Liste_pièces!D784=\"\",\"\",Liste_pièces!D784)","v":""},{"$f":"IF(Liste_pièces!E784=\"\",\"\",Liste_pièces!E784)","v":""},{"$f":"IF(Liste_pièces!F784=\"\",\"\",Liste_pièces!F784)","v":""},{"$f":"IF(Liste_pièces!G784=\"\",\"\",Liste_pièces!G784)","v":""},{"$f":"IF(Liste_pièces!H784=\"\",\"\",Liste_pièces!H784)","v":""},{"$f":"IF(Liste_pièces!I784=\"\",\"\",Liste_pièces!I784)","v":""},{"$f":"IF(Liste_pièces!J784=\"\",\"\",Liste_pièces!J784)","v":""},{"$f":"IF(Liste_pièces!K784=\"\",\"\",Liste_pièces!K784)","v":""},{"$f":"IF(Liste_pièces!L784=\"\",\"\",Liste_pièces!L784)","v":""},{"$f":"IF(Liste_pièces!M784=\"\",\"\",Liste_pièces!M784)","v":""}]
[{"$f":"IF(Liste_pièces!A785=\"\",\"ZZZ\",Liste_pièces!A785)","v":"ZZZ"},{"$f":"IF(Liste_pièces!B785=\"\",\"ZZZ\",Liste_pièces!B785)","v":"ZZZ"},{"$f":"IF(Liste_pièces!C785=\"\",\"\",Liste_pièces!C785)","v":""},{"$f":"IF(Liste_pièces!D785=\"\",\"\",Liste_pièces!D785)","v":""},{"$f":"IF(Liste_pièces!E785=\"\",\"\",Liste_pièces!E785)","v":""},{"$f":"IF(Liste_pièces!F785=\"\",\"\",Liste_pièces!F785)","v":""},{"$f":"IF(Liste_pièces!G785=\"\",\"\",Liste_pièces!G785)","v":""},{"$f":"IF(Liste_pièces!H785=\"\",\"\",Liste_pièces!H785)","v":""},{"$f":"IF(Liste_pièces!I785=\"\",\"\",Liste_pièces!I785)","v":""},{"$f":"IF(Liste_pièces!J785=\"\",\"\",Liste_pièces!J785)","v":""},{"$f":"IF(Liste_pièces!K785=\"\",\"\",Liste_pièces!K785)","v":""},{"$f":"IF(Liste_pièces!L785=\"\",\"\",Liste_pièces!L785)","v":""},{"$f":"IF(Liste_pièces!M785=\"\",\"\",Liste_pièces!M785)","v":""}]
[{"$f":"IF(Liste_pièces!A786=\"\",\"ZZZ\",Liste_pièces!A786)","v":"ZZZ"},{"$f":"IF(Liste_pièces!B786=\"\",\"ZZZ\",Liste_pièces!B786)","v":"ZZZ"},{"$f":"IF(Liste_pièces!C786=\"\",\"\",Liste_pièces!C786)","v":""},{"$f":"IF(Liste_pièces!D786=\"\",\"\",Liste_pièces!D786)","v":""},{"$f":"IF(Liste_pièces!E786=\"\",\"\",Liste_pièces!E786)","v":""},{"$f":"IF(Liste_pièces!F786=\"\",\"\",Liste_pièces!F786)","v":""},{"$f":"IF(Liste_pièces!G786=\"\",\"\",Liste_pièces!G786)","v":""},{"$f":"IF(Liste_pièces!H786=\"\",\"\",Liste_pièces!H786)","v":""},{"$f":"IF(Liste_pièces!I786=\"\",\"\",Liste_pièces!I786)","v":""},{"$f":"IF(Liste_pièces!J786=\"\",\"\",Liste_pièces!J786)","v":""},{"$f":"IF(Liste_pièces!K786=\"\",\"\",Liste_pièces!K786)","v":""},{"$f":"IF(Liste_pièces!L786=\"\",\"\",Liste_pièces!L786)","v":""},{"$f":"IF(Liste_pièces!M786=\"\",\"\",Liste_pièces!M786)","v":""}]
[{"$f":"IF(Liste_pièces!A787=\"\",\"ZZZ\",Liste_pièces!A787)","v":"ZZZ"},{"$f":"IF(Liste_pièces!B787=\"\",\"ZZZ\",Liste_pièces!B787)","v":"ZZZ"},{"$f":"IF(Liste_pièces!C787=\"\",\"\",Liste_pièces!C787)","v":""},{"$f":"IF(Liste_pièces!D787=\"\",\"\",Liste_pièces!D787)","v":""},{"$f":"IF(Liste_pièces!E787=\"\",\"\",Liste_pièces!E787)","v":""},{"$f":"IF(Liste_pièces!F787=\"\",\"\",Liste_pièces!F787)","v":""},{"$f":"IF(Liste_pièces!G787=\"\",\"\",Liste_pièces!G787)","v":""},{"$f":"IF(Liste_pièces!H787=\"\",\"\",Liste_pièces!H787)","v":""},{"$f":"IF(Liste_pièces!I787=\"\",\"\",Liste_pièces!I787)","v":""},{"$f":"IF(Liste_pièces!J787=\"\",\"\",Liste_pièces!J787)","v":""},{"$f":"IF(Liste_pièces!K787=\"\",\"\",Liste_pièces!K787)","v":""},{"$f":"IF(Liste_pièces!L787=\"\",\"\",Liste_pièces!L787)","v":""},{"$f":"IF(Liste_pièces!M787=\"\",\"\",Liste_pièces!M787)","v":""}]
[{"$f":"IF(Liste_pièces!A788=\"\",\"ZZZ\",Liste_pièces!A788)","v":"ZZZ"},{"$f":"IF(Liste_pièces!B788=\"\",\"ZZZ\",Liste_pièces!B788)","v":"ZZZ"},{"$f":"IF(Liste_pièces!C788=\"\",\"\",Liste_pièces!C788)","v":""},{"$f":"IF(Liste_pièces!D788=\"\",\"\",Liste_pièces!D788)","v":""},{"$f":"IF(Liste_pièces!E788=\"\",\"\",Liste_pièces!E788)","v":""},{"$f":"IF(Liste_pièces!F788=\"\",\"\",Liste_pièces!F788)","v":""},{"$f":"IF(Liste_pièces!G788=\"\",\"\",Liste_pièces!G788)","v":""},{"$f":"IF(Liste_pièces!H788=\"\",\"\",Liste_pièces!H788)","v":""},{"$f":"IF(Liste_pièces!I788=\"\",\"\",Liste_pièces!I788)","v":""},{"$f":"IF(Liste_pièces!J788=\"\",\"\",Liste_pièces!J788)","v":""},{"$f":"IF(Liste_pièces!K788=\"\",\"\",Liste_pièces!K788)","v":""},{"$f":"IF(Liste_pièces!L788=\"\",\"\",Liste_pièces!L788)","v":""},{"$f":"IF(Liste_pièces!M788=\"\",\"\",Liste_pièces!M788)","v":""}]
[{"$f":"IF(Liste_pièces!A789=\"\",\"ZZZ\",Liste_pièces!A789)","v":"ZZZ"},{"$f":"IF(Liste_pièces!B789=\"\",\"ZZZ\",Liste_pièces!B789)","v":"ZZZ"},{"$f":"IF(Liste_pièces!C789=\"\",\"\",Liste_pièces!C789)","v":""},{"$f":"IF(Liste_pièces!D789=\"\",\"\",Liste_pièces!D789)","v":""},{"$f":"IF(Liste_pièces!E789=\"\",\"\",Liste_pièces!E789)","v":""},{"$f":"IF(Liste_pièces!F789=\"\",\"\",Liste_pièces!F789)","v":""},{"$f":"IF(Liste_pièces!G789=\"\",\"\",Liste_pièces!G789)","v":""},{"$f":"IF(Liste_pièces!H789=\"\",\"\",Liste_pièces!H789)","v":""},{"$f":"IF(Liste_pièces!I789=\"\",\"\",Liste_pièces!I789)","v":""},{"$f":"IF(Liste_pièces!J789=\"\",\"\",Liste_pièces!J789)","v":""},{"$f":"IF(Liste_pièces!K789=\"\",\"\",Liste_pièces!K789)","v":""},{"$f":"IF(Liste_pièces!L789=\"\",\"\",Liste_pièces!L789)","v":""},{"$f":"IF(Liste_pièces!M789=\"\",\"\",Liste_pièces!M789)","v":""}]
[{"$f":"IF(Liste_pièces!A790=\"\",\"ZZZ\",Liste_pièces!A790)","v":"ZZZ"},{"$f":"IF(Liste_pièces!B790=\"\",\"ZZZ\",Liste_pièces!B790)","v":"ZZZ"},{"$f":"IF(Liste_pièces!C790=\"\",\"\",Liste_pièces!C790)","v":""},{"$f":"IF(Liste_pièces!D790=\"\",\"\",Liste_pièces!D790)","v":""},{"$f":"IF(Liste_pièces!E790=\"\",\"\",Liste_pièces!E790)","v":""},{"$f":"IF(Liste_pièces!F790=\"\",\"\",Liste_pièces!F790)","v":""},{"$f":"IF(Liste_pièces!G790=\"\",\"\",Liste_pièces!G790)","v":""},{"$f":"IF(Liste_pièces!H790=\"\",\"\",Liste_pièces!H790)","v":""},{"$f":"IF(Liste_pièces!I790=\"\",\"\",Liste_pièces!I790)","v":""},{"$f":"IF(Liste_pièces!J790=\"\",\"\",Liste_pièces!J790)","v":""},{"$f":"IF(Liste_pièces!K790=\"\",\"\",Liste_pièces!K790)","v":""},{"$f":"IF(Liste_pièces!L790=\"\",\"\",Liste_pièces!L790)","v":""},{"$f":"IF(Liste_pièces!M790=\"\",\"\",Liste_pièces!M790)","v":""}]
[{"$f":"IF(Liste_pièces!A791=\"\",\"ZZZ\",Liste_pièces!A791)","v":"ZZZ"},{"$f":"IF(Liste_pièces!B791=\"\",\"ZZZ\",Liste_pièces!B791)","v":"ZZZ"},{"$f":"IF(Liste_pièces!C791=\"\",\"\",Liste_pièces!C791)","v":""},{"$f":"IF(Liste_pièces!D791=\"\",\"\",Liste_pièces!D791)","v":""},{"$f":"IF(Liste_pièces!E791=\"\",\"\",Liste_pièces!E791)","v":""},{"$f":"IF(Liste_pièces!F791=\"\",\"\",Liste_pièces!F791)","v":""},{"$f":"IF(Liste_pièces!G791=\"\",\"\",Liste_pièces!G791)","v":""},{"$f":"IF(Liste_pièces!H791=\"\",\"\",Liste_pièces!H791)","v":""},{"$f":"IF(Liste_pièces!I791=\"\",\"\",Liste_pièces!I791)","v":""},{"$f":"IF(Liste_pièces!J791=\"\",\"\",Liste_pièces!J791)","v":""},{"$f":"IF(Liste_pièces!K791=\"\",\"\",Liste_pièces!K791)","v":""},{"$f":"IF(Liste_pièces!L791=\"\",\"\",Liste_pièces!L791)","v":""},{"$f":"IF(Liste_pièces!M791=\"\",\"\",Liste_pièces!M791)","v":""}]
[{"$f":"IF(Liste_pièces!A792=\"\",\"ZZZ\",Liste_pièces!A792)","v":"ZZZ"},{"$f":"IF(Liste_pièces!B792=\"\",\"ZZZ\",Liste_pièces!B792)","v":"ZZZ"},{"$f":"IF(Liste_pièces!C792=\"\",\"\",Liste_pièces!C792)","v":""},{"$f":"IF(Liste_pièces!D792=\"\",\"\",Liste_pièces!D792)","v":""},{"$f":"IF(Liste_pièces!E792=\"\",\"\",Liste_pièces!E792)","v":""},{"$f":"IF(Liste_pièces!F792=\"\",\"\",Liste_pièces!F792)","v":""},{"$f":"IF(Liste_pièces!G792=\"\",\"\",Liste_pièces!G792)","v":""},{"$f":"IF(Liste_pièces!H792=\"\",\"\",Liste_pièces!H792)","v":""},{"$f":"IF(Liste_pièces!I792=\"\",\"\",Liste_pièces!I792)","v":""},{"$f":"IF(Liste_pièces!J792=\"\",\"\",Liste_pièces!J792)","v":""},{"$f":"IF(Liste_pièces!K792=\"\",\"\",Liste_pièces!K792)","v":""},{"$f":"IF(Liste_pièces!L792=\"\",\"\",Liste_pièces!L792)","v":""},{"$f":"IF(Liste_pièces!M792=\"\",\"\",Liste_pièces!M792)","v":""}]
[{"$f":"IF(Liste_pièces!A793=\"\",\"ZZZ\",Liste_pièces!A793)","v":"ZZZ"},{"$f":"IF(Liste_pièces!B793=\"\",\"ZZZ\",Liste_pièces!B793)","v":"ZZZ"},{"$f":"IF(Liste_pièces!C793=\"\",\"\",Liste_pièces!C793)","v":""},{"$f":"IF(Liste_pièces!D793=\"\",\"\",Liste_pièces!D793)","v":""},{"$f":"IF(Liste_pièces!E793=\"\",\"\",Liste_pièces!E793)","v":""},{"$f":"IF(Liste_pièces!F793=\"\",\"\",Liste_pièces!F793)","v":""},{"$f":"IF(Liste_pièces!G793=\"\",\"\",Liste_pièces!G793)","v":""},{"$f":"IF(Liste_pièces!H793=\"\",\"\",Liste_pièces!H793)","v":""},{"$f":"IF(Liste_pièces!I793=\"\",\"\",Liste_pièces!I793)","v":""},{"$f":"IF(Liste_pièces!J793=\"\",\"\",Liste_pièces!J793)","v":""},{"$f":"IF(Liste_pièces!K793=\"\",\"\",Liste_pièces!K793)","v":""},{"$f":"IF(Liste_pièces!L793=\"\",\"\",Liste_pièces!L793)","v":""},{"$f":"IF(Liste_pièces!M793=\"\",\"\",Liste_pièces!M793)","v":""}]
[{"$f":"IF(Liste_pièces!A794=\"\",\"ZZZ\",Liste_pièces!A794)","v":"ZZZ"},{"$f":"IF(Liste_pièces!B794=\"\",\"ZZZ\",Liste_pièces!B794)","v":"ZZZ"},{"$f":"IF(Liste_pièces!C794=\"\",\"\",Liste_pièces!C794)","v":""},{"$f":"IF(Liste_pièces!D794=\"\",\"\",Liste_pièces!D794)","v":""},{"$f":"IF(Liste_pièces!E794=\"\",\"\",Liste_pièces!E794)","v":""},{"$f":"IF(Liste_pièces!F794=\"\",\"\",Liste_pièces!F794)","v":""},{"$f":"IF(Liste_pièces!G794=\"\",\"\",Liste_pièces!G794)","v":""},{"$f":"IF(Liste_pièces!H794=\"\",\"\",Liste_pièces!H794)","v":""},{"$f":"IF(Liste_pièces!I794=\"\",\"\",Liste_pièces!I794)","v":""},{"$f":"IF(Liste_pièces!J794=\"\",\"\",Liste_pièces!J794)","v":""},{"$f":"IF(Liste_pièces!K794=\"\",\"\",Liste_pièces!K794)","v":""},{"$f":"IF(Liste_pièces!L794=\"\",\"\",Liste_pièces!L794)","v":""},{"$f":"IF(Liste_pièces!M794=\"\",\"\",Liste_pièces!M794)","v":""}]
[{"$f":"IF(Liste_pièces!A795=\"\",\"ZZZ\",Liste_pièces!A795)","v":"ZZZ"},{"$f":"IF(Liste_pièces!B795=\"\",\"ZZZ\",Liste_pièces!B795)","v":"ZZZ"},{"$f":"IF(Liste_pièces!C795=\"\",\"\",Liste_pièces!C795)","v":""},{"$f":"IF(Liste_pièces!D795=\"\",\"\",Liste_pièces!D795)","v":""},{"$f":"IF(Liste_pièces!E795=\"\",\"\",Liste_pièces!E795)","v":""},{"$f":"IF(Liste_pièces!F795=\"\",\"\",Liste_pièces!F795)","v":""},{"$f":"IF(Liste_pièces!G795=\"\",\"\",Liste_pièces!G795)","v":""},{"$f":"IF(Liste_pièces!H795=\"\",\"\",Liste_pièces!H795)","v":""},{"$f":"IF(Liste_pièces!I795=\"\",\"\",Liste_pièces!I795)","v":""},{"$f":"IF(Liste_pièces!J795=\"\",\"\",Liste_pièces!J795)","v":""},{"$f":"IF(Liste_pièces!K795=\"\",\"\",Liste_pièces!K795)","v":""},{"$f":"IF(Liste_pièces!L795=\"\",\"\",Liste_pièces!L795)","v":""},{"$f":"IF(Liste_pièces!M795=\"\",\"\",Liste_pièces!M795)","v":""}]
[{"$f":"IF(Liste_pièces!A796=\"\",\"ZZZ\",Liste_pièces!A796)","v":"ZZZ"},{"$f":"IF(Liste_pièces!B796=\"\",\"ZZZ\",Liste_pièces!B796)","v":"ZZZ"},{"$f":"IF(Liste_pièces!C796=\"\",\"\",Liste_pièces!C796)","v":""},{"$f":"IF(Liste_pièces!D796=\"\",\"\",Liste_pièces!D796)","v":""},{"$f":"IF(Liste_pièces!E796=\"\",\"\",Liste_pièces!E796)","v":""},{"$f":"IF(Liste_pièces!F796=\"\",\"\",Liste_pièces!F796)","v":""},{"$f":"IF(Liste_pièces!G796=\"\",\"\",Liste_pièces!G796)","v":""},{"$f":"IF(Liste_pièces!H796=\"\",\"\",Liste_pièces!H796)","v":""},{"$f":"IF(Liste_pièces!I796=\"\",\"\",Liste_pièces!I796)","v":""},{"$f":"IF(Liste_pièces!J796=\"\",\"\",Liste_pièces!J796)","v":""},{"$f":"IF(Liste_pièces!K796=\"\",\"\",Liste_pièces!K796)","v":""},{"$f":"IF(Liste_pièces!L796=\"\",\"\",Liste_pièces!L796)","v":""},{"$f":"IF(Liste_pièces!M796=\"\",\"\",Liste_pièces!M796)","v":""}]
[{"$f":"IF(Liste_pièces!A797=\"\",\"ZZZ\",Liste_pièces!A797)","v":"ZZZ"},{"$f":"IF(Liste_pièces!B797=\"\",\"ZZZ\",Liste_pièces!B797)","v":"ZZZ"},{"$f":"IF(Liste_pièces!C797=\"\",\"\",Liste_pièces!C797)","v":""},{"$f":"IF(Liste_pièces!D797=\"\",\"\",Liste_pièces!D797)","v":""},{"$f":"IF(Liste_pièces!E797=\"\",\"\",Liste_pièces!E797)","v":""},{"$f":"IF(Liste_pièces!F797=\"\",\"\",Liste_pièces!F797)","v":""},{"$f":"IF(Liste_pièces!G797=\"\",\"\",Liste_pièces!G797)","v":""},{"$f":"IF(Liste_pièces!H797=\"\",\"\",Liste_pièces!H797)","v":""},{"$f":"IF(Liste_pièces!I797=\"\",\"\",Liste_pièces!I797)","v":""},{"$f":"IF(Liste_pièces!J797=\"\",\"\",Liste_pièces!J797)","v":""},{"$f":"IF(Liste_pièces!K797=\"\",\"\",Liste_pièces!K797)","v":""},{"$f":"IF(Liste_pièces!L797=\"\",\"\",Liste_pièces!L797)","v":""},{"$f":"IF(Liste_pièces!M797=\"\",\"\",Liste_pièces!M797)","v":""}]
[{"$f":"IF(Liste_pièces!A798=\"\",\"ZZZ\",Liste_pièces!A798)","v":"ZZZ"},{"$f":"IF(Liste_pièces!B798=\"\",\"ZZZ\",Liste_pièces!B798)","v":"ZZZ"},{"$f":"IF(Liste_pièces!C798=\"\",\"\",Liste_pièces!C798)","v":""},{"$f":"IF(Liste_pièces!D798=\"\",\"\",Liste_pièces!D798)","v":""},{"$f":"IF(Liste_pièces!E798=\"\",\"\",Liste_pièces!E798)","v":""},{"$f":"IF(Liste_pièces!F798=\"\",\"\",Liste_pièces!F798)","v":""},{"$f":"IF(Liste_pièces!G798=\"\",\"\",Liste_pièces!G798)","v":""},{"$f":"IF(Liste_pièces!H798=\"\",\"\",Liste_pièces!H798)","v":""},{"$f":"IF(Liste_pièces!I798=\"\",\"\",Liste_pièces!I798)","v":""},{"$f":"IF(Liste_pièces!J798=\"\",\"\",Liste_pièces!J798)","v":""},{"$f":"IF(Liste_pièces!K798=\"\",\"\",Liste_pièces!K798)","v":""},{"$f":"IF(Liste_pièces!L798=\"\",\"\",Liste_pièces!L798)","v":""},{"$f":"IF(Liste_pièces!M798=\"\",\"\",Liste_pièces!M798)","v":""}]
[{"$f":"IF(Liste_pièces!A799=\"\",\"ZZZ\",Liste_pièces!A799)","v":"ZZZ"},{"$f":"IF(Liste_pièces!B799=\"\",\"ZZZ\",Liste_pièces!B799)","v":"ZZZ"},{"$f":"IF(Liste_pièces!C799=\"\",\"\",Liste_pièces!C799)","v":""},{"$f":"IF(Liste_pièces!D799=\"\",\"\",Liste_pièces!D799)","v":""},{"$f":"IF(Liste_pièces!E799=\"\",\"\",Liste_pièces!E799)","v":""},{"$f":"IF(Liste_pièces!F799=\"\",\"\",Liste_pièces!F799)","v":""},{"$f":"IF(Liste_pièces!G799=\"\",\"\",Liste_pièces!G799)","v":""},{"$f":"IF(Liste_pièces!H799=\"\",\"\",Liste_pièces!H799)","v":""},{"$f":"IF(Liste_pièces!I799=\"\",\"\",Liste_pièces!I799)","v":""},{"$f":"IF(Liste_pièces!J799=\"\",\"\",Liste_pièces!J799)","v":""},{"$f":"IF(Liste_pièces!K799=\"\",\"\",Liste_pièces!K799)","v":""},{"$f":"IF(Liste_pièces!L799=\"\",\"\",Liste_pièces!L799)","v":""},{"$f":"IF(Liste_pièces!M799=\"\",\"\",Liste_pièces!M799)","v":""}]
[{"$f":"IF(Liste_pièces!A800=\"\",\"ZZZ\",Liste_pièces!A800)","v":"ZZZ"},{"$f":"IF(Liste_pièces!B800=\"\",\"ZZZ\",Liste_pièces!B800)","v":"ZZZ"},{"$f":"IF(Liste_pièces!C800=\"\",\"\",Liste_pièces!C800)","v":""},{"$f":"IF(Liste_pièces!D800=\"\",\"\",Liste_pièces!D800)","v":""},{"$f":"IF(Liste_pièces!E800=\"\",\"\",Liste_pièces!E800)","v":""},{"$f":"IF(Liste_pièces!F800=\"\",\"\",Liste_pièces!F800)","v":""},{"$f":"IF(Liste_pièces!G800=\"\",\"\",Liste_pièces!G800)","v":""},{"$f":"IF(Liste_pièces!H800=\"\",\"\",Liste_pièces!H800)","v":""},{"$f":"IF(Liste_pièces!I800=\"\",\"\",Liste_pièces!I800)","v":""},{"$f":"IF(Liste_pièces!J800=\"\",\"\",Liste_pièces!J800)","v":""},{"$f":"IF(Liste_pièces!K800=\"\",\"\",Liste_pièces!K800)","v":""},{"$f":"IF(Liste_pièces!L800=\"\",\"\",Liste_pièces!L800)","v":""},{"$f":"IF(Liste_pièces!M800=\"\",\"\",Liste_pièces!M800)","v":""}]
[{"$f":"IF(Liste_pièces!A801=\"\",\"ZZZ\",Liste_pièces!A801)","v":"ZZZ"},{"$f":"IF(Liste_pièces!B801=\"\",\"ZZZ\",Liste_pièces!B801)","v":"ZZZ"},{"$f":"IF(Liste_pièces!C801=\"\",\"\",Liste_pièces!C801)","v":""},{"$f":"IF(Liste_pièces!D801=\"\",\"\",Liste_pièces!D801)","v":""},{"$f":"IF(Liste_pièces!E801=\"\",\"\",Liste_pièces!E801)","v":""},{"$f":"IF(Liste_pièces!F801=\"\",\"\",Liste_pièces!F801)","v":""},{"$f":"IF(Liste_pièces!G801=\"\",\"\",Liste_pièces!G801)","v":""},{"$f":"IF(Liste_pièces!H801=\"\",\"\",Liste_pièces!H801)","v":""},{"$f":"IF(Liste_pièces!I801=\"\",\"\",Liste_pièces!I801)","v":""},{"$f":"IF(Liste_pièces!J801=\"\",\"\",Liste_pièces!J801)","v":""},{"$f":"IF(Liste_pièces!K801=\"\",\"\",Liste_pièces!K801)","v":""},{"$f":"IF(Liste_pièces!L801=\"\",\"\",Liste_pièces!L801)","v":""},{"$f":"IF(Liste_pièces!M801=\"\",\"\",Liste_pièces!M801)","v":""}]
[{"$f":"IF(Liste_pièces!A802=\"\",\"ZZZ\",Liste_pièces!A802)","v":"ZZZ"},{"$f":"IF(Liste_pièces!B802=\"\",\"ZZZ\",Liste_pièces!B802)","v":"ZZZ"},{"$f":"IF(Liste_pièces!C802=\"\",\"\",Liste_pièces!C802)","v":""},{"$f":"IF(Liste_pièces!D802=\"\",\"\",Liste_pièces!D802)","v":""},{"$f":"IF(Liste_pièces!E802=\"\",\"\",Liste_pièces!E802)","v":""},{"$f":"IF(Liste_pièces!F802=\"\",\"\",Liste_pièces!F802)","v":""},{"$f":"IF(Liste_pièces!G802=\"\",\"\",Liste_pièces!G802)","v":""},{"$f":"IF(Liste_pièces!H802=\"\",\"\",Liste_pièces!H802)","v":""},{"$f":"IF(Liste_pièces!I802=\"\",\"\",Liste_pièces!I802)","v":""},{"$f":"IF(Liste_pièces!J802=\"\",\"\",Liste_pièces!J802)","v":""},{"$f":"IF(Liste_pièces!K802=\"\",\"\",Liste_pièces!K802)","v":""},{"$f":"IF(Liste_pièces!L802=\"\",\"\",Liste_pièces!L802)","v":""},{"$f":"IF(Liste_pièces!M802=\"\",\"\",Liste_pièces!M802)","v":""}]
[{"$f":"IF(Liste_pièces!A803=\"\",\"ZZZ\",Liste_pièces!A803)","v":"ZZZ"},{"$f":"IF(Liste_pièces!B803=\"\",\"ZZZ\",Liste_pièces!B803)","v":"ZZZ"},{"$f":"IF(Liste_pièces!C803=\"\",\"\",Liste_pièces!C803)","v":""},{"$f":"IF(Liste_pièces!D803=\"\",\"\",Liste_pièces!D803)","v":""},{"$f":"IF(Liste_pièces!E803=\"\",\"\",Liste_pièces!E803)","v":""},{"$f":"IF(Liste_pièces!F803=\"\",\"\",Liste_pièces!F803)","v":""},{"$f":"IF(Liste_pièces!G803=\"\",\"\",Liste_pièces!G803)","v":""},{"$f":"IF(Liste_pièces!H803=\"\",\"\",Liste_pièces!H803)","v":""},{"$f":"IF(Liste_pièces!I803=\"\",\"\",Liste_pièces!I803)","v":""},{"$f":"IF(Liste_pièces!J803=\"\",\"\",Liste_pièces!J803)","v":""},{"$f":"IF(Liste_pièces!K803=\"\",\"\",Liste_pièces!K803)","v":""},{"$f":"IF(Liste_pièces!L803=\"\",\"\",Liste_pièces!L803)","v":""},{"$f":"IF(Liste_pièces!M803=\"\",\"\",Liste_pièces!M803)","v":""}]
[{"$f":"IF(Liste_pièces!A804=\"\",\"ZZZ\",Liste_pièces!A804)","v":"ZZZ"},{"$f":"IF(Liste_pièces!B804=\"\",\"ZZZ\",Liste_pièces!B804)","v":"ZZZ"},{"$f":"IF(Liste_pièces!C804=\"\",\"\",Liste_pièces!C804)","v":""},{"$f":"IF(Liste_pièces!D804=\"\",\"\",Liste_pièces!D804)","v":""},{"$f":"IF(Liste_pièces!E804=\"\",\"\",Liste_pièces!E804)","v":""},{"$f":"IF(Liste_pièces!F804=\"\",\"\",Liste_pièces!F804)","v":""},{"$f":"IF(Liste_pièces!G804=\"\",\"\",Liste_pièces!G804)","v":""},{"$f":"IF(Liste_pièces!H804=\"\",\"\",Liste_pièces!H804)","v":""},{"$f":"IF(Liste_pièces!I804=\"\",\"\",Liste_pièces!I804)","v":""},{"$f":"IF(Liste_pièces!J804=\"\",\"\",Liste_pièces!J804)","v":""},{"$f":"IF(Liste_pièces!K804=\"\",\"\",Liste_pièces!K804)","v":""},{"$f":"IF(Liste_pièces!L804=\"\",\"\",Liste_pièces!L804)","v":""},{"$f":"IF(Liste_pièces!M804=\"\",\"\",Liste_pièces!M804)","v":""}]
[{"$f":"IF(Liste_pièces!A805=\"\",\"ZZZ\",Liste_pièces!A805)","v":"ZZZ"},{"$f":"IF(Liste_pièces!B805=\"\",\"ZZZ\",Liste_pièces!B805)","v":"ZZZ"},{"$f":"IF(Liste_pièces!C805=\"\",\"\",Liste_pièces!C805)","v":""},{"$f":"IF(Liste_pièces!D805=\"\",\"\",Liste_pièces!D805)","v":""},{"$f":"IF(Liste_pièces!E805=\"\",\"\",Liste_pièces!E805)","v":""},{"$f":"IF(Liste_pièces!F805=\"\",\"\",Liste_pièces!F805)","v":""},{"$f":"IF(Liste_pièces!G805=\"\",\"\",Liste_pièces!G805)","v":""},{"$f":"IF(Liste_pièces!H805=\"\",\"\",Liste_pièces!H805)","v":""},{"$f":"IF(Liste_pièces!I805=\"\",\"\",Liste_pièces!I805)","v":""},{"$f":"IF(Liste_pièces!J805=\"\",\"\",Liste_pièces!J805)","v":""},{"$f":"IF(Liste_pièces!K805=\"\",\"\",Liste_pièces!K805)","v":""},{"$f":"IF(Liste_pièces!L805=\"\",\"\",Liste_pièces!L805)","v":""},{"$f":"IF(Liste_pièces!M805=\"\",\"\",Liste_pièces!M805)","v":""}]
[{"$f":"IF(Liste_pièces!A806=\"\",\"ZZZ\",Liste_pièces!A806)","v":"ZZZ"},{"$f":"IF(Liste_pièces!B806=\"\",\"ZZZ\",Liste_pièces!B806)","v":"ZZZ"},{"$f":"IF(Liste_pièces!C806=\"\",\"\",Liste_pièces!C806)","v":""},{"$f":"IF(Liste_pièces!D806=\"\",\"\",Liste_pièces!D806)","v":""},{"$f":"IF(Liste_pièces!E806=\"\",\"\",Liste_pièces!E806)","v":""},{"$f":"IF(Liste_pièces!F806=\"\",\"\",Liste_pièces!F806)","v":""},{"$f":"IF(Liste_pièces!G806=\"\",\"\",Liste_pièces!G806)","v":""},{"$f":"IF(Liste_pièces!H806=\"\",\"\",Liste_pièces!H806)","v":""},{"$f":"IF(Liste_pièces!I806=\"\",\"\",Liste_pièces!I806)","v":""},{"$f":"IF(Liste_pièces!J806=\"\",\"\",Liste_pièces!J806)","v":""},{"$f":"IF(Liste_pièces!K806=\"\",\"\",Liste_pièces!K806)","v":""},{"$f":"IF(Liste_pièces!L806=\"\",\"\",Liste_pièces!L806)","v":""},{"$f":"IF(Liste_pièces!M806=\"\",\"\",Liste_pièces!M806)","v":""}]
[{"$f":"IF(Liste_pièces!A807=\"\",\"ZZZ\",Liste_pièces!A807)","v":"ZZZ"},{"$f":"IF(Liste_pièces!B807=\"\",\"ZZZ\",Liste_pièces!B807)","v":"ZZZ"},{"$f":"IF(Liste_pièces!C807=\"\",\"\",Liste_pièces!C807)","v":""},{"$f":"IF(Liste_pièces!D807=\"\",\"\",Liste_pièces!D807)","v":""},{"$f":"IF(Liste_pièces!E807=\"\",\"\",Liste_pièces!E807)","v":""},{"$f":"IF(Liste_pièces!F807=\"\",\"\",Liste_pièces!F807)","v":""},{"$f":"IF(Liste_pièces!G807=\"\",\"\",Liste_pièces!G807)","v":""},{"$f":"IF(Liste_pièces!H807=\"\",\"\",Liste_pièces!H807)","v":""},{"$f":"IF(Liste_pièces!I807=\"\",\"\",Liste_pièces!I807)","v":""},{"$f":"IF(Liste_pièces!J807=\"\",\"\",Liste_pièces!J807)","v":""},{"$f":"IF(Liste_pièces!K807=\"\",\"\",Liste_pièces!K807)","v":""},{"$f":"IF(Liste_pièces!L807=\"\",\"\",Liste_pièces!L807)","v":""},{"$f":"IF(Liste_pièces!M807=\"\",\"\",Liste_pièces!M807)","v":""}]
[{"$f":"IF(Liste_pièces!A808=\"\",\"ZZZ\",Liste_pièces!A808)","v":"ZZZ"},{"$f":"IF(Liste_pièces!B808=\"\",\"ZZZ\",Liste_pièces!B808)","v":"ZZZ"},{"$f":"IF(Liste_pièces!C808=\"\",\"\",Liste_pièces!C808)","v":""},{"$f":"IF(Liste_pièces!D808=\"\",\"\",Liste_pièces!D808)","v":""},{"$f":"IF(Liste_pièces!E808=\"\",\"\",Liste_pièces!E808)","v":""},{"$f":"IF(Liste_pièces!F808=\"\",\"\",Liste_pièces!F808)","v":""},{"$f":"IF(Liste_pièces!G808=\"\",\"\",Liste_pièces!G808)","v":""},{"$f":"IF(Liste_pièces!H808=\"\",\"\",Liste_pièces!H808)","v":""},{"$f":"IF(Liste_pièces!I808=\"\",\"\",Liste_pièces!I808)","v":""},{"$f":"IF(Liste_pièces!J808=\"\",\"\",Liste_pièces!J808)","v":""},{"$f":"IF(Liste_pièces!K808=\"\",\"\",Liste_pièces!K808)","v":""},{"$f":"IF(Liste_pièces!L808=\"\",\"\",Liste_pièces!L808)","v":""},{"$f":"IF(Liste_pièces!M808=\"\",\"\",Liste_pièces!M808)","v":""}]
[{"$f":"IF(Liste_pièces!A809=\"\",\"ZZZ\",Liste_pièces!A809)","v":"ZZZ"},{"$f":"IF(Liste_pièces!B809=\"\",\"ZZZ\",Liste_pièces!B809)","v":"ZZZ"},{"$f":"IF(Liste_pièces!C809=\"\",\"\",Liste_pièces!C809)","v":""},{"$f":"IF(Liste_pièces!D809=\"\",\"\",Liste_pièces!D809)","v":""},{"$f":"IF(Liste_pièces!E809=\"\",\"\",Liste_pièces!E809)","v":""},{"$f":"IF(Liste_pièces!F809=\"\",\"\",Liste_pièces!F809)","v":""},{"$f":"IF(Liste_pièces!G809=\"\",\"\",Liste_pièces!G809)","v":""},{"$f":"IF(Liste_pièces!H809=\"\",\"\",Liste_pièces!H809)","v":""},{"$f":"IF(Liste_pièces!I809=\"\",\"\",Liste_pièces!I809)","v":""},{"$f":"IF(Liste_pièces!J809=\"\",\"\",Liste_pièces!J809)","v":""},{"$f":"IF(Liste_pièces!K809=\"\",\"\",Liste_pièces!K809)","v":""},{"$f":"IF(Liste_pièces!L809=\"\",\"\",Liste_pièces!L809)","v":""},{"$f":"IF(Liste_pièces!M809=\"\",\"\",Liste_pièces!M809)","v":""}]
[{"$f":"IF(Liste_pièces!A810=\"\",\"ZZZ\",Liste_pièces!A810)","v":"ZZZ"},{"$f":"IF(Liste_pièces!B810=\"\",\"ZZZ\",Liste_pièces!B810)","v":"ZZZ"},{"$f":"IF(Liste_pièces!C810=\"\",\"\",Liste_pièces!C810)","v":""},{"$f":"IF(Liste_pièces!D810=\"\",\"\",Liste_pièces!D810)","v":""},{"$f":"IF(Liste_pièces!E810=\"\",\"\",Liste_pièces!E810)","v":""},{"$f":"IF(Liste_pièces!F810=\"\",\"\",Liste_pièces!F810)","v":""},{"$f":"IF(Liste_pièces!G810=\"\",\"\",Liste_pièces!G810)","v":""},{"$f":"IF(Liste_pièces!H810=\"\",\"\",Liste_pièces!H810)","v":""},{"$f":"IF(Liste_pièces!I810=\"\",\"\",Liste_pièces!I810)","v":""},{"$f":"IF(Liste_pièces!J810=\"\",\"\",Liste_pièces!J810)","v":""},{"$f":"IF(Liste_pièces!K810=\"\",\"\",Liste_pièces!K810)","v":""},{"$f":"IF(Liste_pièces!L810=\"\",\"\",Liste_pièces!L810)","v":""},{"$f":"IF(Liste_pièces!M810=\"\",\"\",Liste_pièces!M810)","v":""}]
[{"$f":"IF(Liste_pièces!A811=\"\",\"ZZZ\",Liste_pièces!A811)","v":"ZZZ"},{"$f":"IF(Liste_pièces!B811=\"\",\"ZZZ\",Liste_pièces!B811)","v":"ZZZ"},{"$f":"IF(Liste_pièces!C811=\"\",\"\",Liste_pièces!C811)","v":""},{"$f":"IF(Liste_pièces!D811=\"\",\"\",Liste_pièces!D811)","v":""},{"$f":"IF(Liste_pièces!E811=\"\",\"\",Liste_pièces!E811)","v":""},{"$f":"IF(Liste_pièces!F811=\"\",\"\",Liste_pièces!F811)","v":""},{"$f":"IF(Liste_pièces!G811=\"\",\"\",Liste_pièces!G811)","v":""},{"$f":"IF(Liste_pièces!H811=\"\",\"\",Liste_pièces!H811)","v":""},{"$f":"IF(Liste_pièces!I811=\"\",\"\",Liste_pièces!I811)","v":""},{"$f":"IF(Liste_pièces!J811=\"\",\"\",Liste_pièces!J811)","v":""},{"$f":"IF(Liste_pièces!K811=\"\",\"\",Liste_pièces!K811)","v":""},{"$f":"IF(Liste_pièces!L811=\"\",\"\",Liste_pièces!L811)","v":""},{"$f":"IF(Liste_pièces!M811=\"\",\"\",Liste_pièces!M811)","v":""}]
[{"$f":"IF(Liste_pièces!A812=\"\",\"ZZZ\",Liste_pièces!A812)","v":"ZZZ"},{"$f":"IF(Liste_pièces!B812=\"\",\"ZZZ\",Liste_pièces!B812)","v":"ZZZ"},{"$f":"IF(Liste_pièces!C812=\"\",\"\",Liste_pièces!C812)","v":""},{"$f":"IF(Liste_pièces!D812=\"\",\"\",Liste_pièces!D812)","v":""},{"$f":"IF(Liste_pièces!E812=\"\",\"\",Liste_pièces!E812)","v":""},{"$f":"IF(Liste_pièces!F812=\"\",\"\",Liste_pièces!F812)","v":""},{"$f":"IF(Liste_pièces!G812=\"\",\"\",Liste_pièces!G812)","v":""},{"$f":"IF(Liste_pièces!H812=\"\",\"\",Liste_pièces!H812)","v":""},{"$f":"IF(Liste_pièces!I812=\"\",\"\",Liste_pièces!I812)","v":""},{"$f":"IF(Liste_pièces!J812=\"\",\"\",Liste_pièces!J812)","v":""},{"$f":"IF(Liste_pièces!K812=\"\",\"\",Liste_pièces!K812)","v":""},{"$f":"IF(Liste_pièces!L812=\"\",\"\",Liste_pièces!L812)","v":""},{"$f":"IF(Liste_pièces!M812=\"\",\"\",Liste_pièces!M812)","v":""}]
[{"$f":"IF(Liste_pièces!A813=\"\",\"ZZZ\",Liste_pièces!A813)","v":"ZZZ"},{"$f":"IF(Liste_pièces!B813=\"\",\"ZZZ\",Liste_pièces!B813)","v":"ZZZ"},{"$f":"IF(Liste_pièces!C813=\"\",\"\",Liste_pièces!C813)","v":""},{"$f":"IF(Liste_pièces!D813=\"\",\"\",Liste_pièces!D813)","v":""},{"$f":"IF(Liste_pièces!E813=\"\",\"\",Liste_pièces!E813)","v":""},{"$f":"IF(Liste_pièces!F813=\"\",\"\",Liste_pièces!F813)","v":""},{"$f":"IF(Liste_pièces!G813=\"\",\"\",Liste_pièces!G813)","v":""},{"$f":"IF(Liste_pièces!H813=\"\",\"\",Liste_pièces!H813)","v":""},{"$f":"IF(Liste_pièces!I813=\"\",\"\",Liste_pièces!I813)","v":""},{"$f":"IF(Liste_pièces!J813=\"\",\"\",Liste_pièces!J813)","v":""},{"$f":"IF(Liste_pièces!K813=\"\",\"\",Liste_pièces!K813)","v":""},{"$f":"IF(Liste_pièces!L813=\"\",\"\",Liste_pièces!L813)","v":""},{"$f":"IF(Liste_pièces!M813=\"\",\"\",Liste_pièces!M813)","v":""}]
[{"$f":"IF(Liste_pièces!A814=\"\",\"ZZZ\",Liste_pièces!A814)","v":"ZZZ"},{"$f":"IF(Liste_pièces!B814=\"\",\"ZZZ\",Liste_pièces!B814)","v":"ZZZ"},{"$f":"IF(Liste_pièces!C814=\"\",\"\",Liste_pièces!C814)","v":""},{"$f":"IF(Liste_pièces!D814=\"\",\"\",Liste_pièces!D814)","v":""},{"$f":"IF(Liste_pièces!E814=\"\",\"\",Liste_pièces!E814)","v":""},{"$f":"IF(Liste_pièces!F814=\"\",\"\",Liste_pièces!F814)","v":""},{"$f":"IF(Liste_pièces!G814=\"\",\"\",Liste_pièces!G814)","v":""},{"$f":"IF(Liste_pièces!H814=\"\",\"\",Liste_pièces!H814)","v":""},{"$f":"IF(Liste_pièces!I814=\"\",\"\",Liste_pièces!I814)","v":""},{"$f":"IF(Liste_pièces!J814=\"\",\"\",Liste_pièces!J814)","v":""},{"$f":"IF(Liste_pièces!K814=\"\",\"\",Liste_pièces!K814)","v":""},{"$f":"IF(Liste_pièces!L814=\"\",\"\",Liste_pièces!L814)","v":""},{"$f":"IF(Liste_pièces!M814=\"\",\"\",Liste_pièces!M814)","v":""}]
[{"$f":"IF(Liste_pièces!A815=\"\",\"ZZZ\",Liste_pièces!A815)","v":"ZZZ"},{"$f":"IF(Liste_pièces!B815=\"\",\"ZZZ\",Liste_pièces!B815)","v":"ZZZ"},{"$f":"IF(Liste_pièces!C815=\"\",\"\",Liste_pièces!C815)","v":""},{"$f":"IF(Liste_pièces!D815=\"\",\"\",Liste_pièces!D815)","v":""},{"$f":"IF(Liste_pièces!E815=\"\",\"\",Liste_pièces!E815)","v":""},{"$f":"IF(Liste_pièces!F815=\"\",\"\",Liste_pièces!F815)","v":""},{"$f":"IF(Liste_pièces!G815=\"\",\"\",Liste_pièces!G815)","v":""},{"$f":"IF(Liste_pièces!H815=\"\",\"\",Liste_pièces!H815)","v":""},{"$f":"IF(Liste_pièces!I815=\"\",\"\",Liste_pièces!I815)","v":""},{"$f":"IF(Liste_pièces!J815=\"\",\"\",Liste_pièces!J815)","v":""},{"$f":"IF(Liste_pièces!K815=\"\",\"\",Liste_pièces!K815)","v":""},{"$f":"IF(Liste_pièces!L815=\"\",\"\",Liste_pièces!L815)","v":""},{"$f":"IF(Liste_pièces!M815=\"\",\"\",Liste_pièces!M815)","v":""}]
[{"$f":"IF(Liste_pièces!A816=\"\",\"ZZZ\",Liste_pièces!A816)","v":"ZZZ"},{"$f":"IF(Liste_pièces!B816=\"\",\"ZZZ\",Liste_pièces!B816)","v":"ZZZ"},{"$f":"IF(Liste_pièces!C816=\"\",\"\",Liste_pièces!C816)","v":""},{"$f":"IF(Liste_pièces!D816=\"\",\"\",Liste_pièces!D816)","v":""},{"$f":"IF(Liste_pièces!E816=\"\",\"\",Liste_pièces!E816)","v":""},{"$f":"IF(Liste_pièces!F816=\"\",\"\",Liste_pièces!F816)","v":""},{"$f":"IF(Liste_pièces!G816=\"\",\"\",Liste_pièces!G816)","v":""},{"$f":"IF(Liste_pièces!H816=\"\",\"\",Liste_pièces!H816)","v":""},{"$f":"IF(Liste_pièces!I816=\"\",\"\",Liste_pièces!I816)","v":""},{"$f":"IF(Liste_pièces!J816=\"\",\"\",Liste_pièces!J816)","v":""},{"$f":"IF(Liste_pièces!K816=\"\",\"\",Liste_pièces!K816)","v":""},{"$f":"IF(Liste_pièces!L816=\"\",\"\",Liste_pièces!L816)","v":""},{"$f":"IF(Liste_pièces!M816=\"\",\"\",Liste_pièces!M816)","v":""}]
[{"$f":"IF(Liste_pièces!A817=\"\",\"ZZZ\",Liste_pièces!A817)","v":"ZZZ"},{"$f":"IF(Liste_pièces!B817=\"\",\"ZZZ\",Liste_pièces!B817)","v":"ZZZ"},{"$f":"IF(Liste_pièces!C817=\"\",\"\",Liste_pièces!C817)","v":""},{"$f":"IF(Liste_pièces!D817=\"\",\"\",Liste_pièces!D817)","v":""},{"$f":"IF(Liste_pièces!E817=\"\",\"\",Liste_pièces!E817)","v":""},{"$f":"IF(Liste_pièces!F817=\"\",\"\",Liste_pièces!F817)","v":""},{"$f":"IF(Liste_pièces!G817=\"\",\"\",Liste_pièces!G817)","v":""},{"$f":"IF(Liste_pièces!H817=\"\",\"\",Liste_pièces!H817)","v":""},{"$f":"IF(Liste_pièces!I817=\"\",\"\",Liste_pièces!I817)","v":""},{"$f":"IF(Liste_pièces!J817=\"\",\"\",Liste_pièces!J817)","v":""},{"$f":"IF(Liste_pièces!K817=\"\",\"\",Liste_pièces!K817)","v":""},{"$f":"IF(Liste_pièces!L817=\"\",\"\",Liste_pièces!L817)","v":""},{"$f":"IF(Liste_pièces!M817=\"\",\"\",Liste_pièces!M817)","v":""}]
[{"$f":"IF(Liste_pièces!A818=\"\",\"ZZZ\",Liste_pièces!A818)","v":"ZZZ"},{"$f":"IF(Liste_pièces!B818=\"\",\"ZZZ\",Liste_pièces!B818)","v":"ZZZ"},{"$f":"IF(Liste_pièces!C818=\"\",\"\",Liste_pièces!C818)","v":""},{"$f":"IF(Liste_pièces!D818=\"\",\"\",Liste_pièces!D818)","v":""},{"$f":"IF(Liste_pièces!E818=\"\",\"\",Liste_pièces!E818)","v":""},{"$f":"IF(Liste_pièces!F818=\"\",\"\",Liste_pièces!F818)","v":""},{"$f":"IF(Liste_pièces!G818=\"\",\"\",Liste_pièces!G818)","v":""},{"$f":"IF(Liste_pièces!H818=\"\",\"\",Liste_pièces!H818)","v":""},{"$f":"IF(Liste_pièces!I818=\"\",\"\",Liste_pièces!I818)","v":""},{"$f":"IF(Liste_pièces!J818=\"\",\"\",Liste_pièces!J818)","v":""},{"$f":"IF(Liste_pièces!K818=\"\",\"\",Liste_pièces!K818)","v":""},{"$f":"IF(Liste_pièces!L818=\"\",\"\",Liste_pièces!L818)","v":""},{"$f":"IF(Liste_pièces!M818=\"\",\"\",Liste_pièces!M818)","v":""}]
[{"$f":"IF(Liste_pièces!A819=\"\",\"ZZZ\",Liste_pièces!A819)","v":"ZZZ"},{"$f":"IF(Liste_pièces!B819=\"\",\"ZZZ\",Liste_pièces!B819)","v":"ZZZ"},{"$f":"IF(Liste_pièces!C819=\"\",\"\",Liste_pièces!C819)","v":""},{"$f":"IF(Liste_pièces!D819=\"\",\"\",Liste_pièces!D819)","v":""},{"$f":"IF(Liste_pièces!E819=\"\",\"\",Liste_pièces!E819)","v":""},{"$f":"IF(Liste_pièces!F819=\"\",\"\",Liste_pièces!F819)","v":""},{"$f":"IF(Liste_pièces!G819=\"\",\"\",Liste_pièces!G819)","v":""},{"$f":"IF(Liste_pièces!H819=\"\",\"\",Liste_pièces!H819)","v":""},{"$f":"IF(Liste_pièces!I819=\"\",\"\",Liste_pièces!I819)","v":""},{"$f":"IF(Liste_pièces!J819=\"\",\"\",Liste_pièces!J819)","v":""},{"$f":"IF(Liste_pièces!K819=\"\",\"\",Liste_pièces!K819)","v":""},{"$f":"IF(Liste_pièces!L819=\"\",\"\",Liste_pièces!L819)","v":""},{"$f":"IF(Liste_pièces!M819=\"\",\"\",Liste_pièces!M819)","v":""}]
[{"$f":"IF(Liste_pièces!A820=\"\",\"ZZZ\",Liste_pièces!A820)","v":"ZZZ"},{"$f":"IF(Liste_pièces!B820=\"\",\"ZZZ\",Liste_pièces!B820)","v":"ZZZ"},{"$f":"IF(Liste_pièces!C820=\"\",\"\",Liste_pièces!C820)","v":""},{"$f":"IF(Liste_pièces!D820=\"\",\"\",Liste_pièces!D820)","v":""},{"$f":"IF(Liste_pièces!E820=\"\",\"\",Liste_pièces!E820)","v":""},{"$f":"IF(Liste_pièces!F820=\"\",\"\",Liste_pièces!F820)","v":""},{"$f":"IF(Liste_pièces!G820=\"\",\"\",Liste_pièces!G820)","v":""},{"$f":"IF(Liste_pièces!H820=\"\",\"\",Liste_pièces!H820)","v":""},{"$f":"IF(Liste_pièces!I820=\"\",\"\",Liste_pièces!I820)","v":""},{"$f":"IF(Liste_pièces!J820=\"\",\"\",Liste_pièces!J820)","v":""},{"$f":"IF(Liste_pièces!K820=\"\",\"\",Liste_pièces!K820)","v":""},{"$f":"IF(Liste_pièces!L820=\"\",\"\",Liste_pièces!L820)","v":""},{"$f":"IF(Liste_pièces!M820=\"\",\"\",Liste_pièces!M820)","v":""}]
[{"$f":"IF(Liste_pièces!A821=\"\",\"ZZZ\",Liste_pièces!A821)","v":"ZZZ"},{"$f":"IF(Liste_pièces!B821=\"\",\"ZZZ\",Liste_pièces!B821)","v":"ZZZ"},{"$f":"IF(Liste_pièces!C821=\"\",\"\",Liste_pièces!C821)","v":""},{"$f":"IF(Liste_pièces!D821=\"\",\"\",Liste_pièces!D821)","v":""},{"$f":"IF(Liste_pièces!E821=\"\",\"\",Liste_pièces!E821)","v":""},{"$f":"IF(Liste_pièces!F821=\"\",\"\",Liste_pièces!F821)","v":""},{"$f":"IF(Liste_pièces!G821=\"\",\"\",Liste_pièces!G821)","v":""},{"$f":"IF(Liste_pièces!H821=\"\",\"\",Liste_pièces!H821)","v":""},{"$f":"IF(Liste_pièces!I821=\"\",\"\",Liste_pièces!I821)","v":""},{"$f":"IF(Liste_pièces!J821=\"\",\"\",Liste_pièces!J821)","v":""},{"$f":"IF(Liste_pièces!K821=\"\",\"\",Liste_pièces!K821)","v":""},{"$f":"IF(Liste_pièces!L821=\"\",\"\",Liste_pièces!L821)","v":""},{"$f":"IF(Liste_pièces!M821=\"\",\"\",Liste_pièces!M821)","v":""}]
[{"$f":"IF(Liste_pièces!A822=\"\",\"ZZZ\",Liste_pièces!A822)","v":"ZZZ"},{"$f":"IF(Liste_pièces!B822=\"\",\"ZZZ\",Liste_pièces!B822)","v":"ZZZ"},{"$f":"IF(Liste_pièces!C822=\"\",\"\",Liste_pièces!C822)","v":""},{"$f":"IF(Liste_pièces!D822=\"\",\"\",Liste_pièces!D822)","v":""},{"$f":"IF(Liste_pièces!E822=\"\",\"\",Liste_pièces!E822)","v":""},{"$f":"IF(Liste_pièces!F822=\"\",\"\",Liste_pièces!F822)","v":""},{"$f":"IF(Liste_pièces!G822=\"\",\"\",Liste_pièces!G822)","v":""},{"$f":"IF(Liste_pièces!H822=\"\",\"\",Liste_pièces!H822)","v":""},{"$f":"IF(Liste_pièces!I822=\"\",\"\",Liste_pièces!I822)","v":""},{"$f":"IF(Liste_pièces!J822=\"\",\"\",Liste_pièces!J822)","v":""},{"$f":"IF(Liste_pièces!K822=\"\",\"\",Liste_pièces!K822)","v":""},{"$f":"IF(Liste_pièces!L822=\"\",\"\",Liste_pièces!L822)","v":""},{"$f":"IF(Liste_pièces!M822=\"\",\"\",Liste_pièces!M822)","v":""}]
[{"$f":"IF(Liste_pièces!A823=\"\",\"ZZZ\",Liste_pièces!A823)","v":"ZZZ"},{"$f":"IF(Liste_pièces!B823=\"\",\"ZZZ\",Liste_pièces!B823)","v":"ZZZ"},{"$f":"IF(Liste_pièces!C823=\"\",\"\",Liste_pièces!C823)","v":""},{"$f":"IF(Liste_pièces!D823=\"\",\"\",Liste_pièces!D823)","v":""},{"$f":"IF(Liste_pièces!E823=\"\",\"\",Liste_pièces!E823)","v":""},{"$f":"IF(Liste_pièces!F823=\"\",\"\",Liste_pièces!F823)","v":""},{"$f":"IF(Liste_pièces!G823=\"\",\"\",Liste_pièces!G823)","v":""},{"$f":"IF(Liste_pièces!H823=\"\",\"\",Liste_pièces!H823)","v":""},{"$f":"IF(Liste_pièces!I823=\"\",\"\",Liste_pièces!I823)","v":""},{"$f":"IF(Liste_pièces!J823=\"\",\"\",Liste_pièces!J823)","v":""},{"$f":"IF(Liste_pièces!K823=\"\",\"\",Liste_pièces!K823)","v":""},{"$f":"IF(Liste_pièces!L823=\"\",\"\",Liste_pièces!L823)","v":""},{"$f":"IF(Liste_pièces!M823=\"\",\"\",Liste_pièces!M823)","v":""}]
[{"$f":"IF(Liste_pièces!A824=\"\",\"ZZZ\",Liste_pièces!A824)","v":"ZZZ"},{"$f":"IF(Liste_pièces!B824=\"\",\"ZZZ\",Liste_pièces!B824)","v":"ZZZ"},{"$f":"IF(Liste_pièces!C824=\"\",\"\",Liste_pièces!C824)","v":""},{"$f":"IF(Liste_pièces!D824=\"\",\"\",Liste_pièces!D824)","v":""},{"$f":"IF(Liste_pièces!E824=\"\",\"\",Liste_pièces!E824)","v":""},{"$f":"IF(Liste_pièces!F824=\"\",\"\",Liste_pièces!F824)","v":""},{"$f":"IF(Liste_pièces!G824=\"\",\"\",Liste_pièces!G824)","v":""},{"$f":"IF(Liste_pièces!H824=\"\",\"\",Liste_pièces!H824)","v":""},{"$f":"IF(Liste_pièces!I824=\"\",\"\",Liste_pièces!I824)","v":""},{"$f":"IF(Liste_pièces!J824=\"\",\"\",Liste_pièces!J824)","v":""},{"$f":"IF(Liste_pièces!K824=\"\",\"\",Liste_pièces!K824)","v":""},{"$f":"IF(Liste_pièces!L824=\"\",\"\",Liste_pièces!L824)","v":""},{"$f":"IF(Liste_pièces!M824=\"\",\"\",Liste_pièces!M824)","v":""}]
[{"$f":"IF(Liste_pièces!A825=\"\",\"ZZZ\",Liste_pièces!A825)","v":"ZZZ"},{"$f":"IF(Liste_pièces!B825=\"\",\"ZZZ\",Liste_pièces!B825)","v":"ZZZ"},{"$f":"IF(Liste_pièces!C825=\"\",\"\",Liste_pièces!C825)","v":""},{"$f":"IF(Liste_pièces!D825=\"\",\"\",Liste_pièces!D825)","v":""},{"$f":"IF(Liste_pièces!E825=\"\",\"\",Liste_pièces!E825)","v":""},{"$f":"IF(Liste_pièces!F825=\"\",\"\",Liste_pièces!F825)","v":""},{"$f":"IF(Liste_pièces!G825=\"\",\"\",Liste_pièces!G825)","v":""},{"$f":"IF(Liste_pièces!H825=\"\",\"\",Liste_pièces!H825)","v":""},{"$f":"IF(Liste_pièces!I825=\"\",\"\",Liste_pièces!I825)","v":""},{"$f":"IF(Liste_pièces!J825=\"\",\"\",Liste_pièces!J825)","v":""},{"$f":"IF(Liste_pièces!K825=\"\",\"\",Liste_pièces!K825)","v":""},{"$f":"IF(Liste_pièces!L825=\"\",\"\",Liste_pièces!L825)","v":""},{"$f":"IF(Liste_pièces!M825=\"\",\"\",Liste_pièces!M825)","v":""}]
[{"$f":"IF(Liste_pièces!A826=\"\",\"ZZZ\",Liste_pièces!A826)","v":"ZZZ"},{"$f":"IF(Liste_pièces!B826=\"\",\"ZZZ\",Liste_pièces!B826)","v":"ZZZ"},{"$f":"IF(Liste_pièces!C826=\"\",\"\",Liste_pièces!C826)","v":""},{"$f":"IF(Liste_pièces!D826=\"\",\"\",Liste_pièces!D826)","v":""},{"$f":"IF(Liste_pièces!E826=\"\",\"\",Liste_pièces!E826)","v":""},{"$f":"IF(Liste_pièces!F826=\"\",\"\",Liste_pièces!F826)","v":""},{"$f":"IF(Liste_pièces!G826=\"\",\"\",Liste_pièces!G826)","v":""},{"$f":"IF(Liste_pièces!H826=\"\",\"\",Liste_pièces!H826)","v":""},{"$f":"IF(Liste_pièces!I826=\"\",\"\",Liste_pièces!I826)","v":""},{"$f":"IF(Liste_pièces!J826=\"\",\"\",Liste_pièces!J826)","v":""},{"$f":"IF(Liste_pièces!K826=\"\",\"\",Liste_pièces!K826)","v":""},{"$f":"IF(Liste_pièces!L826=\"\",\"\",Liste_pièces!L826)","v":""},{"$f":"IF(Liste_pièces!M826=\"\",\"\",Liste_pièces!M826)","v":""}]
[{"$f":"IF(Liste_pièces!A827=\"\",\"ZZZ\",Liste_pièces!A827)","v":"ZZZ"},{"$f":"IF(Liste_pièces!B827=\"\",\"ZZZ\",Liste_pièces!B827)","v":"ZZZ"},{"$f":"IF(Liste_pièces!C827=\"\",\"\",Liste_pièces!C827)","v":""},{"$f":"IF(Liste_pièces!D827=\"\",\"\",Liste_pièces!D827)","v":""},{"$f":"IF(Liste_pièces!E827=\"\",\"\",Liste_pièces!E827)","v":""},{"$f":"IF(Liste_pièces!F827=\"\",\"\",Liste_pièces!F827)","v":""},{"$f":"IF(Liste_pièces!G827=\"\",\"\",Liste_pièces!G827)","v":""},{"$f":"IF(Liste_pièces!H827=\"\",\"\",Liste_pièces!H827)","v":""},{"$f":"IF(Liste_pièces!I827=\"\",\"\",Liste_pièces!I827)","v":""},{"$f":"IF(Liste_pièces!J827=\"\",\"\",Liste_pièces!J827)","v":""},{"$f":"IF(Liste_pièces!K827=\"\",\"\",Liste_pièces!K827)","v":""},{"$f":"IF(Liste_pièces!L827=\"\",\"\",Liste_pièces!L827)","v":""},{"$f":"IF(Liste_pièces!M827=\"\",\"\",Liste_pièces!M827)","v":""}]
[{"$f":"IF(Liste_pièces!A828=\"\",\"ZZZ\",Liste_pièces!A828)","v":"ZZZ"},{"$f":"IF(Liste_pièces!B828=\"\",\"ZZZ\",Liste_pièces!B828)","v":"ZZZ"},{"$f":"IF(Liste_pièces!C828=\"\",\"\",Liste_pièces!C828)","v":""},{"$f":"IF(Liste_pièces!D828=\"\",\"\",Liste_pièces!D828)","v":""},{"$f":"IF(Liste_pièces!E828=\"\",\"\",Liste_pièces!E828)","v":""},{"$f":"IF(Liste_pièces!F828=\"\",\"\",Liste_pièces!F828)","v":""},{"$f":"IF(Liste_pièces!G828=\"\",\"\",Liste_pièces!G828)","v":""},{"$f":"IF(Liste_pièces!H828=\"\",\"\",Liste_pièces!H828)","v":""},{"$f":"IF(Liste_pièces!I828=\"\",\"\",Liste_pièces!I828)","v":""},{"$f":"IF(Liste_pièces!J828=\"\",\"\",Liste_pièces!J828)","v":""},{"$f":"IF(Liste_pièces!K828=\"\",\"\",Liste_pièces!K828)","v":""},{"$f":"IF(Liste_pièces!L828=\"\",\"\",Liste_pièces!L828)","v":""},{"$f":"IF(Liste_pièces!M828=\"\",\"\",Liste_pièces!M828)","v":""}]
[{"$f":"IF(Liste_pièces!A829=\"\",\"ZZZ\",Liste_pièces!A829)","v":"ZZZ"},{"$f":"IF(Liste_pièces!B829=\"\",\"ZZZ\",Liste_pièces!B829)","v":"ZZZ"},{"$f":"IF(Liste_pièces!C829=\"\",\"\",Liste_pièces!C829)","v":""},{"$f":"IF(Liste_pièces!D829=\"\",\"\",Liste_pièces!D829)","v":""},{"$f":"IF(Liste_pièces!E829=\"\",\"\",Liste_pièces!E829)","v":""},{"$f":"IF(Liste_pièces!F829=\"\",\"\",Liste_pièces!F829)","v":""},{"$f":"IF(Liste_pièces!G829=\"\",\"\",Liste_pièces!G829)","v":""},{"$f":"IF(Liste_pièces!H829=\"\",\"\",Liste_pièces!H829)","v":""},{"$f":"IF(Liste_pièces!I829=\"\",\"\",Liste_pièces!I829)","v":""},{"$f":"IF(Liste_pièces!J829=\"\",\"\",Liste_pièces!J829)","v":""},{"$f":"IF(Liste_pièces!K829=\"\",\"\",Liste_pièces!K829)","v":""},{"$f":"IF(Liste_pièces!L829=\"\",\"\",Liste_pièces!L829)","v":""},{"$f":"IF(Liste_pièces!M829=\"\",\"\",Liste_pièces!M829)","v":""}]
[{"$f":"IF(Liste_pièces!A830=\"\",\"ZZZ\",Liste_pièces!A830)","v":"ZZZ"},{"$f":"IF(Liste_pièces!B830=\"\",\"ZZZ\",Liste_pièces!B830)","v":"ZZZ"},{"$f":"IF(Liste_pièces!C830=\"\",\"\",Liste_pièces!C830)","v":""},{"$f":"IF(Liste_pièces!D830=\"\",\"\",Liste_pièces!D830)","v":""},{"$f":"IF(Liste_pièces!E830=\"\",\"\",Liste_pièces!E830)","v":""},{"$f":"IF(Liste_pièces!F830=\"\",\"\",Liste_pièces!F830)","v":""},{"$f":"IF(Liste_pièces!G830=\"\",\"\",Liste_pièces!G830)","v":""},{"$f":"IF(Liste_pièces!H830=\"\",\"\",Liste_pièces!H830)","v":""},{"$f":"IF(Liste_pièces!I830=\"\",\"\",Liste_pièces!I830)","v":""},{"$f":"IF(Liste_pièces!J830=\"\",\"\",Liste_pièces!J830)","v":""},{"$f":"IF(Liste_pièces!K830=\"\",\"\",Liste_pièces!K830)","v":""},{"$f":"IF(Liste_pièces!L830=\"\",\"\",Liste_pièces!L830)","v":""},{"$f":"IF(Liste_pièces!M830=\"\",\"\",Liste_pièces!M830)","v":""}]
[{"$f":"IF(Liste_pièces!A831=\"\",\"ZZZ\",Liste_pièces!A831)","v":"ZZZ"},{"$f":"IF(Liste_pièces!B831=\"\",\"ZZZ\",Liste_pièces!B831)","v":"ZZZ"},{"$f":"IF(Liste_pièces!C831=\"\",\"\",Liste_pièces!C831)","v":""},{"$f":"IF(Liste_pièces!D831=\"\",\"\",Liste_pièces!D831)","v":""},{"$f":"IF(Liste_pièces!E831=\"\",\"\",Liste_pièces!E831)","v":""},{"$f":"IF(Liste_pièces!F831=\"\",\"\",Liste_pièces!F831)","v":""},{"$f":"IF(Liste_pièces!G831=\"\",\"\",Liste_pièces!G831)","v":""},{"$f":"IF(Liste_pièces!H831=\"\",\"\",Liste_pièces!H831)","v":""},{"$f":"IF(Liste_pièces!I831=\"\",\"\",Liste_pièces!I831)","v":""},{"$f":"IF(Liste_pièces!J831=\"\",\"\",Liste_pièces!J831)","v":""},{"$f":"IF(Liste_pièces!K831=\"\",\"\",Liste_pièces!K831)","v":""},{"$f":"IF(Liste_pièces!L831=\"\",\"\",Liste_pièces!L831)","v":""},{"$f":"IF(Liste_pièces!M831=\"\",\"\",Liste_pièces!M831)","v":""}]
[{"$f":"IF(Liste_pièces!A832=\"\",\"ZZZ\",Liste_pièces!A832)","v":"ZZZ"},{"$f":"IF(Liste_pièces!B832=\"\",\"ZZZ\",Liste_pièces!B832)","v":"ZZZ"},{"$f":"IF(Liste_pièces!C832=\"\",\"\",Liste_pièces!C832)","v":""},{"$f":"IF(Liste_pièces!D832=\"\",\"\",Liste_pièces!D832)","v":""},{"$f":"IF(Liste_pièces!E832=\"\",\"\",Liste_pièces!E832)","v":""},{"$f":"IF(Liste_pièces!F832=\"\",\"\",Liste_pièces!F832)","v":""},{"$f":"IF(Liste_pièces!G832=\"\",\"\",Liste_pièces!G832)","v":""},{"$f":"IF(Liste_pièces!H832=\"\",\"\",Liste_pièces!H832)","v":""},{"$f":"IF(Liste_pièces!I832=\"\",\"\",Liste_pièces!I832)","v":""},{"$f":"IF(Liste_pièces!J832=\"\",\"\",Liste_pièces!J832)","v":""},{"$f":"IF(Liste_pièces!K832=\"\",\"\",Liste_pièces!K832)","v":""},{"$f":"IF(Liste_pièces!L832=\"\",\"\",Liste_pièces!L832)","v":""},{"$f":"IF(Liste_pièces!M832=\"\",\"\",Liste_pièces!M832)","v":""}]
[{"$f":"IF(Liste_pièces!A833=\"\",\"ZZZ\",Liste_pièces!A833)","v":"ZZZ"},{"$f":"IF(Liste_pièces!B833=\"\",\"ZZZ\",Liste_pièces!B833)","v":"ZZZ"},{"$f":"IF(Liste_pièces!C833=\"\",\"\",Liste_pièces!C833)","v":""},{"$f":"IF(Liste_pièces!D833=\"\",\"\",Liste_pièces!D833)","v":""},{"$f":"IF(Liste_pièces!E833=\"\",\"\",Liste_pièces!E833)","v":""},{"$f":"IF(Liste_pièces!F833=\"\",\"\",Liste_pièces!F833)","v":""},{"$f":"IF(Liste_pièces!G833=\"\",\"\",Liste_pièces!G833)","v":""},{"$f":"IF(Liste_pièces!H833=\"\",\"\",Liste_pièces!H833)","v":""},{"$f":"IF(Liste_pièces!I833=\"\",\"\",Liste_pièces!I833)","v":""},{"$f":"IF(Liste_pièces!J833=\"\",\"\",Liste_pièces!J833)","v":""},{"$f":"IF(Liste_pièces!K833=\"\",\"\",Liste_pièces!K833)","v":""},{"$f":"IF(Liste_pièces!L833=\"\",\"\",Liste_pièces!L833)","v":""},{"$f":"IF(Liste_pièces!M833=\"\",\"\",Liste_pièces!M833)","v":""}]
[{"$f":"IF(Liste_pièces!A834=\"\",\"ZZZ\",Liste_pièces!A834)","v":"ZZZ"},{"$f":"IF(Liste_pièces!B834=\"\",\"ZZZ\",Liste_pièces!B834)","v":"ZZZ"},{"$f":"IF(Liste_pièces!C834=\"\",\"\",Liste_pièces!C834)","v":""},{"$f":"IF(Liste_pièces!D834=\"\",\"\",Liste_pièces!D834)","v":""},{"$f":"IF(Liste_pièces!E834=\"\",\"\",Liste_pièces!E834)","v":""},{"$f":"IF(Liste_pièces!F834=\"\",\"\",Liste_pièces!F834)","v":""},{"$f":"IF(Liste_pièces!G834=\"\",\"\",Liste_pièces!G834)","v":""},{"$f":"IF(Liste_pièces!H834=\"\",\"\",Liste_pièces!H834)","v":""},{"$f":"IF(Liste_pièces!I834=\"\",\"\",Liste_pièces!I834)","v":""},{"$f":"IF(Liste_pièces!J834=\"\",\"\",Liste_pièces!J834)","v":""},{"$f":"IF(Liste_pièces!K834=\"\",\"\",Liste_pièces!K834)","v":""},{"$f":"IF(Liste_pièces!L834=\"\",\"\",Liste_pièces!L834)","v":""},{"$f":"IF(Liste_pièces!M834=\"\",\"\",Liste_pièces!M834)","v":""}]
[{"$f":"IF(Liste_pièces!A835=\"\",\"ZZZ\",Liste_pièces!A835)","v":"ZZZ"},{"$f":"IF(Liste_pièces!B835=\"\",\"ZZZ\",Liste_pièces!B835)","v":"ZZZ"},{"$f":"IF(Liste_pièces!C835=\"\",\"\",Liste_pièces!C835)","v":""},{"$f":"IF(Liste_pièces!D835=\"\",\"\",Liste_pièces!D835)","v":""},{"$f":"IF(Liste_pièces!E835=\"\",\"\",Liste_pièces!E835)","v":""},{"$f":"IF(Liste_pièces!F835=\"\",\"\",Liste_pièces!F835)","v":""},{"$f":"IF(Liste_pièces!G835=\"\",\"\",Liste_pièces!G835)","v":""},{"$f":"IF(Liste_pièces!H835=\"\",\"\",Liste_pièces!H835)","v":""},{"$f":"IF(Liste_pièces!I835=\"\",\"\",Liste_pièces!I835)","v":""},{"$f":"IF(Liste_pièces!J835=\"\",\"\",Liste_pièces!J835)","v":""},{"$f":"IF(Liste_pièces!K835=\"\",\"\",Liste_pièces!K835)","v":""},{"$f":"IF(Liste_pièces!L835=\"\",\"\",Liste_pièces!L835)","v":""},{"$f":"IF(Liste_pièces!M835=\"\",\"\",Liste_pièces!M835)","v":""}]
[{"$f":"IF(Liste_pièces!A836=\"\",\"ZZZ\",Liste_pièces!A836)","v":"ZZZ"},{"$f":"IF(Liste_pièces!B836=\"\",\"ZZZ\",Liste_pièces!B836)","v":"ZZZ"},{"$f":"IF(Liste_pièces!C836=\"\",\"\",Liste_pièces!C836)","v":""},{"$f":"IF(Liste_pièces!D836=\"\",\"\",Liste_pièces!D836)","v":""},{"$f":"IF(Liste_pièces!E836=\"\",\"\",Liste_pièces!E836)","v":""},{"$f":"IF(Liste_pièces!F836=\"\",\"\",Liste_pièces!F836)","v":""},{"$f":"IF(Liste_pièces!G836=\"\",\"\",Liste_pièces!G836)","v":""},{"$f":"IF(Liste_pièces!H836=\"\",\"\",Liste_pièces!H836)","v":""},{"$f":"IF(Liste_pièces!I836=\"\",\"\",Liste_pièces!I836)","v":""},{"$f":"IF(Liste_pièces!J836=\"\",\"\",Liste_pièces!J836)","v":""},{"$f":"IF(Liste_pièces!K836=\"\",\"\",Liste_pièces!K836)","v":""},{"$f":"IF(Liste_pièces!L836=\"\",\"\",Liste_pièces!L836)","v":""},{"$f":"IF(Liste_pièces!M836=\"\",\"\",Liste_pièces!M836)","v":""}]
[{"$f":"IF(Liste_pièces!A837=\"\",\"ZZZ\",Liste_pièces!A837)","v":"ZZZ"},{"$f":"IF(Liste_pièces!B837=\"\",\"ZZZ\",Liste_pièces!B837)","v":"ZZZ"},{"$f":"IF(Liste_pièces!C837=\"\",\"\",Liste_pièces!C837)","v":""},{"$f":"IF(Liste_pièces!D837=\"\",\"\",Liste_pièces!D837)","v":""},{"$f":"IF(Liste_pièces!E837=\"\",\"\",Liste_pièces!E837)","v":""},{"$f":"IF(Liste_pièces!F837=\"\",\"\",Liste_pièces!F837)","v":""},{"$f":"IF(Liste_pièces!G837=\"\",\"\",Liste_pièces!G837)","v":""},{"$f":"IF(Liste_pièces!H837=\"\",\"\",Liste_pièces!H837)","v":""},{"$f":"IF(Liste_pièces!I837=\"\",\"\",Liste_pièces!I837)","v":""},{"$f":"IF(Liste_pièces!J837=\"\",\"\",Liste_pièces!J837)","v":""},{"$f":"IF(Liste_pièces!K837=\"\",\"\",Liste_pièces!K837)","v":""},{"$f":"IF(Liste_pièces!L837=\"\",\"\",Liste_pièces!L837)","v":""},{"$f":"IF(Liste_pièces!M837=\"\",\"\",Liste_pièces!M837)","v":""}]
[{"$f":"IF(Liste_pièces!A838=\"\",\"ZZZ\",Liste_pièces!A838)","v":"ZZZ"},{"$f":"IF(Liste_pièces!B838=\"\",\"ZZZ\",Liste_pièces!B838)","v":"ZZZ"},{"$f":"IF(Liste_pièces!C838=\"\",\"\",Liste_pièces!C838)","v":""},{"$f":"IF(Liste_pièces!D838=\"\",\"\",Liste_pièces!D838)","v":""},{"$f":"IF(Liste_pièces!E838=\"\",\"\",Liste_pièces!E838)","v":""},{"$f":"IF(Liste_pièces!F838=\"\",\"\",Liste_pièces!F838)","v":""},{"$f":"IF(Liste_pièces!G838=\"\",\"\",Liste_pièces!G838)","v":""},{"$f":"IF(Liste_pièces!H838=\"\",\"\",Liste_pièces!H838)","v":""},{"$f":"IF(Liste_pièces!I838=\"\",\"\",Liste_pièces!I838)","v":""},{"$f":"IF(Liste_pièces!J838=\"\",\"\",Liste_pièces!J838)","v":""},{"$f":"IF(Liste_pièces!K838=\"\",\"\",Liste_pièces!K838)","v":""},{"$f":"IF(Liste_pièces!L838=\"\",\"\",Liste_pièces!L838)","v":""},{"$f":"IF(Liste_pièces!M838=\"\",\"\",Liste_pièces!M838)","v":""}]
[{"$f":"IF(Liste_pièces!A839=\"\",\"ZZZ\",Liste_pièces!A839)","v":"ZZZ"},{"$f":"IF(Liste_pièces!B839=\"\",\"ZZZ\",Liste_pièces!B839)","v":"ZZZ"},{"$f":"IF(Liste_pièces!C839=\"\",\"\",Liste_pièces!C839)","v":""},{"$f":"IF(Liste_pièces!D839=\"\",\"\",Liste_pièces!D839)","v":""},{"$f":"IF(Liste_pièces!E839=\"\",\"\",Liste_pièces!E839)","v":""},{"$f":"IF(Liste_pièces!F839=\"\",\"\",Liste_pièces!F839)","v":""},{"$f":"IF(Liste_pièces!G839=\"\",\"\",Liste_pièces!G839)","v":""},{"$f":"IF(Liste_pièces!H839=\"\",\"\",Liste_pièces!H839)","v":""},{"$f":"IF(Liste_pièces!I839=\"\",\"\",Liste_pièces!I839)","v":""},{"$f":"IF(Liste_pièces!J839=\"\",\"\",Liste_pièces!J839)","v":""},{"$f":"IF(Liste_pièces!K839=\"\",\"\",Liste_pièces!K839)","v":""},{"$f":"IF(Liste_pièces!L839=\"\",\"\",Liste_pièces!L839)","v":""},{"$f":"IF(Liste_pièces!M839=\"\",\"\",Liste_pièces!M839)","v":""}]
[{"$f":"IF(Liste_pièces!A840=\"\",\"ZZZ\",Liste_pièces!A840)","v":"ZZZ"},{"$f":"IF(Liste_pièces!B840=\"\",\"ZZZ\",Liste_pièces!B840)","v":"ZZZ"},{"$f":"IF(Liste_pièces!C840=\"\",\"\",Liste_pièces!C840)","v":""},{"$f":"IF(Liste_pièces!D840=\"\",\"\",Liste_pièces!D840)","v":""},{"$f":"IF(Liste_pièces!E840=\"\",\"\",Liste_pièces!E840)","v":""},{"$f":"IF(Liste_pièces!F840=\"\",\"\",Liste_pièces!F840)","v":""},{"$f":"IF(Liste_pièces!G840=\"\",\"\",Liste_pièces!G840)","v":""},{"$f":"IF(Liste_pièces!H840=\"\",\"\",Liste_pièces!H840)","v":""},{"$f":"IF(Liste_pièces!I840=\"\",\"\",Liste_pièces!I840)","v":""},{"$f":"IF(Liste_pièces!J840=\"\",\"\",Liste_pièces!J840)","v":""},{"$f":"IF(Liste_pièces!K840=\"\",\"\",Liste_pièces!K840)","v":""},{"$f":"IF(Liste_pièces!L840=\"\",\"\",Liste_pièces!L840)","v":""},{"$f":"IF(Liste_pièces!M840=\"\",\"\",Liste_pièces!M840)","v":""}]
[{"$f":"IF(Liste_pièces!A841=\"\",\"ZZZ\",Liste_pièces!A841)","v":"ZZZ"},{"$f":"IF(Liste_pièces!B841=\"\",\"ZZZ\",Liste_pièces!B841)","v":"ZZZ"},{"$f":"IF(Liste_pièces!C841=\"\",\"\",Liste_pièces!C841)","v":""},{"$f":"IF(Liste_pièces!D841=\"\",\"\",Liste_pièces!D841)","v":""},{"$f":"IF(Liste_pièces!E841=\"\",\"\",Liste_pièces!E841)","v":""},{"$f":"IF(Liste_pièces!F841=\"\",\"\",Liste_pièces!F841)","v":""},{"$f":"IF(Liste_pièces!G841=\"\",\"\",Liste_pièces!G841)","v":""},{"$f":"IF(Liste_pièces!H841=\"\",\"\",Liste_pièces!H841)","v":""},{"$f":"IF(Liste_pièces!I841=\"\",\"\",Liste_pièces!I841)","v":""},{"$f":"IF(Liste_pièces!J841=\"\",\"\",Liste_pièces!J841)","v":""},{"$f":"IF(Liste_pièces!K841=\"\",\"\",Liste_pièces!K841)","v":""},{"$f":"IF(Liste_pièces!L841=\"\",\"\",Liste_pièces!L841)","v":""},{"$f":"IF(Liste_pièces!M841=\"\",\"\",Liste_pièces!M841)","v":""}]
[{"$f":"IF(Liste_pièces!A842=\"\",\"ZZZ\",Liste_pièces!A842)","v":"ZZZ"},{"$f":"IF(Liste_pièces!B842=\"\",\"ZZZ\",Liste_pièces!B842)","v":"ZZZ"},{"$f":"IF(Liste_pièces!C842=\"\",\"\",Liste_pièces!C842)","v":""},{"$f":"IF(Liste_pièces!D842=\"\",\"\",Liste_pièces!D842)","v":""},{"$f":"IF(Liste_pièces!E842=\"\",\"\",Liste_pièces!E842)","v":""},{"$f":"IF(Liste_pièces!F842=\"\",\"\",Liste_pièces!F842)","v":""},{"$f":"IF(Liste_pièces!G842=\"\",\"\",Liste_pièces!G842)","v":""},{"$f":"IF(Liste_pièces!H842=\"\",\"\",Liste_pièces!H842)","v":""},{"$f":"IF(Liste_pièces!I842=\"\",\"\",Liste_pièces!I842)","v":""},{"$f":"IF(Liste_pièces!J842=\"\",\"\",Liste_pièces!J842)","v":""},{"$f":"IF(Liste_pièces!K842=\"\",\"\",Liste_pièces!K842)","v":""},{"$f":"IF(Liste_pièces!L842=\"\",\"\",Liste_pièces!L842)","v":""},{"$f":"IF(Liste_pièces!M842=\"\",\"\",Liste_pièces!M842)","v":""}]
[{"$f":"IF(Liste_pièces!A843=\"\",\"ZZZ\",Liste_pièces!A843)","v":"ZZZ"},{"$f":"IF(Liste_pièces!B843=\"\",\"ZZZ\",Liste_pièces!B843)","v":"ZZZ"},{"$f":"IF(Liste_pièces!C843=\"\",\"\",Liste_pièces!C843)","v":""},{"$f":"IF(Liste_pièces!D843=\"\",\"\",Liste_pièces!D843)","v":""},{"$f":"IF(Liste_pièces!E843=\"\",\"\",Liste_pièces!E843)","v":""},{"$f":"IF(Liste_pièces!F843=\"\",\"\",Liste_pièces!F843)","v":""},{"$f":"IF(Liste_pièces!G843=\"\",\"\",Liste_pièces!G843)","v":""},{"$f":"IF(Liste_pièces!H843=\"\",\"\",Liste_pièces!H843)","v":""},{"$f":"IF(Liste_pièces!I843=\"\",\"\",Liste_pièces!I843)","v":""},{"$f":"IF(Liste_pièces!J843=\"\",\"\",Liste_pièces!J843)","v":""},{"$f":"IF(Liste_pièces!K843=\"\",\"\",Liste_pièces!K843)","v":""},{"$f":"IF(Liste_pièces!L843=\"\",\"\",Liste_pièces!L843)","v":""},{"$f":"IF(Liste_pièces!M843=\"\",\"\",Liste_pièces!M843)","v":""}]
[{"$f":"IF(Liste_pièces!A844=\"\",\"ZZZ\",Liste_pièces!A844)","v":"ZZZ"},{"$f":"IF(Liste_pièces!B844=\"\",\"ZZZ\",Liste_pièces!B844)","v":"ZZZ"},{"$f":"IF(Liste_pièces!C844=\"\",\"\",Liste_pièces!C844)","v":""},{"$f":"IF(Liste_pièces!D844=\"\",\"\",Liste_pièces!D844)","v":""},{"$f":"IF(Liste_pièces!E844=\"\",\"\",Liste_pièces!E844)","v":""},{"$f":"IF(Liste_pièces!F844=\"\",\"\",Liste_pièces!F844)","v":""},{"$f":"IF(Liste_pièces!G844=\"\",\"\",Liste_pièces!G844)","v":""},{"$f":"IF(Liste_pièces!H844=\"\",\"\",Liste_pièces!H844)","v":""},{"$f":"IF(Liste_pièces!I844=\"\",\"\",Liste_pièces!I844)","v":""},{"$f":"IF(Liste_pièces!J844=\"\",\"\",Liste_pièces!J844)","v":""},{"$f":"IF(Liste_pièces!K844=\"\",\"\",Liste_pièces!K844)","v":""},{"$f":"IF(Liste_pièces!L844=\"\",\"\",Liste_pièces!L844)","v":""},{"$f":"IF(Liste_pièces!M844=\"\",\"\",Liste_pièces!M844)","v":""}]
[{"$f":"IF(Liste_pièces!A845=\"\",\"ZZZ\",Liste_pièces!A845)","v":"ZZZ"},{"$f":"IF(Liste_pièces!B845=\"\",\"ZZZ\",Liste_pièces!B845)","v":"ZZZ"},{"$f":"IF(Liste_pièces!C845=\"\",\"\",Liste_pièces!C845)","v":""},{"$f":"IF(Liste_pièces!D845=\"\",\"\",Liste_pièces!D845)","v":""},{"$f":"IF(Liste_pièces!E845=\"\",\"\",Liste_pièces!E845)","v":""},{"$f":"IF(Liste_pièces!F845=\"\",\"\",Liste_pièces!F845)","v":""},{"$f":"IF(Liste_pièces!G845=\"\",\"\",Liste_pièces!G845)","v":""},{"$f":"IF(Liste_pièces!H845=\"\",\"\",Liste_pièces!H845)","v":""},{"$f":"IF(Liste_pièces!I845=\"\",\"\",Liste_pièces!I845)","v":""},{"$f":"IF(Liste_pièces!J845=\"\",\"\",Liste_pièces!J845)","v":""},{"$f":"IF(Liste_pièces!K845=\"\",\"\",Liste_pièces!K845)","v":""},{"$f":"IF(Liste_pièces!L845=\"\",\"\",Liste_pièces!L845)","v":""},{"$f":"IF(Liste_pièces!M845=\"\",\"\",Liste_pièces!M845)","v":""}]
[{"$f":"IF(Liste_pièces!A846=\"\",\"ZZZ\",Liste_pièces!A846)","v":"ZZZ"},{"$f":"IF(Liste_pièces!B846=\"\",\"ZZZ\",Liste_pièces!B846)","v":"ZZZ"},{"$f":"IF(Liste_pièces!C846=\"\",\"\",Liste_pièces!C846)","v":""},{"$f":"IF(Liste_pièces!D846=\"\",\"\",Liste_pièces!D846)","v":""},{"$f":"IF(Liste_pièces!E846=\"\",\"\",Liste_pièces!E846)","v":""},{"$f":"IF(Liste_pièces!F846=\"\",\"\",Liste_pièces!F846)","v":""},{"$f":"IF(Liste_pièces!G846=\"\",\"\",Liste_pièces!G846)","v":""},{"$f":"IF(Liste_pièces!H846=\"\",\"\",Liste_pièces!H846)","v":""},{"$f":"IF(Liste_pièces!I846=\"\",\"\",Liste_pièces!I846)","v":""},{"$f":"IF(Liste_pièces!J846=\"\",\"\",Liste_pièces!J846)","v":""},{"$f":"IF(Liste_pièces!K846=\"\",\"\",Liste_pièces!K846)","v":""},{"$f":"IF(Liste_pièces!L846=\"\",\"\",Liste_pièces!L846)","v":""},{"$f":"IF(Liste_pièces!M846=\"\",\"\",Liste_pièces!M846)","v":""}]
[{"$f":"IF(Liste_pièces!A847=\"\",\"ZZZ\",Liste_pièces!A847)","v":"ZZZ"},{"$f":"IF(Liste_pièces!B847=\"\",\"ZZZ\",Liste_pièces!B847)","v":"ZZZ"},{"$f":"IF(Liste_pièces!C847=\"\",\"\",Liste_pièces!C847)","v":""},{"$f":"IF(Liste_pièces!D847=\"\",\"\",Liste_pièces!D847)","v":""},{"$f":"IF(Liste_pièces!E847=\"\",\"\",Liste_pièces!E847)","v":""},{"$f":"IF(Liste_pièces!F847=\"\",\"\",Liste_pièces!F847)","v":""},{"$f":"IF(Liste_pièces!G847=\"\",\"\",Liste_pièces!G847)","v":""},{"$f":"IF(Liste_pièces!H847=\"\",\"\",Liste_pièces!H847)","v":""},{"$f":"IF(Liste_pièces!I847=\"\",\"\",Liste_pièces!I847)","v":""},{"$f":"IF(Liste_pièces!J847=\"\",\"\",Liste_pièces!J847)","v":""},{"$f":"IF(Liste_pièces!K847=\"\",\"\",Liste_pièces!K847)","v":""},{"$f":"IF(Liste_pièces!L847=\"\",\"\",Liste_pièces!L847)","v":""},{"$f":"IF(Liste_pièces!M847=\"\",\"\",Liste_pièces!M847)","v":""}]
[{"$f":"IF(Liste_pièces!A848=\"\",\"ZZZ\",Liste_pièces!A848)","v":"ZZZ"},{"$f":"IF(Liste_pièces!B848=\"\",\"ZZZ\",Liste_pièces!B848)","v":"ZZZ"},{"$f":"IF(Liste_pièces!C848=\"\",\"\",Liste_pièces!C848)","v":""},{"$f":"IF(Liste_pièces!D848=\"\",\"\",Liste_pièces!D848)","v":""},{"$f":"IF(Liste_pièces!E848=\"\",\"\",Liste_pièces!E848)","v":""},{"$f":"IF(Liste_pièces!F848=\"\",\"\",Liste_pièces!F848)","v":""},{"$f":"IF(Liste_pièces!G848=\"\",\"\",Liste_pièces!G848)","v":""},{"$f":"IF(Liste_pièces!H848=\"\",\"\",Liste_pièces!H848)","v":""},{"$f":"IF(Liste_pièces!I848=\"\",\"\",Liste_pièces!I848)","v":""},{"$f":"IF(Liste_pièces!J848=\"\",\"\",Liste_pièces!J848)","v":""},{"$f":"IF(Liste_pièces!K848=\"\",\"\",Liste_pièces!K848)","v":""},{"$f":"IF(Liste_pièces!L848=\"\",\"\",Liste_pièces!L848)","v":""},{"$f":"IF(Liste_pièces!M848=\"\",\"\",Liste_pièces!M848)","v":""}]
[{"$f":"IF(Liste_pièces!A849=\"\",\"ZZZ\",Liste_pièces!A849)","v":"ZZZ"},{"$f":"IF(Liste_pièces!B849=\"\",\"ZZZ\",Liste_pièces!B849)","v":"ZZZ"},{"$f":"IF(Liste_pièces!C849=\"\",\"\",Liste_pièces!C849)","v":""},{"$f":"IF(Liste_pièces!D849=\"\",\"\",Liste_pièces!D849)","v":""},{"$f":"IF(Liste_pièces!E849=\"\",\"\",Liste_pièces!E849)","v":""},{"$f":"IF(Liste_pièces!F849=\"\",\"\",Liste_pièces!F849)","v":""},{"$f":"IF(Liste_pièces!G849=\"\",\"\",Liste_pièces!G849)","v":""},{"$f":"IF(Liste_pièces!H849=\"\",\"\",Liste_pièces!H849)","v":""},{"$f":"IF(Liste_pièces!I849=\"\",\"\",Liste_pièces!I849)","v":""},{"$f":"IF(Liste_pièces!J849=\"\",\"\",Liste_pièces!J849)","v":""},{"$f":"IF(Liste_pièces!K849=\"\",\"\",Liste_pièces!K849)","v":""},{"$f":"IF(Liste_pièces!L849=\"\",\"\",Liste_pièces!L849)","v":""},{"$f":"IF(Liste_pièces!M849=\"\",\"\",Liste_pièces!M849)","v":""}]
[{"$f":"IF(Liste_pièces!A850=\"\",\"ZZZ\",Liste_pièces!A850)","v":"ZZZ"},{"$f":"IF(Liste_pièces!B850=\"\",\"ZZZ\",Liste_pièces!B850)","v":"ZZZ"},{"$f":"IF(Liste_pièces!C850=\"\",\"\",Liste_pièces!C850)","v":""},{"$f":"IF(Liste_pièces!D850=\"\",\"\",Liste_pièces!D850)","v":""},{"$f":"IF(Liste_pièces!E850=\"\",\"\",Liste_pièces!E850)","v":""},{"$f":"IF(Liste_pièces!F850=\"\",\"\",Liste_pièces!F850)","v":""},{"$f":"IF(Liste_pièces!G850=\"\",\"\",Liste_pièces!G850)","v":""},{"$f":"IF(Liste_pièces!H850=\"\",\"\",Liste_pièces!H850)","v":""},{"$f":"IF(Liste_pièces!I850=\"\",\"\",Liste_pièces!I850)","v":""},{"$f":"IF(Liste_pièces!J850=\"\",\"\",Liste_pièces!J850)","v":""},{"$f":"IF(Liste_pièces!K850=\"\",\"\",Liste_pièces!K850)","v":""},{"$f":"IF(Liste_pièces!L850=\"\",\"\",Liste_pièces!L850)","v":""},{"$f":"IF(Liste_pièces!M850=\"\",\"\",Liste_pièces!M850)","v":""}]
[{"$f":"IF(Liste_pièces!A851=\"\",\"ZZZ\",Liste_pièces!A851)","v":"ZZZ"},{"$f":"IF(Liste_pièces!B851=\"\",\"ZZZ\",Liste_pièces!B851)","v":"ZZZ"},{"$f":"IF(Liste_pièces!C851=\"\",\"\",Liste_pièces!C851)","v":""},{"$f":"IF(Liste_pièces!D851=\"\",\"\",Liste_pièces!D851)","v":""},{"$f":"IF(Liste_pièces!E851=\"\",\"\",Liste_pièces!E851)","v":""},{"$f":"IF(Liste_pièces!F851=\"\",\"\",Liste_pièces!F851)","v":""},{"$f":"IF(Liste_pièces!G851=\"\",\"\",Liste_pièces!G851)","v":""},{"$f":"IF(Liste_pièces!H851=\"\",\"\",Liste_pièces!H851)","v":""},{"$f":"IF(Liste_pièces!I851=\"\",\"\",Liste_pièces!I851)","v":""},{"$f":"IF(Liste_pièces!J851=\"\",\"\",Liste_pièces!J851)","v":""},{"$f":"IF(Liste_pièces!K851=\"\",\"\",Liste_pièces!K851)","v":""},{"$f":"IF(Liste_pièces!L851=\"\",\"\",Liste_pièces!L851)","v":""},{"$f":"IF(Liste_pièces!M851=\"\",\"\",Liste_pièces!M851)","v":""}]
[{"$f":"IF(Liste_pièces!A852=\"\",\"ZZZ\",Liste_pièces!A852)","v":"ZZZ"},{"$f":"IF(Liste_pièces!B852=\"\",\"ZZZ\",Liste_pièces!B852)","v":"ZZZ"},{"$f":"IF(Liste_pièces!C852=\"\",\"\",Liste_pièces!C852)","v":""},{"$f":"IF(Liste_pièces!D852=\"\",\"\",Liste_pièces!D852)","v":""},{"$f":"IF(Liste_pièces!E852=\"\",\"\",Liste_pièces!E852)","v":""},{"$f":"IF(Liste_pièces!F852=\"\",\"\",Liste_pièces!F852)","v":""},{"$f":"IF(Liste_pièces!G852=\"\",\"\",Liste_pièces!G852)","v":""},{"$f":"IF(Liste_pièces!H852=\"\",\"\",Liste_pièces!H852)","v":""},{"$f":"IF(Liste_pièces!I852=\"\",\"\",Liste_pièces!I852)","v":""},{"$f":"IF(Liste_pièces!J852=\"\",\"\",Liste_pièces!J852)","v":""},{"$f":"IF(Liste_pièces!K852=\"\",\"\",Liste_pièces!K852)","v":""},{"$f":"IF(Liste_pièces!L852=\"\",\"\",Liste_pièces!L852)","v":""},{"$f":"IF(Liste_pièces!M852=\"\",\"\",Liste_pièces!M852)","v":""}]
[{"$f":"IF(Liste_pièces!A853=\"\",\"ZZZ\",Liste_pièces!A853)","v":"ZZZ"},{"$f":"IF(Liste_pièces!B853=\"\",\"ZZZ\",Liste_pièces!B853)","v":"ZZZ"},{"$f":"IF(Liste_pièces!C853=\"\",\"\",Liste_pièces!C853)","v":""},{"$f":"IF(Liste_pièces!D853=\"\",\"\",Liste_pièces!D853)","v":""},{"$f":"IF(Liste_pièces!E853=\"\",\"\",Liste_pièces!E853)","v":""},{"$f":"IF(Liste_pièces!F853=\"\",\"\",Liste_pièces!F853)","v":""},{"$f":"IF(Liste_pièces!G853=\"\",\"\",Liste_pièces!G853)","v":""},{"$f":"IF(Liste_pièces!H853=\"\",\"\",Liste_pièces!H853)","v":""},{"$f":"IF(Liste_pièces!I853=\"\",\"\",Liste_pièces!I853)","v":""},{"$f":"IF(Liste_pièces!J853=\"\",\"\",Liste_pièces!J853)","v":""},{"$f":"IF(Liste_pièces!K853=\"\",\"\",Liste_pièces!K853)","v":""},{"$f":"IF(Liste_pièces!L853=\"\",\"\",Liste_pièces!L853)","v":""},{"$f":"IF(Liste_pièces!M853=\"\",\"\",Liste_pièces!M853)","v":""}]
[{"$f":"IF(Liste_pièces!A854=\"\",\"ZZZ\",Liste_pièces!A854)","v":"ZZZ"},{"$f":"IF(Liste_pièces!B854=\"\",\"ZZZ\",Liste_pièces!B854)","v":"ZZZ"},{"$f":"IF(Liste_pièces!C854=\"\",\"\",Liste_pièces!C854)","v":""},{"$f":"IF(Liste_pièces!D854=\"\",\"\",Liste_pièces!D854)","v":""},{"$f":"IF(Liste_pièces!E854=\"\",\"\",Liste_pièces!E854)","v":""},{"$f":"IF(Liste_pièces!F854=\"\",\"\",Liste_pièces!F854)","v":""},{"$f":"IF(Liste_pièces!G854=\"\",\"\",Liste_pièces!G854)","v":""},{"$f":"IF(Liste_pièces!H854=\"\",\"\",Liste_pièces!H854)","v":""},{"$f":"IF(Liste_pièces!I854=\"\",\"\",Liste_pièces!I854)","v":""},{"$f":"IF(Liste_pièces!J854=\"\",\"\",Liste_pièces!J854)","v":""},{"$f":"IF(Liste_pièces!K854=\"\",\"\",Liste_pièces!K854)","v":""},{"$f":"IF(Liste_pièces!L854=\"\",\"\",Liste_pièces!L854)","v":""},{"$f":"IF(Liste_pièces!M854=\"\",\"\",Liste_pièces!M854)","v":""}]
[{"$f":"IF(Liste_pièces!A855=\"\",\"ZZZ\",Liste_pièces!A855)","v":"ZZZ"},{"$f":"IF(Liste_pièces!B855=\"\",\"ZZZ\",Liste_pièces!B855)","v":"ZZZ"},{"$f":"IF(Liste_pièces!C855=\"\",\"\",Liste_pièces!C855)","v":""},{"$f":"IF(Liste_pièces!D855=\"\",\"\",Liste_pièces!D855)","v":""},{"$f":"IF(Liste_pièces!E855=\"\",\"\",Liste_pièces!E855)","v":""},{"$f":"IF(Liste_pièces!F855=\"\",\"\",Liste_pièces!F855)","v":""},{"$f":"IF(Liste_pièces!G855=\"\",\"\",Liste_pièces!G855)","v":""},{"$f":"IF(Liste_pièces!H855=\"\",\"\",Liste_pièces!H855)","v":""},{"$f":"IF(Liste_pièces!I855=\"\",\"\",Liste_pièces!I855)","v":""},{"$f":"IF(Liste_pièces!J855=\"\",\"\",Liste_pièces!J855)","v":""},{"$f":"IF(Liste_pièces!K855=\"\",\"\",Liste_pièces!K855)","v":""},{"$f":"IF(Liste_pièces!L855=\"\",\"\",Liste_pièces!L855)","v":""},{"$f":"IF(Liste_pièces!M855=\"\",\"\",Liste_pièces!M855)","v":""}]
[{"$f":"IF(Liste_pièces!A856=\"\",\"ZZZ\",Liste_pièces!A856)","v":"ZZZ"},{"$f":"IF(Liste_pièces!B856=\"\",\"ZZZ\",Liste_pièces!B856)","v":"ZZZ"},{"$f":"IF(Liste_pièces!C856=\"\",\"\",Liste_pièces!C856)","v":""},{"$f":"IF(Liste_pièces!D856=\"\",\"\",Liste_pièces!D856)","v":""},{"$f":"IF(Liste_pièces!E856=\"\",\"\",Liste_pièces!E856)","v":""},{"$f":"IF(Liste_pièces!F856=\"\",\"\",Liste_pièces!F856)","v":""},{"$f":"IF(Liste_pièces!G856=\"\",\"\",Liste_pièces!G856)","v":""},{"$f":"IF(Liste_pièces!H856=\"\",\"\",Liste_pièces!H856)","v":""},{"$f":"IF(Liste_pièces!I856=\"\",\"\",Liste_pièces!I856)","v":""},{"$f":"IF(Liste_pièces!J856=\"\",\"\",Liste_pièces!J856)","v":""},{"$f":"IF(Liste_pièces!K856=\"\",\"\",Liste_pièces!K856)","v":""},{"$f":"IF(Liste_pièces!L856=\"\",\"\",Liste_pièces!L856)","v":""},{"$f":"IF(Liste_pièces!M856=\"\",\"\",Liste_pièces!M856)","v":""}]
[{"$f":"IF(Liste_pièces!A857=\"\",\"ZZZ\",Liste_pièces!A857)","v":"ZZZ"},{"$f":"IF(Liste_pièces!B857=\"\",\"ZZZ\",Liste_pièces!B857)","v":"ZZZ"},{"$f":"IF(Liste_pièces!C857=\"\",\"\",Liste_pièces!C857)","v":""},{"$f":"IF(Liste_pièces!D857=\"\",\"\",Liste_pièces!D857)","v":""},{"$f":"IF(Liste_pièces!E857=\"\",\"\",Liste_pièces!E857)","v":""},{"$f":"IF(Liste_pièces!F857=\"\",\"\",Liste_pièces!F857)","v":""},{"$f":"IF(Liste_pièces!G857=\"\",\"\",Liste_pièces!G857)","v":""},{"$f":"IF(Liste_pièces!H857=\"\",\"\",Liste_pièces!H857)","v":""},{"$f":"IF(Liste_pièces!I857=\"\",\"\",Liste_pièces!I857)","v":""},{"$f":"IF(Liste_pièces!J857=\"\",\"\",Liste_pièces!J857)","v":""},{"$f":"IF(Liste_pièces!K857=\"\",\"\",Liste_pièces!K857)","v":""},{"$f":"IF(Liste_pièces!L857=\"\",\"\",Liste_pièces!L857)","v":""},{"$f":"IF(Liste_pièces!M857=\"\",\"\",Liste_pièces!M857)","v":""}]
[{"$f":"IF(Liste_pièces!A858=\"\",\"ZZZ\",Liste_pièces!A858)","v":"ZZZ"},{"$f":"IF(Liste_pièces!B858=\"\",\"ZZZ\",Liste_pièces!B858)","v":"ZZZ"},{"$f":"IF(Liste_pièces!C858=\"\",\"\",Liste_pièces!C858)","v":""},{"$f":"IF(Liste_pièces!D858=\"\",\"\",Liste_pièces!D858)","v":""},{"$f":"IF(Liste_pièces!E858=\"\",\"\",Liste_pièces!E858)","v":""},{"$f":"IF(Liste_pièces!F858=\"\",\"\",Liste_pièces!F858)","v":""},{"$f":"IF(Liste_pièces!G858=\"\",\"\",Liste_pièces!G858)","v":""},{"$f":"IF(Liste_pièces!H858=\"\",\"\",Liste_pièces!H858)","v":""},{"$f":"IF(Liste_pièces!I858=\"\",\"\",Liste_pièces!I858)","v":""},{"$f":"IF(Liste_pièces!J858=\"\",\"\",Liste_pièces!J858)","v":""},{"$f":"IF(Liste_pièces!K858=\"\",\"\",Liste_pièces!K858)","v":""},{"$f":"IF(Liste_pièces!L858=\"\",\"\",Liste_pièces!L858)","v":""},{"$f":"IF(Liste_pièces!M858=\"\",\"\",Liste_pièces!M858)","v":""}]
[{"$f":"IF(Liste_pièces!A859=\"\",\"ZZZ\",Liste_pièces!A859)","v":"ZZZ"},{"$f":"IF(Liste_pièces!B859=\"\",\"ZZZ\",Liste_pièces!B859)","v":"ZZZ"},{"$f":"IF(Liste_pièces!C859=\"\",\"\",Liste_pièces!C859)","v":""},{"$f":"IF(Liste_pièces!D859=\"\",\"\",Liste_pièces!D859)","v":""},{"$f":"IF(Liste_pièces!E859=\"\",\"\",Liste_pièces!E859)","v":""},{"$f":"IF(Liste_pièces!F859=\"\",\"\",Liste_pièces!F859)","v":""},{"$f":"IF(Liste_pièces!G859=\"\",\"\",Liste_pièces!G859)","v":""},{"$f":"IF(Liste_pièces!H859=\"\",\"\",Liste_pièces!H859)","v":""},{"$f":"IF(Liste_pièces!I859=\"\",\"\",Liste_pièces!I859)","v":""},{"$f":"IF(Liste_pièces!J859=\"\",\"\",Liste_pièces!J859)","v":""},{"$f":"IF(Liste_pièces!K859=\"\",\"\",Liste_pièces!K859)","v":""},{"$f":"IF(Liste_pièces!L859=\"\",\"\",Liste_pièces!L859)","v":""},{"$f":"IF(Liste_pièces!M859=\"\",\"\",Liste_pièces!M859)","v":""}]
[{"$f":"IF(Liste_pièces!A860=\"\",\"ZZZ\",Liste_pièces!A860)","v":"ZZZ"},{"$f":"IF(Liste_pièces!B860=\"\",\"ZZZ\",Liste_pièces!B860)","v":"ZZZ"},{"$f":"IF(Liste_pièces!C860=\"\",\"\",Liste_pièces!C860)","v":""},{"$f":"IF(Liste_pièces!D860=\"\",\"\",Liste_pièces!D860)","v":""},{"$f":"IF(Liste_pièces!E860=\"\",\"\",Liste_pièces!E860)","v":""},{"$f":"IF(Liste_pièces!F860=\"\",\"\",Liste_pièces!F860)","v":""},{"$f":"IF(Liste_pièces!G860=\"\",\"\",Liste_pièces!G860)","v":""},{"$f":"IF(Liste_pièces!H860=\"\",\"\",Liste_pièces!H860)","v":""},{"$f":"IF(Liste_pièces!I860=\"\",\"\",Liste_pièces!I860)","v":""},{"$f":"IF(Liste_pièces!J860=\"\",\"\",Liste_pièces!J860)","v":""},{"$f":"IF(Liste_pièces!K860=\"\",\"\",Liste_pièces!K860)","v":""},{"$f":"IF(Liste_pièces!L860=\"\",\"\",Liste_pièces!L860)","v":""},{"$f":"IF(Liste_pièces!M860=\"\",\"\",Liste_pièces!M860)","v":""}]
[{"$f":"IF(Liste_pièces!A861=\"\",\"ZZZ\",Liste_pièces!A861)","v":"ZZZ"},{"$f":"IF(Liste_pièces!B861=\"\",\"ZZZ\",Liste_pièces!B861)","v":"ZZZ"},{"$f":"IF(Liste_pièces!C861=\"\",\"\",Liste_pièces!C861)","v":""},{"$f":"IF(Liste_pièces!D861=\"\",\"\",Liste_pièces!D861)","v":""},{"$f":"IF(Liste_pièces!E861=\"\",\"\",Liste_pièces!E861)","v":""},{"$f":"IF(Liste_pièces!F861=\"\",\"\",Liste_pièces!F861)","v":""},{"$f":"IF(Liste_pièces!G861=\"\",\"\",Liste_pièces!G861)","v":""},{"$f":"IF(Liste_pièces!H861=\"\",\"\",Liste_pièces!H861)","v":""},{"$f":"IF(Liste_pièces!I861=\"\",\"\",Liste_pièces!I861)","v":""},{"$f":"IF(Liste_pièces!J861=\"\",\"\",Liste_pièces!J861)","v":""},{"$f":"IF(Liste_pièces!K861=\"\",\"\",Liste_pièces!K861)","v":""},{"$f":"IF(Liste_pièces!L861=\"\",\"\",Liste_pièces!L861)","v":""},{"$f":"IF(Liste_pièces!M861=\"\",\"\",Liste_pièces!M861)","v":""}]
[{"$f":"IF(Liste_pièces!A862=\"\",\"ZZZ\",Liste_pièces!A862)","v":"ZZZ"},{"$f":"IF(Liste_pièces!B862=\"\",\"ZZZ\",Liste_pièces!B862)","v":"ZZZ"},{"$f":"IF(Liste_pièces!C862=\"\",\"\",Liste_pièces!C862)","v":""},{"$f":"IF(Liste_pièces!D862=\"\",\"\",Liste_pièces!D862)","v":""},{"$f":"IF(Liste_pièces!E862=\"\",\"\",Liste_pièces!E862)","v":""},{"$f":"IF(Liste_pièces!F862=\"\",\"\",Liste_pièces!F862)","v":""},{"$f":"IF(Liste_pièces!G862=\"\",\"\",Liste_pièces!G862)","v":""},{"$f":"IF(Liste_pièces!H862=\"\",\"\",Liste_pièces!H862)","v":""},{"$f":"IF(Liste_pièces!I862=\"\",\"\",Liste_pièces!I862)","v":""},{"$f":"IF(Liste_pièces!J862=\"\",\"\",Liste_pièces!J862)","v":""},{"$f":"IF(Liste_pièces!K862=\"\",\"\",Liste_pièces!K862)","v":""},{"$f":"IF(Liste_pièces!L862=\"\",\"\",Liste_pièces!L862)","v":""},{"$f":"IF(Liste_pièces!M862=\"\",\"\",Liste_pièces!M862)","v":""}]
[{"$f":"IF(Liste_pièces!A863=\"\",\"ZZZ\",Liste_pièces!A863)","v":"ZZZ"},{"$f":"IF(Liste_pièces!B863=\"\",\"ZZZ\",Liste_pièces!B863)","v":"ZZZ"},{"$f":"IF(Liste_pièces!C863=\"\",\"\",Liste_pièces!C863)","v":""},{"$f":"IF(Liste_pièces!D863=\"\",\"\",Liste_pièces!D863)","v":""},{"$f":"IF(Liste_pièces!E863=\"\",\"\",Liste_pièces!E863)","v":""},{"$f":"IF(Liste_pièces!F863=\"\",\"\",Liste_pièces!F863)","v":""},{"$f":"IF(Liste_pièces!G863=\"\",\"\",Liste_pièces!G863)","v":""},{"$f":"IF(Liste_pièces!H863=\"\",\"\",Liste_pièces!H863)","v":""},{"$f":"IF(Liste_pièces!I863=\"\",\"\",Liste_pièces!I863)","v":""},{"$f":"IF(Liste_pièces!J863=\"\",\"\",Liste_pièces!J863)","v":""},{"$f":"IF(Liste_pièces!K863=\"\",\"\",Liste_pièces!K863)","v":""},{"$f":"IF(Liste_pièces!L863=\"\",\"\",Liste_pièces!L863)","v":""},{"$f":"IF(Liste_pièces!M863=\"\",\"\",Liste_pièces!M863)","v":""}]
[{"$f":"IF(Liste_pièces!A864=\"\",\"ZZZ\",Liste_pièces!A864)","v":"ZZZ"},{"$f":"IF(Liste_pièces!B864=\"\",\"ZZZ\",Liste_pièces!B864)","v":"ZZZ"},{"$f":"IF(Liste_pièces!C864=\"\",\"\",Liste_pièces!C864)","v":""},{"$f":"IF(Liste_pièces!D864=\"\",\"\",Liste_pièces!D864)","v":""},{"$f":"IF(Liste_pièces!E864=\"\",\"\",Liste_pièces!E864)","v":""},{"$f":"IF(Liste_pièces!F864=\"\",\"\",Liste_pièces!F864)","v":""},{"$f":"IF(Liste_pièces!G864=\"\",\"\",Liste_pièces!G864)","v":""},{"$f":"IF(Liste_pièces!H864=\"\",\"\",Liste_pièces!H864)","v":""},{"$f":"IF(Liste_pièces!I864=\"\",\"\",Liste_pièces!I864)","v":""},{"$f":"IF(Liste_pièces!J864=\"\",\"\",Liste_pièces!J864)","v":""},{"$f":"IF(Liste_pièces!K864=\"\",\"\",Liste_pièces!K864)","v":""},{"$f":"IF(Liste_pièces!L864=\"\",\"\",Liste_pièces!L864)","v":""},{"$f":"IF(Liste_pièces!M864=\"\",\"\",Liste_pièces!M864)","v":""}]
[{"$f":"IF(Liste_pièces!A865=\"\",\"ZZZ\",Liste_pièces!A865)","v":"ZZZ"},{"$f":"IF(Liste_pièces!B865=\"\",\"ZZZ\",Liste_pièces!B865)","v":"ZZZ"},{"$f":"IF(Liste_pièces!C865=\"\",\"\",Liste_pièces!C865)","v":""},{"$f":"IF(Liste_pièces!D865=\"\",\"\",Liste_pièces!D865)","v":""},{"$f":"IF(Liste_pièces!E865=\"\",\"\",Liste_pièces!E865)","v":""},{"$f":"IF(Liste_pièces!F865=\"\",\"\",Liste_pièces!F865)","v":""},{"$f":"IF(Liste_pièces!G865=\"\",\"\",Liste_pièces!G865)","v":""},{"$f":"IF(Liste_pièces!H865=\"\",\"\",Liste_pièces!H865)","v":""},{"$f":"IF(Liste_pièces!I865=\"\",\"\",Liste_pièces!I865)","v":""},{"$f":"IF(Liste_pièces!J865=\"\",\"\",Liste_pièces!J865)","v":""},{"$f":"IF(Liste_pièces!K865=\"\",\"\",Liste_pièces!K865)","v":""},{"$f":"IF(Liste_pièces!L865=\"\",\"\",Liste_pièces!L865)","v":""},{"$f":"IF(Liste_pièces!M865=\"\",\"\",Liste_pièces!M865)","v":""}]
[{"$f":"IF(Liste_pièces!A866=\"\",\"ZZZ\",Liste_pièces!A866)","v":"ZZZ"},{"$f":"IF(Liste_pièces!B866=\"\",\"ZZZ\",Liste_pièces!B866)","v":"ZZZ"},{"$f":"IF(Liste_pièces!C866=\"\",\"\",Liste_pièces!C866)","v":""},{"$f":"IF(Liste_pièces!D866=\"\",\"\",Liste_pièces!D866)","v":""},{"$f":"IF(Liste_pièces!E866=\"\",\"\",Liste_pièces!E866)","v":""},{"$f":"IF(Liste_pièces!F866=\"\",\"\",Liste_pièces!F866)","v":""},{"$f":"IF(Liste_pièces!G866=\"\",\"\",Liste_pièces!G866)","v":""},{"$f":"IF(Liste_pièces!H866=\"\",\"\",Liste_pièces!H866)","v":""},{"$f":"IF(Liste_pièces!I866=\"\",\"\",Liste_pièces!I866)","v":""},{"$f":"IF(Liste_pièces!J866=\"\",\"\",Liste_pièces!J866)","v":""},{"$f":"IF(Liste_pièces!K866=\"\",\"\",Liste_pièces!K866)","v":""},{"$f":"IF(Liste_pièces!L866=\"\",\"\",Liste_pièces!L866)","v":""},{"$f":"IF(Liste_pièces!M866=\"\",\"\",Liste_pièces!M866)","v":""}]
[{"$f":"IF(Liste_pièces!A867=\"\",\"ZZZ\",Liste_pièces!A867)","v":"ZZZ"},{"$f":"IF(Liste_pièces!B867=\"\",\"ZZZ\",Liste_pièces!B867)","v":"ZZZ"},{"$f":"IF(Liste_pièces!C867=\"\",\"\",Liste_pièces!C867)","v":""},{"$f":"IF(Liste_pièces!D867=\"\",\"\",Liste_pièces!D867)","v":""},{"$f":"IF(Liste_pièces!E867=\"\",\"\",Liste_pièces!E867)","v":""},{"$f":"IF(Liste_pièces!F867=\"\",\"\",Liste_pièces!F867)","v":""},{"$f":"IF(Liste_pièces!G867=\"\",\"\",Liste_pièces!G867)","v":""},{"$f":"IF(Liste_pièces!H867=\"\",\"\",Liste_pièces!H867)","v":""},{"$f":"IF(Liste_pièces!I867=\"\",\"\",Liste_pièces!I867)","v":""},{"$f":"IF(Liste_pièces!J867=\"\",\"\",Liste_pièces!J867)","v":""},{"$f":"IF(Liste_pièces!K867=\"\",\"\",Liste_pièces!K867)","v":""},{"$f":"IF(Liste_pièces!L867=\"\",\"\",Liste_pièces!L867)","v":""},{"$f":"IF(Liste_pièces!M867=\"\",\"\",Liste_pièces!M867)","v":""}]
[{"$f":"IF(Liste_pièces!A868=\"\",\"ZZZ\",Liste_pièces!A868)","v":"ZZZ"},{"$f":"IF(Liste_pièces!B868=\"\",\"ZZZ\",Liste_pièces!B868)","v":"ZZZ"},{"$f":"IF(Liste_pièces!C868=\"\",\"\",Liste_pièces!C868)","v":""},{"$f":"IF(Liste_pièces!D868=\"\",\"\",Liste_pièces!D868)","v":""},{"$f":"IF(Liste_pièces!E868=\"\",\"\",Liste_pièces!E868)","v":""},{"$f":"IF(Liste_pièces!F868=\"\",\"\",Liste_pièces!F868)","v":""},{"$f":"IF(Liste_pièces!G868=\"\",\"\",Liste_pièces!G868)","v":""},{"$f":"IF(Liste_pièces!H868=\"\",\"\",Liste_pièces!H868)","v":""},{"$f":"IF(Liste_pièces!I868=\"\",\"\",Liste_pièces!I868)","v":""},{"$f":"IF(Liste_pièces!J868=\"\",\"\",Liste_pièces!J868)","v":""},{"$f":"IF(Liste_pièces!K868=\"\",\"\",Liste_pièces!K868)","v":""},{"$f":"IF(Liste_pièces!L868=\"\",\"\",Liste_pièces!L868)","v":""},{"$f":"IF(Liste_pièces!M868=\"\",\"\",Liste_pièces!M868)","v":""}]
[{"$f":"IF(Liste_pièces!A869=\"\",\"ZZZ\",Liste_pièces!A869)","v":"ZZZ"},{"$f":"IF(Liste_pièces!B869=\"\",\"ZZZ\",Liste_pièces!B869)","v":"ZZZ"},{"$f":"IF(Liste_pièces!C869=\"\",\"\",Liste_pièces!C869)","v":""},{"$f":"IF(Liste_pièces!D869=\"\",\"\",Liste_pièces!D869)","v":""},{"$f":"IF(Liste_pièces!E869=\"\",\"\",Liste_pièces!E869)","v":""},{"$f":"IF(Liste_pièces!F869=\"\",\"\",Liste_pièces!F869)","v":""},{"$f":"IF(Liste_pièces!G869=\"\",\"\",Liste_pièces!G869)","v":""},{"$f":"IF(Liste_pièces!H869=\"\",\"\",Liste_pièces!H869)","v":""},{"$f":"IF(Liste_pièces!I869=\"\",\"\",Liste_pièces!I869)","v":""},{"$f":"IF(Liste_pièces!J869=\"\",\"\",Liste_pièces!J869)","v":""},{"$f":"IF(Liste_pièces!K869=\"\",\"\",Liste_pièces!K869)","v":""},{"$f":"IF(Liste_pièces!L869=\"\",\"\",Liste_pièces!L869)","v":""},{"$f":"IF(Liste_pièces!M869=\"\",\"\",Liste_pièces!M869)","v":""}]
[{"$f":"IF(Liste_pièces!A870=\"\",\"ZZZ\",Liste_pièces!A870)","v":"ZZZ"},{"$f":"IF(Liste_pièces!B870=\"\",\"ZZZ\",Liste_pièces!B870)","v":"ZZZ"},{"$f":"IF(Liste_pièces!C870=\"\",\"\",Liste_pièces!C870)","v":""},{"$f":"IF(Liste_pièces!D870=\"\",\"\",Liste_pièces!D870)","v":""},{"$f":"IF(Liste_pièces!E870=\"\",\"\",Liste_pièces!E870)","v":""},{"$f":"IF(Liste_pièces!F870=\"\",\"\",Liste_pièces!F870)","v":""},{"$f":"IF(Liste_pièces!G870=\"\",\"\",Liste_pièces!G870)","v":""},{"$f":"IF(Liste_pièces!H870=\"\",\"\",Liste_pièces!H870)","v":""},{"$f":"IF(Liste_pièces!I870=\"\",\"\",Liste_pièces!I870)","v":""},{"$f":"IF(Liste_pièces!J870=\"\",\"\",Liste_pièces!J870)","v":""},{"$f":"IF(Liste_pièces!K870=\"\",\"\",Liste_pièces!K870)","v":""},{"$f":"IF(Liste_pièces!L870=\"\",\"\",Liste_pièces!L870)","v":""},{"$f":"IF(Liste_pièces!M870=\"\",\"\",Liste_pièces!M870)","v":""}]
[{"$f":"IF(Liste_pièces!A871=\"\",\"ZZZ\",Liste_pièces!A871)","v":"ZZZ"},{"$f":"IF(Liste_pièces!B871=\"\",\"ZZZ\",Liste_pièces!B871)","v":"ZZZ"},{"$f":"IF(Liste_pièces!C871=\"\",\"\",Liste_pièces!C871)","v":""},{"$f":"IF(Liste_pièces!D871=\"\",\"\",Liste_pièces!D871)","v":""},{"$f":"IF(Liste_pièces!E871=\"\",\"\",Liste_pièces!E871)","v":""},{"$f":"IF(Liste_pièces!F871=\"\",\"\",Liste_pièces!F871)","v":""},{"$f":"IF(Liste_pièces!G871=\"\",\"\",Liste_pièces!G871)","v":""},{"$f":"IF(Liste_pièces!H871=\"\",\"\",Liste_pièces!H871)","v":""},{"$f":"IF(Liste_pièces!I871=\"\",\"\",Liste_pièces!I871)","v":""},{"$f":"IF(Liste_pièces!J871=\"\",\"\",Liste_pièces!J871)","v":""},{"$f":"IF(Liste_pièces!K871=\"\",\"\",Liste_pièces!K871)","v":""},{"$f":"IF(Liste_pièces!L871=\"\",\"\",Liste_pièces!L871)","v":""},{"$f":"IF(Liste_pièces!M871=\"\",\"\",Liste_pièces!M871)","v":""}]
[{"$f":"IF(Liste_pièces!A872=\"\",\"ZZZ\",Liste_pièces!A872)","v":"ZZZ"},{"$f":"IF(Liste_pièces!B872=\"\",\"ZZZ\",Liste_pièces!B872)","v":"ZZZ"},{"$f":"IF(Liste_pièces!C872=\"\",\"\",Liste_pièces!C872)","v":""},{"$f":"IF(Liste_pièces!D872=\"\",\"\",Liste_pièces!D872)","v":""},{"$f":"IF(Liste_pièces!E872=\"\",\"\",Liste_pièces!E872)","v":""},{"$f":"IF(Liste_pièces!F872=\"\",\"\",Liste_pièces!F872)","v":""},{"$f":"IF(Liste_pièces!G872=\"\",\"\",Liste_pièces!G872)","v":""},{"$f":"IF(Liste_pièces!H872=\"\",\"\",Liste_pièces!H872)","v":""},{"$f":"IF(Liste_pièces!I872=\"\",\"\",Liste_pièces!I872)","v":""},{"$f":"IF(Liste_pièces!J872=\"\",\"\",Liste_pièces!J872)","v":""},{"$f":"IF(Liste_pièces!K872=\"\",\"\",Liste_pièces!K872)","v":""},{"$f":"IF(Liste_pièces!L872=\"\",\"\",Liste_pièces!L872)","v":""},{"$f":"IF(Liste_pièces!M872=\"\",\"\",Liste_pièces!M872)","v":""}]
[{"$f":"IF(Liste_pièces!A873=\"\",\"ZZZ\",Liste_pièces!A873)","v":"ZZZ"},{"$f":"IF(Liste_pièces!B873=\"\",\"ZZZ\",Liste_pièces!B873)","v":"ZZZ"},{"$f":"IF(Liste_pièces!C873=\"\",\"\",Liste_pièces!C873)","v":""},{"$f":"IF(Liste_pièces!D873=\"\",\"\",Liste_pièces!D873)","v":""},{"$f":"IF(Liste_pièces!E873=\"\",\"\",Liste_pièces!E873)","v":""},{"$f":"IF(Liste_pièces!F873=\"\",\"\",Liste_pièces!F873)","v":""},{"$f":"IF(Liste_pièces!G873=\"\",\"\",Liste_pièces!G873)","v":""},{"$f":"IF(Liste_pièces!H873=\"\",\"\",Liste_pièces!H873)","v":""},{"$f":"IF(Liste_pièces!I873=\"\",\"\",Liste_pièces!I873)","v":""},{"$f":"IF(Liste_pièces!J873=\"\",\"\",Liste_pièces!J873)","v":""},{"$f":"IF(Liste_pièces!K873=\"\",\"\",Liste_pièces!K873)","v":""},{"$f":"IF(Liste_pièces!L873=\"\",\"\",Liste_pièces!L873)","v":""},{"$f":"IF(Liste_pièces!M873=\"\",\"\",Liste_pièces!M873)","v":""}]
[{"$f":"IF(Liste_pièces!A874=\"\",\"ZZZ\",Liste_pièces!A874)","v":"ZZZ"},{"$f":"IF(Liste_pièces!B874=\"\",\"ZZZ\",Liste_pièces!B874)","v":"ZZZ"},{"$f":"IF(Liste_pièces!C874=\"\",\"\",Liste_pièces!C874)","v":""},{"$f":"IF(Liste_pièces!D874=\"\",\"\",Liste_pièces!D874)","v":""},{"$f":"IF(Liste_pièces!E874=\"\",\"\",Liste_pièces!E874)","v":""},{"$f":"IF(Liste_pièces!F874=\"\",\"\",Liste_pièces!F874)","v":""},{"$f":"IF(Liste_pièces!G874=\"\",\"\",Liste_pièces!G874)","v":""},{"$f":"IF(Liste_pièces!H874=\"\",\"\",Liste_pièces!H874)","v":""},{"$f":"IF(Liste_pièces!I874=\"\",\"\",Liste_pièces!I874)","v":""},{"$f":"IF(Liste_pièces!J874=\"\",\"\",Liste_pièces!J874)","v":""},{"$f":"IF(Liste_pièces!K874=\"\",\"\",Liste_pièces!K874)","v":""},{"$f":"IF(Liste_pièces!L874=\"\",\"\",Liste_pièces!L874)","v":""},{"$f":"IF(Liste_pièces!M874=\"\",\"\",Liste_pièces!M874)","v":""}]
[{"$f":"IF(Liste_pièces!A875=\"\",\"ZZZ\",Liste_pièces!A875)","v":"ZZZ"},{"$f":"IF(Liste_pièces!B875=\"\",\"ZZZ\",Liste_pièces!B875)","v":"ZZZ"},{"$f":"IF(Liste_pièces!C875=\"\",\"\",Liste_pièces!C875)","v":""},{"$f":"IF(Liste_pièces!D875=\"\",\"\",Liste_pièces!D875)","v":""},{"$f":"IF(Liste_pièces!E875=\"\",\"\",Liste_pièces!E875)","v":""},{"$f":"IF(Liste_pièces!F875=\"\",\"\",Liste_pièces!F875)","v":""},{"$f":"IF(Liste_pièces!G875=\"\",\"\",Liste_pièces!G875)","v":""},{"$f":"IF(Liste_pièces!H875=\"\",\"\",Liste_pièces!H875)","v":""},{"$f":"IF(Liste_pièces!I875=\"\",\"\",Liste_pièces!I875)","v":""},{"$f":"IF(Liste_pièces!J875=\"\",\"\",Liste_pièces!J875)","v":""},{"$f":"IF(Liste_pièces!K875=\"\",\"\",Liste_pièces!K875)","v":""},{"$f":"IF(Liste_pièces!L875=\"\",\"\",Liste_pièces!L875)","v":""},{"$f":"IF(Liste_pièces!M875=\"\",\"\",Liste_pièces!M875)","v":""}]
[{"$f":"IF(Liste_pièces!A876=\"\",\"ZZZ\",Liste_pièces!A876)","v":"ZZZ"},{"$f":"IF(Liste_pièces!B876=\"\",\"ZZZ\",Liste_pièces!B876)","v":"ZZZ"},{"$f":"IF(Liste_pièces!C876=\"\",\"\",Liste_pièces!C876)","v":""},{"$f":"IF(Liste_pièces!D876=\"\",\"\",Liste_pièces!D876)","v":""},{"$f":"IF(Liste_pièces!E876=\"\",\"\",Liste_pièces!E876)","v":""},{"$f":"IF(Liste_pièces!F876=\"\",\"\",Liste_pièces!F876)","v":""},{"$f":"IF(Liste_pièces!G876=\"\",\"\",Liste_pièces!G876)","v":""},{"$f":"IF(Liste_pièces!H876=\"\",\"\",Liste_pièces!H876)","v":""},{"$f":"IF(Liste_pièces!I876=\"\",\"\",Liste_pièces!I876)","v":""},{"$f":"IF(Liste_pièces!J876=\"\",\"\",Liste_pièces!J876)","v":""},{"$f":"IF(Liste_pièces!K876=\"\",\"\",Liste_pièces!K876)","v":""},{"$f":"IF(Liste_pièces!L876=\"\",\"\",Liste_pièces!L876)","v":""},{"$f":"IF(Liste_pièces!M876=\"\",\"\",Liste_pièces!M876)","v":""}]
[{"$f":"IF(Liste_pièces!A877=\"\",\"ZZZ\",Liste_pièces!A877)","v":"ZZZ"},{"$f":"IF(Liste_pièces!B877=\"\",\"ZZZ\",Liste_pièces!B877)","v":"ZZZ"},{"$f":"IF(Liste_pièces!C877=\"\",\"\",Liste_pièces!C877)","v":""},{"$f":"IF(Liste_pièces!D877=\"\",\"\",Liste_pièces!D877)","v":""},{"$f":"IF(Liste_pièces!E877=\"\",\"\",Liste_pièces!E877)","v":""},{"$f":"IF(Liste_pièces!F877=\"\",\"\",Liste_pièces!F877)","v":""},{"$f":"IF(Liste_pièces!G877=\"\",\"\",Liste_pièces!G877)","v":""},{"$f":"IF(Liste_pièces!H877=\"\",\"\",Liste_pièces!H877)","v":""},{"$f":"IF(Liste_pièces!I877=\"\",\"\",Liste_pièces!I877)","v":""},{"$f":"IF(Liste_pièces!J877=\"\",\"\",Liste_pièces!J877)","v":""},{"$f":"IF(Liste_pièces!K877=\"\",\"\",Liste_pièces!K877)","v":""},{"$f":"IF(Liste_pièces!L877=\"\",\"\",Liste_pièces!L877)","v":""},{"$f":"IF(Liste_pièces!M877=\"\",\"\",Liste_pièces!M877)","v":""}]
[{"$f":"IF(Liste_pièces!A878=\"\",\"ZZZ\",Liste_pièces!A878)","v":"ZZZ"},{"$f":"IF(Liste_pièces!B878=\"\",\"ZZZ\",Liste_pièces!B878)","v":"ZZZ"},{"$f":"IF(Liste_pièces!C878=\"\",\"\",Liste_pièces!C878)","v":""},{"$f":"IF(Liste_pièces!D878=\"\",\"\",Liste_pièces!D878)","v":""},{"$f":"IF(Liste_pièces!E878=\"\",\"\",Liste_pièces!E878)","v":""},{"$f":"IF(Liste_pièces!F878=\"\",\"\",Liste_pièces!F878)","v":""},{"$f":"IF(Liste_pièces!G878=\"\",\"\",Liste_pièces!G878)","v":""},{"$f":"IF(Liste_pièces!H878=\"\",\"\",Liste_pièces!H878)","v":""},{"$f":"IF(Liste_pièces!I878=\"\",\"\",Liste_pièces!I878)","v":""},{"$f":"IF(Liste_pièces!J878=\"\",\"\",Liste_pièces!J878)","v":""},{"$f":"IF(Liste_pièces!K878=\"\",\"\",Liste_pièces!K878)","v":""},{"$f":"IF(Liste_pièces!L878=\"\",\"\",Liste_pièces!L878)","v":""},{"$f":"IF(Liste_pièces!M878=\"\",\"\",Liste_pièces!M878)","v":""}]
[{"$f":"IF(Liste_pièces!A879=\"\",\"ZZZ\",Liste_pièces!A879)","v":"ZZZ"},{"$f":"IF(Liste_pièces!B879=\"\",\"ZZZ\",Liste_pièces!B879)","v":"ZZZ"},{"$f":"IF(Liste_pièces!C879=\"\",\"\",Liste_pièces!C879)","v":""},{"$f":"IF(Liste_pièces!D879=\"\",\"\",Liste_pièces!D879)","v":""},{"$f":"IF(Liste_pièces!E879=\"\",\"\",Liste_pièces!E879)","v":""},{"$f":"IF(Liste_pièces!F879=\"\",\"\",Liste_pièces!F879)","v":""},{"$f":"IF(Liste_pièces!G879=\"\",\"\",Liste_pièces!G879)","v":""},{"$f":"IF(Liste_pièces!H879=\"\",\"\",Liste_pièces!H879)","v":""},{"$f":"IF(Liste_pièces!I879=\"\",\"\",Liste_pièces!I879)","v":""},{"$f":"IF(Liste_pièces!J879=\"\",\"\",Liste_pièces!J879)","v":""},{"$f":"IF(Liste_pièces!K879=\"\",\"\",Liste_pièces!K879)","v":""},{"$f":"IF(Liste_pièces!L879=\"\",\"\",Liste_pièces!L879)","v":""},{"$f":"IF(Liste_pièces!M879=\"\",\"\",Liste_pièces!M879)","v":""}]
[{"$f":"IF(Liste_pièces!A880=\"\",\"ZZZ\",Liste_pièces!A880)","v":"ZZZ"},{"$f":"IF(Liste_pièces!B880=\"\",\"ZZZ\",Liste_pièces!B880)","v":"ZZZ"},{"$f":"IF(Liste_pièces!C880=\"\",\"\",Liste_pièces!C880)","v":""},{"$f":"IF(Liste_pièces!D880=\"\",\"\",Liste_pièces!D880)","v":""},{"$f":"IF(Liste_pièces!E880=\"\",\"\",Liste_pièces!E880)","v":""},{"$f":"IF(Liste_pièces!F880=\"\",\"\",Liste_pièces!F880)","v":""},{"$f":"IF(Liste_pièces!G880=\"\",\"\",Liste_pièces!G880)","v":""},{"$f":"IF(Liste_pièces!H880=\"\",\"\",Liste_pièces!H880)","v":""},{"$f":"IF(Liste_pièces!I880=\"\",\"\",Liste_pièces!I880)","v":""},{"$f":"IF(Liste_pièces!J880=\"\",\"\",Liste_pièces!J880)","v":""},{"$f":"IF(Liste_pièces!K880=\"\",\"\",Liste_pièces!K880)","v":""},{"$f":"IF(Liste_pièces!L880=\"\",\"\",Liste_pièces!L880)","v":""},{"$f":"IF(Liste_pièces!M880=\"\",\"\",Liste_pièces!M880)","v":""}]
[{"$f":"IF(Liste_pièces!A881=\"\",\"ZZZ\",Liste_pièces!A881)","v":"ZZZ"},{"$f":"IF(Liste_pièces!B881=\"\",\"ZZZ\",Liste_pièces!B881)","v":"ZZZ"},{"$f":"IF(Liste_pièces!C881=\"\",\"\",Liste_pièces!C881)","v":""},{"$f":"IF(Liste_pièces!D881=\"\",\"\",Liste_pièces!D881)","v":""},{"$f":"IF(Liste_pièces!E881=\"\",\"\",Liste_pièces!E881)","v":""},{"$f":"IF(Liste_pièces!F881=\"\",\"\",Liste_pièces!F881)","v":""},{"$f":"IF(Liste_pièces!G881=\"\",\"\",Liste_pièces!G881)","v":""},{"$f":"IF(Liste_pièces!H881=\"\",\"\",Liste_pièces!H881)","v":""},{"$f":"IF(Liste_pièces!I881=\"\",\"\",Liste_pièces!I881)","v":""},{"$f":"IF(Liste_pièces!J881=\"\",\"\",Liste_pièces!J881)","v":""},{"$f":"IF(Liste_pièces!K881=\"\",\"\",Liste_pièces!K881)","v":""},{"$f":"IF(Liste_pièces!L881=\"\",\"\",Liste_pièces!L881)","v":""},{"$f":"IF(Liste_pièces!M881=\"\",\"\",Liste_pièces!M881)","v":""}]
[{"$f":"IF(Liste_pièces!A882=\"\",\"ZZZ\",Liste_pièces!A882)","v":"ZZZ"},{"$f":"IF(Liste_pièces!B882=\"\",\"ZZZ\",Liste_pièces!B882)","v":"ZZZ"},{"$f":"IF(Liste_pièces!C882=\"\",\"\",Liste_pièces!C882)","v":""},{"$f":"IF(Liste_pièces!D882=\"\",\"\",Liste_pièces!D882)","v":""},{"$f":"IF(Liste_pièces!E882=\"\",\"\",Liste_pièces!E882)","v":""},{"$f":"IF(Liste_pièces!F882=\"\",\"\",Liste_pièces!F882)","v":""},{"$f":"IF(Liste_pièces!G882=\"\",\"\",Liste_pièces!G882)","v":""},{"$f":"IF(Liste_pièces!H882=\"\",\"\",Liste_pièces!H882)","v":""},{"$f":"IF(Liste_pièces!I882=\"\",\"\",Liste_pièces!I882)","v":""},{"$f":"IF(Liste_pièces!J882=\"\",\"\",Liste_pièces!J882)","v":""},{"$f":"IF(Liste_pièces!K882=\"\",\"\",Liste_pièces!K882)","v":""},{"$f":"IF(Liste_pièces!L882=\"\",\"\",Liste_pièces!L882)","v":""},{"$f":"IF(Liste_pièces!M882=\"\",\"\",Liste_pièces!M882)","v":""}]
[{"$f":"IF(Liste_pièces!A883=\"\",\"ZZZ\",Liste_pièces!A883)","v":"ZZZ"},{"$f":"IF(Liste_pièces!B883=\"\",\"ZZZ\",Liste_pièces!B883)","v":"ZZZ"},{"$f":"IF(Liste_pièces!C883=\"\",\"\",Liste_pièces!C883)","v":""},{"$f":"IF(Liste_pièces!D883=\"\",\"\",Liste_pièces!D883)","v":""},{"$f":"IF(Liste_pièces!E883=\"\",\"\",Liste_pièces!E883)","v":""},{"$f":"IF(Liste_pièces!F883=\"\",\"\",Liste_pièces!F883)","v":""},{"$f":"IF(Liste_pièces!G883=\"\",\"\",Liste_pièces!G883)","v":""},{"$f":"IF(Liste_pièces!H883=\"\",\"\",Liste_pièces!H883)","v":""},{"$f":"IF(Liste_pièces!I883=\"\",\"\",Liste_pièces!I883)","v":""},{"$f":"IF(Liste_pièces!J883=\"\",\"\",Liste_pièces!J883)","v":""},{"$f":"IF(Liste_pièces!K883=\"\",\"\",Liste_pièces!K883)","v":""},{"$f":"IF(Liste_pièces!L883=\"\",\"\",Liste_pièces!L883)","v":""},{"$f":"IF(Liste_pièces!M883=\"\",\"\",Liste_pièces!M883)","v":""}]
[{"$f":"IF(Liste_pièces!A884=\"\",\"ZZZ\",Liste_pièces!A884)","v":"ZZZ"},{"$f":"IF(Liste_pièces!B884=\"\",\"ZZZ\",Liste_pièces!B884)","v":"ZZZ"},{"$f":"IF(Liste_pièces!C884=\"\",\"\",Liste_pièces!C884)","v":""},{"$f":"IF(Liste_pièces!D884=\"\",\"\",Liste_pièces!D884)","v":""},{"$f":"IF(Liste_pièces!E884=\"\",\"\",Liste_pièces!E884)","v":""},{"$f":"IF(Liste_pièces!F884=\"\",\"\",Liste_pièces!F884)","v":""},{"$f":"IF(Liste_pièces!G884=\"\",\"\",Liste_pièces!G884)","v":""},{"$f":"IF(Liste_pièces!H884=\"\",\"\",Liste_pièces!H884)","v":""},{"$f":"IF(Liste_pièces!I884=\"\",\"\",Liste_pièces!I884)","v":""},{"$f":"IF(Liste_pièces!J884=\"\",\"\",Liste_pièces!J884)","v":""},{"$f":"IF(Liste_pièces!K884=\"\",\"\",Liste_pièces!K884)","v":""},{"$f":"IF(Liste_pièces!L884=\"\",\"\",Liste_pièces!L884)","v":""},{"$f":"IF(Liste_pièces!M884=\"\",\"\",Liste_pièces!M884)","v":""}]
[{"$f":"IF(Liste_pièces!A885=\"\",\"ZZZ\",Liste_pièces!A885)","v":"ZZZ"},{"$f":"IF(Liste_pièces!B885=\"\",\"ZZZ\",Liste_pièces!B885)","v":"ZZZ"},{"$f":"IF(Liste_pièces!C885=\"\",\"\",Liste_pièces!C885)","v":""},{"$f":"IF(Liste_pièces!D885=\"\",\"\",Liste_pièces!D885)","v":""},{"$f":"IF(Liste_pièces!E885=\"\",\"\",Liste_pièces!E885)","v":""},{"$f":"IF(Liste_pièces!F885=\"\",\"\",Liste_pièces!F885)","v":""},{"$f":"IF(Liste_pièces!G885=\"\",\"\",Liste_pièces!G885)","v":""},{"$f":"IF(Liste_pièces!H885=\"\",\"\",Liste_pièces!H885)","v":""},{"$f":"IF(Liste_pièces!I885=\"\",\"\",Liste_pièces!I885)","v":""},{"$f":"IF(Liste_pièces!J885=\"\",\"\",Liste_pièces!J885)","v":""},{"$f":"IF(Liste_pièces!K885=\"\",\"\",Liste_pièces!K885)","v":""},{"$f":"IF(Liste_pièces!L885=\"\",\"\",Liste_pièces!L885)","v":""},{"$f":"IF(Liste_pièces!M885=\"\",\"\",Liste_pièces!M885)","v":""}]
[{"$f":"IF(Liste_pièces!A886=\"\",\"ZZZ\",Liste_pièces!A886)","v":"ZZZ"},{"$f":"IF(Liste_pièces!B886=\"\",\"ZZZ\",Liste_pièces!B886)","v":"ZZZ"},{"$f":"IF(Liste_pièces!C886=\"\",\"\",Liste_pièces!C886)","v":""},{"$f":"IF(Liste_pièces!D886=\"\",\"\",Liste_pièces!D886)","v":""},{"$f":"IF(Liste_pièces!E886=\"\",\"\",Liste_pièces!E886)","v":""},{"$f":"IF(Liste_pièces!F886=\"\",\"\",Liste_pièces!F886)","v":""},{"$f":"IF(Liste_pièces!G886=\"\",\"\",Liste_pièces!G886)","v":""},{"$f":"IF(Liste_pièces!H886=\"\",\"\",Liste_pièces!H886)","v":""},{"$f":"IF(Liste_pièces!I886=\"\",\"\",Liste_pièces!I886)","v":""},{"$f":"IF(Liste_pièces!J886=\"\",\"\",Liste_pièces!J886)","v":""},{"$f":"IF(Liste_pièces!K886=\"\",\"\",Liste_pièces!K886)","v":""},{"$f":"IF(Liste_pièces!L886=\"\",\"\",Liste_pièces!L886)","v":""},{"$f":"IF(Liste_pièces!M886=\"\",\"\",Liste_pièces!M886)","v":""}]
[{"$f":"IF(Liste_pièces!A887=\"\",\"ZZZ\",Liste_pièces!A887)","v":"ZZZ"},{"$f":"IF(Liste_pièces!B887=\"\",\"ZZZ\",Liste_pièces!B887)","v":"ZZZ"},{"$f":"IF(Liste_pièces!C887=\"\",\"\",Liste_pièces!C887)","v":""},{"$f":"IF(Liste_pièces!D887=\"\",\"\",Liste_pièces!D887)","v":""},{"$f":"IF(Liste_pièces!E887=\"\",\"\",Liste_pièces!E887)","v":""},{"$f":"IF(Liste_pièces!F887=\"\",\"\",Liste_pièces!F887)","v":""},{"$f":"IF(Liste_pièces!G887=\"\",\"\",Liste_pièces!G887)","v":""},{"$f":"IF(Liste_pièces!H887=\"\",\"\",Liste_pièces!H887)","v":""},{"$f":"IF(Liste_pièces!I887=\"\",\"\",Liste_pièces!I887)","v":""},{"$f":"IF(Liste_pièces!J887=\"\",\"\",Liste_pièces!J887)","v":""},{"$f":"IF(Liste_pièces!K887=\"\",\"\",Liste_pièces!K887)","v":""},{"$f":"IF(Liste_pièces!L887=\"\",\"\",Liste_pièces!L887)","v":""},{"$f":"IF(Liste_pièces!M887=\"\",\"\",Liste_pièces!M887)","v":""}]
[{"$f":"IF(Liste_pièces!A888=\"\",\"ZZZ\",Liste_pièces!A888)","v":"ZZZ"},{"$f":"IF(Liste_pièces!B888=\"\",\"ZZZ\",Liste_pièces!B888)","v":"ZZZ"},{"$f":"IF(Liste_pièces!C888=\"\",\"\",Liste_pièces!C888)","v":""},{"$f":"IF(Liste_pièces!D888=\"\",\"\",Liste_pièces!D888)","v":""},{"$f":"IF(Liste_pièces!E888=\"\",\"\",Liste_pièces!E888)","v":""},{"$f":"IF(Liste_pièces!F888=\"\",\"\",Liste_pièces!F888)","v":""},{"$f":"IF(Liste_pièces!G888=\"\",\"\",Liste_pièces!G888)","v":""},{"$f":"IF(Liste_pièces!H888=\"\",\"\",Liste_pièces!H888)","v":""},{"$f":"IF(Liste_pièces!I888=\"\",\"\",Liste_pièces!I888)","v":""},{"$f":"IF(Liste_pièces!J888=\"\",\"\",Liste_pièces!J888)","v":""},{"$f":"IF(Liste_pièces!K888=\"\",\"\",Liste_pièces!K888)","v":""},{"$f":"IF(Liste_pièces!L888=\"\",\"\",Liste_pièces!L888)","v":""},{"$f":"IF(Liste_pièces!M888=\"\",\"\",Liste_pièces!M888)","v":""}]
[{"$f":"IF(Liste_pièces!A889=\"\",\"ZZZ\",Liste_pièces!A889)","v":"ZZZ"},{"$f":"IF(Liste_pièces!B889=\"\",\"ZZZ\",Liste_pièces!B889)","v":"ZZZ"},{"$f":"IF(Liste_pièces!C889=\"\",\"\",Liste_pièces!C889)","v":""},{"$f":"IF(Liste_pièces!D889=\"\",\"\",Liste_pièces!D889)","v":""},{"$f":"IF(Liste_pièces!E889=\"\",\"\",Liste_pièces!E889)","v":""},{"$f":"IF(Liste_pièces!F889=\"\",\"\",Liste_pièces!F889)","v":""},{"$f":"IF(Liste_pièces!G889=\"\",\"\",Liste_pièces!G889)","v":""},{"$f":"IF(Liste_pièces!H889=\"\",\"\",Liste_pièces!H889)","v":""},{"$f":"IF(Liste_pièces!I889=\"\",\"\",Liste_pièces!I889)","v":""},{"$f":"IF(Liste_pièces!J889=\"\",\"\",Liste_pièces!J889)","v":""},{"$f":"IF(Liste_pièces!K889=\"\",\"\",Liste_pièces!K889)","v":""},{"$f":"IF(Liste_pièces!L889=\"\",\"\",Liste_pièces!L889)","v":""},{"$f":"IF(Liste_pièces!M889=\"\",\"\",Liste_pièces!M889)","v":""}]
[{"$f":"IF(Liste_pièces!A890=\"\",\"ZZZ\",Liste_pièces!A890)","v":"ZZZ"},{"$f":"IF(Liste_pièces!B890=\"\",\"ZZZ\",Liste_pièces!B890)","v":"ZZZ"},{"$f":"IF(Liste_pièces!C890=\"\",\"\",Liste_pièces!C890)","v":""},{"$f":"IF(Liste_pièces!D890=\"\",\"\",Liste_pièces!D890)","v":""},{"$f":"IF(Liste_pièces!E890=\"\",\"\",Liste_pièces!E890)","v":""},{"$f":"IF(Liste_pièces!F890=\"\",\"\",Liste_pièces!F890)","v":""},{"$f":"IF(Liste_pièces!G890=\"\",\"\",Liste_pièces!G890)","v":""},{"$f":"IF(Liste_pièces!H890=\"\",\"\",Liste_pièces!H890)","v":""},{"$f":"IF(Liste_pièces!I890=\"\",\"\",Liste_pièces!I890)","v":""},{"$f":"IF(Liste_pièces!J890=\"\",\"\",Liste_pièces!J890)","v":""},{"$f":"IF(Liste_pièces!K890=\"\",\"\",Liste_pièces!K890)","v":""},{"$f":"IF(Liste_pièces!L890=\"\",\"\",Liste_pièces!L890)","v":""},{"$f":"IF(Liste_pièces!M890=\"\",\"\",Liste_pièces!M890)","v":""}]
[{"$f":"IF(Liste_pièces!A891=\"\",\"ZZZ\",Liste_pièces!A891)","v":"ZZZ"},{"$f":"IF(Liste_pièces!B891=\"\",\"ZZZ\",Liste_pièces!B891)","v":"ZZZ"},{"$f":"IF(Liste_pièces!C891=\"\",\"\",Liste_pièces!C891)","v":""},{"$f":"IF(Liste_pièces!D891=\"\",\"\",Liste_pièces!D891)","v":""},{"$f":"IF(Liste_pièces!E891=\"\",\"\",Liste_pièces!E891)","v":""},{"$f":"IF(Liste_pièces!F891=\"\",\"\",Liste_pièces!F891)","v":""},{"$f":"IF(Liste_pièces!G891=\"\",\"\",Liste_pièces!G891)","v":""},{"$f":"IF(Liste_pièces!H891=\"\",\"\",Liste_pièces!H891)","v":""},{"$f":"IF(Liste_pièces!I891=\"\",\"\",Liste_pièces!I891)","v":""},{"$f":"IF(Liste_pièces!J891=\"\",\"\",Liste_pièces!J891)","v":""},{"$f":"IF(Liste_pièces!K891=\"\",\"\",Liste_pièces!K891)","v":""},{"$f":"IF(Liste_pièces!L891=\"\",\"\",Liste_pièces!L891)","v":""},{"$f":"IF(Liste_pièces!M891=\"\",\"\",Liste_pièces!M891)","v":""}]
[{"$f":"IF(Liste_pièces!A892=\"\",\"ZZZ\",Liste_pièces!A892)","v":"ZZZ"},{"$f":"IF(Liste_pièces!B892=\"\",\"ZZZ\",Liste_pièces!B892)","v":"ZZZ"},{"$f":"IF(Liste_pièces!C892=\"\",\"\",Liste_pièces!C892)","v":""},{"$f":"IF(Liste_pièces!D892=\"\",\"\",Liste_pièces!D892)","v":""},{"$f":"IF(Liste_pièces!E892=\"\",\"\",Liste_pièces!E892)","v":""},{"$f":"IF(Liste_pièces!F892=\"\",\"\",Liste_pièces!F892)","v":""},{"$f":"IF(Liste_pièces!G892=\"\",\"\",Liste_pièces!G892)","v":""},{"$f":"IF(Liste_pièces!H892=\"\",\"\",Liste_pièces!H892)","v":""},{"$f":"IF(Liste_pièces!I892=\"\",\"\",Liste_pièces!I892)","v":""},{"$f":"IF(Liste_pièces!J892=\"\",\"\",Liste_pièces!J892)","v":""},{"$f":"IF(Liste_pièces!K892=\"\",\"\",Liste_pièces!K892)","v":""},{"$f":"IF(Liste_pièces!L892=\"\",\"\",Liste_pièces!L892)","v":""},{"$f":"IF(Liste_pièces!M892=\"\",\"\",Liste_pièces!M892)","v":""}]
[{"$f":"IF(Liste_pièces!A893=\"\",\"ZZZ\",Liste_pièces!A893)","v":"ZZZ"},{"$f":"IF(Liste_pièces!B893=\"\",\"ZZZ\",Liste_pièces!B893)","v":"ZZZ"},{"$f":"IF(Liste_pièces!C893=\"\",\"\",Liste_pièces!C893)","v":""},{"$f":"IF(Liste_pièces!D893=\"\",\"\",Liste_pièces!D893)","v":""},{"$f":"IF(Liste_pièces!E893=\"\",\"\",Liste_pièces!E893)","v":""},{"$f":"IF(Liste_pièces!F893=\"\",\"\",Liste_pièces!F893)","v":""},{"$f":"IF(Liste_pièces!G893=\"\",\"\",Liste_pièces!G893)","v":""},{"$f":"IF(Liste_pièces!H893=\"\",\"\",Liste_pièces!H893)","v":""},{"$f":"IF(Liste_pièces!I893=\"\",\"\",Liste_pièces!I893)","v":""},{"$f":"IF(Liste_pièces!J893=\"\",\"\",Liste_pièces!J893)","v":""},{"$f":"IF(Liste_pièces!K893=\"\",\"\",Liste_pièces!K893)","v":""},{"$f":"IF(Liste_pièces!L893=\"\",\"\",Liste_pièces!L893)","v":""},{"$f":"IF(Liste_pièces!M893=\"\",\"\",Liste_pièces!M893)","v":""}]
[{"$f":"IF(Liste_pièces!A894=\"\",\"ZZZ\",Liste_pièces!A894)","v":"ZZZ"},{"$f":"IF(Liste_pièces!B894=\"\",\"ZZZ\",Liste_pièces!B894)","v":"ZZZ"},{"$f":"IF(Liste_pièces!C894=\"\",\"\",Liste_pièces!C894)","v":""},{"$f":"IF(Liste_pièces!D894=\"\",\"\",Liste_pièces!D894)","v":""},{"$f":"IF(Liste_pièces!E894=\"\",\"\",Liste_pièces!E894)","v":""},{"$f":"IF(Liste_pièces!F894=\"\",\"\",Liste_pièces!F894)","v":""},{"$f":"IF(Liste_pièces!G894=\"\",\"\",Liste_pièces!G894)","v":""},{"$f":"IF(Liste_pièces!H894=\"\",\"\",Liste_pièces!H894)","v":""},{"$f":"IF(Liste_pièces!I894=\"\",\"\",Liste_pièces!I894)","v":""},{"$f":"IF(Liste_pièces!J894=\"\",\"\",Liste_pièces!J894)","v":""},{"$f":"IF(Liste_pièces!K894=\"\",\"\",Liste_pièces!K894)","v":""},{"$f":"IF(Liste_pièces!L894=\"\",\"\",Liste_pièces!L894)","v":""},{"$f":"IF(Liste_pièces!M894=\"\",\"\",Liste_pièces!M894)","v":""}]
[{"$f":"IF(Liste_pièces!A895=\"\",\"ZZZ\",Liste_pièces!A895)","v":"ZZZ"},{"$f":"IF(Liste_pièces!B895=\"\",\"ZZZ\",Liste_pièces!B895)","v":"ZZZ"},{"$f":"IF(Liste_pièces!C895=\"\",\"\",Liste_pièces!C895)","v":""},{"$f":"IF(Liste_pièces!D895=\"\",\"\",Liste_pièces!D895)","v":""},{"$f":"IF(Liste_pièces!E895=\"\",\"\",Liste_pièces!E895)","v":""},{"$f":"IF(Liste_pièces!F895=\"\",\"\",Liste_pièces!F895)","v":""},{"$f":"IF(Liste_pièces!G895=\"\",\"\",Liste_pièces!G895)","v":""},{"$f":"IF(Liste_pièces!H895=\"\",\"\",Liste_pièces!H895)","v":""},{"$f":"IF(Liste_pièces!I895=\"\",\"\",Liste_pièces!I895)","v":""},{"$f":"IF(Liste_pièces!J895=\"\",\"\",Liste_pièces!J895)","v":""},{"$f":"IF(Liste_pièces!K895=\"\",\"\",Liste_pièces!K895)","v":""},{"$f":"IF(Liste_pièces!L895=\"\",\"\",Liste_pièces!L895)","v":""},{"$f":"IF(Liste_pièces!M895=\"\",\"\",Liste_pièces!M895)","v":""}]
[{"$f":"IF(Liste_pièces!A896=\"\",\"ZZZ\",Liste_pièces!A896)","v":"ZZZ"},{"$f":"IF(Liste_pièces!B896=\"\",\"ZZZ\",Liste_pièces!B896)","v":"ZZZ"},{"$f":"IF(Liste_pièces!C896=\"\",\"\",Liste_pièces!C896)","v":""},{"$f":"IF(Liste_pièces!D896=\"\",\"\",Liste_pièces!D896)","v":""},{"$f":"IF(Liste_pièces!E896=\"\",\"\",Liste_pièces!E896)","v":""},{"$f":"IF(Liste_pièces!F896=\"\",\"\",Liste_pièces!F896)","v":""},{"$f":"IF(Liste_pièces!G896=\"\",\"\",Liste_pièces!G896)","v":""},{"$f":"IF(Liste_pièces!H896=\"\",\"\",Liste_pièces!H896)","v":""},{"$f":"IF(Liste_pièces!I896=\"\",\"\",Liste_pièces!I896)","v":""},{"$f":"IF(Liste_pièces!J896=\"\",\"\",Liste_pièces!J896)","v":""},{"$f":"IF(Liste_pièces!K896=\"\",\"\",Liste_pièces!K896)","v":""},{"$f":"IF(Liste_pièces!L896=\"\",\"\",Liste_pièces!L896)","v":""},{"$f":"IF(Liste_pièces!M896=\"\",\"\",Liste_pièces!M896)","v":""}]
[{"$f":"IF(Liste_pièces!A897=\"\",\"ZZZ\",Liste_pièces!A897)","v":"ZZZ"},{"$f":"IF(Liste_pièces!B897=\"\",\"ZZZ\",Liste_pièces!B897)","v":"ZZZ"},{"$f":"IF(Liste_pièces!C897=\"\",\"\",Liste_pièces!C897)","v":""},{"$f":"IF(Liste_pièces!D897=\"\",\"\",Liste_pièces!D897)","v":""},{"$f":"IF(Liste_pièces!E897=\"\",\"\",Liste_pièces!E897)","v":""},{"$f":"IF(Liste_pièces!F897=\"\",\"\",Liste_pièces!F897)","v":""},{"$f":"IF(Liste_pièces!G897=\"\",\"\",Liste_pièces!G897)","v":""},{"$f":"IF(Liste_pièces!H897=\"\",\"\",Liste_pièces!H897)","v":""},{"$f":"IF(Liste_pièces!I897=\"\",\"\",Liste_pièces!I897)","v":""},{"$f":"IF(Liste_pièces!J897=\"\",\"\",Liste_pièces!J897)","v":""},{"$f":"IF(Liste_pièces!K897=\"\",\"\",Liste_pièces!K897)","v":""},{"$f":"IF(Liste_pièces!L897=\"\",\"\",Liste_pièces!L897)","v":""},{"$f":"IF(Liste_pièces!M897=\"\",\"\",Liste_pièces!M897)","v":""}]
[{"$f":"IF(Liste_pièces!A898=\"\",\"ZZZ\",Liste_pièces!A898)","v":"ZZZ"},{"$f":"IF(Liste_pièces!B898=\"\",\"ZZZ\",Liste_pièces!B898)","v":"ZZZ"},{"$f":"IF(Liste_pièces!C898=\"\",\"\",Liste_pièces!C898)","v":""},{"$f":"IF(Liste_pièces!D898=\"\",\"\",Liste_pièces!D898)","v":""},{"$f":"IF(Liste_pièces!E898=\"\",\"\",Liste_pièces!E898)","v":""},{"$f":"IF(Liste_pièces!F898=\"\",\"\",Liste_pièces!F898)","v":""},{"$f":"IF(Liste_pièces!G898=\"\",\"\",Liste_pièces!G898)","v":""},{"$f":"IF(Liste_pièces!H898=\"\",\"\",Liste_pièces!H898)","v":""},{"$f":"IF(Liste_pièces!I898=\"\",\"\",Liste_pièces!I898)","v":""},{"$f":"IF(Liste_pièces!J898=\"\",\"\",Liste_pièces!J898)","v":""},{"$f":"IF(Liste_pièces!K898=\"\",\"\",Liste_pièces!K898)","v":""},{"$f":"IF(Liste_pièces!L898=\"\",\"\",Liste_pièces!L898)","v":""},{"$f":"IF(Liste_pièces!M898=\"\",\"\",Liste_pièces!M898)","v":""}]
[{"$f":"IF(Liste_pièces!A899=\"\",\"ZZZ\",Liste_pièces!A899)","v":"ZZZ"},{"$f":"IF(Liste_pièces!B899=\"\",\"ZZZ\",Liste_pièces!B899)","v":"ZZZ"},{"$f":"IF(Liste_pièces!C899=\"\",\"\",Liste_pièces!C899)","v":""},{"$f":"IF(Liste_pièces!D899=\"\",\"\",Liste_pièces!D899)","v":""},{"$f":"IF(Liste_pièces!E899=\"\",\"\",Liste_pièces!E899)","v":""},{"$f":"IF(Liste_pièces!F899=\"\",\"\",Liste_pièces!F899)","v":""},{"$f":"IF(Liste_pièces!G899=\"\",\"\",Liste_pièces!G899)","v":""},{"$f":"IF(Liste_pièces!H899=\"\",\"\",Liste_pièces!H899)","v":""},{"$f":"IF(Liste_pièces!I899=\"\",\"\",Liste_pièces!I899)","v":""},{"$f":"IF(Liste_pièces!J899=\"\",\"\",Liste_pièces!J899)","v":""},{"$f":"IF(Liste_pièces!K899=\"\",\"\",Liste_pièces!K899)","v":""},{"$f":"IF(Liste_pièces!L899=\"\",\"\",Liste_pièces!L899)","v":""},{"$f":"IF(Liste_pièces!M899=\"\",\"\",Liste_pièces!M899)","v":""}]
[{"$f":"IF(Liste_pièces!A900=\"\",\"ZZZ\",Liste_pièces!A900)","v":"ZZZ"},{"$f":"IF(Liste_pièces!B900=\"\",\"ZZZ\",Liste_pièces!B900)","v":"ZZZ"},{"$f":"IF(Liste_pièces!C900=\"\",\"\",Liste_pièces!C900)","v":""},{"$f":"IF(Liste_pièces!D900=\"\",\"\",Liste_pièces!D900)","v":""},{"$f":"IF(Liste_pièces!E900=\"\",\"\",Liste_pièces!E900)","v":""},{"$f":"IF(Liste_pièces!F900=\"\",\"\",Liste_pièces!F900)","v":""},{"$f":"IF(Liste_pièces!G900=\"\",\"\",Liste_pièces!G900)","v":""},{"$f":"IF(Liste_pièces!H900=\"\",\"\",Liste_pièces!H900)","v":""},{"$f":"IF(Liste_pièces!I900=\"\",\"\",Liste_pièces!I900)","v":""},{"$f":"IF(Liste_pièces!J900=\"\",\"\",Liste_pièces!J900)","v":""},{"$f":"IF(Liste_pièces!K900=\"\",\"\",Liste_pièces!K900)","v":""},{"$f":"IF(Liste_pièces!L900=\"\",\"\",Liste_pièces!L900)","v":""},{"$f":"IF(Liste_pièces!M900=\"\",\"\",Liste_pièces!M900)","v":""}]
[{"$f":"IF(Liste_pièces!A901=\"\",\"ZZZ\",Liste_pièces!A901)","v":"ZZZ"},{"$f":"IF(Liste_pièces!B901=\"\",\"ZZZ\",Liste_pièces!B901)","v":"ZZZ"},{"$f":"IF(Liste_pièces!C901=\"\",\"\",Liste_pièces!C901)","v":""},{"$f":"IF(Liste_pièces!D901=\"\",\"\",Liste_pièces!D901)","v":""},{"$f":"IF(Liste_pièces!E901=\"\",\"\",Liste_pièces!E901)","v":""},{"$f":"IF(Liste_pièces!F901=\"\",\"\",Liste_pièces!F901)","v":""},{"$f":"IF(Liste_pièces!G901=\"\",\"\",Liste_pièces!G901)","v":""},{"$f":"IF(Liste_pièces!H901=\"\",\"\",Liste_pièces!H901)","v":""},{"$f":"IF(Liste_pièces!I901=\"\",\"\",Liste_pièces!I901)","v":""},{"$f":"IF(Liste_pièces!J901=\"\",\"\",Liste_pièces!J901)","v":""},{"$f":"IF(Liste_pièces!K901=\"\",\"\",Liste_pièces!K901)","v":""},{"$f":"IF(Liste_pièces!L901=\"\",\"\",Liste_pièces!L901)","v":""},{"$f":"IF(Liste_pièces!M901=\"\",\"\",Liste_pièces!M901)","v":""}]
[{"$f":"IF(Liste_pièces!A902=\"\",\"ZZZ\",Liste_pièces!A902)","v":"ZZZ"},{"$f":"IF(Liste_pièces!B902=\"\",\"ZZZ\",Liste_pièces!B902)","v":"ZZZ"},{"$f":"IF(Liste_pièces!C902=\"\",\"\",Liste_pièces!C902)","v":""},{"$f":"IF(Liste_pièces!D902=\"\",\"\",Liste_pièces!D902)","v":""},{"$f":"IF(Liste_pièces!E902=\"\",\"\",Liste_pièces!E902)","v":""},{"$f":"IF(Liste_pièces!F902=\"\",\"\",Liste_pièces!F902)","v":""},{"$f":"IF(Liste_pièces!G902=\"\",\"\",Liste_pièces!G902)","v":""},{"$f":"IF(Liste_pièces!H902=\"\",\"\",Liste_pièces!H902)","v":""},{"$f":"IF(Liste_pièces!I902=\"\",\"\",Liste_pièces!I902)","v":""},{"$f":"IF(Liste_pièces!J902=\"\",\"\",Liste_pièces!J902)","v":""},{"$f":"IF(Liste_pièces!K902=\"\",\"\",Liste_pièces!K902)","v":""},{"$f":"IF(Liste_pièces!L902=\"\",\"\",Liste_pièces!L902)","v":""},{"$f":"IF(Liste_pièces!M902=\"\",\"\",Liste_pièces!M902)","v":""}]
[{"$f":"IF(Liste_pièces!A903=\"\",\"ZZZ\",Liste_pièces!A903)","v":"ZZZ"},{"$f":"IF(Liste_pièces!B903=\"\",\"ZZZ\",Liste_pièces!B903)","v":"ZZZ"},{"$f":"IF(Liste_pièces!C903=\"\",\"\",Liste_pièces!C903)","v":""},{"$f":"IF(Liste_pièces!D903=\"\",\"\",Liste_pièces!D903)","v":""},{"$f":"IF(Liste_pièces!E903=\"\",\"\",Liste_pièces!E903)","v":""},{"$f":"IF(Liste_pièces!F903=\"\",\"\",Liste_pièces!F903)","v":""},{"$f":"IF(Liste_pièces!G903=\"\",\"\",Liste_pièces!G903)","v":""},{"$f":"IF(Liste_pièces!H903=\"\",\"\",Liste_pièces!H903)","v":""},{"$f":"IF(Liste_pièces!I903=\"\",\"\",Liste_pièces!I903)","v":""},{"$f":"IF(Liste_pièces!J903=\"\",\"\",Liste_pièces!J903)","v":""},{"$f":"IF(Liste_pièces!K903=\"\",\"\",Liste_pièces!K903)","v":""},{"$f":"IF(Liste_pièces!L903=\"\",\"\",Liste_pièces!L903)","v":""},{"$f":"IF(Liste_pièces!M903=\"\",\"\",Liste_pièces!M903)","v":""}]
[{"$f":"IF(Liste_pièces!A904=\"\",\"ZZZ\",Liste_pièces!A904)","v":"ZZZ"},{"$f":"IF(Liste_pièces!B904=\"\",\"ZZZ\",Liste_pièces!B904)","v":"ZZZ"},{"$f":"IF(Liste_pièces!C904=\"\",\"\",Liste_pièces!C904)","v":""},{"$f":"IF(Liste_pièces!D904=\"\",\"\",Liste_pièces!D904)","v":""},{"$f":"IF(Liste_pièces!E904=\"\",\"\",Liste_pièces!E904)","v":""},{"$f":"IF(Liste_pièces!F904=\"\",\"\",Liste_pièces!F904)","v":""},{"$f":"IF(Liste_pièces!G904=\"\",\"\",Liste_pièces!G904)","v":""},{"$f":"IF(Liste_pièces!H904=\"\",\"\",Liste_pièces!H904)","v":""},{"$f":"IF(Liste_pièces!I904=\"\",\"\",Liste_pièces!I904)","v":""},{"$f":"IF(Liste_pièces!J904=\"\",\"\",Liste_pièces!J904)","v":""},{"$f":"IF(Liste_pièces!K904=\"\",\"\",Liste_pièces!K904)","v":""},{"$f":"IF(Liste_pièces!L904=\"\",\"\",Liste_pièces!L904)","v":""},{"$f":"IF(Liste_pièces!M904=\"\",\"\",Liste_pièces!M904)","v":""}]
[{"$f":"IF(Liste_pièces!A905=\"\",\"ZZZ\",Liste_pièces!A905)","v":"ZZZ"},{"$f":"IF(Liste_pièces!B905=\"\",\"ZZZ\",Liste_pièces!B905)","v":"ZZZ"},{"$f":"IF(Liste_pièces!C905=\"\",\"\",Liste_pièces!C905)","v":""},{"$f":"IF(Liste_pièces!D905=\"\",\"\",Liste_pièces!D905)","v":""},{"$f":"IF(Liste_pièces!E905=\"\",\"\",Liste_pièces!E905)","v":""},{"$f":"IF(Liste_pièces!F905=\"\",\"\",Liste_pièces!F905)","v":""},{"$f":"IF(Liste_pièces!G905=\"\",\"\",Liste_pièces!G905)","v":""},{"$f":"IF(Liste_pièces!H905=\"\",\"\",Liste_pièces!H905)","v":""},{"$f":"IF(Liste_pièces!I905=\"\",\"\",Liste_pièces!I905)","v":""},{"$f":"IF(Liste_pièces!J905=\"\",\"\",Liste_pièces!J905)","v":""},{"$f":"IF(Liste_pièces!K905=\"\",\"\",Liste_pièces!K905)","v":""},{"$f":"IF(Liste_pièces!L905=\"\",\"\",Liste_pièces!L905)","v":""},{"$f":"IF(Liste_pièces!M905=\"\",\"\",Liste_pièces!M905)","v":""}]
[{"$f":"IF(Liste_pièces!A906=\"\",\"ZZZ\",Liste_pièces!A906)","v":"ZZZ"},{"$f":"IF(Liste_pièces!B906=\"\",\"ZZZ\",Liste_pièces!B906)","v":"ZZZ"},{"$f":"IF(Liste_pièces!C906=\"\",\"\",Liste_pièces!C906)","v":""},{"$f":"IF(Liste_pièces!D906=\"\",\"\",Liste_pièces!D906)","v":""},{"$f":"IF(Liste_pièces!E906=\"\",\"\",Liste_pièces!E906)","v":""},{"$f":"IF(Liste_pièces!F906=\"\",\"\",Liste_pièces!F906)","v":""},{"$f":"IF(Liste_pièces!G906=\"\",\"\",Liste_pièces!G906)","v":""},{"$f":"IF(Liste_pièces!H906=\"\",\"\",Liste_pièces!H906)","v":""},{"$f":"IF(Liste_pièces!I906=\"\",\"\",Liste_pièces!I906)","v":""},{"$f":"IF(Liste_pièces!J906=\"\",\"\",Liste_pièces!J906)","v":""},{"$f":"IF(Liste_pièces!K906=\"\",\"\",Liste_pièces!K906)","v":""},{"$f":"IF(Liste_pièces!L906=\"\",\"\",Liste_pièces!L906)","v":""},{"$f":"IF(Liste_pièces!M906=\"\",\"\",Liste_pièces!M906)","v":""}]
[{"$f":"IF(Liste_pièces!A907=\"\",\"ZZZ\",Liste_pièces!A907)","v":"ZZZ"},{"$f":"IF(Liste_pièces!B907=\"\",\"ZZZ\",Liste_pièces!B907)","v":"ZZZ"},{"$f":"IF(Liste_pièces!C907=\"\",\"\",Liste_pièces!C907)","v":""},{"$f":"IF(Liste_pièces!D907=\"\",\"\",Liste_pièces!D907)","v":""},{"$f":"IF(Liste_pièces!E907=\"\",\"\",Liste_pièces!E907)","v":""},{"$f":"IF(Liste_pièces!F907=\"\",\"\",Liste_pièces!F907)","v":""},{"$f":"IF(Liste_pièces!G907=\"\",\"\",Liste_pièces!G907)","v":""},{"$f":"IF(Liste_pièces!H907=\"\",\"\",Liste_pièces!H907)","v":""},{"$f":"IF(Liste_pièces!I907=\"\",\"\",Liste_pièces!I907)","v":""},{"$f":"IF(Liste_pièces!J907=\"\",\"\",Liste_pièces!J907)","v":""},{"$f":"IF(Liste_pièces!K907=\"\",\"\",Liste_pièces!K907)","v":""},{"$f":"IF(Liste_pièces!L907=\"\",\"\",Liste_pièces!L907)","v":""},{"$f":"IF(Liste_pièces!M907=\"\",\"\",Liste_pièces!M907)","v":""}]
[{"$f":"IF(Liste_pièces!A908=\"\",\"ZZZ\",Liste_pièces!A908)","v":"ZZZ"},{"$f":"IF(Liste_pièces!B908=\"\",\"ZZZ\",Liste_pièces!B908)","v":"ZZZ"},{"$f":"IF(Liste_pièces!C908=\"\",\"\",Liste_pièces!C908)","v":""},{"$f":"IF(Liste_pièces!D908=\"\",\"\",Liste_pièces!D908)","v":""},{"$f":"IF(Liste_pièces!E908=\"\",\"\",Liste_pièces!E908)","v":""},{"$f":"IF(Liste_pièces!F908=\"\",\"\",Liste_pièces!F908)","v":""},{"$f":"IF(Liste_pièces!G908=\"\",\"\",Liste_pièces!G908)","v":""},{"$f":"IF(Liste_pièces!H908=\"\",\"\",Liste_pièces!H908)","v":""},{"$f":"IF(Liste_pièces!I908=\"\",\"\",Liste_pièces!I908)","v":""},{"$f":"IF(Liste_pièces!J908=\"\",\"\",Liste_pièces!J908)","v":""},{"$f":"IF(Liste_pièces!K908=\"\",\"\",Liste_pièces!K908)","v":""},{"$f":"IF(Liste_pièces!L908=\"\",\"\",Liste_pièces!L908)","v":""},{"$f":"IF(Liste_pièces!M908=\"\",\"\",Liste_pièces!M908)","v":""}]
[{"$f":"IF(Liste_pièces!A909=\"\",\"ZZZ\",Liste_pièces!A909)","v":"ZZZ"},{"$f":"IF(Liste_pièces!B909=\"\",\"ZZZ\",Liste_pièces!B909)","v":"ZZZ"},{"$f":"IF(Liste_pièces!C909=\"\",\"\",Liste_pièces!C909)","v":""},{"$f":"IF(Liste_pièces!D909=\"\",\"\",Liste_pièces!D909)","v":""},{"$f":"IF(Liste_pièces!E909=\"\",\"\",Liste_pièces!E909)","v":""},{"$f":"IF(Liste_pièces!F909=\"\",\"\",Liste_pièces!F909)","v":""},{"$f":"IF(Liste_pièces!G909=\"\",\"\",Liste_pièces!G909)","v":""},{"$f":"IF(Liste_pièces!H909=\"\",\"\",Liste_pièces!H909)","v":""},{"$f":"IF(Liste_pièces!I909=\"\",\"\",Liste_pièces!I909)","v":""},{"$f":"IF(Liste_pièces!J909=\"\",\"\",Liste_pièces!J909)","v":""},{"$f":"IF(Liste_pièces!K909=\"\",\"\",Liste_pièces!K909)","v":""},{"$f":"IF(Liste_pièces!L909=\"\",\"\",Liste_pièces!L909)","v":""},{"$f":"IF(Liste_pièces!M909=\"\",\"\",Liste_pièces!M909)","v":""}]
[{"$f":"IF(Liste_pièces!A910=\"\",\"ZZZ\",Liste_pièces!A910)","v":"ZZZ"},{"$f":"IF(Liste_pièces!B910=\"\",\"ZZZ\",Liste_pièces!B910)","v":"ZZZ"},{"$f":"IF(Liste_pièces!C910=\"\",\"\",Liste_pièces!C910)","v":""},{"$f":"IF(Liste_pièces!D910=\"\",\"\",Liste_pièces!D910)","v":""},{"$f":"IF(Liste_pièces!E910=\"\",\"\",Liste_pièces!E910)","v":""},{"$f":"IF(Liste_pièces!F910=\"\",\"\",Liste_pièces!F910)","v":""},{"$f":"IF(Liste_pièces!G910=\"\",\"\",Liste_pièces!G910)","v":""},{"$f":"IF(Liste_pièces!H910=\"\",\"\",Liste_pièces!H910)","v":""},{"$f":"IF(Liste_pièces!I910=\"\",\"\",Liste_pièces!I910)","v":""},{"$f":"IF(Liste_pièces!J910=\"\",\"\",Liste_pièces!J910)","v":""},{"$f":"IF(Liste_pièces!K910=\"\",\"\",Liste_pièces!K910)","v":""},{"$f":"IF(Liste_pièces!L910=\"\",\"\",Liste_pièces!L910)","v":""},{"$f":"IF(Liste_pièces!M910=\"\",\"\",Liste_pièces!M910)","v":""}]
[{"$f":"IF(Liste_pièces!A911=\"\",\"ZZZ\",Liste_pièces!A911)","v":"ZZZ"},{"$f":"IF(Liste_pièces!B911=\"\",\"ZZZ\",Liste_pièces!B911)","v":"ZZZ"},{"$f":"IF(Liste_pièces!C911=\"\",\"\",Liste_pièces!C911)","v":""},{"$f":"IF(Liste_pièces!D911=\"\",\"\",Liste_pièces!D911)","v":""},{"$f":"IF(Liste_pièces!E911=\"\",\"\",Liste_pièces!E911)","v":""},{"$f":"IF(Liste_pièces!F911=\"\",\"\",Liste_pièces!F911)","v":""},{"$f":"IF(Liste_pièces!G911=\"\",\"\",Liste_pièces!G911)","v":""},{"$f":"IF(Liste_pièces!H911=\"\",\"\",Liste_pièces!H911)","v":""},{"$f":"IF(Liste_pièces!I911=\"\",\"\",Liste_pièces!I911)","v":""},{"$f":"IF(Liste_pièces!J911=\"\",\"\",Liste_pièces!J911)","v":""},{"$f":"IF(Liste_pièces!K911=\"\",\"\",Liste_pièces!K911)","v":""},{"$f":"IF(Liste_pièces!L911=\"\",\"\",Liste_pièces!L911)","v":""},{"$f":"IF(Liste_pièces!M911=\"\",\"\",Liste_pièces!M911)","v":""}]
[{"$f":"IF(Liste_pièces!A912=\"\",\"ZZZ\",Liste_pièces!A912)","v":"ZZZ"},{"$f":"IF(Liste_pièces!B912=\"\",\"ZZZ\",Liste_pièces!B912)","v":"ZZZ"},{"$f":"IF(Liste_pièces!C912=\"\",\"\",Liste_pièces!C912)","v":""},{"$f":"IF(Liste_pièces!D912=\"\",\"\",Liste_pièces!D912)","v":""},{"$f":"IF(Liste_pièces!E912=\"\",\"\",Liste_pièces!E912)","v":""},{"$f":"IF(Liste_pièces!F912=\"\",\"\",Liste_pièces!F912)","v":""},{"$f":"IF(Liste_pièces!G912=\"\",\"\",Liste_pièces!G912)","v":""},{"$f":"IF(Liste_pièces!H912=\"\",\"\",Liste_pièces!H912)","v":""},{"$f":"IF(Liste_pièces!I912=\"\",\"\",Liste_pièces!I912)","v":""},{"$f":"IF(Liste_pièces!J912=\"\",\"\",Liste_pièces!J912)","v":""},{"$f":"IF(Liste_pièces!K912=\"\",\"\",Liste_pièces!K912)","v":""},{"$f":"IF(Liste_pièces!L912=\"\",\"\",Liste_pièces!L912)","v":""},{"$f":"IF(Liste_pièces!M912=\"\",\"\",Liste_pièces!M912)","v":""}]
[{"$f":"IF(Liste_pièces!A913=\"\",\"ZZZ\",Liste_pièces!A913)","v":"ZZZ"},{"$f":"IF(Liste_pièces!B913=\"\",\"ZZZ\",Liste_pièces!B913)","v":"ZZZ"},{"$f":"IF(Liste_pièces!C913=\"\",\"\",Liste_pièces!C913)","v":""},{"$f":"IF(Liste_pièces!D913=\"\",\"\",Liste_pièces!D913)","v":""},{"$f":"IF(Liste_pièces!E913=\"\",\"\",Liste_pièces!E913)","v":""},{"$f":"IF(Liste_pièces!F913=\"\",\"\",Liste_pièces!F913)","v":""},{"$f":"IF(Liste_pièces!G913=\"\",\"\",Liste_pièces!G913)","v":""},{"$f":"IF(Liste_pièces!H913=\"\",\"\",Liste_pièces!H913)","v":""},{"$f":"IF(Liste_pièces!I913=\"\",\"\",Liste_pièces!I913)","v":""},{"$f":"IF(Liste_pièces!J913=\"\",\"\",Liste_pièces!J913)","v":""},{"$f":"IF(Liste_pièces!K913=\"\",\"\",Liste_pièces!K913)","v":""},{"$f":"IF(Liste_pièces!L913=\"\",\"\",Liste_pièces!L913)","v":""},{"$f":"IF(Liste_pièces!M913=\"\",\"\",Liste_pièces!M913)","v":""}]
[{"$f":"IF(Liste_pièces!A914=\"\",\"ZZZ\",Liste_pièces!A914)","v":"ZZZ"},{"$f":"IF(Liste_pièces!B914=\"\",\"ZZZ\",Liste_pièces!B914)","v":"ZZZ"},{"$f":"IF(Liste_pièces!C914=\"\",\"\",Liste_pièces!C914)","v":""},{"$f":"IF(Liste_pièces!D914=\"\",\"\",Liste_pièces!D914)","v":""},{"$f":"IF(Liste_pièces!E914=\"\",\"\",Liste_pièces!E914)","v":""},{"$f":"IF(Liste_pièces!F914=\"\",\"\",Liste_pièces!F914)","v":""},{"$f":"IF(Liste_pièces!G914=\"\",\"\",Liste_pièces!G914)","v":""},{"$f":"IF(Liste_pièces!H914=\"\",\"\",Liste_pièces!H914)","v":""},{"$f":"IF(Liste_pièces!I914=\"\",\"\",Liste_pièces!I914)","v":""},{"$f":"IF(Liste_pièces!J914=\"\",\"\",Liste_pièces!J914)","v":""},{"$f":"IF(Liste_pièces!K914=\"\",\"\",Liste_pièces!K914)","v":""},{"$f":"IF(Liste_pièces!L914=\"\",\"\",Liste_pièces!L914)","v":""},{"$f":"IF(Liste_pièces!M914=\"\",\"\",Liste_pièces!M914)","v":""}]
[{"$f":"IF(Liste_pièces!A915=\"\",\"ZZZ\",Liste_pièces!A915)","v":"ZZZ"},{"$f":"IF(Liste_pièces!B915=\"\",\"ZZZ\",Liste_pièces!B915)","v":"ZZZ"},{"$f":"IF(Liste_pièces!C915=\"\",\"\",Liste_pièces!C915)","v":""},{"$f":"IF(Liste_pièces!D915=\"\",\"\",Liste_pièces!D915)","v":""},{"$f":"IF(Liste_pièces!E915=\"\",\"\",Liste_pièces!E915)","v":""},{"$f":"IF(Liste_pièces!F915=\"\",\"\",Liste_pièces!F915)","v":""},{"$f":"IF(Liste_pièces!G915=\"\",\"\",Liste_pièces!G915)","v":""},{"$f":"IF(Liste_pièces!H915=\"\",\"\",Liste_pièces!H915)","v":""},{"$f":"IF(Liste_pièces!I915=\"\",\"\",Liste_pièces!I915)","v":""},{"$f":"IF(Liste_pièces!J915=\"\",\"\",Liste_pièces!J915)","v":""},{"$f":"IF(Liste_pièces!K915=\"\",\"\",Liste_pièces!K915)","v":""},{"$f":"IF(Liste_pièces!L915=\"\",\"\",Liste_pièces!L915)","v":""},{"$f":"IF(Liste_pièces!M915=\"\",\"\",Liste_pièces!M915)","v":""}]
[{"$f":"IF(Liste_pièces!A916=\"\",\"ZZZ\",Liste_pièces!A916)","v":"ZZZ"},{"$f":"IF(Liste_pièces!B916=\"\",\"ZZZ\",Liste_pièces!B916)","v":"ZZZ"},{"$f":"IF(Liste_pièces!C916=\"\",\"\",Liste_pièces!C916)","v":""},{"$f":"IF(Liste_pièces!D916=\"\",\"\",Liste_pièces!D916)","v":""},{"$f":"IF(Liste_pièces!E916=\"\",\"\",Liste_pièces!E916)","v":""},{"$f":"IF(Liste_pièces!F916=\"\",\"\",Liste_pièces!F916)","v":""},{"$f":"IF(Liste_pièces!G916=\"\",\"\",Liste_pièces!G916)","v":""},{"$f":"IF(Liste_pièces!H916=\"\",\"\",Liste_pièces!H916)","v":""},{"$f":"IF(Liste_pièces!I916=\"\",\"\",Liste_pièces!I916)","v":""},{"$f":"IF(Liste_pièces!J916=\"\",\"\",Liste_pièces!J916)","v":""},{"$f":"IF(Liste_pièces!K916=\"\",\"\",Liste_pièces!K916)","v":""},{"$f":"IF(Liste_pièces!L916=\"\",\"\",Liste_pièces!L916)","v":""},{"$f":"IF(Liste_pièces!M916=\"\",\"\",Liste_pièces!M916)","v":""}]
[{"$f":"IF(Liste_pièces!A917=\"\",\"ZZZ\",Liste_pièces!A917)","v":"ZZZ"},{"$f":"IF(Liste_pièces!B917=\"\",\"ZZZ\",Liste_pièces!B917)","v":"ZZZ"},{"$f":"IF(Liste_pièces!C917=\"\",\"\",Liste_pièces!C917)","v":""},{"$f":"IF(Liste_pièces!D917=\"\",\"\",Liste_pièces!D917)","v":""},{"$f":"IF(Liste_pièces!E917=\"\",\"\",Liste_pièces!E917)","v":""},{"$f":"IF(Liste_pièces!F917=\"\",\"\",Liste_pièces!F917)","v":""},{"$f":"IF(Liste_pièces!G917=\"\",\"\",Liste_pièces!G917)","v":""},{"$f":"IF(Liste_pièces!H917=\"\",\"\",Liste_pièces!H917)","v":""},{"$f":"IF(Liste_pièces!I917=\"\",\"\",Liste_pièces!I917)","v":""},{"$f":"IF(Liste_pièces!J917=\"\",\"\",Liste_pièces!J917)","v":""},{"$f":"IF(Liste_pièces!K917=\"\",\"\",Liste_pièces!K917)","v":""},{"$f":"IF(Liste_pièces!L917=\"\",\"\",Liste_pièces!L917)","v":""},{"$f":"IF(Liste_pièces!M917=\"\",\"\",Liste_pièces!M917)","v":""}]
[{"$f":"IF(Liste_pièces!A918=\"\",\"ZZZ\",Liste_pièces!A918)","v":"ZZZ"},{"$f":"IF(Liste_pièces!B918=\"\",\"ZZZ\",Liste_pièces!B918)","v":"ZZZ"},{"$f":"IF(Liste_pièces!C918=\"\",\"\",Liste_pièces!C918)","v":""},{"$f":"IF(Liste_pièces!D918=\"\",\"\",Liste_pièces!D918)","v":""},{"$f":"IF(Liste_pièces!E918=\"\",\"\",Liste_pièces!E918)","v":""},{"$f":"IF(Liste_pièces!F918=\"\",\"\",Liste_pièces!F918)","v":""},{"$f":"IF(Liste_pièces!G918=\"\",\"\",Liste_pièces!G918)","v":""},{"$f":"IF(Liste_pièces!H918=\"\",\"\",Liste_pièces!H918)","v":""},{"$f":"IF(Liste_pièces!I918=\"\",\"\",Liste_pièces!I918)","v":""},{"$f":"IF(Liste_pièces!J918=\"\",\"\",Liste_pièces!J918)","v":""},{"$f":"IF(Liste_pièces!K918=\"\",\"\",Liste_pièces!K918)","v":""},{"$f":"IF(Liste_pièces!L918=\"\",\"\",Liste_pièces!L918)","v":""},{"$f":"IF(Liste_pièces!M918=\"\",\"\",Liste_pièces!M918)","v":""}]
[{"$f":"IF(Liste_pièces!A919=\"\",\"ZZZ\",Liste_pièces!A919)","v":"ZZZ"},{"$f":"IF(Liste_pièces!B919=\"\",\"ZZZ\",Liste_pièces!B919)","v":"ZZZ"},{"$f":"IF(Liste_pièces!C919=\"\",\"\",Liste_pièces!C919)","v":""},{"$f":"IF(Liste_pièces!D919=\"\",\"\",Liste_pièces!D919)","v":""},{"$f":"IF(Liste_pièces!E919=\"\",\"\",Liste_pièces!E919)","v":""},{"$f":"IF(Liste_pièces!F919=\"\",\"\",Liste_pièces!F919)","v":""},{"$f":"IF(Liste_pièces!G919=\"\",\"\",Liste_pièces!G919)","v":""},{"$f":"IF(Liste_pièces!H919=\"\",\"\",Liste_pièces!H919)","v":""},{"$f":"IF(Liste_pièces!I919=\"\",\"\",Liste_pièces!I919)","v":""},{"$f":"IF(Liste_pièces!J919=\"\",\"\",Liste_pièces!J919)","v":""},{"$f":"IF(Liste_pièces!K919=\"\",\"\",Liste_pièces!K919)","v":""},{"$f":"IF(Liste_pièces!L919=\"\",\"\",Liste_pièces!L919)","v":""},{"$f":"IF(Liste_pièces!M919=\"\",\"\",Liste_pièces!M919)","v":""}]
[{"$f":"IF(Liste_pièces!A920=\"\",\"ZZZ\",Liste_pièces!A920)","v":"ZZZ"},{"$f":"IF(Liste_pièces!B920=\"\",\"ZZZ\",Liste_pièces!B920)","v":"ZZZ"},{"$f":"IF(Liste_pièces!C920=\"\",\"\",Liste_pièces!C920)","v":""},{"$f":"IF(Liste_pièces!D920=\"\",\"\",Liste_pièces!D920)","v":""},{"$f":"IF(Liste_pièces!E920=\"\",\"\",Liste_pièces!E920)","v":""},{"$f":"IF(Liste_pièces!F920=\"\",\"\",Liste_pièces!F920)","v":""},{"$f":"IF(Liste_pièces!G920=\"\",\"\",Liste_pièces!G920)","v":""},{"$f":"IF(Liste_pièces!H920=\"\",\"\",Liste_pièces!H920)","v":""},{"$f":"IF(Liste_pièces!I920=\"\",\"\",Liste_pièces!I920)","v":""},{"$f":"IF(Liste_pièces!J920=\"\",\"\",Liste_pièces!J920)","v":""},{"$f":"IF(Liste_pièces!K920=\"\",\"\",Liste_pièces!K920)","v":""},{"$f":"IF(Liste_pièces!L920=\"\",\"\",Liste_pièces!L920)","v":""},{"$f":"IF(Liste_pièces!M920=\"\",\"\",Liste_pièces!M920)","v":""}]
[{"$f":"IF(Liste_pièces!A921=\"\",\"ZZZ\",Liste_pièces!A921)","v":"ZZZ"},{"$f":"IF(Liste_pièces!B921=\"\",\"ZZZ\",Liste_pièces!B921)","v":"ZZZ"},{"$f":"IF(Liste_pièces!C921=\"\",\"\",Liste_pièces!C921)","v":""},{"$f":"IF(Liste_pièces!D921=\"\",\"\",Liste_pièces!D921)","v":""},{"$f":"IF(Liste_pièces!E921=\"\",\"\",Liste_pièces!E921)","v":""},{"$f":"IF(Liste_pièces!F921=\"\",\"\",Liste_pièces!F921)","v":""},{"$f":"IF(Liste_pièces!G921=\"\",\"\",Liste_pièces!G921)","v":""},{"$f":"IF(Liste_pièces!H921=\"\",\"\",Liste_pièces!H921)","v":""},{"$f":"IF(Liste_pièces!I921=\"\",\"\",Liste_pièces!I921)","v":""},{"$f":"IF(Liste_pièces!J921=\"\",\"\",Liste_pièces!J921)","v":""},{"$f":"IF(Liste_pièces!K921=\"\",\"\",Liste_pièces!K921)","v":""},{"$f":"IF(Liste_pièces!L921=\"\",\"\",Liste_pièces!L921)","v":""},{"$f":"IF(Liste_pièces!M921=\"\",\"\",Liste_pièces!M921)","v":""}]
[{"$f":"IF(Liste_pièces!A922=\"\",\"ZZZ\",Liste_pièces!A922)","v":"ZZZ"},{"$f":"IF(Liste_pièces!B922=\"\",\"ZZZ\",Liste_pièces!B922)","v":"ZZZ"},{"$f":"IF(Liste_pièces!C922=\"\",\"\",Liste_pièces!C922)","v":""},{"$f":"IF(Liste_pièces!D922=\"\",\"\",Liste_pièces!D922)","v":""},{"$f":"IF(Liste_pièces!E922=\"\",\"\",Liste_pièces!E922)","v":""},{"$f":"IF(Liste_pièces!F922=\"\",\"\",Liste_pièces!F922)","v":""},{"$f":"IF(Liste_pièces!G922=\"\",\"\",Liste_pièces!G922)","v":""},{"$f":"IF(Liste_pièces!H922=\"\",\"\",Liste_pièces!H922)","v":""},{"$f":"IF(Liste_pièces!I922=\"\",\"\",Liste_pièces!I922)","v":""},{"$f":"IF(Liste_pièces!J922=\"\",\"\",Liste_pièces!J922)","v":""},{"$f":"IF(Liste_pièces!K922=\"\",\"\",Liste_pièces!K922)","v":""},{"$f":"IF(Liste_pièces!L922=\"\",\"\",Liste_pièces!L922)","v":""},{"$f":"IF(Liste_pièces!M922=\"\",\"\",Liste_pièces!M922)","v":""}]
[{"$f":"IF(Liste_pièces!A923=\"\",\"ZZZ\",Liste_pièces!A923)","v":"ZZZ"},{"$f":"IF(Liste_pièces!B923=\"\",\"ZZZ\",Liste_pièces!B923)","v":"ZZZ"},{"$f":"IF(Liste_pièces!C923=\"\",\"\",Liste_pièces!C923)","v":""},{"$f":"IF(Liste_pièces!D923=\"\",\"\",Liste_pièces!D923)","v":""},{"$f":"IF(Liste_pièces!E923=\"\",\"\",Liste_pièces!E923)","v":""},{"$f":"IF(Liste_pièces!F923=\"\",\"\",Liste_pièces!F923)","v":""},{"$f":"IF(Liste_pièces!G923=\"\",\"\",Liste_pièces!G923)","v":""},{"$f":"IF(Liste_pièces!H923=\"\",\"\",Liste_pièces!H923)","v":""},{"$f":"IF(Liste_pièces!I923=\"\",\"\",Liste_pièces!I923)","v":""},{"$f":"IF(Liste_pièces!J923=\"\",\"\",Liste_pièces!J923)","v":""},{"$f":"IF(Liste_pièces!K923=\"\",\"\",Liste_pièces!K923)","v":""},{"$f":"IF(Liste_pièces!L923=\"\",\"\",Liste_pièces!L923)","v":""},{"$f":"IF(Liste_pièces!M923=\"\",\"\",Liste_pièces!M923)","v":""}]
[{"$f":"IF(Liste_pièces!A924=\"\",\"ZZZ\",Liste_pièces!A924)","v":"ZZZ"},{"$f":"IF(Liste_pièces!B924=\"\",\"ZZZ\",Liste_pièces!B924)","v":"ZZZ"},{"$f":"IF(Liste_pièces!C924=\"\",\"\",Liste_pièces!C924)","v":""},{"$f":"IF(Liste_pièces!D924=\"\",\"\",Liste_pièces!D924)","v":""},{"$f":"IF(Liste_pièces!E924=\"\",\"\",Liste_pièces!E924)","v":""},{"$f":"IF(Liste_pièces!F924=\"\",\"\",Liste_pièces!F924)","v":""},{"$f":"IF(Liste_pièces!G924=\"\",\"\",Liste_pièces!G924)","v":""},{"$f":"IF(Liste_pièces!H924=\"\",\"\",Liste_pièces!H924)","v":""},{"$f":"IF(Liste_pièces!I924=\"\",\"\",Liste_pièces!I924)","v":""},{"$f":"IF(Liste_pièces!J924=\"\",\"\",Liste_pièces!J924)","v":""},{"$f":"IF(Liste_pièces!K924=\"\",\"\",Liste_pièces!K924)","v":""},{"$f":"IF(Liste_pièces!L924=\"\",\"\",Liste_pièces!L924)","v":""},{"$f":"IF(Liste_pièces!M924=\"\",\"\",Liste_pièces!M924)","v":""}]
[{"$f":"IF(Liste_pièces!A925=\"\",\"ZZZ\",Liste_pièces!A925)","v":"ZZZ"},{"$f":"IF(Liste_pièces!B925=\"\",\"ZZZ\",Liste_pièces!B925)","v":"ZZZ"},{"$f":"IF(Liste_pièces!C925=\"\",\"\",Liste_pièces!C925)","v":""},{"$f":"IF(Liste_pièces!D925=\"\",\"\",Liste_pièces!D925)","v":""},{"$f":"IF(Liste_pièces!E925=\"\",\"\",Liste_pièces!E925)","v":""},{"$f":"IF(Liste_pièces!F925=\"\",\"\",Liste_pièces!F925)","v":""},{"$f":"IF(Liste_pièces!G925=\"\",\"\",Liste_pièces!G925)","v":""},{"$f":"IF(Liste_pièces!H925=\"\",\"\",Liste_pièces!H925)","v":""},{"$f":"IF(Liste_pièces!I925=\"\",\"\",Liste_pièces!I925)","v":""},{"$f":"IF(Liste_pièces!J925=\"\",\"\",Liste_pièces!J925)","v":""},{"$f":"IF(Liste_pièces!K925=\"\",\"\",Liste_pièces!K925)","v":""},{"$f":"IF(Liste_pièces!L925=\"\",\"\",Liste_pièces!L925)","v":""},{"$f":"IF(Liste_pièces!M925=\"\",\"\",Liste_pièces!M925)","v":""}]
[{"$f":"IF(Liste_pièces!A926=\"\",\"ZZZ\",Liste_pièces!A926)","v":"ZZZ"},{"$f":"IF(Liste_pièces!B926=\"\",\"ZZZ\",Liste_pièces!B926)","v":"ZZZ"},{"$f":"IF(Liste_pièces!C926=\"\",\"\",Liste_pièces!C926)","v":""},{"$f":"IF(Liste_pièces!D926=\"\",\"\",Liste_pièces!D926)","v":""},{"$f":"IF(Liste_pièces!E926=\"\",\"\",Liste_pièces!E926)","v":""},{"$f":"IF(Liste_pièces!F926=\"\",\"\",Liste_pièces!F926)","v":""},{"$f":"IF(Liste_pièces!G926=\"\",\"\",Liste_pièces!G926)","v":""},{"$f":"IF(Liste_pièces!H926=\"\",\"\",Liste_pièces!H926)","v":""},{"$f":"IF(Liste_pièces!I926=\"\",\"\",Liste_pièces!I926)","v":""},{"$f":"IF(Liste_pièces!J926=\"\",\"\",Liste_pièces!J926)","v":""},{"$f":"IF(Liste_pièces!K926=\"\",\"\",Liste_pièces!K926)","v":""},{"$f":"IF(Liste_pièces!L926=\"\",\"\",Liste_pièces!L926)","v":""},{"$f":"IF(Liste_pièces!M926=\"\",\"\",Liste_pièces!M926)","v":""}]
[{"$f":"IF(Liste_pièces!A927=\"\",\"ZZZ\",Liste_pièces!A927)","v":"ZZZ"},{"$f":"IF(Liste_pièces!B927=\"\",\"ZZZ\",Liste_pièces!B927)","v":"ZZZ"},{"$f":"IF(Liste_pièces!C927=\"\",\"\",Liste_pièces!C927)","v":""},{"$f":"IF(Liste_pièces!D927=\"\",\"\",Liste_pièces!D927)","v":""},{"$f":"IF(Liste_pièces!E927=\"\",\"\",Liste_pièces!E927)","v":""},{"$f":"IF(Liste_pièces!F927=\"\",\"\",Liste_pièces!F927)","v":""},{"$f":"IF(Liste_pièces!G927=\"\",\"\",Liste_pièces!G927)","v":""},{"$f":"IF(Liste_pièces!H927=\"\",\"\",Liste_pièces!H927)","v":""},{"$f":"IF(Liste_pièces!I927=\"\",\"\",Liste_pièces!I927)","v":""},{"$f":"IF(Liste_pièces!J927=\"\",\"\",Liste_pièces!J927)","v":""},{"$f":"IF(Liste_pièces!K927=\"\",\"\",Liste_pièces!K927)","v":""},{"$f":"IF(Liste_pièces!L927=\"\",\"\",Liste_pièces!L927)","v":""},{"$f":"IF(Liste_pièces!M927=\"\",\"\",Liste_pièces!M927)","v":""}]
[{"$f":"IF(Liste_pièces!A928=\"\",\"ZZZ\",Liste_pièces!A928)","v":"ZZZ"},{"$f":"IF(Liste_pièces!B928=\"\",\"ZZZ\",Liste_pièces!B928)","v":"ZZZ"},{"$f":"IF(Liste_pièces!C928=\"\",\"\",Liste_pièces!C928)","v":""},{"$f":"IF(Liste_pièces!D928=\"\",\"\",Liste_pièces!D928)","v":""},{"$f":"IF(Liste_pièces!E928=\"\",\"\",Liste_pièces!E928)","v":""},{"$f":"IF(Liste_pièces!F928=\"\",\"\",Liste_pièces!F928)","v":""},{"$f":"IF(Liste_pièces!G928=\"\",\"\",Liste_pièces!G928)","v":""},{"$f":"IF(Liste_pièces!H928=\"\",\"\",Liste_pièces!H928)","v":""},{"$f":"IF(Liste_pièces!I928=\"\",\"\",Liste_pièces!I928)","v":""},{"$f":"IF(Liste_pièces!J928=\"\",\"\",Liste_pièces!J928)","v":""},{"$f":"IF(Liste_pièces!K928=\"\",\"\",Liste_pièces!K928)","v":""},{"$f":"IF(Liste_pièces!L928=\"\",\"\",Liste_pièces!L928)","v":""},{"$f":"IF(Liste_pièces!M928=\"\",\"\",Liste_pièces!M928)","v":""}]
[{"$f":"IF(Liste_pièces!A929=\"\",\"ZZZ\",Liste_pièces!A929)","v":"ZZZ"},{"$f":"IF(Liste_pièces!B929=\"\",\"ZZZ\",Liste_pièces!B929)","v":"ZZZ"},{"$f":"IF(Liste_pièces!C929=\"\",\"\",Liste_pièces!C929)","v":""},{"$f":"IF(Liste_pièces!D929=\"\",\"\",Liste_pièces!D929)","v":""},{"$f":"IF(Liste_pièces!E929=\"\",\"\",Liste_pièces!E929)","v":""},{"$f":"IF(Liste_pièces!F929=\"\",\"\",Liste_pièces!F929)","v":""},{"$f":"IF(Liste_pièces!G929=\"\",\"\",Liste_pièces!G929)","v":""},{"$f":"IF(Liste_pièces!H929=\"\",\"\",Liste_pièces!H929)","v":""},{"$f":"IF(Liste_pièces!I929=\"\",\"\",Liste_pièces!I929)","v":""},{"$f":"IF(Liste_pièces!J929=\"\",\"\",Liste_pièces!J929)","v":""},{"$f":"IF(Liste_pièces!K929=\"\",\"\",Liste_pièces!K929)","v":""},{"$f":"IF(Liste_pièces!L929=\"\",\"\",Liste_pièces!L929)","v":""},{"$f":"IF(Liste_pièces!M929=\"\",\"\",Liste_pièces!M929)","v":""}]
[{"$f":"IF(Liste_pièces!A930=\"\",\"ZZZ\",Liste_pièces!A930)","v":"ZZZ"},{"$f":"IF(Liste_pièces!B930=\"\",\"ZZZ\",Liste_pièces!B930)","v":"ZZZ"},{"$f":"IF(Liste_pièces!C930=\"\",\"\",Liste_pièces!C930)","v":""},{"$f":"IF(Liste_pièces!D930=\"\",\"\",Liste_pièces!D930)","v":""},{"$f":"IF(Liste_pièces!E930=\"\",\"\",Liste_pièces!E930)","v":""},{"$f":"IF(Liste_pièces!F930=\"\",\"\",Liste_pièces!F930)","v":""},{"$f":"IF(Liste_pièces!G930=\"\",\"\",Liste_pièces!G930)","v":""},{"$f":"IF(Liste_pièces!H930=\"\",\"\",Liste_pièces!H930)","v":""},{"$f":"IF(Liste_pièces!I930=\"\",\"\",Liste_pièces!I930)","v":""},{"$f":"IF(Liste_pièces!J930=\"\",\"\",Liste_pièces!J930)","v":""},{"$f":"IF(Liste_pièces!K930=\"\",\"\",Liste_pièces!K930)","v":""},{"$f":"IF(Liste_pièces!L930=\"\",\"\",Liste_pièces!L930)","v":""},{"$f":"IF(Liste_pièces!M930=\"\",\"\",Liste_pièces!M930)","v":""}]
[{"$f":"IF(Liste_pièces!A931=\"\",\"ZZZ\",Liste_pièces!A931)","v":"ZZZ"},{"$f":"IF(Liste_pièces!B931=\"\",\"ZZZ\",Liste_pièces!B931)","v":"ZZZ"},{"$f":"IF(Liste_pièces!C931=\"\",\"\",Liste_pièces!C931)","v":""},{"$f":"IF(Liste_pièces!D931=\"\",\"\",Liste_pièces!D931)","v":""},{"$f":"IF(Liste_pièces!E931=\"\",\"\",Liste_pièces!E931)","v":""},{"$f":"IF(Liste_pièces!F931=\"\",\"\",Liste_pièces!F931)","v":""},{"$f":"IF(Liste_pièces!G931=\"\",\"\",Liste_pièces!G931)","v":""},{"$f":"IF(Liste_pièces!H931=\"\",\"\",Liste_pièces!H931)","v":""},{"$f":"IF(Liste_pièces!I931=\"\",\"\",Liste_pièces!I931)","v":""},{"$f":"IF(Liste_pièces!J931=\"\",\"\",Liste_pièces!J931)","v":""},{"$f":"IF(Liste_pièces!K931=\"\",\"\",Liste_pièces!K931)","v":""},{"$f":"IF(Liste_pièces!L931=\"\",\"\",Liste_pièces!L931)","v":""},{"$f":"IF(Liste_pièces!M931=\"\",\"\",Liste_pièces!M931)","v":""}]
[{"$f":"IF(Liste_pièces!A932=\"\",\"ZZZ\",Liste_pièces!A932)","v":"ZZZ"},{"$f":"IF(Liste_pièces!B932=\"\",\"ZZZ\",Liste_pièces!B932)","v":"ZZZ"},{"$f":"IF(Liste_pièces!C932=\"\",\"\",Liste_pièces!C932)","v":""},{"$f":"IF(Liste_pièces!D932=\"\",\"\",Liste_pièces!D932)","v":""},{"$f":"IF(Liste_pièces!E932=\"\",\"\",Liste_pièces!E932)","v":""},{"$f":"IF(Liste_pièces!F932=\"\",\"\",Liste_pièces!F932)","v":""},{"$f":"IF(Liste_pièces!G932=\"\",\"\",Liste_pièces!G932)","v":""},{"$f":"IF(Liste_pièces!H932=\"\",\"\",Liste_pièces!H932)","v":""},{"$f":"IF(Liste_pièces!I932=\"\",\"\",Liste_pièces!I932)","v":""},{"$f":"IF(Liste_pièces!J932=\"\",\"\",Liste_pièces!J932)","v":""},{"$f":"IF(Liste_pièces!K932=\"\",\"\",Liste_pièces!K932)","v":""},{"$f":"IF(Liste_pièces!L932=\"\",\"\",Liste_pièces!L932)","v":""},{"$f":"IF(Liste_pièces!M932=\"\",\"\",Liste_pièces!M932)","v":""}]
[{"$f":"IF(Liste_pièces!A933=\"\",\"ZZZ\",Liste_pièces!A933)","v":"ZZZ"},{"$f":"IF(Liste_pièces!B933=\"\",\"ZZZ\",Liste_pièces!B933)","v":"ZZZ"},{"$f":"IF(Liste_pièces!C933=\"\",\"\",Liste_pièces!C933)","v":""},{"$f":"IF(Liste_pièces!D933=\"\",\"\",Liste_pièces!D933)","v":""},{"$f":"IF(Liste_pièces!E933=\"\",\"\",Liste_pièces!E933)","v":""},{"$f":"IF(Liste_pièces!F933=\"\",\"\",Liste_pièces!F933)","v":""},{"$f":"IF(Liste_pièces!G933=\"\",\"\",Liste_pièces!G933)","v":""},{"$f":"IF(Liste_pièces!H933=\"\",\"\",Liste_pièces!H933)","v":""},{"$f":"IF(Liste_pièces!I933=\"\",\"\",Liste_pièces!I933)","v":""},{"$f":"IF(Liste_pièces!J933=\"\",\"\",Liste_pièces!J933)","v":""},{"$f":"IF(Liste_pièces!K933=\"\",\"\",Liste_pièces!K933)","v":""},{"$f":"IF(Liste_pièces!L933=\"\",\"\",Liste_pièces!L933)","v":""},{"$f":"IF(Liste_pièces!M933=\"\",\"\",Liste_pièces!M933)","v":""}]
[{"$f":"IF(Liste_pièces!A934=\"\",\"ZZZ\",Liste_pièces!A934)","v":"ZZZ"},{"$f":"IF(Liste_pièces!B934=\"\",\"ZZZ\",Liste_pièces!B934)","v":"ZZZ"},{"$f":"IF(Liste_pièces!C934=\"\",\"\",Liste_pièces!C934)","v":""},{"$f":"IF(Liste_pièces!D934=\"\",\"\",Liste_pièces!D934)","v":""},{"$f":"IF(Liste_pièces!E934=\"\",\"\",Liste_pièces!E934)","v":""},{"$f":"IF(Liste_pièces!F934=\"\",\"\",Liste_pièces!F934)","v":""},{"$f":"IF(Liste_pièces!G934=\"\",\"\",Liste_pièces!G934)","v":""},{"$f":"IF(Liste_pièces!H934=\"\",\"\",Liste_pièces!H934)","v":""},{"$f":"IF(Liste_pièces!I934=\"\",\"\",Liste_pièces!I934)","v":""},{"$f":"IF(Liste_pièces!J934=\"\",\"\",Liste_pièces!J934)","v":""},{"$f":"IF(Liste_pièces!K934=\"\",\"\",Liste_pièces!K934)","v":""},{"$f":"IF(Liste_pièces!L934=\"\",\"\",Liste_pièces!L934)","v":""},{"$f":"IF(Liste_pièces!M934=\"\",\"\",Liste_pièces!M934)","v":""}]
[{"$f":"IF(Liste_pièces!A935=\"\",\"ZZZ\",Liste_pièces!A935)","v":"ZZZ"},{"$f":"IF(Liste_pièces!B935=\"\",\"ZZZ\",Liste_pièces!B935)","v":"ZZZ"},{"$f":"IF(Liste_pièces!C935=\"\",\"\",Liste_pièces!C935)","v":""},{"$f":"IF(Liste_pièces!D935=\"\",\"\",Liste_pièces!D935)","v":""},{"$f":"IF(Liste_pièces!E935=\"\",\"\",Liste_pièces!E935)","v":""},{"$f":"IF(Liste_pièces!F935=\"\",\"\",Liste_pièces!F935)","v":""},{"$f":"IF(Liste_pièces!G935=\"\",\"\",Liste_pièces!G935)","v":""},{"$f":"IF(Liste_pièces!H935=\"\",\"\",Liste_pièces!H935)","v":""},{"$f":"IF(Liste_pièces!I935=\"\",\"\",Liste_pièces!I935)","v":""},{"$f":"IF(Liste_pièces!J935=\"\",\"\",Liste_pièces!J935)","v":""},{"$f":"IF(Liste_pièces!K935=\"\",\"\",Liste_pièces!K935)","v":""},{"$f":"IF(Liste_pièces!L935=\"\",\"\",Liste_pièces!L935)","v":""},{"$f":"IF(Liste_pièces!M935=\"\",\"\",Liste_pièces!M935)","v":""}]
[{"$f":"IF(Liste_pièces!A936=\"\",\"ZZZ\",Liste_pièces!A936)","v":"ZZZ"},{"$f":"IF(Liste_pièces!B936=\"\",\"ZZZ\",Liste_pièces!B936)","v":"ZZZ"},{"$f":"IF(Liste_pièces!C936=\"\",\"\",Liste_pièces!C936)","v":""},{"$f":"IF(Liste_pièces!D936=\"\",\"\",Liste_pièces!D936)","v":""},{"$f":"IF(Liste_pièces!E936=\"\",\"\",Liste_pièces!E936)","v":""},{"$f":"IF(Liste_pièces!F936=\"\",\"\",Liste_pièces!F936)","v":""},{"$f":"IF(Liste_pièces!G936=\"\",\"\",Liste_pièces!G936)","v":""},{"$f":"IF(Liste_pièces!H936=\"\",\"\",Liste_pièces!H936)","v":""},{"$f":"IF(Liste_pièces!I936=\"\",\"\",Liste_pièces!I936)","v":""},{"$f":"IF(Liste_pièces!J936=\"\",\"\",Liste_pièces!J936)","v":""},{"$f":"IF(Liste_pièces!K936=\"\",\"\",Liste_pièces!K936)","v":""},{"$f":"IF(Liste_pièces!L936=\"\",\"\",Liste_pièces!L936)","v":""},{"$f":"IF(Liste_pièces!M936=\"\",\"\",Liste_pièces!M936)","v":""}]
[{"$f":"IF(Liste_pièces!A937=\"\",\"ZZZ\",Liste_pièces!A937)","v":"ZZZ"},{"$f":"IF(Liste_pièces!B937=\"\",\"ZZZ\",Liste_pièces!B937)","v":"ZZZ"},{"$f":"IF(Liste_pièces!C937=\"\",\"\",Liste_pièces!C937)","v":""},{"$f":"IF(Liste_pièces!D937=\"\",\"\",Liste_pièces!D937)","v":""},{"$f":"IF(Liste_pièces!E937=\"\",\"\",Liste_pièces!E937)","v":""},{"$f":"IF(Liste_pièces!F937=\"\",\"\",Liste_pièces!F937)","v":""},{"$f":"IF(Liste_pièces!G937=\"\",\"\",Liste_pièces!G937)","v":""},{"$f":"IF(Liste_pièces!H937=\"\",\"\",Liste_pièces!H937)","v":""},{"$f":"IF(Liste_pièces!I937=\"\",\"\",Liste_pièces!I937)","v":""},{"$f":"IF(Liste_pièces!J937=\"\",\"\",Liste_pièces!J937)","v":""},{"$f":"IF(Liste_pièces!K937=\"\",\"\",Liste_pièces!K937)","v":""},{"$f":"IF(Liste_pièces!L937=\"\",\"\",Liste_pièces!L937)","v":""},{"$f":"IF(Liste_pièces!M937=\"\",\"\",Liste_pièces!M937)","v":""}]
[{"$f":"IF(Liste_pièces!A938=\"\",\"ZZZ\",Liste_pièces!A938)","v":"ZZZ"},{"$f":"IF(Liste_pièces!B938=\"\",\"ZZZ\",Liste_pièces!B938)","v":"ZZZ"},{"$f":"IF(Liste_pièces!C938=\"\",\"\",Liste_pièces!C938)","v":""},{"$f":"IF(Liste_pièces!D938=\"\",\"\",Liste_pièces!D938)","v":""},{"$f":"IF(Liste_pièces!E938=\"\",\"\",Liste_pièces!E938)","v":""},{"$f":"IF(Liste_pièces!F938=\"\",\"\",Liste_pièces!F938)","v":""},{"$f":"IF(Liste_pièces!G938=\"\",\"\",Liste_pièces!G938)","v":""},{"$f":"IF(Liste_pièces!H938=\"\",\"\",Liste_pièces!H938)","v":""},{"$f":"IF(Liste_pièces!I938=\"\",\"\",Liste_pièces!I938)","v":""},{"$f":"IF(Liste_pièces!J938=\"\",\"\",Liste_pièces!J938)","v":""},{"$f":"IF(Liste_pièces!K938=\"\",\"\",Liste_pièces!K938)","v":""},{"$f":"IF(Liste_pièces!L938=\"\",\"\",Liste_pièces!L938)","v":""},{"$f":"IF(Liste_pièces!M938=\"\",\"\",Liste_pièces!M938)","v":""}]
[{"$f":"IF(Liste_pièces!A939=\"\",\"ZZZ\",Liste_pièces!A939)","v":"ZZZ"},{"$f":"IF(Liste_pièces!B939=\"\",\"ZZZ\",Liste_pièces!B939)","v":"ZZZ"},{"$f":"IF(Liste_pièces!C939=\"\",\"\",Liste_pièces!C939)","v":""},{"$f":"IF(Liste_pièces!D939=\"\",\"\",Liste_pièces!D939)","v":""},{"$f":"IF(Liste_pièces!E939=\"\",\"\",Liste_pièces!E939)","v":""},{"$f":"IF(Liste_pièces!F939=\"\",\"\",Liste_pièces!F939)","v":""},{"$f":"IF(Liste_pièces!G939=\"\",\"\",Liste_pièces!G939)","v":""},{"$f":"IF(Liste_pièces!H939=\"\",\"\",Liste_pièces!H939)","v":""},{"$f":"IF(Liste_pièces!I939=\"\",\"\",Liste_pièces!I939)","v":""},{"$f":"IF(Liste_pièces!J939=\"\",\"\",Liste_pièces!J939)","v":""},{"$f":"IF(Liste_pièces!K939=\"\",\"\",Liste_pièces!K939)","v":""},{"$f":"IF(Liste_pièces!L939=\"\",\"\",Liste_pièces!L939)","v":""},{"$f":"IF(Liste_pièces!M939=\"\",\"\",Liste_pièces!M939)","v":""}]
[{"$f":"IF(Liste_pièces!A940=\"\",\"ZZZ\",Liste_pièces!A940)","v":"ZZZ"},{"$f":"IF(Liste_pièces!B940=\"\",\"ZZZ\",Liste_pièces!B940)","v":"ZZZ"},{"$f":"IF(Liste_pièces!C940=\"\",\"\",Liste_pièces!C940)","v":""},{"$f":"IF(Liste_pièces!D940=\"\",\"\",Liste_pièces!D940)","v":""},{"$f":"IF(Liste_pièces!E940=\"\",\"\",Liste_pièces!E940)","v":""},{"$f":"IF(Liste_pièces!F940=\"\",\"\",Liste_pièces!F940)","v":""},{"$f":"IF(Liste_pièces!G940=\"\",\"\",Liste_pièces!G940)","v":""},{"$f":"IF(Liste_pièces!H940=\"\",\"\",Liste_pièces!H940)","v":""},{"$f":"IF(Liste_pièces!I940=\"\",\"\",Liste_pièces!I940)","v":""},{"$f":"IF(Liste_pièces!J940=\"\",\"\",Liste_pièces!J940)","v":""},{"$f":"IF(Liste_pièces!K940=\"\",\"\",Liste_pièces!K940)","v":""},{"$f":"IF(Liste_pièces!L940=\"\",\"\",Liste_pièces!L940)","v":""},{"$f":"IF(Liste_pièces!M940=\"\",\"\",Liste_pièces!M940)","v":""}]
[{"$f":"IF(Liste_pièces!A941=\"\",\"ZZZ\",Liste_pièces!A941)","v":"ZZZ"},{"$f":"IF(Liste_pièces!B941=\"\",\"ZZZ\",Liste_pièces!B941)","v":"ZZZ"},{"$f":"IF(Liste_pièces!C941=\"\",\"\",Liste_pièces!C941)","v":""},{"$f":"IF(Liste_pièces!D941=\"\",\"\",Liste_pièces!D941)","v":""},{"$f":"IF(Liste_pièces!E941=\"\",\"\",Liste_pièces!E941)","v":""},{"$f":"IF(Liste_pièces!F941=\"\",\"\",Liste_pièces!F941)","v":""},{"$f":"IF(Liste_pièces!G941=\"\",\"\",Liste_pièces!G941)","v":""},{"$f":"IF(Liste_pièces!H941=\"\",\"\",Liste_pièces!H941)","v":""},{"$f":"IF(Liste_pièces!I941=\"\",\"\",Liste_pièces!I941)","v":""},{"$f":"IF(Liste_pièces!J941=\"\",\"\",Liste_pièces!J941)","v":""},{"$f":"IF(Liste_pièces!K941=\"\",\"\",Liste_pièces!K941)","v":""},{"$f":"IF(Liste_pièces!L941=\"\",\"\",Liste_pièces!L941)","v":""},{"$f":"IF(Liste_pièces!M941=\"\",\"\",Liste_pièces!M941)","v":""}]
[{"$f":"IF(Liste_pièces!A942=\"\",\"ZZZ\",Liste_pièces!A942)","v":"ZZZ"},{"$f":"IF(Liste_pièces!B942=\"\",\"ZZZ\",Liste_pièces!B942)","v":"ZZZ"},{"$f":"IF(Liste_pièces!C942=\"\",\"\",Liste_pièces!C942)","v":""},{"$f":"IF(Liste_pièces!D942=\"\",\"\",Liste_pièces!D942)","v":""},{"$f":"IF(Liste_pièces!E942=\"\",\"\",Liste_pièces!E942)","v":""},{"$f":"IF(Liste_pièces!F942=\"\",\"\",Liste_pièces!F942)","v":""},{"$f":"IF(Liste_pièces!G942=\"\",\"\",Liste_pièces!G942)","v":""},{"$f":"IF(Liste_pièces!H942=\"\",\"\",Liste_pièces!H942)","v":""},{"$f":"IF(Liste_pièces!I942=\"\",\"\",Liste_pièces!I942)","v":""},{"$f":"IF(Liste_pièces!J942=\"\",\"\",Liste_pièces!J942)","v":""},{"$f":"IF(Liste_pièces!K942=\"\",\"\",Liste_pièces!K942)","v":""},{"$f":"IF(Liste_pièces!L942=\"\",\"\",Liste_pièces!L942)","v":""},{"$f":"IF(Liste_pièces!M942=\"\",\"\",Liste_pièces!M942)","v":""}]
[{"$f":"IF(Liste_pièces!A943=\"\",\"ZZZ\",Liste_pièces!A943)","v":"ZZZ"},{"$f":"IF(Liste_pièces!B943=\"\",\"ZZZ\",Liste_pièces!B943)","v":"ZZZ"},{"$f":"IF(Liste_pièces!C943=\"\",\"\",Liste_pièces!C943)","v":""},{"$f":"IF(Liste_pièces!D943=\"\",\"\",Liste_pièces!D943)","v":""},{"$f":"IF(Liste_pièces!E943=\"\",\"\",Liste_pièces!E943)","v":""},{"$f":"IF(Liste_pièces!F943=\"\",\"\",Liste_pièces!F943)","v":""},{"$f":"IF(Liste_pièces!G943=\"\",\"\",Liste_pièces!G943)","v":""},{"$f":"IF(Liste_pièces!H943=\"\",\"\",Liste_pièces!H943)","v":""},{"$f":"IF(Liste_pièces!I943=\"\",\"\",Liste_pièces!I943)","v":""},{"$f":"IF(Liste_pièces!J943=\"\",\"\",Liste_pièces!J943)","v":""},{"$f":"IF(Liste_pièces!K943=\"\",\"\",Liste_pièces!K943)","v":""},{"$f":"IF(Liste_pièces!L943=\"\",\"\",Liste_pièces!L943)","v":""},{"$f":"IF(Liste_pièces!M943=\"\",\"\",Liste_pièces!M943)","v":""}]
[{"$f":"IF(Liste_pièces!A944=\"\",\"ZZZ\",Liste_pièces!A944)","v":"ZZZ"},{"$f":"IF(Liste_pièces!B944=\"\",\"ZZZ\",Liste_pièces!B944)","v":"ZZZ"},{"$f":"IF(Liste_pièces!C944=\"\",\"\",Liste_pièces!C944)","v":""},{"$f":"IF(Liste_pièces!D944=\"\",\"\",Liste_pièces!D944)","v":""},{"$f":"IF(Liste_pièces!E944=\"\",\"\",Liste_pièces!E944)","v":""},{"$f":"IF(Liste_pièces!F944=\"\",\"\",Liste_pièces!F944)","v":""},{"$f":"IF(Liste_pièces!G944=\"\",\"\",Liste_pièces!G944)","v":""},{"$f":"IF(Liste_pièces!H944=\"\",\"\",Liste_pièces!H944)","v":""},{"$f":"IF(Liste_pièces!I944=\"\",\"\",Liste_pièces!I944)","v":""},{"$f":"IF(Liste_pièces!J944=\"\",\"\",Liste_pièces!J944)","v":""},{"$f":"IF(Liste_pièces!K944=\"\",\"\",Liste_pièces!K944)","v":""},{"$f":"IF(Liste_pièces!L944=\"\",\"\",Liste_pièces!L944)","v":""},{"$f":"IF(Liste_pièces!M944=\"\",\"\",Liste_pièces!M944)","v":""}]
[{"$f":"IF(Liste_pièces!A945=\"\",\"ZZZ\",Liste_pièces!A945)","v":"ZZZ"},{"$f":"IF(Liste_pièces!B945=\"\",\"ZZZ\",Liste_pièces!B945)","v":"ZZZ"},{"$f":"IF(Liste_pièces!C945=\"\",\"\",Liste_pièces!C945)","v":""},{"$f":"IF(Liste_pièces!D945=\"\",\"\",Liste_pièces!D945)","v":""},{"$f":"IF(Liste_pièces!E945=\"\",\"\",Liste_pièces!E945)","v":""},{"$f":"IF(Liste_pièces!F945=\"\",\"\",Liste_pièces!F945)","v":""},{"$f":"IF(Liste_pièces!G945=\"\",\"\",Liste_pièces!G945)","v":""},{"$f":"IF(Liste_pièces!H945=\"\",\"\",Liste_pièces!H945)","v":""},{"$f":"IF(Liste_pièces!I945=\"\",\"\",Liste_pièces!I945)","v":""},{"$f":"IF(Liste_pièces!J945=\"\",\"\",Liste_pièces!J945)","v":""},{"$f":"IF(Liste_pièces!K945=\"\",\"\",Liste_pièces!K945)","v":""},{"$f":"IF(Liste_pièces!L945=\"\",\"\",Liste_pièces!L945)","v":""},{"$f":"IF(Liste_pièces!M945=\"\",\"\",Liste_pièces!M945)","v":""}]
[{"$f":"IF(Liste_pièces!A946=\"\",\"ZZZ\",Liste_pièces!A946)","v":"ZZZ"},{"$f":"IF(Liste_pièces!B946=\"\",\"ZZZ\",Liste_pièces!B946)","v":"ZZZ"},{"$f":"IF(Liste_pièces!C946=\"\",\"\",Liste_pièces!C946)","v":""},{"$f":"IF(Liste_pièces!D946=\"\",\"\",Liste_pièces!D946)","v":""},{"$f":"IF(Liste_pièces!E946=\"\",\"\",Liste_pièces!E946)","v":""},{"$f":"IF(Liste_pièces!F946=\"\",\"\",Liste_pièces!F946)","v":""},{"$f":"IF(Liste_pièces!G946=\"\",\"\",Liste_pièces!G946)","v":""},{"$f":"IF(Liste_pièces!H946=\"\",\"\",Liste_pièces!H946)","v":""},{"$f":"IF(Liste_pièces!I946=\"\",\"\",Liste_pièces!I946)","v":""},{"$f":"IF(Liste_pièces!J946=\"\",\"\",Liste_pièces!J946)","v":""},{"$f":"IF(Liste_pièces!K946=\"\",\"\",Liste_pièces!K946)","v":""},{"$f":"IF(Liste_pièces!L946=\"\",\"\",Liste_pièces!L946)","v":""},{"$f":"IF(Liste_pièces!M946=\"\",\"\",Liste_pièces!M946)","v":""}]
[{"$f":"IF(Liste_pièces!A947=\"\",\"ZZZ\",Liste_pièces!A947)","v":"ZZZ"},{"$f":"IF(Liste_pièces!B947=\"\",\"ZZZ\",Liste_pièces!B947)","v":"ZZZ"},{"$f":"IF(Liste_pièces!C947=\"\",\"\",Liste_pièces!C947)","v":""},{"$f":"IF(Liste_pièces!D947=\"\",\"\",Liste_pièces!D947)","v":""},{"$f":"IF(Liste_pièces!E947=\"\",\"\",Liste_pièces!E947)","v":""},{"$f":"IF(Liste_pièces!F947=\"\",\"\",Liste_pièces!F947)","v":""},{"$f":"IF(Liste_pièces!G947=\"\",\"\",Liste_pièces!G947)","v":""},{"$f":"IF(Liste_pièces!H947=\"\",\"\",Liste_pièces!H947)","v":""},{"$f":"IF(Liste_pièces!I947=\"\",\"\",Liste_pièces!I947)","v":""},{"$f":"IF(Liste_pièces!J947=\"\",\"\",Liste_pièces!J947)","v":""},{"$f":"IF(Liste_pièces!K947=\"\",\"\",Liste_pièces!K947)","v":""},{"$f":"IF(Liste_pièces!L947=\"\",\"\",Liste_pièces!L947)","v":""},{"$f":"IF(Liste_pièces!M947=\"\",\"\",Liste_pièces!M947)","v":""}]
[{"$f":"IF(Liste_pièces!A948=\"\",\"ZZZ\",Liste_pièces!A948)","v":"ZZZ"},{"$f":"IF(Liste_pièces!B948=\"\",\"ZZZ\",Liste_pièces!B948)","v":"ZZZ"},{"$f":"IF(Liste_pièces!C948=\"\",\"\",Liste_pièces!C948)","v":""},{"$f":"IF(Liste_pièces!D948=\"\",\"\",Liste_pièces!D948)","v":""},{"$f":"IF(Liste_pièces!E948=\"\",\"\",Liste_pièces!E948)","v":""},{"$f":"IF(Liste_pièces!F948=\"\",\"\",Liste_pièces!F948)","v":""},{"$f":"IF(Liste_pièces!G948=\"\",\"\",Liste_pièces!G948)","v":""},{"$f":"IF(Liste_pièces!H948=\"\",\"\",Liste_pièces!H948)","v":""},{"$f":"IF(Liste_pièces!I948=\"\",\"\",Liste_pièces!I948)","v":""},{"$f":"IF(Liste_pièces!J948=\"\",\"\",Liste_pièces!J948)","v":""},{"$f":"IF(Liste_pièces!K948=\"\",\"\",Liste_pièces!K948)","v":""},{"$f":"IF(Liste_pièces!L948=\"\",\"\",Liste_pièces!L948)","v":""},{"$f":"IF(Liste_pièces!M948=\"\",\"\",Liste_pièces!M948)","v":""}]
[{"$f":"IF(Liste_pièces!A949=\"\",\"ZZZ\",Liste_pièces!A949)","v":"ZZZ"},{"$f":"IF(Liste_pièces!B949=\"\",\"ZZZ\",Liste_pièces!B949)","v":"ZZZ"},{"$f":"IF(Liste_pièces!C949=\"\",\"\",Liste_pièces!C949)","v":""},{"$f":"IF(Liste_pièces!D949=\"\",\"\",Liste_pièces!D949)","v":""},{"$f":"IF(Liste_pièces!E949=\"\",\"\",Liste_pièces!E949)","v":""},{"$f":"IF(Liste_pièces!F949=\"\",\"\",Liste_pièces!F949)","v":""},{"$f":"IF(Liste_pièces!G949=\"\",\"\",Liste_pièces!G949)","v":""},{"$f":"IF(Liste_pièces!H949=\"\",\"\",Liste_pièces!H949)","v":""},{"$f":"IF(Liste_pièces!I949=\"\",\"\",Liste_pièces!I949)","v":""},{"$f":"IF(Liste_pièces!J949=\"\",\"\",Liste_pièces!J949)","v":""},{"$f":"IF(Liste_pièces!K949=\"\",\"\",Liste_pièces!K949)","v":""},{"$f":"IF(Liste_pièces!L949=\"\",\"\",Liste_pièces!L949)","v":""},{"$f":"IF(Liste_pièces!M949=\"\",\"\",Liste_pièces!M949)","v":""}]
[{"$f":"IF(Liste_pièces!A950=\"\",\"ZZZ\",Liste_pièces!A950)","v":"ZZZ"},{"$f":"IF(Liste_pièces!B950=\"\",\"ZZZ\",Liste_pièces!B950)","v":"ZZZ"},{"$f":"IF(Liste_pièces!C950=\"\",\"\",Liste_pièces!C950)","v":""},{"$f":"IF(Liste_pièces!D950=\"\",\"\",Liste_pièces!D950)","v":""},{"$f":"IF(Liste_pièces!E950=\"\",\"\",Liste_pièces!E950)","v":""},{"$f":"IF(Liste_pièces!F950=\"\",\"\",Liste_pièces!F950)","v":""},{"$f":"IF(Liste_pièces!G950=\"\",\"\",Liste_pièces!G950)","v":""},{"$f":"IF(Liste_pièces!H950=\"\",\"\",Liste_pièces!H950)","v":""},{"$f":"IF(Liste_pièces!I950=\"\",\"\",Liste_pièces!I950)","v":""},{"$f":"IF(Liste_pièces!J950=\"\",\"\",Liste_pièces!J950)","v":""},{"$f":"IF(Liste_pièces!K950=\"\",\"\",Liste_pièces!K950)","v":""},{"$f":"IF(Liste_pièces!L950=\"\",\"\",Liste_pièces!L950)","v":""},{"$f":"IF(Liste_pièces!M950=\"\",\"\",Liste_pièces!M950)","v":""}]
[{"$f":"IF(Liste_pièces!A951=\"\",\"ZZZ\",Liste_pièces!A951)","v":"ZZZ"},{"$f":"IF(Liste_pièces!B951=\"\",\"ZZZ\",Liste_pièces!B951)","v":"ZZZ"},{"$f":"IF(Liste_pièces!C951=\"\",\"\",Liste_pièces!C951)","v":""},{"$f":"IF(Liste_pièces!D951=\"\",\"\",Liste_pièces!D951)","v":""},{"$f":"IF(Liste_pièces!E951=\"\",\"\",Liste_pièces!E951)","v":""},{"$f":"IF(Liste_pièces!F951=\"\",\"\",Liste_pièces!F951)","v":""},{"$f":"IF(Liste_pièces!G951=\"\",\"\",Liste_pièces!G951)","v":""},{"$f":"IF(Liste_pièces!H951=\"\",\"\",Liste_pièces!H951)","v":""},{"$f":"IF(Liste_pièces!I951=\"\",\"\",Liste_pièces!I951)","v":""},{"$f":"IF(Liste_pièces!J951=\"\",\"\",Liste_pièces!J951)","v":""},{"$f":"IF(Liste_pièces!K951=\"\",\"\",Liste_pièces!K951)","v":""},{"$f":"IF(Liste_pièces!L951=\"\",\"\",Liste_pièces!L951)","v":""},{"$f":"IF(Liste_pièces!M951=\"\",\"\",Liste_pièces!M951)","v":""}]
[{"$f":"IF(Liste_pièces!A952=\"\",\"ZZZ\",Liste_pièces!A952)","v":"ZZZ"},{"$f":"IF(Liste_pièces!B952=\"\",\"ZZZ\",Liste_pièces!B952)","v":"ZZZ"},{"$f":"IF(Liste_pièces!C952=\"\",\"\",Liste_pièces!C952)","v":""},{"$f":"IF(Liste_pièces!D952=\"\",\"\",Liste_pièces!D952)","v":""},{"$f":"IF(Liste_pièces!E952=\"\",\"\",Liste_pièces!E952)","v":""},{"$f":"IF(Liste_pièces!F952=\"\",\"\",Liste_pièces!F952)","v":""},{"$f":"IF(Liste_pièces!G952=\"\",\"\",Liste_pièces!G952)","v":""},{"$f":"IF(Liste_pièces!H952=\"\",\"\",Liste_pièces!H952)","v":""},{"$f":"IF(Liste_pièces!I952=\"\",\"\",Liste_pièces!I952)","v":""},{"$f":"IF(Liste_pièces!J952=\"\",\"\",Liste_pièces!J952)","v":""},{"$f":"IF(Liste_pièces!K952=\"\",\"\",Liste_pièces!K952)","v":""},{"$f":"IF(Liste_pièces!L952=\"\",\"\",Liste_pièces!L952)","v":""},{"$f":"IF(Liste_pièces!M952=\"\",\"\",Liste_pièces!M952)","v":""}]
[{"$f":"IF(Liste_pièces!A953=\"\",\"ZZZ\",Liste_pièces!A953)","v":"ZZZ"},{"$f":"IF(Liste_pièces!B953=\"\",\"ZZZ\",Liste_pièces!B953)","v":"ZZZ"},{"$f":"IF(Liste_pièces!C953=\"\",\"\",Liste_pièces!C953)","v":""},{"$f":"IF(Liste_pièces!D953=\"\",\"\",Liste_pièces!D953)","v":""},{"$f":"IF(Liste_pièces!E953=\"\",\"\",Liste_pièces!E953)","v":""},{"$f":"IF(Liste_pièces!F953=\"\",\"\",Liste_pièces!F953)","v":""},{"$f":"IF(Liste_pièces!G953=\"\",\"\",Liste_pièces!G953)","v":""},{"$f":"IF(Liste_pièces!H953=\"\",\"\",Liste_pièces!H953)","v":""},{"$f":"IF(Liste_pièces!I953=\"\",\"\",Liste_pièces!I953)","v":""},{"$f":"IF(Liste_pièces!J953=\"\",\"\",Liste_pièces!J953)","v":""},{"$f":"IF(Liste_pièces!K953=\"\",\"\",Liste_pièces!K953)","v":""},{"$f":"IF(Liste_pièces!L953=\"\",\"\",Liste_pièces!L953)","v":""},{"$f":"IF(Liste_pièces!M953=\"\",\"\",Liste_pièces!M953)","v":""}]
[{"$f":"IF(Liste_pièces!A954=\"\",\"ZZZ\",Liste_pièces!A954)","v":"ZZZ"},{"$f":"IF(Liste_pièces!B954=\"\",\"ZZZ\",Liste_pièces!B954)","v":"ZZZ"},{"$f":"IF(Liste_pièces!C954=\"\",\"\",Liste_pièces!C954)","v":""},{"$f":"IF(Liste_pièces!D954=\"\",\"\",Liste_pièces!D954)","v":""},{"$f":"IF(Liste_pièces!E954=\"\",\"\",Liste_pièces!E954)","v":""},{"$f":"IF(Liste_pièces!F954=\"\",\"\",Liste_pièces!F954)","v":""},{"$f":"IF(Liste_pièces!G954=\"\",\"\",Liste_pièces!G954)","v":""},{"$f":"IF(Liste_pièces!H954=\"\",\"\",Liste_pièces!H954)","v":""},{"$f":"IF(Liste_pièces!I954=\"\",\"\",Liste_pièces!I954)","v":""},{"$f":"IF(Liste_pièces!J954=\"\",\"\",Liste_pièces!J954)","v":""},{"$f":"IF(Liste_pièces!K954=\"\",\"\",Liste_pièces!K954)","v":""},{"$f":"IF(Liste_pièces!L954=\"\",\"\",Liste_pièces!L954)","v":""},{"$f":"IF(Liste_pièces!M954=\"\",\"\",Liste_pièces!M954)","v":""}]
[{"$f":"IF(Liste_pièces!A955=\"\",\"ZZZ\",Liste_pièces!A955)","v":"ZZZ"},{"$f":"IF(Liste_pièces!B955=\"\",\"ZZZ\",Liste_pièces!B955)","v":"ZZZ"},{"$f":"IF(Liste_pièces!C955=\"\",\"\",Liste_pièces!C955)","v":""},{"$f":"IF(Liste_pièces!D955=\"\",\"\",Liste_pièces!D955)","v":""},{"$f":"IF(Liste_pièces!E955=\"\",\"\",Liste_pièces!E955)","v":""},{"$f":"IF(Liste_pièces!F955=\"\",\"\",Liste_pièces!F955)","v":""},{"$f":"IF(Liste_pièces!G955=\"\",\"\",Liste_pièces!G955)","v":""},{"$f":"IF(Liste_pièces!H955=\"\",\"\",Liste_pièces!H955)","v":""},{"$f":"IF(Liste_pièces!I955=\"\",\"\",Liste_pièces!I955)","v":""},{"$f":"IF(Liste_pièces!J955=\"\",\"\",Liste_pièces!J955)","v":""},{"$f":"IF(Liste_pièces!K955=\"\",\"\",Liste_pièces!K955)","v":""},{"$f":"IF(Liste_pièces!L955=\"\",\"\",Liste_pièces!L955)","v":""},{"$f":"IF(Liste_pièces!M955=\"\",\"\",Liste_pièces!M955)","v":""}]
[{"$f":"IF(Liste_pièces!A956=\"\",\"ZZZ\",Liste_pièces!A956)","v":"ZZZ"},{"$f":"IF(Liste_pièces!B956=\"\",\"ZZZ\",Liste_pièces!B956)","v":"ZZZ"},{"$f":"IF(Liste_pièces!C956=\"\",\"\",Liste_pièces!C956)","v":""},{"$f":"IF(Liste_pièces!D956=\"\",\"\",Liste_pièces!D956)","v":""},{"$f":"IF(Liste_pièces!E956=\"\",\"\",Liste_pièces!E956)","v":""},{"$f":"IF(Liste_pièces!F956=\"\",\"\",Liste_pièces!F956)","v":""},{"$f":"IF(Liste_pièces!G956=\"\",\"\",Liste_pièces!G956)","v":""},{"$f":"IF(Liste_pièces!H956=\"\",\"\",Liste_pièces!H956)","v":""},{"$f":"IF(Liste_pièces!I956=\"\",\"\",Liste_pièces!I956)","v":""},{"$f":"IF(Liste_pièces!J956=\"\",\"\",Liste_pièces!J956)","v":""},{"$f":"IF(Liste_pièces!K956=\"\",\"\",Liste_pièces!K956)","v":""},{"$f":"IF(Liste_pièces!L956=\"\",\"\",Liste_pièces!L956)","v":""},{"$f":"IF(Liste_pièces!M956=\"\",\"\",Liste_pièces!M956)","v":""}]
[{"$f":"IF(Liste_pièces!A957=\"\",\"ZZZ\",Liste_pièces!A957)","v":"ZZZ"},{"$f":"IF(Liste_pièces!B957=\"\",\"ZZZ\",Liste_pièces!B957)","v":"ZZZ"},{"$f":"IF(Liste_pièces!C957=\"\",\"\",Liste_pièces!C957)","v":""},{"$f":"IF(Liste_pièces!D957=\"\",\"\",Liste_pièces!D957)","v":""},{"$f":"IF(Liste_pièces!E957=\"\",\"\",Liste_pièces!E957)","v":""},{"$f":"IF(Liste_pièces!F957=\"\",\"\",Liste_pièces!F957)","v":""},{"$f":"IF(Liste_pièces!G957=\"\",\"\",Liste_pièces!G957)","v":""},{"$f":"IF(Liste_pièces!H957=\"\",\"\",Liste_pièces!H957)","v":""},{"$f":"IF(Liste_pièces!I957=\"\",\"\",Liste_pièces!I957)","v":""},{"$f":"IF(Liste_pièces!J957=\"\",\"\",Liste_pièces!J957)","v":""},{"$f":"IF(Liste_pièces!K957=\"\",\"\",Liste_pièces!K957)","v":""},{"$f":"IF(Liste_pièces!L957=\"\",\"\",Liste_pièces!L957)","v":""},{"$f":"IF(Liste_pièces!M957=\"\",\"\",Liste_pièces!M957)","v":""}]
[{"$f":"IF(Liste_pièces!A958=\"\",\"ZZZ\",Liste_pièces!A958)","v":"ZZZ"},{"$f":"IF(Liste_pièces!B958=\"\",\"ZZZ\",Liste_pièces!B958)","v":"ZZZ"},{"$f":"IF(Liste_pièces!C958=\"\",\"\",Liste_pièces!C958)","v":""},{"$f":"IF(Liste_pièces!D958=\"\",\"\",Liste_pièces!D958)","v":""},{"$f":"IF(Liste_pièces!E958=\"\",\"\",Liste_pièces!E958)","v":""},{"$f":"IF(Liste_pièces!F958=\"\",\"\",Liste_pièces!F958)","v":""},{"$f":"IF(Liste_pièces!G958=\"\",\"\",Liste_pièces!G958)","v":""},{"$f":"IF(Liste_pièces!H958=\"\",\"\",Liste_pièces!H958)","v":""},{"$f":"IF(Liste_pièces!I958=\"\",\"\",Liste_pièces!I958)","v":""},{"$f":"IF(Liste_pièces!J958=\"\",\"\",Liste_pièces!J958)","v":""},{"$f":"IF(Liste_pièces!K958=\"\",\"\",Liste_pièces!K958)","v":""},{"$f":"IF(Liste_pièces!L958=\"\",\"\",Liste_pièces!L958)","v":""},{"$f":"IF(Liste_pièces!M958=\"\",\"\",Liste_pièces!M958)","v":""}]
[{"$f":"IF(Liste_pièces!A959=\"\",\"ZZZ\",Liste_pièces!A959)","v":"ZZZ"},{"$f":"IF(Liste_pièces!B959=\"\",\"ZZZ\",Liste_pièces!B959)","v":"ZZZ"},{"$f":"IF(Liste_pièces!C959=\"\",\"\",Liste_pièces!C959)","v":""},{"$f":"IF(Liste_pièces!D959=\"\",\"\",Liste_pièces!D959)","v":""},{"$f":"IF(Liste_pièces!E959=\"\",\"\",Liste_pièces!E959)","v":""},{"$f":"IF(Liste_pièces!F959=\"\",\"\",Liste_pièces!F959)","v":""},{"$f":"IF(Liste_pièces!G959=\"\",\"\",Liste_pièces!G959)","v":""},{"$f":"IF(Liste_pièces!H959=\"\",\"\",Liste_pièces!H959)","v":""},{"$f":"IF(Liste_pièces!I959=\"\",\"\",Liste_pièces!I959)","v":""},{"$f":"IF(Liste_pièces!J959=\"\",\"\",Liste_pièces!J959)","v":""},{"$f":"IF(Liste_pièces!K959=\"\",\"\",Liste_pièces!K959)","v":""},{"$f":"IF(Liste_pièces!L959=\"\",\"\",Liste_pièces!L959)","v":""},{"$f":"IF(Liste_pièces!M959=\"\",\"\",Liste_pièces!M959)","v":""}]
[{"$f":"IF(Liste_pièces!A960=\"\",\"ZZZ\",Liste_pièces!A960)","v":"ZZZ"},{"$f":"IF(Liste_pièces!B960=\"\",\"ZZZ\",Liste_pièces!B960)","v":"ZZZ"},{"$f":"IF(Liste_pièces!C960=\"\",\"\",Liste_pièces!C960)","v":""},{"$f":"IF(Liste_pièces!D960=\"\",\"\",Liste_pièces!D960)","v":""},{"$f":"IF(Liste_pièces!E960=\"\",\"\",Liste_pièces!E960)","v":""},{"$f":"IF(Liste_pièces!F960=\"\",\"\",Liste_pièces!F960)","v":""},{"$f":"IF(Liste_pièces!G960=\"\",\"\",Liste_pièces!G960)","v":""},{"$f":"IF(Liste_pièces!H960=\"\",\"\",Liste_pièces!H960)","v":""},{"$f":"IF(Liste_pièces!I960=\"\",\"\",Liste_pièces!I960)","v":""},{"$f":"IF(Liste_pièces!J960=\"\",\"\",Liste_pièces!J960)","v":""},{"$f":"IF(Liste_pièces!K960=\"\",\"\",Liste_pièces!K960)","v":""},{"$f":"IF(Liste_pièces!L960=\"\",\"\",Liste_pièces!L960)","v":""},{"$f":"IF(Liste_pièces!M960=\"\",\"\",Liste_pièces!M960)","v":""}]
[{"$f":"IF(Liste_pièces!A961=\"\",\"ZZZ\",Liste_pièces!A961)","v":"ZZZ"},{"$f":"IF(Liste_pièces!B961=\"\",\"ZZZ\",Liste_pièces!B961)","v":"ZZZ"},{"$f":"IF(Liste_pièces!C961=\"\",\"\",Liste_pièces!C961)","v":""},{"$f":"IF(Liste_pièces!D961=\"\",\"\",Liste_pièces!D961)","v":""},{"$f":"IF(Liste_pièces!E961=\"\",\"\",Liste_pièces!E961)","v":""},{"$f":"IF(Liste_pièces!F961=\"\",\"\",Liste_pièces!F961)","v":""},{"$f":"IF(Liste_pièces!G961=\"\",\"\",Liste_pièces!G961)","v":""},{"$f":"IF(Liste_pièces!H961=\"\",\"\",Liste_pièces!H961)","v":""},{"$f":"IF(Liste_pièces!I961=\"\",\"\",Liste_pièces!I961)","v":""},{"$f":"IF(Liste_pièces!J961=\"\",\"\",Liste_pièces!J961)","v":""},{"$f":"IF(Liste_pièces!K961=\"\",\"\",Liste_pièces!K961)","v":""},{"$f":"IF(Liste_pièces!L961=\"\",\"\",Liste_pièces!L961)","v":""},{"$f":"IF(Liste_pièces!M961=\"\",\"\",Liste_pièces!M961)","v":""}]
[{"$f":"IF(Liste_pièces!A962=\"\",\"ZZZ\",Liste_pièces!A962)","v":"ZZZ"},{"$f":"IF(Liste_pièces!B962=\"\",\"ZZZ\",Liste_pièces!B962)","v":"ZZZ"},{"$f":"IF(Liste_pièces!C962=\"\",\"\",Liste_pièces!C962)","v":""},{"$f":"IF(Liste_pièces!D962=\"\",\"\",Liste_pièces!D962)","v":""},{"$f":"IF(Liste_pièces!E962=\"\",\"\",Liste_pièces!E962)","v":""},{"$f":"IF(Liste_pièces!F962=\"\",\"\",Liste_pièces!F962)","v":""},{"$f":"IF(Liste_pièces!G962=\"\",\"\",Liste_pièces!G962)","v":""},{"$f":"IF(Liste_pièces!H962=\"\",\"\",Liste_pièces!H962)","v":""},{"$f":"IF(Liste_pièces!I962=\"\",\"\",Liste_pièces!I962)","v":""},{"$f":"IF(Liste_pièces!J962=\"\",\"\",Liste_pièces!J962)","v":""},{"$f":"IF(Liste_pièces!K962=\"\",\"\",Liste_pièces!K962)","v":""},{"$f":"IF(Liste_pièces!L962=\"\",\"\",Liste_pièces!L962)","v":""},{"$f":"IF(Liste_pièces!M962=\"\",\"\",Liste_pièces!M962)","v":""}]
[{"$f":"IF(Liste_pièces!A963=\"\",\"ZZZ\",Liste_pièces!A963)","v":"ZZZ"},{"$f":"IF(Liste_pièces!B963=\"\",\"ZZZ\",Liste_pièces!B963)","v":"ZZZ"},{"$f":"IF(Liste_pièces!C963=\"\",\"\",Liste_pièces!C963)","v":""},{"$f":"IF(Liste_pièces!D963=\"\",\"\",Liste_pièces!D963)","v":""},{"$f":"IF(Liste_pièces!E963=\"\",\"\",Liste_pièces!E963)","v":""},{"$f":"IF(Liste_pièces!F963=\"\",\"\",Liste_pièces!F963)","v":""},{"$f":"IF(Liste_pièces!G963=\"\",\"\",Liste_pièces!G963)","v":""},{"$f":"IF(Liste_pièces!H963=\"\",\"\",Liste_pièces!H963)","v":""},{"$f":"IF(Liste_pièces!I963=\"\",\"\",Liste_pièces!I963)","v":""},{"$f":"IF(Liste_pièces!J963=\"\",\"\",Liste_pièces!J963)","v":""},{"$f":"IF(Liste_pièces!K963=\"\",\"\",Liste_pièces!K963)","v":""},{"$f":"IF(Liste_pièces!L963=\"\",\"\",Liste_pièces!L963)","v":""},{"$f":"IF(Liste_pièces!M963=\"\",\"\",Liste_pièces!M963)","v":""}]
[{"$f":"IF(Liste_pièces!A964=\"\",\"ZZZ\",Liste_pièces!A964)","v":"ZZZ"},{"$f":"IF(Liste_pièces!B964=\"\",\"ZZZ\",Liste_pièces!B964)","v":"ZZZ"},{"$f":"IF(Liste_pièces!C964=\"\",\"\",Liste_pièces!C964)","v":""},{"$f":"IF(Liste_pièces!D964=\"\",\"\",Liste_pièces!D964)","v":""},{"$f":"IF(Liste_pièces!E964=\"\",\"\",Liste_pièces!E964)","v":""},{"$f":"IF(Liste_pièces!F964=\"\",\"\",Liste_pièces!F964)","v":""},{"$f":"IF(Liste_pièces!G964=\"\",\"\",Liste_pièces!G964)","v":""},{"$f":"IF(Liste_pièces!H964=\"\",\"\",Liste_pièces!H964)","v":""},{"$f":"IF(Liste_pièces!I964=\"\",\"\",Liste_pièces!I964)","v":""},{"$f":"IF(Liste_pièces!J964=\"\",\"\",Liste_pièces!J964)","v":""},{"$f":"IF(Liste_pièces!K964=\"\",\"\",Liste_pièces!K964)","v":""},{"$f":"IF(Liste_pièces!L964=\"\",\"\",Liste_pièces!L964)","v":""},{"$f":"IF(Liste_pièces!M964=\"\",\"\",Liste_pièces!M964)","v":""}]
[{"$f":"IF(Liste_pièces!A965=\"\",\"ZZZ\",Liste_pièces!A965)","v":"ZZZ"},{"$f":"IF(Liste_pièces!B965=\"\",\"ZZZ\",Liste_pièces!B965)","v":"ZZZ"},{"$f":"IF(Liste_pièces!C965=\"\",\"\",Liste_pièces!C965)","v":""},{"$f":"IF(Liste_pièces!D965=\"\",\"\",Liste_pièces!D965)","v":""},{"$f":"IF(Liste_pièces!E965=\"\",\"\",Liste_pièces!E965)","v":""},{"$f":"IF(Liste_pièces!F965=\"\",\"\",Liste_pièces!F965)","v":""},{"$f":"IF(Liste_pièces!G965=\"\",\"\",Liste_pièces!G965)","v":""},{"$f":"IF(Liste_pièces!H965=\"\",\"\",Liste_pièces!H965)","v":""},{"$f":"IF(Liste_pièces!I965=\"\",\"\",Liste_pièces!I965)","v":""},{"$f":"IF(Liste_pièces!J965=\"\",\"\",Liste_pièces!J965)","v":""},{"$f":"IF(Liste_pièces!K965=\"\",\"\",Liste_pièces!K965)","v":""},{"$f":"IF(Liste_pièces!L965=\"\",\"\",Liste_pièces!L965)","v":""},{"$f":"IF(Liste_pièces!M965=\"\",\"\",Liste_pièces!M965)","v":""}]
[{"$f":"IF(Liste_pièces!A966=\"\",\"ZZZ\",Liste_pièces!A966)","v":"ZZZ"},{"$f":"IF(Liste_pièces!B966=\"\",\"ZZZ\",Liste_pièces!B966)","v":"ZZZ"},{"$f":"IF(Liste_pièces!C966=\"\",\"\",Liste_pièces!C966)","v":""},{"$f":"IF(Liste_pièces!D966=\"\",\"\",Liste_pièces!D966)","v":""},{"$f":"IF(Liste_pièces!E966=\"\",\"\",Liste_pièces!E966)","v":""},{"$f":"IF(Liste_pièces!F966=\"\",\"\",Liste_pièces!F966)","v":""},{"$f":"IF(Liste_pièces!G966=\"\",\"\",Liste_pièces!G966)","v":""},{"$f":"IF(Liste_pièces!H966=\"\",\"\",Liste_pièces!H966)","v":""},{"$f":"IF(Liste_pièces!I966=\"\",\"\",Liste_pièces!I966)","v":""},{"$f":"IF(Liste_pièces!J966=\"\",\"\",Liste_pièces!J966)","v":""},{"$f":"IF(Liste_pièces!K966=\"\",\"\",Liste_pièces!K966)","v":""},{"$f":"IF(Liste_pièces!L966=\"\",\"\",Liste_pièces!L966)","v":""},{"$f":"IF(Liste_pièces!M966=\"\",\"\",Liste_pièces!M966)","v":""}]
[{"$f":"IF(Liste_pièces!A967=\"\",\"ZZZ\",Liste_pièces!A967)","v":"ZZZ"},{"$f":"IF(Liste_pièces!B967=\"\",\"ZZZ\",Liste_pièces!B967)","v":"ZZZ"},{"$f":"IF(Liste_pièces!C967=\"\",\"\",Liste_pièces!C967)","v":""},{"$f":"IF(Liste_pièces!D967=\"\",\"\",Liste_pièces!D967)","v":""},{"$f":"IF(Liste_pièces!E967=\"\",\"\",Liste_pièces!E967)","v":""},{"$f":"IF(Liste_pièces!F967=\"\",\"\",Liste_pièces!F967)","v":""},{"$f":"IF(Liste_pièces!G967=\"\",\"\",Liste_pièces!G967)","v":""},{"$f":"IF(Liste_pièces!H967=\"\",\"\",Liste_pièces!H967)","v":""},{"$f":"IF(Liste_pièces!I967=\"\",\"\",Liste_pièces!I967)","v":""},{"$f":"IF(Liste_pièces!J967=\"\",\"\",Liste_pièces!J967)","v":""},{"$f":"IF(Liste_pièces!K967=\"\",\"\",Liste_pièces!K967)","v":""},{"$f":"IF(Liste_pièces!L967=\"\",\"\",Liste_pièces!L967)","v":""},{"$f":"IF(Liste_pièces!M967=\"\",\"\",Liste_pièces!M967)","v":""}]
[{"$f":"IF(Liste_pièces!A968=\"\",\"ZZZ\",Liste_pièces!A968)","v":"ZZZ"},{"$f":"IF(Liste_pièces!B968=\"\",\"ZZZ\",Liste_pièces!B968)","v":"ZZZ"},{"$f":"IF(Liste_pièces!C968=\"\",\"\",Liste_pièces!C968)","v":""},{"$f":"IF(Liste_pièces!D968=\"\",\"\",Liste_pièces!D968)","v":""},{"$f":"IF(Liste_pièces!E968=\"\",\"\",Liste_pièces!E968)","v":""},{"$f":"IF(Liste_pièces!F968=\"\",\"\",Liste_pièces!F968)","v":""},{"$f":"IF(Liste_pièces!G968=\"\",\"\",Liste_pièces!G968)","v":""},{"$f":"IF(Liste_pièces!H968=\"\",\"\",Liste_pièces!H968)","v":""},{"$f":"IF(Liste_pièces!I968=\"\",\"\",Liste_pièces!I968)","v":""},{"$f":"IF(Liste_pièces!J968=\"\",\"\",Liste_pièces!J968)","v":""},{"$f":"IF(Liste_pièces!K968=\"\",\"\",Liste_pièces!K968)","v":""},{"$f":"IF(Liste_pièces!L968=\"\",\"\",Liste_pièces!L968)","v":""},{"$f":"IF(Liste_pièces!M968=\"\",\"\",Liste_pièces!M968)","v":""}]
[{"$f":"IF(Liste_pièces!A969=\"\",\"ZZZ\",Liste_pièces!A969)","v":"ZZZ"},{"$f":"IF(Liste_pièces!B969=\"\",\"ZZZ\",Liste_pièces!B969)","v":"ZZZ"},{"$f":"IF(Liste_pièces!C969=\"\",\"\",Liste_pièces!C969)","v":""},{"$f":"IF(Liste_pièces!D969=\"\",\"\",Liste_pièces!D969)","v":""},{"$f":"IF(Liste_pièces!E969=\"\",\"\",Liste_pièces!E969)","v":""},{"$f":"IF(Liste_pièces!F969=\"\",\"\",Liste_pièces!F969)","v":""},{"$f":"IF(Liste_pièces!G969=\"\",\"\",Liste_pièces!G969)","v":""},{"$f":"IF(Liste_pièces!H969=\"\",\"\",Liste_pièces!H969)","v":""},{"$f":"IF(Liste_pièces!I969=\"\",\"\",Liste_pièces!I969)","v":""},{"$f":"IF(Liste_pièces!J969=\"\",\"\",Liste_pièces!J969)","v":""},{"$f":"IF(Liste_pièces!K969=\"\",\"\",Liste_pièces!K969)","v":""},{"$f":"IF(Liste_pièces!L969=\"\",\"\",Liste_pièces!L969)","v":""},{"$f":"IF(Liste_pièces!M969=\"\",\"\",Liste_pièces!M969)","v":""}]
[{"$f":"IF(Liste_pièces!A970=\"\",\"ZZZ\",Liste_pièces!A970)","v":"ZZZ"},{"$f":"IF(Liste_pièces!B970=\"\",\"ZZZ\",Liste_pièces!B970)","v":"ZZZ"},{"$f":"IF(Liste_pièces!C970=\"\",\"\",Liste_pièces!C970)","v":""},{"$f":"IF(Liste_pièces!D970=\"\",\"\",Liste_pièces!D970)","v":""},{"$f":"IF(Liste_pièces!E970=\"\",\"\",Liste_pièces!E970)","v":""},{"$f":"IF(Liste_pièces!F970=\"\",\"\",Liste_pièces!F970)","v":""},{"$f":"IF(Liste_pièces!G970=\"\",\"\",Liste_pièces!G970)","v":""},{"$f":"IF(Liste_pièces!H970=\"\",\"\",Liste_pièces!H970)","v":""},{"$f":"IF(Liste_pièces!I970=\"\",\"\",Liste_pièces!I970)","v":""},{"$f":"IF(Liste_pièces!J970=\"\",\"\",Liste_pièces!J970)","v":""},{"$f":"IF(Liste_pièces!K970=\"\",\"\",Liste_pièces!K970)","v":""},{"$f":"IF(Liste_pièces!L970=\"\",\"\",Liste_pièces!L970)","v":""},{"$f":"IF(Liste_pièces!M970=\"\",\"\",Liste_pièces!M970)","v":""}]
[{"$f":"IF(Liste_pièces!A971=\"\",\"ZZZ\",Liste_pièces!A971)","v":"ZZZ"},{"$f":"IF(Liste_pièces!B971=\"\",\"ZZZ\",Liste_pièces!B971)","v":"ZZZ"},{"$f":"IF(Liste_pièces!C971=\"\",\"\",Liste_pièces!C971)","v":""},{"$f":"IF(Liste_pièces!D971=\"\",\"\",Liste_pièces!D971)","v":""},{"$f":"IF(Liste_pièces!E971=\"\",\"\",Liste_pièces!E971)","v":""},{"$f":"IF(Liste_pièces!F971=\"\",\"\",Liste_pièces!F971)","v":""},{"$f":"IF(Liste_pièces!G971=\"\",\"\",Liste_pièces!G971)","v":""},{"$f":"IF(Liste_pièces!H971=\"\",\"\",Liste_pièces!H971)","v":""},{"$f":"IF(Liste_pièces!I971=\"\",\"\",Liste_pièces!I971)","v":""},{"$f":"IF(Liste_pièces!J971=\"\",\"\",Liste_pièces!J971)","v":""},{"$f":"IF(Liste_pièces!K971=\"\",\"\",Liste_pièces!K971)","v":""},{"$f":"IF(Liste_pièces!L971=\"\",\"\",Liste_pièces!L971)","v":""},{"$f":"IF(Liste_pièces!M971=\"\",\"\",Liste_pièces!M971)","v":""}]
[{"$f":"IF(Liste_pièces!A972=\"\",\"ZZZ\",Liste_pièces!A972)","v":"ZZZ"},{"$f":"IF(Liste_pièces!B972=\"\",\"ZZZ\",Liste_pièces!B972)","v":"ZZZ"},{"$f":"IF(Liste_pièces!C972=\"\",\"\",Liste_pièces!C972)","v":""},{"$f":"IF(Liste_pièces!D972=\"\",\"\",Liste_pièces!D972)","v":""},{"$f":"IF(Liste_pièces!E972=\"\",\"\",Liste_pièces!E972)","v":""},{"$f":"IF(Liste_pièces!F972=\"\",\"\",Liste_pièces!F972)","v":""},{"$f":"IF(Liste_pièces!G972=\"\",\"\",Liste_pièces!G972)","v":""},{"$f":"IF(Liste_pièces!H972=\"\",\"\",Liste_pièces!H972)","v":""},{"$f":"IF(Liste_pièces!I972=\"\",\"\",Liste_pièces!I972)","v":""},{"$f":"IF(Liste_pièces!J972=\"\",\"\",Liste_pièces!J972)","v":""},{"$f":"IF(Liste_pièces!K972=\"\",\"\",Liste_pièces!K972)","v":""},{"$f":"IF(Liste_pièces!L972=\"\",\"\",Liste_pièces!L972)","v":""},{"$f":"IF(Liste_pièces!M972=\"\",\"\",Liste_pièces!M972)","v":""}]
[{"$f":"IF(Liste_pièces!A973=\"\",\"ZZZ\",Liste_pièces!A973)","v":"ZZZ"},{"$f":"IF(Liste_pièces!B973=\"\",\"ZZZ\",Liste_pièces!B973)","v":"ZZZ"},{"$f":"IF(Liste_pièces!C973=\"\",\"\",Liste_pièces!C973)","v":""},{"$f":"IF(Liste_pièces!D973=\"\",\"\",Liste_pièces!D973)","v":""},{"$f":"IF(Liste_pièces!E973=\"\",\"\",Liste_pièces!E973)","v":""},{"$f":"IF(Liste_pièces!F973=\"\",\"\",Liste_pièces!F973)","v":""},{"$f":"IF(Liste_pièces!G973=\"\",\"\",Liste_pièces!G973)","v":""},{"$f":"IF(Liste_pièces!H973=\"\",\"\",Liste_pièces!H973)","v":""},{"$f":"IF(Liste_pièces!I973=\"\",\"\",Liste_pièces!I973)","v":""},{"$f":"IF(Liste_pièces!J973=\"\",\"\",Liste_pièces!J973)","v":""},{"$f":"IF(Liste_pièces!K973=\"\",\"\",Liste_pièces!K973)","v":""},{"$f":"IF(Liste_pièces!L973=\"\",\"\",Liste_pièces!L973)","v":""},{"$f":"IF(Liste_pièces!M973=\"\",\"\",Liste_pièces!M973)","v":""}]
[{"$f":"IF(Liste_pièces!A974=\"\",\"ZZZ\",Liste_pièces!A974)","v":"ZZZ"},{"$f":"IF(Liste_pièces!B974=\"\",\"ZZZ\",Liste_pièces!B974)","v":"ZZZ"},{"$f":"IF(Liste_pièces!C974=\"\",\"\",Liste_pièces!C974)","v":""},{"$f":"IF(Liste_pièces!D974=\"\",\"\",Liste_pièces!D974)","v":""},{"$f":"IF(Liste_pièces!E974=\"\",\"\",Liste_pièces!E974)","v":""},{"$f":"IF(Liste_pièces!F974=\"\",\"\",Liste_pièces!F974)","v":""},{"$f":"IF(Liste_pièces!G974=\"\",\"\",Liste_pièces!G974)","v":""},{"$f":"IF(Liste_pièces!H974=\"\",\"\",Liste_pièces!H974)","v":""},{"$f":"IF(Liste_pièces!I974=\"\",\"\",Liste_pièces!I974)","v":""},{"$f":"IF(Liste_pièces!J974=\"\",\"\",Liste_pièces!J974)","v":""},{"$f":"IF(Liste_pièces!K974=\"\",\"\",Liste_pièces!K974)","v":""},{"$f":"IF(Liste_pièces!L974=\"\",\"\",Liste_pièces!L974)","v":""},{"$f":"IF(Liste_pièces!M974=\"\",\"\",Liste_pièces!M974)","v":""}]
[{"$f":"IF(Liste_pièces!A975=\"\",\"ZZZ\",Liste_pièces!A975)","v":"ZZZ"},{"$f":"IF(Liste_pièces!B975=\"\",\"ZZZ\",Liste_pièces!B975)","v":"ZZZ"},{"$f":"IF(Liste_pièces!C975=\"\",\"\",Liste_pièces!C975)","v":""},{"$f":"IF(Liste_pièces!D975=\"\",\"\",Liste_pièces!D975)","v":""},{"$f":"IF(Liste_pièces!E975=\"\",\"\",Liste_pièces!E975)","v":""},{"$f":"IF(Liste_pièces!F975=\"\",\"\",Liste_pièces!F975)","v":""},{"$f":"IF(Liste_pièces!G975=\"\",\"\",Liste_pièces!G975)","v":""},{"$f":"IF(Liste_pièces!H975=\"\",\"\",Liste_pièces!H975)","v":""},{"$f":"IF(Liste_pièces!I975=\"\",\"\",Liste_pièces!I975)","v":""},{"$f":"IF(Liste_pièces!J975=\"\",\"\",Liste_pièces!J975)","v":""},{"$f":"IF(Liste_pièces!K975=\"\",\"\",Liste_pièces!K975)","v":""},{"$f":"IF(Liste_pièces!L975=\"\",\"\",Liste_pièces!L975)","v":""},{"$f":"IF(Liste_pièces!M975=\"\",\"\",Liste_pièces!M975)","v":""}]
[{"$f":"IF(Liste_pièces!A976=\"\",\"ZZZ\",Liste_pièces!A976)","v":"ZZZ"},{"$f":"IF(Liste_pièces!B976=\"\",\"ZZZ\",Liste_pièces!B976)","v":"ZZZ"},{"$f":"IF(Liste_pièces!C976=\"\",\"\",Liste_pièces!C976)","v":""},{"$f":"IF(Liste_pièces!D976=\"\",\"\",Liste_pièces!D976)","v":""},{"$f":"IF(Liste_pièces!E976=\"\",\"\",Liste_pièces!E976)","v":""},{"$f":"IF(Liste_pièces!F976=\"\",\"\",Liste_pièces!F976)","v":""},{"$f":"IF(Liste_pièces!G976=\"\",\"\",Liste_pièces!G976)","v":""},{"$f":"IF(Liste_pièces!H976=\"\",\"\",Liste_pièces!H976)","v":""},{"$f":"IF(Liste_pièces!I976=\"\",\"\",Liste_pièces!I976)","v":""},{"$f":"IF(Liste_pièces!J976=\"\",\"\",Liste_pièces!J976)","v":""},{"$f":"IF(Liste_pièces!K976=\"\",\"\",Liste_pièces!K976)","v":""},{"$f":"IF(Liste_pièces!L976=\"\",\"\",Liste_pièces!L976)","v":""},{"$f":"IF(Liste_pièces!M976=\"\",\"\",Liste_pièces!M976)","v":""}]
[{"$f":"IF(Liste_pièces!A977=\"\",\"ZZZ\",Liste_pièces!A977)","v":"ZZZ"},{"$f":"IF(Liste_pièces!B977=\"\",\"ZZZ\",Liste_pièces!B977)","v":"ZZZ"},{"$f":"IF(Liste_pièces!C977=\"\",\"\",Liste_pièces!C977)","v":""},{"$f":"IF(Liste_pièces!D977=\"\",\"\",Liste_pièces!D977)","v":""},{"$f":"IF(Liste_pièces!E977=\"\",\"\",Liste_pièces!E977)","v":""},{"$f":"IF(Liste_pièces!F977=\"\",\"\",Liste_pièces!F977)","v":""},{"$f":"IF(Liste_pièces!G977=\"\",\"\",Liste_pièces!G977)","v":""},{"$f":"IF(Liste_pièces!H977=\"\",\"\",Liste_pièces!H977)","v":""},{"$f":"IF(Liste_pièces!I977=\"\",\"\",Liste_pièces!I977)","v":""},{"$f":"IF(Liste_pièces!J977=\"\",\"\",Liste_pièces!J977)","v":""},{"$f":"IF(Liste_pièces!K977=\"\",\"\",Liste_pièces!K977)","v":""},{"$f":"IF(Liste_pièces!L977=\"\",\"\",Liste_pièces!L977)","v":""},{"$f":"IF(Liste_pièces!M977=\"\",\"\",Liste_pièces!M977)","v":""}]
[{"$f":"IF(Liste_pièces!A978=\"\",\"ZZZ\",Liste_pièces!A978)","v":"ZZZ"},{"$f":"IF(Liste_pièces!B978=\"\",\"ZZZ\",Liste_pièces!B978)","v":"ZZZ"},{"$f":"IF(Liste_pièces!C978=\"\",\"\",Liste_pièces!C978)","v":""},{"$f":"IF(Liste_pièces!D978=\"\",\"\",Liste_pièces!D978)","v":""},{"$f":"IF(Liste_pièces!E978=\"\",\"\",Liste_pièces!E978)","v":""},{"$f":"IF(Liste_pièces!F978=\"\",\"\",Liste_pièces!F978)","v":""},{"$f":"IF(Liste_pièces!G978=\"\",\"\",Liste_pièces!G978)","v":""},{"$f":"IF(Liste_pièces!H978=\"\",\"\",Liste_pièces!H978)","v":""},{"$f":"IF(Liste_pièces!I978=\"\",\"\",Liste_pièces!I978)","v":""},{"$f":"IF(Liste_pièces!J978=\"\",\"\",Liste_pièces!J978)","v":""},{"$f":"IF(Liste_pièces!K978=\"\",\"\",Liste_pièces!K978)","v":""},{"$f":"IF(Liste_pièces!L978=\"\",\"\",Liste_pièces!L978)","v":""},{"$f":"IF(Liste_pièces!M978=\"\",\"\",Liste_pièces!M978)","v":""}]
[{"$f":"IF(Liste_pièces!A979=\"\",\"ZZZ\",Liste_pièces!A979)","v":"ZZZ"},{"$f":"IF(Liste_pièces!B979=\"\",\"ZZZ\",Liste_pièces!B979)","v":"ZZZ"},{"$f":"IF(Liste_pièces!C979=\"\",\"\",Liste_pièces!C979)","v":""},{"$f":"IF(Liste_pièces!D979=\"\",\"\",Liste_pièces!D979)","v":""},{"$f":"IF(Liste_pièces!E979=\"\",\"\",Liste_pièces!E979)","v":""},{"$f":"IF(Liste_pièces!F979=\"\",\"\",Liste_pièces!F979)","v":""},{"$f":"IF(Liste_pièces!G979=\"\",\"\",Liste_pièces!G979)","v":""},{"$f":"IF(Liste_pièces!H979=\"\",\"\",Liste_pièces!H979)","v":""},{"$f":"IF(Liste_pièces!I979=\"\",\"\",Liste_pièces!I979)","v":""},{"$f":"IF(Liste_pièces!J979=\"\",\"\",Liste_pièces!J979)","v":""},{"$f":"IF(Liste_pièces!K979=\"\",\"\",Liste_pièces!K979)","v":""},{"$f":"IF(Liste_pièces!L979=\"\",\"\",Liste_pièces!L979)","v":""},{"$f":"IF(Liste_pièces!M979=\"\",\"\",Liste_pièces!M979)","v":""}]
[{"$f":"IF(Liste_pièces!A980=\"\",\"ZZZ\",Liste_pièces!A980)","v":"ZZZ"},{"$f":"IF(Liste_pièces!B980=\"\",\"ZZZ\",Liste_pièces!B980)","v":"ZZZ"},{"$f":"IF(Liste_pièces!C980=\"\",\"\",Liste_pièces!C980)","v":""},{"$f":"IF(Liste_pièces!D980=\"\",\"\",Liste_pièces!D980)","v":""},{"$f":"IF(Liste_pièces!E980=\"\",\"\",Liste_pièces!E980)","v":""},{"$f":"IF(Liste_pièces!F980=\"\",\"\",Liste_pièces!F980)","v":""},{"$f":"IF(Liste_pièces!G980=\"\",\"\",Liste_pièces!G980)","v":""},{"$f":"IF(Liste_pièces!H980=\"\",\"\",Liste_pièces!H980)","v":""},{"$f":"IF(Liste_pièces!I980=\"\",\"\",Liste_pièces!I980)","v":""},{"$f":"IF(Liste_pièces!J980=\"\",\"\",Liste_pièces!J980)","v":""},{"$f":"IF(Liste_pièces!K980=\"\",\"\",Liste_pièces!K980)","v":""},{"$f":"IF(Liste_pièces!L980=\"\",\"\",Liste_pièces!L980)","v":""},{"$f":"IF(Liste_pièces!M980=\"\",\"\",Liste_pièces!M980)","v":""}]
[{"$f":"IF(Liste_pièces!A981=\"\",\"ZZZ\",Liste_pièces!A981)","v":"ZZZ"},{"$f":"IF(Liste_pièces!B981=\"\",\"ZZZ\",Liste_pièces!B981)","v":"ZZZ"},{"$f":"IF(Liste_pièces!C981=\"\",\"\",Liste_pièces!C981)","v":""},{"$f":"IF(Liste_pièces!D981=\"\",\"\",Liste_pièces!D981)","v":""},{"$f":"IF(Liste_pièces!E981=\"\",\"\",Liste_pièces!E981)","v":""},{"$f":"IF(Liste_pièces!F981=\"\",\"\",Liste_pièces!F981)","v":""},{"$f":"IF(Liste_pièces!G981=\"\",\"\",Liste_pièces!G981)","v":""},{"$f":"IF(Liste_pièces!H981=\"\",\"\",Liste_pièces!H981)","v":""},{"$f":"IF(Liste_pièces!I981=\"\",\"\",Liste_pièces!I981)","v":""},{"$f":"IF(Liste_pièces!J981=\"\",\"\",Liste_pièces!J981)","v":""},{"$f":"IF(Liste_pièces!K981=\"\",\"\",Liste_pièces!K981)","v":""},{"$f":"IF(Liste_pièces!L981=\"\",\"\",Liste_pièces!L981)","v":""},{"$f":"IF(Liste_pièces!M981=\"\",\"\",Liste_pièces!M981)","v":""}]
[{"$f":"IF(Liste_pièces!A982=\"\",\"ZZZ\",Liste_pièces!A982)","v":"ZZZ"},{"$f":"IF(Liste_pièces!B982=\"\",\"ZZZ\",Liste_pièces!B982)","v":"ZZZ"},{"$f":"IF(Liste_pièces!C982=\"\",\"\",Liste_pièces!C982)","v":""},{"$f":"IF(Liste_pièces!D982=\"\",\"\",Liste_pièces!D982)","v":""},{"$f":"IF(Liste_pièces!E982=\"\",\"\",Liste_pièces!E982)","v":""},{"$f":"IF(Liste_pièces!F982=\"\",\"\",Liste_pièces!F982)","v":""},{"$f":"IF(Liste_pièces!G982=\"\",\"\",Liste_pièces!G982)","v":""},{"$f":"IF(Liste_pièces!H982=\"\",\"\",Liste_pièces!H982)","v":""},{"$f":"IF(Liste_pièces!I982=\"\",\"\",Liste_pièces!I982)","v":""},{"$f":"IF(Liste_pièces!J982=\"\",\"\",Liste_pièces!J982)","v":""},{"$f":"IF(Liste_pièces!K982=\"\",\"\",Liste_pièces!K982)","v":""},{"$f":"IF(Liste_pièces!L982=\"\",\"\",Liste_pièces!L982)","v":""},{"$f":"IF(Liste_pièces!M982=\"\",\"\",Liste_pièces!M982)","v":""}]
[{"$f":"IF(Liste_pièces!A983=\"\",\"ZZZ\",Liste_pièces!A983)","v":"ZZZ"},{"$f":"IF(Liste_pièces!B983=\"\",\"ZZZ\",Liste_pièces!B983)","v":"ZZZ"},{"$f":"IF(Liste_pièces!C983=\"\",\"\",Liste_pièces!C983)","v":""},{"$f":"IF(Liste_pièces!D983=\"\",\"\",Liste_pièces!D983)","v":""},{"$f":"IF(Liste_pièces!E983=\"\",\"\",Liste_pièces!E983)","v":""},{"$f":"IF(Liste_pièces!F983=\"\",\"\",Liste_pièces!F983)","v":""},{"$f":"IF(Liste_pièces!G983=\"\",\"\",Liste_pièces!G983)","v":""},{"$f":"IF(Liste_pièces!H983=\"\",\"\",Liste_pièces!H983)","v":""},{"$f":"IF(Liste_pièces!I983=\"\",\"\",Liste_pièces!I983)","v":""},{"$f":"IF(Liste_pièces!J983=\"\",\"\",Liste_pièces!J983)","v":""},{"$f":"IF(Liste_pièces!K983=\"\",\"\",Liste_pièces!K983)","v":""},{"$f":"IF(Liste_pièces!L983=\"\",\"\",Liste_pièces!L983)","v":""},{"$f":"IF(Liste_pièces!M983=\"\",\"\",Liste_pièces!M983)","v":""}]
[{"$f":"IF(Liste_pièces!A984=\"\",\"ZZZ\",Liste_pièces!A984)","v":"ZZZ"},{"$f":"IF(Liste_pièces!B984=\"\",\"ZZZ\",Liste_pièces!B984)","v":"ZZZ"},{"$f":"IF(Liste_pièces!C984=\"\",\"\",Liste_pièces!C984)","v":""},{"$f":"IF(Liste_pièces!D984=\"\",\"\",Liste_pièces!D984)","v":""},{"$f":"IF(Liste_pièces!E984=\"\",\"\",Liste_pièces!E984)","v":""},{"$f":"IF(Liste_pièces!F984=\"\",\"\",Liste_pièces!F984)","v":""},{"$f":"IF(Liste_pièces!G984=\"\",\"\",Liste_pièces!G984)","v":""},{"$f":"IF(Liste_pièces!H984=\"\",\"\",Liste_pièces!H984)","v":""},{"$f":"IF(Liste_pièces!I984=\"\",\"\",Liste_pièces!I984)","v":""},{"$f":"IF(Liste_pièces!J984=\"\",\"\",Liste_pièces!J984)","v":""},{"$f":"IF(Liste_pièces!K984=\"\",\"\",Liste_pièces!K984)","v":""},{"$f":"IF(Liste_pièces!L984=\"\",\"\",Liste_pièces!L984)","v":""},{"$f":"IF(Liste_pièces!M984=\"\",\"\",Liste_pièces!M984)","v":""}]
[{"$f":"IF(Liste_pièces!A985=\"\",\"ZZZ\",Liste_pièces!A985)","v":"ZZZ"},{"$f":"IF(Liste_pièces!B985=\"\",\"ZZZ\",Liste_pièces!B985)","v":"ZZZ"},{"$f":"IF(Liste_pièces!C985=\"\",\"\",Liste_pièces!C985)","v":""},{"$f":"IF(Liste_pièces!D985=\"\",\"\",Liste_pièces!D985)","v":""},{"$f":"IF(Liste_pièces!E985=\"\",\"\",Liste_pièces!E985)","v":""},{"$f":"IF(Liste_pièces!F985=\"\",\"\",Liste_pièces!F985)","v":""},{"$f":"IF(Liste_pièces!G985=\"\",\"\",Liste_pièces!G985)","v":""},{"$f":"IF(Liste_pièces!H985=\"\",\"\",Liste_pièces!H985)","v":""},{"$f":"IF(Liste_pièces!I985=\"\",\"\",Liste_pièces!I985)","v":""},{"$f":"IF(Liste_pièces!J985=\"\",\"\",Liste_pièces!J985)","v":""},{"$f":"IF(Liste_pièces!K985=\"\",\"\",Liste_pièces!K985)","v":""},{"$f":"IF(Liste_pièces!L985=\"\",\"\",Liste_pièces!L985)","v":""},{"$f":"IF(Liste_pièces!M985=\"\",\"\",Liste_pièces!M985)","v":""}]
[{"$f":"IF(Liste_pièces!A986=\"\",\"ZZZ\",Liste_pièces!A986)","v":"ZZZ"},{"$f":"IF(Liste_pièces!B986=\"\",\"ZZZ\",Liste_pièces!B986)","v":"ZZZ"},{"$f":"IF(Liste_pièces!C986=\"\",\"\",Liste_pièces!C986)","v":""},{"$f":"IF(Liste_pièces!D986=\"\",\"\",Liste_pièces!D986)","v":""},{"$f":"IF(Liste_pièces!E986=\"\",\"\",Liste_pièces!E986)","v":""},{"$f":"IF(Liste_pièces!F986=\"\",\"\",Liste_pièces!F986)","v":""},{"$f":"IF(Liste_pièces!G986=\"\",\"\",Liste_pièces!G986)","v":""},{"$f":"IF(Liste_pièces!H986=\"\",\"\",Liste_pièces!H986)","v":""},{"$f":"IF(Liste_pièces!I986=\"\",\"\",Liste_pièces!I986)","v":""},{"$f":"IF(Liste_pièces!J986=\"\",\"\",Liste_pièces!J986)","v":""},{"$f":"IF(Liste_pièces!K986=\"\",\"\",Liste_pièces!K986)","v":""},{"$f":"IF(Liste_pièces!L986=\"\",\"\",Liste_pièces!L986)","v":""},{"$f":"IF(Liste_pièces!M986=\"\",\"\",Liste_pièces!M986)","v":""}]
[{"$f":"IF(Liste_pièces!A987=\"\",\"ZZZ\",Liste_pièces!A987)","v":"ZZZ"},{"$f":"IF(Liste_pièces!B987=\"\",\"ZZZ\",Liste_pièces!B987)","v":"ZZZ"},{"$f":"IF(Liste_pièces!C987=\"\",\"\",Liste_pièces!C987)","v":""},{"$f":"IF(Liste_pièces!D987=\"\",\"\",Liste_pièces!D987)","v":""},{"$f":"IF(Liste_pièces!E987=\"\",\"\",Liste_pièces!E987)","v":""},{"$f":"IF(Liste_pièces!F987=\"\",\"\",Liste_pièces!F987)","v":""},{"$f":"IF(Liste_pièces!G987=\"\",\"\",Liste_pièces!G987)","v":""},{"$f":"IF(Liste_pièces!H987=\"\",\"\",Liste_pièces!H987)","v":""},{"$f":"IF(Liste_pièces!I987=\"\",\"\",Liste_pièces!I987)","v":""},{"$f":"IF(Liste_pièces!J987=\"\",\"\",Liste_pièces!J987)","v":""},{"$f":"IF(Liste_pièces!K987=\"\",\"\",Liste_pièces!K987)","v":""},{"$f":"IF(Liste_pièces!L987=\"\",\"\",Liste_pièces!L987)","v":""},{"$f":"IF(Liste_pièces!M987=\"\",\"\",Liste_pièces!M987)","v":""}]
[{"$f":"IF(Liste_pièces!A988=\"\",\"ZZZ\",Liste_pièces!A988)","v":"ZZZ"},{"$f":"IF(Liste_pièces!B988=\"\",\"ZZZ\",Liste_pièces!B988)","v":"ZZZ"},{"$f":"IF(Liste_pièces!C988=\"\",\"\",Liste_pièces!C988)","v":""},{"$f":"IF(Liste_pièces!D988=\"\",\"\",Liste_pièces!D988)","v":""},{"$f":"IF(Liste_pièces!E988=\"\",\"\",Liste_pièces!E988)","v":""},{"$f":"IF(Liste_pièces!F988=\"\",\"\",Liste_pièces!F988)","v":""},{"$f":"IF(Liste_pièces!G988=\"\",\"\",Liste_pièces!G988)","v":""},{"$f":"IF(Liste_pièces!H988=\"\",\"\",Liste_pièces!H988)","v":""},{"$f":"IF(Liste_pièces!I988=\"\",\"\",Liste_pièces!I988)","v":""},{"$f":"IF(Liste_pièces!J988=\"\",\"\",Liste_pièces!J988)","v":""},{"$f":"IF(Liste_pièces!K988=\"\",\"\",Liste_pièces!K988)","v":""},{"$f":"IF(Liste_pièces!L988=\"\",\"\",Liste_pièces!L988)","v":""},{"$f":"IF(Liste_pièces!M988=\"\",\"\",Liste_pièces!M988)","v":""}]
[{"$f":"IF(Liste_pièces!A989=\"\",\"ZZZ\",Liste_pièces!A989)","v":"ZZZ"},{"$f":"IF(Liste_pièces!B989=\"\",\"ZZZ\",Liste_pièces!B989)","v":"ZZZ"},{"$f":"IF(Liste_pièces!C989=\"\",\"\",Liste_pièces!C989)","v":""},{"$f":"IF(Liste_pièces!D989=\"\",\"\",Liste_pièces!D989)","v":""},{"$f":"IF(Liste_pièces!E989=\"\",\"\",Liste_pièces!E989)","v":""},{"$f":"IF(Liste_pièces!F989=\"\",\"\",Liste_pièces!F989)","v":""},{"$f":"IF(Liste_pièces!G989=\"\",\"\",Liste_pièces!G989)","v":""},{"$f":"IF(Liste_pièces!H989=\"\",\"\",Liste_pièces!H989)","v":""},{"$f":"IF(Liste_pièces!I989=\"\",\"\",Liste_pièces!I989)","v":""},{"$f":"IF(Liste_pièces!J989=\"\",\"\",Liste_pièces!J989)","v":""},{"$f":"IF(Liste_pièces!K989=\"\",\"\",Liste_pièces!K989)","v":""},{"$f":"IF(Liste_pièces!L989=\"\",\"\",Liste_pièces!L989)","v":""},{"$f":"IF(Liste_pièces!M989=\"\",\"\",Liste_pièces!M989)","v":""}]
[{"$f":"IF(Liste_pièces!A990=\"\",\"ZZZ\",Liste_pièces!A990)","v":"ZZZ"},{"$f":"IF(Liste_pièces!B990=\"\",\"ZZZ\",Liste_pièces!B990)","v":"ZZZ"},{"$f":"IF(Liste_pièces!C990=\"\",\"\",Liste_pièces!C990)","v":""},{"$f":"IF(Liste_pièces!D990=\"\",\"\",Liste_pièces!D990)","v":""},{"$f":"IF(Liste_pièces!E990=\"\",\"\",Liste_pièces!E990)","v":""},{"$f":"IF(Liste_pièces!F990=\"\",\"\",Liste_pièces!F990)","v":""},{"$f":"IF(Liste_pièces!G990=\"\",\"\",Liste_pièces!G990)","v":""},{"$f":"IF(Liste_pièces!H990=\"\",\"\",Liste_pièces!H990)","v":""},{"$f":"IF(Liste_pièces!I990=\"\",\"\",Liste_pièces!I990)","v":""},{"$f":"IF(Liste_pièces!J990=\"\",\"\",Liste_pièces!J990)","v":""},{"$f":"IF(Liste_pièces!K990=\"\",\"\",Liste_pièces!K990)","v":""},{"$f":"IF(Liste_pièces!L990=\"\",\"\",Liste_pièces!L990)","v":""},{"$f":"IF(Liste_pièces!M990=\"\",\"\",Liste_pièces!M990)","v":""}]
[{"$f":"IF(Liste_pièces!A991=\"\",\"ZZZ\",Liste_pièces!A991)","v":"ZZZ"},{"$f":"IF(Liste_pièces!B991=\"\",\"ZZZ\",Liste_pièces!B991)","v":"ZZZ"},{"$f":"IF(Liste_pièces!C991=\"\",\"\",Liste_pièces!C991)","v":""},{"$f":"IF(Liste_pièces!D991=\"\",\"\",Liste_pièces!D991)","v":""},{"$f":"IF(Liste_pièces!E991=\"\",\"\",Liste_pièces!E991)","v":""},{"$f":"IF(Liste_pièces!F991=\"\",\"\",Liste_pièces!F991)","v":""},{"$f":"IF(Liste_pièces!G991=\"\",\"\",Liste_pièces!G991)","v":""},{"$f":"IF(Liste_pièces!H991=\"\",\"\",Liste_pièces!H991)","v":""},{"$f":"IF(Liste_pièces!I991=\"\",\"\",Liste_pièces!I991)","v":""},{"$f":"IF(Liste_pièces!J991=\"\",\"\",Liste_pièces!J991)","v":""},{"$f":"IF(Liste_pièces!K991=\"\",\"\",Liste_pièces!K991)","v":""},{"$f":"IF(Liste_pièces!L991=\"\",\"\",Liste_pièces!L991)","v":""},{"$f":"IF(Liste_pièces!M991=\"\",\"\",Liste_pièces!M991)","v":""}]
[{"$f":"IF(Liste_pièces!A992=\"\",\"ZZZ\",Liste_pièces!A992)","v":"ZZZ"},{"$f":"IF(Liste_pièces!B992=\"\",\"ZZZ\",Liste_pièces!B992)","v":"ZZZ"},{"$f":"IF(Liste_pièces!C992=\"\",\"\",Liste_pièces!C992)","v":""},{"$f":"IF(Liste_pièces!D992=\"\",\"\",Liste_pièces!D992)","v":""},{"$f":"IF(Liste_pièces!E992=\"\",\"\",Liste_pièces!E992)","v":""},{"$f":"IF(Liste_pièces!F992=\"\",\"\",Liste_pièces!F992)","v":""},{"$f":"IF(Liste_pièces!G992=\"\",\"\",Liste_pièces!G992)","v":""},{"$f":"IF(Liste_pièces!H992=\"\",\"\",Liste_pièces!H992)","v":""},{"$f":"IF(Liste_pièces!I992=\"\",\"\",Liste_pièces!I992)","v":""},{"$f":"IF(Liste_pièces!J992=\"\",\"\",Liste_pièces!J992)","v":""},{"$f":"IF(Liste_pièces!K992=\"\",\"\",Liste_pièces!K992)","v":""},{"$f":"IF(Liste_pièces!L992=\"\",\"\",Liste_pièces!L992)","v":""},{"$f":"IF(Liste_pièces!M992=\"\",\"\",Liste_pièces!M992)","v":""}]
[{"$f":"IF(Liste_pièces!A993=\"\",\"ZZZ\",Liste_pièces!A993)","v":"ZZZ"},{"$f":"IF(Liste_pièces!B993=\"\",\"ZZZ\",Liste_pièces!B993)","v":"ZZZ"},{"$f":"IF(Liste_pièces!C993=\"\",\"\",Liste_pièces!C993)","v":""},{"$f":"IF(Liste_pièces!D993=\"\",\"\",Liste_pièces!D993)","v":""},{"$f":"IF(Liste_pièces!E993=\"\",\"\",Liste_pièces!E993)","v":""},{"$f":"IF(Liste_pièces!F993=\"\",\"\",Liste_pièces!F993)","v":""},{"$f":"IF(Liste_pièces!G993=\"\",\"\",Liste_pièces!G993)","v":""},{"$f":"IF(Liste_pièces!H993=\"\",\"\",Liste_pièces!H993)","v":""},{"$f":"IF(Liste_pièces!I993=\"\",\"\",Liste_pièces!I993)","v":""},{"$f":"IF(Liste_pièces!J993=\"\",\"\",Liste_pièces!J993)","v":""},{"$f":"IF(Liste_pièces!K993=\"\",\"\",Liste_pièces!K993)","v":""},{"$f":"IF(Liste_pièces!L993=\"\",\"\",Liste_pièces!L993)","v":""},{"$f":"IF(Liste_pièces!M993=\"\",\"\",Liste_pièces!M993)","v":""}]
[{"$f":"IF(Liste_pièces!A994=\"\",\"ZZZ\",Liste_pièces!A994)","v":"ZZZ"},{"$f":"IF(Liste_pièces!B994=\"\",\"ZZZ\",Liste_pièces!B994)","v":"ZZZ"},{"$f":"IF(Liste_pièces!C994=\"\",\"\",Liste_pièces!C994)","v":""},{"$f":"IF(Liste_pièces!D994=\"\",\"\",Liste_pièces!D994)","v":""},{"$f":"IF(Liste_pièces!E994=\"\",\"\",Liste_pièces!E994)","v":""},{"$f":"IF(Liste_pièces!F994=\"\",\"\",Liste_pièces!F994)","v":""},{"$f":"IF(Liste_pièces!G994=\"\",\"\",Liste_pièces!G994)","v":""},{"$f":"IF(Liste_pièces!H994=\"\",\"\",Liste_pièces!H994)","v":""},{"$f":"IF(Liste_pièces!I994=\"\",\"\",Liste_pièces!I994)","v":""},{"$f":"IF(Liste_pièces!J994=\"\",\"\",Liste_pièces!J994)","v":""},{"$f":"IF(Liste_pièces!K994=\"\",\"\",Liste_pièces!K994)","v":""},{"$f":"IF(Liste_pièces!L994=\"\",\"\",Liste_pièces!L994)","v":""},{"$f":"IF(Liste_pièces!M994=\"\",\"\",Liste_pièces!M994)","v":""}]
[{"$f":"IF(Liste_pièces!A995=\"\",\"ZZZ\",Liste_pièces!A995)","v":"ZZZ"},{"$f":"IF(Liste_pièces!B995=\"\",\"ZZZ\",Liste_pièces!B995)","v":"ZZZ"},{"$f":"IF(Liste_pièces!C995=\"\",\"\",Liste_pièces!C995)","v":""},{"$f":"IF(Liste_pièces!D995=\"\",\"\",Liste_pièces!D995)","v":""},{"$f":"IF(Liste_pièces!E995=\"\",\"\",Liste_pièces!E995)","v":""},{"$f":"IF(Liste_pièces!F995=\"\",\"\",Liste_pièces!F995)","v":""},{"$f":"IF(Liste_pièces!G995=\"\",\"\",Liste_pièces!G995)","v":""},{"$f":"IF(Liste_pièces!H995=\"\",\"\",Liste_pièces!H995)","v":""},{"$f":"IF(Liste_pièces!I995=\"\",\"\",Liste_pièces!I995)","v":""},{"$f":"IF(Liste_pièces!J995=\"\",\"\",Liste_pièces!J995)","v":""},{"$f":"IF(Liste_pièces!K995=\"\",\"\",Liste_pièces!K995)","v":""},{"$f":"IF(Liste_pièces!L995=\"\",\"\",Liste_pièces!L995)","v":""},{"$f":"IF(Liste_pièces!M995=\"\",\"\",Liste_pièces!M995)","v":""}]
[{"$f":"IF(Liste_pièces!A996=\"\",\"ZZZ\",Liste_pièces!A996)","v":"ZZZ"},{"$f":"IF(Liste_pièces!B996=\"\",\"ZZZ\",Liste_pièces!B996)","v":"ZZZ"},{"$f":"IF(Liste_pièces!C996=\"\",\"\",Liste_pièces!C996)","v":""},{"$f":"IF(Liste_pièces!D996=\"\",\"\",Liste_pièces!D996)","v":""},{"$f":"IF(Liste_pièces!E996=\"\",\"\",Liste_pièces!E996)","v":""},{"$f":"IF(Liste_pièces!F996=\"\",\"\",Liste_pièces!F996)","v":""},{"$f":"IF(Liste_pièces!G996=\"\",\"\",Liste_pièces!G996)","v":""},{"$f":"IF(Liste_pièces!H996=\"\",\"\",Liste_pièces!H996)","v":""},{"$f":"IF(Liste_pièces!I996=\"\",\"\",Liste_pièces!I996)","v":""},{"$f":"IF(Liste_pièces!J996=\"\",\"\",Liste_pièces!J996)","v":""},{"$f":"IF(Liste_pièces!K996=\"\",\"\",Liste_pièces!K996)","v":""},{"$f":"IF(Liste_pièces!L996=\"\",\"\",Liste_pièces!L996)","v":""},{"$f":"IF(Liste_pièces!M996=\"\",\"\",Liste_pièces!M996)","v":""}]
[{"$f":"IF(Liste_pièces!A997=\"\",\"ZZZ\",Liste_pièces!A997)","v":"ZZZ"},{"$f":"IF(Liste_pièces!B997=\"\",\"ZZZ\",Liste_pièces!B997)","v":"ZZZ"},{"$f":"IF(Liste_pièces!C997=\"\",\"\",Liste_pièces!C997)","v":""},{"$f":"IF(Liste_pièces!D997=\"\",\"\",Liste_pièces!D997)","v":""},{"$f":"IF(Liste_pièces!E997=\"\",\"\",Liste_pièces!E997)","v":""},{"$f":"IF(Liste_pièces!F997=\"\",\"\",Liste_pièces!F997)","v":""},{"$f":"IF(Liste_pièces!G997=\"\",\"\",Liste_pièces!G997)","v":""},{"$f":"IF(Liste_pièces!H997=\"\",\"\",Liste_pièces!H997)","v":""},{"$f":"IF(Liste_pièces!I997=\"\",\"\",Liste_pièces!I997)","v":""},{"$f":"IF(Liste_pièces!J997=\"\",\"\",Liste_pièces!J997)","v":""},{"$f":"IF(Liste_pièces!K997=\"\",\"\",Liste_pièces!K997)","v":""},{"$f":"IF(Liste_pièces!L997=\"\",\"\",Liste_pièces!L997)","v":""},{"$f":"IF(Liste_pièces!M997=\"\",\"\",Liste_pièces!M997)","v":""}]
[{"$f":"IF(Liste_pièces!A998=\"\",\"ZZZ\",Liste_pièces!A998)","v":"ZZZ"},{"$f":"IF(Liste_pièces!B998=\"\",\"ZZZ\",Liste_pièces!B998)","v":"ZZZ"},{"$f":"IF(Liste_pièces!C998=\"\",\"\",Liste_pièces!C998)","v":""},{"$f":"IF(Liste_pièces!D998=\"\",\"\",Liste_pièces!D998)","v":""},{"$f":"IF(Liste_pièces!E998=\"\",\"\",Liste_pièces!E998)","v":""},{"$f":"IF(Liste_pièces!F998=\"\",\"\",Liste_pièces!F998)","v":""},{"$f":"IF(Liste_pièces!G998=\"\",\"\",Liste_pièces!G998)","v":""},{"$f":"IF(Liste_pièces!H998=\"\",\"\",Liste_pièces!H998)","v":""},{"$f":"IF(Liste_pièces!I998=\"\",\"\",Liste_pièces!I998)","v":""},{"$f":"IF(Liste_pièces!J998=\"\",\"\",Liste_pièces!J998)","v":""},{"$f":"IF(Liste_pièces!K998=\"\",\"\",Liste_pièces!K998)","v":""},{"$f":"IF(Liste_pièces!L998=\"\",\"\",Liste_pièces!L998)","v":""},{"$f":"IF(Liste_pièces!M998=\"\",\"\",Liste_pièces!M998)","v":""}]
[{"$f":"IF(Liste_pièces!A999=\"\",\"ZZZ\",Liste_pièces!A999)","v":"ZZZ"},{"$f":"IF(Liste_pièces!B999=\"\",\"ZZZ\",Liste_pièces!B999)","v":"ZZZ"},{"$f":"IF(Liste_pièces!C999=\"\",\"\",Liste_pièces!C999)","v":""},{"$f":"IF(Liste_pièces!D999=\"\",\"\",Liste_pièces!D999)","v":""},{"$f":"IF(Liste_pièces!E999=\"\",\"\",Liste_pièces!E999)","v":""},{"$f":"IF(Liste_pièces!F999=\"\",\"\",Liste_pièces!F999)","v":""},{"$f":"IF(Liste_pièces!G999=\"\",\"\",Liste_pièces!G999)","v":""},{"$f":"IF(Liste_pièces!H999=\"\",\"\",Liste_pièces!H999)","v":""},{"$f":"IF(Liste_pièces!I999=\"\",\"\",Liste_pièces!I999)","v":""},{"$f":"IF(Liste_pièces!J999=\"\",\"\",Liste_pièces!J999)","v":""},{"$f":"IF(Liste_pièces!K999=\"\",\"\",Liste_pièces!K999)","v":""},{"$f":"IF(Liste_pièces!L999=\"\",\"\",Liste_pièces!L999)","v":""},{"$f":"IF(Liste_pièces!M999=\"\",\"\",Liste_pièces!M999)","v":""}]
[{"$f":"IF(Liste_pièces!A1000=\"\",\"ZZZ\",Liste_pièces!A1000)","v":"ZZZ"},{"$f":"IF(Liste_pièces!B1000=\"\",\"ZZZ\",Liste_pièces!B1000)","v":"ZZZ"},{"$f":"IF(Liste_pièces!C1000=\"\",\"\",Liste_pièces!C1000)","v":""},{"$f":"IF(Liste_pièces!D1000=\"\",\"\",Liste_pièces!D1000)","v":""},{"$f":"IF(Liste_pièces!E1000=\"\",\"\",Liste_pièces!E1000)","v":""},{"$f":"IF(Liste_pièces!F1000=\"\",\"\",Liste_pièces!F1000)","v":""},{"$f":"IF(Liste_pièces!G1000=\"\",\"\",Liste_pièces!G1000)","v":""},{"$f":"IF(Liste_pièces!H1000=\"\",\"\",Liste_pièces!H1000)","v":""},{"$f":"IF(Liste_pièces!I1000=\"\",\"\",Liste_pièces!I1000)","v":""},{"$f":"IF(Liste_pièces!J1000=\"\",\"\",Liste_pièces!J1000)","v":""},{"$f":"IF(Liste_pièces!K1000=\"\",\"\",Liste_pièces!K1000)","v":""},{"$f":"IF(Liste_pièces!L1000=\"\",\"\",Liste_pièces!L1000)","v":""},{"$f":"IF(Liste_pièces!M1000=\"\",\"\",Liste_pièces!M1000)","v":""}]